Workbook

Sheet 2013-2
AH1: INSTITUTO TECNOLOGICO DE MEXICALI
AH2: PROYECCION DE LA POBLACION ESCOLAR
V4: ESTADISTICA DE CARRERAS ACTUALES Y LIQUIDACION A AGO-DIC 2013 Y PROYECCION A AGO-DIC 2018
D6: ING. IND. MECANICA | I6: ING. IND. ELECTRONICA | N6: ING. ELECTRICA EN CONTRL. | S6: ING. IND. QUIMICA | V6: INGENIERIA ELECTRONICA | AA6: INGENIERIA ELECTRICA | AF6: INGENIERIA INDUSTRIAL | AK6: INGENIERIA MECANICA | AP6: LICENCIATURA EN INFORM. | AU6: LICENCIATURA EN CONTAD. | AZ6: INGENIERIA EN SIST. COMPS. | BE6: INGENIERIA QUIMICA | BJ6: INGENIERIA MECATRONICA | BO6: ING. EN GESTION EMPRESARIAL | BT6: INGENIERIA EN LOGISTICA | BY6: CONTADOR PUBLICO | CD6: INGENIERIA ELECTRICA | CI6: INGENIERIA ELECTRONICA | CN6: ING EN ENERGIAS RENOVABLES | CS6: ING EN SIST.COPUTACIONALES | CX6: INGENIERIA INDUSTRIAL | DC6: INGENIERIA EN INFORMATICA | DH6: INGENIERIA MECANICA | DM6: INGENIERIA MECATRONICA | DR6: INGENIERIA QUIMICA | DY6: TOTALES | EH6: % DESC x SEM
B7: N I | C7: RI | D7: DE | E7: EG | F7: Total | G7: N I | H7: RI | I7: DE | J7: EG | K7: Total | L7: N I | M7: RI | N7: DE | O7: EG | P7: Total | Q7: N I | R7: RI | S7: DE | T7: EG | U7: Total | V7: N I | W7: RI | X7: DE | Y7: EG | Z7: Total | AA7: N I | AB7: RI | AC7: DE | AD7: EG | AE7: Total | AF7: N I | AG7: RI | AH7: DE | AI7: EG | AJ7: Total | AK7: N I | AL7: RI | AM7: DE | AN7: EG | AO7: Total | AP7: N I | AQ7: RI | AR7: DE | AS7: EG | AT7: Total | AU7: N I | AV7: RI | AW7: DE | AX7: EG | AY7: Total | AZ7: N I | BA7: RI | BB7: DE | BC7: EG | BD7: Total | BE7: N I | BF7: RI | BG7: DE | BH7: EG | BI7: Total | BJ7: N I | BK7: RI | BL7: DE | BM7: EG | BN7: Total | BO7: N I | BP7: RI | BQ7: DE | BR7: EG | BS7: Total | BT7: N I | BU7: RI | BV7: DE | BW7: EG | BX7: Total | BY7: N I | BZ7: RI | CA7: DE | CB7: EG | CC7: Total | CD7: N I | CE7: RI | CF7: DE | CG7: EG | CH7: Total | CI7: N I | CJ7: RI | CK7: DE | CL7: EG | CM7: Total | CN7: N I | CO7: RI | CP7: DE | CQ7: EG | CR7: Total | CS7: N I | CT7: RI | CU7: DE | CV7: EG | CW7: Total | CX7: N I | CY7: RI | CZ7: DE | DA7: EG | DB7: Total | DC7: N I | DD7: RI | DE7: DE | DF7: EG | DG7: Total | DH7: N I | DI7: RI | DJ7: DE | DK7: EG | DL7: Total | DM7: N I | DN7: RI | DO7: DE | DP7: EG | DQ7: Total | DR7: N I | DS7: RI | DT7: DE | DU7: EG | DV7: Total | DW7: N I | DX7: RI | DY7: DE | DZ7: EG | EA7: Total | EC7: INGENIERIA ELECTRONICA
A8: Oct-Dic 1981 | B8: 146 | C8: 0 | D8: 0 | E8: 0 | F8: =SUM(B8+C8) -> 146 | G8: 98 | H8: 0 | I8: 0 | J8: 0 | K8: =SUM(G8+H8) -> 98 | L8: 102 | M8: 0 | N8: 0 | O8: 0 | P8: =SUM(L8+M8) -> 102 | DW8: 346 | DX8: =SUM(C8+H8+M8+R8+W8+AB8+AG8+AL8+AQ8+AV8+BA8+BF8) -> 0 | DY8: 0 | DZ8: =SUM(E8+J8+O8+T8+Y8+AD8+AI8+AN8+AS8+AX8+BC8+BH8) -> 0 | EA8: =SUM(DW8+DX8) -> 346 | EC8: INGENIERIA ELECTRONICA
A9: Feb-Jun 1982 | B9: 81 | C9: 65 | D9: =SUM(F8-C9-E8) -> 81 | E9: 0 | F9: =SUM(B9+C9) -> 146 | G9: 71 | H9: 63 | I9: =SUM(K8-H9-J8) -> 35 | J9: 0 | K9: =SUM(G9+H9) -> 134 | L9: 74 | M9: 48 | N9: =SUM(P8-M9-O8) -> 54 | O9: 0 | P9: =SUM(L9+M9) -> 122 | DW9: =SUM(B9+G9+L9+Q9+V9+AA9+AF9+AK9+AP9+AU9+AZ9+BE9) -> 226 | DX9: =SUM(C9+H9+M9+R9+W9+AB9+AG9+AL9+AQ9+AV9+BA9+BF9+BK9) -> 176 | DY9: =SUM(EA8-DX9-DZ8) -> 170 | DZ9: =SUM(E9+J9+O9+T9+Y9+AD9+AI9+AN9+AS9+AX9+BC9+BH9) -> 0 | EA9: =SUM(DW9+DX9) -> 402 | EC9: INGENIERIA ELECTRONICA
A10: Ago-Dic 1982 | B10: 140 | C10: 94 | D10: =SUM(F9-C10-E9) -> 52 | E10: 0 | F10: =SUM(B10+C10) -> 234 | G10: 103 | H10: 87 | I10: =SUM(K9-H10-J9) -> 47 | J10: 0 | K10: =SUM(G10+H10) -> 190 | L10: 77 | M10: 87 | N10: =SUM(P9-M10-O9) -> 35 | O10: 0 | P10: =SUM(L10+M10) -> 164 | Q10: 101 | R10: 0 | S10: =SUM(U9-R10-T9) -> 0 | T10: 0 | U10: =SUM(Q10+R10) -> 101 | DW10: =SUM(B10+G10+L10+Q10+V10+AA10+AF10+AK10+AP10+AU10+AZ10+BE10+BJ10) -> 421 | DX10: =SUM(C10+H10+M10+R10+W10+AB10+AG10+AL10+AQ10+AV10+BA10+BF10+BK10) -> 268 | DY10: =SUM(EA9-DX10-DZ9) -> 134 | DZ10: =SUM(E10+J10+O10+T10+Y10+AD10+AI10+AN10+AS10+AX10+BC10+BH10) -> 0 | EA10: =SUM(DW10+DX10) -> 689 | EC10: INGENIERIA ELECTRONICA
A11: Feb-Jun 1983 | B11: 63 | C11: 159 | D11: =SUM(F10-C11-E10) -> 75 | E11: 0 | F11: =SUM(B11+C11) -> 222 | G11: 59 | H11: 154 | I11: =SUM(K10-H11-J10) -> 36 | J11: 0 | K11: =SUM(G11+H11) -> 213 | L11: 38 | M11: 131 | N11: =SUM(P10-M11-O10) -> 33 | O11: 0 | P11: =SUM(L11+M11) -> 169 | Q11: 44 | R11: 84 | S11: =SUM(U10-R11-T10) -> 17 | T11: 0 | U11: =SUM(Q11+R11) -> 128 | DW11: =SUM(B11+G11+L11+Q11+V11+AA11+AF11+AK11+AP11+AU11+AZ11+BE11+BJ11) -> 204 | DX11: =SUM(C11+H11+M11+R11+W11+AB11+AG11+AL11+AQ11+AV11+BA11+BF11+BK11) -> 528 | DY11: =SUM(EA10-DX11-DZ10) -> 161 | DZ11: =SUM(E11+J11+O11+T11+Y11+AD11+AI11+AN11+AS11+AX11+BC11+BH11) -> 0 | EA11: =SUM(DW11+DX11) -> 732 | EC11: INGENIERIA ELECTRONICA
A12: Ago-Dic 1983 | B12: 32 | C12: 154 | D12: =SUM(F11-C12-E11) -> 68 | E12: 0 | F12: =SUM(B12+C12) -> 186 | G12: 51 | H12: 152 | I12: =SUM(K11-H12-J11) -> 61 | J12: 0 | K12: =SUM(G12+H12) -> 203 | L12: 28 | M12: 125 | N12: =SUM(P11-M12-O11) -> 44 | O12: 0 | P12: =SUM(L12+M12) -> 153 | Q12: 0 | R12: 95 | S12: =SUM(U11-R12-T11) -> 33 | T12: 0 | U12: =SUM(Q12+R12) -> 95 | DW12: =SUM(B12+G12+L12+Q12+V12+AA12+AF12+AK12+AP12+AU12+AZ12+BE12+BJ12) -> 111 | DX12: =SUM(C12+H12+M12+R12+W12+AB12+AG12+AL12+AQ12+AV12+BA12+BF12+BK12) -> 526 | DY12: =SUM(EA11-DX12-DZ11) -> 206 | DZ12: =SUM(E12+J12+O12+T12+Y12+AD12+AI12+AN12+AS12+AX12+BC12+BH12) -> 0 | EA12: =SUM(DW12+DX12) -> 637 | EC12: INGENIERIA ELECTRONICA
A13: Feb-Jun 1984 | B13: 31 | C13: 149 | D13: =SUM(F12-C13-E12) -> 37 | E13: 0 | F13: =SUM(B13+C13) -> 180 | G13: 42 | H13: 184 | I13: =SUM(K12-H13-J12) -> 19 | J13: 0 | K13: =SUM(G13+H13) -> 226 | L13: 24 | M13: 134 | N13: =SUM(P12-M13-O12) -> 19 | O13: 0 | P13: =SUM(L13+M13) -> 158 | Q13: 0 | R13: 86 | S13: =SUM(U12-R13-T12) -> 9 | T13: 0 | U13: =SUM(Q13+R13) -> 86 | DW13: =SUM(B13+G13+L13+Q13+V13+AA13+AF13+AK13+AP13+AU13+AZ13+BE13+BJ13) -> 97 | DX13: =SUM(C13+H13+M13+R13+W13+AB13+AG13+AL13+AQ13+AV13+BA13+BF13+BK13) -> 553 | DY13: =SUM(EA12-DX13-DZ12) -> 84 | DZ13: =SUM(E13+J13+O13+T13+Y13+AD13+AI13+AN13+AS13+AX13+BC13+BH13) -> 0 | EA13: =SUM(DW13+DX13) -> 650 | EC13: INGENIERIA ELECTRONICA
A14: Ago-Dic 1984 | B14: 56 | C14: 142 | D14: =SUM(F13-C14-E13) -> 38 | E14: 0 | F14: =SUM(B14+C14) -> 198 | G14: 94 | H14: 198 | I14: =SUM(K13-H14-J13) -> 28 | J14: 0 | K14: =SUM(G14+H14) -> 292 | L14: 34 | M14: 139 | N14: =SUM(P13-M14-O13) -> 19 | O14: 0 | P14: =SUM(L14+M14) -> 173 | Q14: 0 | R14: 68 | S14: =SUM(U13-R14-T13) -> 18 | T14: 0 | U14: =SUM(Q14+R14) -> 68 | DW14: =SUM(B14+G14+L14+Q14+V14+AA14+AF14+AK14+AP14+AU14+AZ14+BE14+BJ14) -> 184 | DX14: =SUM(C14+H14+M14+R14+W14+AB14+AG14+AL14+AQ14+AV14+BA14+BF14+BK14) -> 547 | DY14: =SUM(EA13-DX14-DZ13) -> 103 | DZ14: =SUM(E14+J14+O14+T14+Y14+AD14+AI14+AN14+AS14+AX14+BC14+BH14+BM14) -> 0 | EA14: =SUM(DW14+DX14) -> 731 | EC14: INGENIERIA ELECTRONICA
A15: Feb-Jun 1985 | B15: 14 | C15: 179 | D15: =SUM(F14-C15-E14) -> 19 | E15: 4 | F15: =SUM(B15+C15) -> 193 | G15: 16 | H15: 266 | I15: =SUM(K14-H15-J14) -> 26 | J15: 3 | K15: =SUM(G15+H15) -> 282 | L15: 16 | M15: 151 | N15: =SUM(P14-M15-O14) -> 22 | O15: 0 | P15: =SUM(L15+M15) -> 167 | Q15: 0 | R15: 63 | S15: =SUM(U14-R15-T14) -> 5 | T15: 0 | U15: =SUM(Q15+R15) -> 63 | DW15: =SUM(B15+G15+L15+Q15+V15+AA15+AF15+AK15+AP15+AU15+AZ15+BE15+BJ15) -> 46 | DX15: =SUM(C15+H15+M15+R15+W15+AB15+AG15+AL15+AQ15+AV15+BA15+BF15+BK15) -> 659 | DY15: =SUM(EA14-DX15-DZ14) -> 72 | DZ15: =SUM(E15+J15+O15+T15+Y15+AD15+AI15+AN15+AS15+AX15+BC15+BH15+BM15) -> 7 | EA15: =SUM(DW15+DX15) -> 705
A16: Ago-Dic 1985 | B16: 35 | C16: 168 | D16: =SUM(F15-C16-E15) -> 21 | E16: 4 | F16: =SUM(B16+C16) -> 203 | G16: 96 | H16: 248 | I16: =SUM(K15-H16-J15) -> 31 | J16: 5 | K16: =SUM(G16+H16) -> 344 | L16: 25 | M16: 164 | N16: =SUM(P15-M16-O15) -> 3 | O16: 12 | P16: =SUM(L16+M16) -> 189 | Q16: 0 | R16: 64 | S16: =SUM(U15-R16-T15) -> -1 | T16: 0 | U16: =SUM(Q16+R16) -> 64 | DW16: =SUM(B16+G16+L16+Q16+V16+AA16+AF16+AK16+AP16+AU16+AZ16+BE16+BJ16) -> 156 | DX16: =SUM(C16+H16+M16+R16+W16+AB16+AG16+AL16+AQ16+AV16+BA16+BF16+BK16) -> 644 | DY16: =SUM(EA15-DX16-DZ15) -> 54 | DZ16: =SUM(E16+J16+O16+T16+Y16+AD16+AI16+AN16+AS16+AX16+BC16+BH16+BM16) -> 21 | EA16: =SUM(DW16+DX16) -> 800
A17: Feb-Jun 1986 | B17: 0 | C17: 187 | D17: =SUM(F16-C17-E16) -> 12 | E17: 7 | F17: =SUM(B17+C17) -> 187 | G17: 51 | H17: 272 | I17: =SUM(K16-H17-J16) -> 67 | J17: 8 | K17: =SUM(G17+H17) -> 323 | L17: 0 | M17: 149 | N17: =SUM(P16-M17-O16) -> 28 | O17: 7 | P17: =SUM(L17+M17) -> 149 | Q17: 0 | R17: 50 | S17: =SUM(U16-R17-T16) -> 14 | T17: 2 | U17: =SUM(Q17+R17) -> 50 | DW17: =SUM(B17+G17+L17+Q17+V17+AA17+AF17+AK17+AP17+AU17+AZ17+BE17+BJ17) -> 51 | DX17: =SUM(C17+H17+M17+R17+W17+AB17+AG17+AL17+AQ17+AV17+BA17+BF17+BK17) -> 658 | DY17: =SUM(EA16-DX17-DZ16) -> 121 | DZ17: =SUM(E17+J17+O17+T17+Y17+AD17+AI17+AN17+AS17+AX17+BC17+BH17+BM17) -> 24 | EA17: =SUM(DW17+DX17) -> 709
A18: Ago-Dic 1986 | B18: 37 | C18: 166 | D18: =SUM(F17-C18-E17) -> 14 | E18: 11 | F18: =SUM(B18+C18) -> 203 | G18: 2 | H18: 293 | I18: =SUM(K17-H18-J17) -> 22 | J18: 20 | K18: =SUM(G18+H18) -> 295 | L18: 23 | M18: 129 | N18: =SUM(P17-M18-O17) -> 13 | O18: 31 | P18: =SUM(L18+M18) -> 152 | Q18: 0 | R18: 51 | S18: =SUM(U17-R18-T17) -> -3 | T18: 10 | U18: =SUM(Q18+R18) -> 51 | V18: 105 | W18: 0 | X18: =SUM(Z17-W18-Y17) -> 0 | Y18: 0 | Z18: =SUM(V18+W18) -> 105 | DW18: =SUM(B18+G18+L18+Q18+V18+AA18+AF18+AK18+AP18+AU18+AZ18+BE18+BJ18) -> 167 | DX18: =SUM(C18+H18+M18+R18+W18+AB18+AG18+AL18+AQ18+AV18+BA18+BF18+BK18) -> 639 | DY18: =SUM(EA17-DX18-DZ17) -> 46 | DZ18: =SUM(E18+J18+O18+T18+Y18+AD18+AI18+AN18+AS18+AX18+BC18+BH18+BM18) -> 72 | EA18: =SUM(DW18+DX18) -> 806
A19: Feb-Jun 1987 | B19: 9 | C19: 183 | D19: =SUM(F18-C19-E18) -> 9 | E19: 26 | F19: =SUM(B19+C19) -> 192 | G19: 0 | H19: 251 | I19: =SUM(K18-H19-J18) -> 24 | J19: 27 | K19: =SUM(G19+H19) -> 251 | L19: 6 | M19: 114 | N19: =SUM(P18-M19-O18) -> 7 | O19: 17 | P19: =SUM(L19+M19) -> 120 | Q19: 0 | R19: 39 | S19: =SUM(U18-R19-T18) -> 2 | T19: 18 | U19: =SUM(Q19+R19) -> 39 | V19: 25 | W19: 80 | X19: =SUM(Z18-W19-Y18) -> 25 | Y19: 0 | Z19: =SUM(V19+W19) -> 105 | AA19: 6 | AB19: 0 | AC19: =SUM(AE18-AB19-AD18) -> 0 | AD19: 0 | AE19: =SUM(AA19+AB19) -> 6 | DW19: =SUM(B19+G19+L19+Q19+V19+AA19+AF19+AK19+AP19+AU19+AZ19+BE19+BJ19) -> 46 | DX19: =SUM(C19+H19+M19+R19+W19+AB19+AG19+AL19+AQ19+AV19+BA19+BF19+BK19) -> 667 | DY19: =SUM(EA18-DX19-DZ18) -> 67 | DZ19: =SUM(E19+J19+O19+T19+Y19+AD19+AI19+AN19+AS19+AX19+BC19+BH19+BM19) -> 88 | EA19: =SUM(DW19+DX19) -> 713
A20: Ago-Dic 1987 | B20: 0 | C20: 132 | D20: =SUM(F19-C20-E19) -> 34 | E20: 11 | F20: =SUM(B20+C20) -> 132 | G20: 0 | H20: 212 | I20: =SUM(K19-H20-J19) -> 12 | J20: 30 | K20: =SUM(G20+H20) -> 212 | L20: 0 | M20: 91 | N20: =SUM(P19-M20-O19) -> 12 | O20: 18 | P20: =SUM(L20+M20) -> 91 | Q20: 0 | R20: 19 | S20: =SUM(U19-R20-T19) -> 2 | T20: 9 | U20: =SUM(Q20+R20) -> 19 | V20: 105 | W20: 96 | X20: =SUM(Z19-W20-Y19) -> 9 | Y20: 0 | Z20: =SUM(V20+W20) -> 201 | AA20: 24 | AB20: 2 | AC20: =SUM(AE19-AB20-AD19) -> 4 | AD20: 0 | AE20: =SUM(AA20+AB20) -> 26 | AF20: 17 | AG20: 0 | AH20: =SUM(AJ19-AG20-AI19) -> 0 | AI20: 0 | AJ20: =SUM(AF20+AG20) -> 17 | AK20: 45 | AL20: 0 | AM20: =SUM(AO19-AL20-AN19) -> 0 | AN20: 0 | AO20: =SUM(AK20+AL20) -> 45 | AP20: 63 | AQ20: 0 | AR20: =SUM(AT19-AQ20-AS19) -> 0 | AS20: 0 | AT20: =SUM(AP20+AQ20) -> 63 | DW20: =SUM(B20+G20+L20+Q20+V20+AA20+AF20+AK20+AP20+AU20+AZ20+BE20+BJ20) -> 254 | DX20: =SUM(C20+H20+M20+R20+W20+AB20+AG20+AL20+AQ20+AV20+BA20+BF20+BK20) -> 552 | DY20: =SUM(EA19-DX20-DZ19) -> 73 | DZ20: =SUM(E20+J20+O20+T20+Y20+AD20+AI20+AN20+AS20+AX20+BC20+BH20+BM20) -> 68 | EA20: =SUM(DW20+DX20) -> 806
A21: Feb-Jun 1988 | B21: 0 | C21: 107 | D21: =SUM(F20-C21-E20) -> 14 | E21: 17 | F21: =SUM(B21+C21) -> 107 | G21: 0 | H21: 163 | I21: =SUM(K20-H21-J20) -> 19 | J21: 20 | K21: =SUM(G21+H21) -> 163 | L21: 0 | M21: 58 | N21: =SUM(P20-M21-O20) -> 15 | O21: 5 | P21: =SUM(L21+M21) -> 58 | Q21: 0 | R21: 11 | S21: =SUM(U20-R21-T20) -> -1 | T21: 3 | U21: =SUM(Q21+R21) -> 11 | V21: 26 | W21: 148 | X21: =SUM(Z20-W21-Y20) -> 53 | Y21: 0 | Z21: =SUM(V21+W21) -> 174 | AA21: 0 | AB21: 21 | AC21: =SUM(AE20-AB21-AD20) -> 5 | AD21: 0 | AE21: =SUM(AA21+AB21) -> 21 | AF21: 10 | AG21: 8 | AH21: =SUM(AJ20-AG21-AI20) -> 9 | AI21: 0 | AJ21: =SUM(AF21+AG21) -> 18 | AK21: 1 | AL21: 28 | AM21: =SUM(AO20-AL21-AN20) -> 17 | AN21: 0 | AO21: =SUM(AK21+AL21) -> 29 | AP21: 34 | AQ21: 46 | AR21: =SUM(AT20-AQ21-AS20) -> 17 | AS21: 0 | AT21: =SUM(AP21+AQ21) -> 80 | DW21: =SUM(B21+G21+L21+Q21+V21+AA21+AF21+AK21+AP21+AU21+AZ21+BE21+BJ21) -> 71 | DX21: =SUM(C21+H21+M21+R21+W21+AB21+AG21+AL21+AQ21+AV21+BA21+BF21+BK21) -> 590 | DY21: =SUM(EA20-DX21-DZ20) -> 148 | DZ21: =SUM(E21+J21+O21+T21+Y21+AD21+AI21+AN21+AS21+AX21+BC21+BH21+BM21) -> 45 | EA21: =SUM(DW21+DX21) -> 661
A22: Ago-Dic 1988 | B22: 0 | C22: 81 | D22: =SUM(F21-C22-E21) -> 9 | E22: 15 | F22: =SUM(B22+C22) -> 81 | G22: 0 | H22: 133 | I22: =SUM(K21-H22-J21) -> 10 | J22: 26 | K22: =SUM(G22+H22) -> 133 | L22: 0 | M22: 45 | N22: =SUM(P21-M22-O21) -> 8 | O22: 2 | P22: =SUM(L22+M22) -> 45 | Q22: 0 | R22: 4 | S22: =SUM(U21-R22-T21) -> 4 | T22: 0 | U22: =SUM(Q22+R22) -> 4 | V22: 110 | W22: 148 | X22: =SUM(Z21-W22-Y21) -> 26 | Y22: 0 | Z22: =SUM(V22+W22) -> 258 | AA22: 30 | AB22: 15 | AC22: =SUM(AE21-AB22-AD21) -> 6 | AD22: 0 | AE22: =SUM(AA22+AB22) -> 45 | AF22: 60 | AG22: 12 | AH22: =SUM(AJ21-AG22-AI21) -> 6 | AI22: 0 | AJ22: =SUM(AF22+AG22) -> 72 | AK22: 30 | AL22: 23 | AM22: =SUM(AO21-AL22-AN21) -> 6 | AN22: 0 | AO22: =SUM(AK22+AL22) -> 53 | AP22: 95 | AQ22: 72 | AR22: =SUM(AT21-AQ22-AS21) -> 8 | AS22: 0 | AT22: =SUM(AP22+AQ22) -> 167 | DW22: =SUM(B22+G22+L22+Q22+V22+AA22+AF22+AK22+AP22+AU22+AZ22+BE22+BJ22) -> 325 | DX22: =SUM(C22+H22+M22+R22+W22+AB22+AG22+AL22+AQ22+AV22+BA22+BF22+BK22) -> 533 | DY22: =SUM(EA21-DX22-DZ21) -> 83 | DZ22: =SUM(E22+J22+O22+T22+Y22+AD22+AI22+AN22+AS22+AX22+BC22+BH22+BM22) -> 43 | EA22: =SUM(DW22+DX22) -> 858
A23: Feb-Jun 1989 | B23: 0 | C23: 62 | D23: =SUM(F22-C23-E22) -> 4 | E23: 6 | F23: =SUM(B23+C23) -> 62 | G23: 0 | H23: 91 | I23: =SUM(K22-H23-J22) -> 16 | J23: 30 | K23: =SUM(G23+H23) -> 91 | L23: 0 | M23: 41 | N23: =SUM(P22-M23-O22) -> 2 | O23: 7 | P23: =SUM(L23+M23) -> 41 | Q23: 0 | R23: 1 | S23: =SUM(U22-R23-T22) -> 3 | T23: 0 | U23: =SUM(Q23+R23) -> 1 | V23: 27 | W23: 214 | X23: =SUM(Z22-W23-Y22) -> 44 | Y23: 0 | Z23: =SUM(V23+W23) -> 241 | AA23: 0 | AB23: 25 | AC23: =SUM(AE22-AB23-AD22) -> 20 | AD23: 0 | AE23: =SUM(AA23+AB23) -> 25 | AF23: 11 | AG23: 60 | AH23: =SUM(AJ22-AG23-AI22) -> 12 | AI23: 0 | AJ23: =SUM(AF23+AG23) -> 71 | AK23: 0 | AL23: 41 | AM23: =SUM(AO22-AL23-AN22) -> 12 | AN23: 0 | AO23: =SUM(AK23+AL23) -> 41 | AP23: 36 | AQ23: 143 | AR23: =SUM(AT22-AQ23-AS22) -> 24 | AS23: 0 | AT23: =SUM(AP23+AQ23) -> 179 | DW23: =SUM(B23+G23+L23+Q23+V23+AA23+AF23+AK23+AP23+AU23+AZ23+BE23+BJ23) -> 74 | DX23: =SUM(C23+H23+M23+R23+W23+AB23+AG23+AL23+AQ23+AV23+BA23+BF23+BK23) -> 678 | DY23: =SUM(EA22-DX23-DZ22) -> 137 | DZ23: =SUM(E23+J23+O23+T23+Y23+AD23+AI23+AN23+AS23+AX23+BC23+BH23+BM23) -> 43 | EA23: =SUM(DW23+DX23) -> 752
A24: Ago-Dic 1989 | B24: 0 | C24: 50 | D24: =SUM(F23-C24-E23) -> 6 | E24: 12 | F24: =SUM(B24+C24) -> 50 | G24: 0 | H24: 66 | I24: =SUM(K23-H24-J23) -> -5 | J24: 19 | K24: =SUM(G24+H24) -> 66 | L24: 0 | M24: 36 | N24: =SUM(P23-M24-O23) -> -2 | O24: 5 | P24: =SUM(L24+M24) -> 36 | Q24: 0 | R24: 0 | S24: =SUM(U23-R24-T23) -> 1 | T24: 1 | U24: 0 | V24: 120 | W24: 207 | X24: =SUM(Z23-W24-Y23) -> 34 | Y24: 0 | Z24: =SUM(V24+W24) -> 327 | AA24: 24 | AB24: 18 | AC24: =SUM(AE23-AB24-AD23) -> 7 | AD24: 0 | AE24: =SUM(AA24+AB24) -> 42 | AF24: 81 | AG24: 55 | AH24: =SUM(AJ23-AG24-AI23) -> 16 | AI24: 0 | AJ24: =SUM(AF24+AG24) -> 136 | AK24: 40 | AL24: 37 | AM24: =SUM(AO23-AL24-AN23) -> 4 | AN24: 0 | AO24: =SUM(AK24+AL24) -> 77 | AP24: 148 | AQ24: 155 | AR24: =SUM(AT23-AQ24-AS23) -> 24 | AS24: 0 | AT24: =SUM(AP24+AQ24) -> 303 | DW24: =SUM(B24+G24+L24+Q24+V24+AA24+AF24+AK24+AP24+AU24+AZ24+BE24+BJ24) -> 413 | DX24: =SUM(C24+H24+M24+R24+W24+AB24+AG24+AL24+AQ24+AV24+BA24+BF24+BK24) -> 624 | DY24: =SUM(EA23-DX24-DZ23) -> 85 | DZ24: =SUM(E24+J24+O24+T24+Y24+AD24+AI24+AN24+AS24+AX24+BC24+BH24+BM24) -> 37 | EA24: =SUM(DW24+DX24) -> 1037
A25: Feb-Jun 1990 | B25: 0 | C25: 40 | D25: =SUM(F24-C25-E24) -> -2 | E25: 14 | F25: =SUM(B25+C25) -> 40 | G25: 0 | H25: 44 | I25: =SUM(K24-H25-J24) -> 3 | J25: 17 | K25: =SUM(G25+H25) -> 44 | L25: 0 | M25: 27 | N25: =SUM(P24-M25-O24) -> 4 | O25: 3 | P25: =SUM(L25+M25) -> 27 | Q25: 0 | R25: 0 | S25: =SUM(U24-R25-T24) -> -1 | T25: 0 | U25: 0 | V25: 20 | W25: 263 | X25: =SUM(Z24-W25-Y24) -> 64 | Y25: 0 | Z25: =SUM(V25+W25) -> 283 | AA25: 1 | AB25: 33 | AC25: =SUM(AE24-AB25-AD24) -> 9 | AD25: 0 | AE25: =SUM(AA25+AB25) -> 34 | AF25: 17 | AG25: 112 | AH25: =SUM(AJ24-AG25-AI24) -> 24 | AI25: 0 | AJ25: =SUM(AF25+AG25) -> 129 | AK25: 3 | AL25: 56 | AM25: =SUM(AO24-AL25-AN24) -> 21 | AN25: 0 | AO25: =SUM(AK25+AL25) -> 59 | AP25: 39 | AQ25: 243 | AR25: =SUM(AT24-AQ25-AS24) -> 60 | AS25: 0 | AT25: =SUM(AP25+AQ25) -> 282 | DW25: =SUM(B25+G25+L25+Q25+V25+AA25+AF25+AK25+AP25+AU25+AZ25+BE25+BJ25) -> 80 | DX25: =SUM(C25+H25+M25+R25+W25+AB25+AG25+AL25+AQ25+AV25+BA25+BF25+BK25) -> 818 | DY25: =SUM(EA24-DX25-DZ24) -> 182 | DZ25: =SUM(E25+J25+O25+T25+Y25+AD25+AI25+AN25+AS25+AX25+BC25+BH25+BM25) -> 34 | EA25: =SUM(DW25+DX25) -> 898
A26: Ago-Dic 1990 | B26: 0 | C26: 25 | D26: =SUM(F25-C26-E25) -> 1 | E26: 13 | F26: =SUM(B26+C26) -> 25 | G26: 0 | H26: 22 | I26: =SUM(K25-H26-J25) -> 5 | J26: 6 | K26: =SUM(G26+H26) -> 22 | L26: 0 | M26: 22 | N26: =SUM(P25-M26-O25) -> 2 | O26: 9 | P26: =SUM(L26+M26) -> 22 | V26: 69 | W26: 244 | X26: =SUM(Z25-W26-Y25) -> 39 | Y26: 0 | Z26: =SUM(V26+W26) -> 313 | AA26: 26 | AB26: 29 | AC26: =SUM(AE25-AB26-AD25) -> 5 | AD26: 0 | AE26: =SUM(AA26+AB26) -> 55 | AF26: 49 | AG26: 118 | AH26: =SUM(AJ25-AG26-AI25) -> 11 | AI26: 0 | AJ26: =SUM(AF26+AG26) -> 167 | AK26: 14 | AL26: 53 | AM26: =SUM(AO25-AL26-AN25) -> 6 | AN26: 0 | AO26: =SUM(AK26+AL26) -> 67 | AP26: 111 | AQ26: 260 | AR26: =SUM(AT25-AQ26-AS25) -> 22 | AS26: 0 | AT26: =SUM(AP26+AQ26) -> 371 | DW26: =SUM(B26+G26+L26+Q26+V26+AA26+AF26+AK26+AP26+AU26+AZ26+BE26+BJ26) -> 269 | DX26: =SUM(C26+H26+M26+R26+W26+AB26+AG26+AL26+AQ26+AV26+BA26+BF26+BK26) -> 773 | DY26: =SUM(EA25-DX26-DZ25) -> 91 | DZ26: =SUM(E26+J26+O26+T26+Y26+AD26+AI26+AN26+AS26+AX26+BC26+BH26+BM26) -> 28 | EA26: =SUM(DW26+DX26) -> 1042
A27: Feb-Jun 1991 | B27: 0 | C27: 10 | D27: =SUM(F26-C27-E26) -> 2 | E27: 3 | F27: =SUM(B27+C27) -> 10 | G27: 0 | H27: 11 | I27: =SUM(K26-H27-J26) -> 5 | J27: 4 | K27: =SUM(G27+H27) -> 11 | L27: 0 | M27: 8 | N27: =SUM(P26-M27-O26) -> 5 | O27: 11 | P27: =SUM(L27+M27) -> 8 | V27: 0 | W27: 265 | X27: =SUM(Z26-W27-Y26) -> 48 | Y27: 12 | Z27: =SUM(V27+W27) -> 265 | AA27: 0 | AB27: 46 | AC27: =SUM(AE26-AB27-AD26) -> 9 | AD27: 0 | AE27: =SUM(AA27+AB27) -> 46 | AF27: 1 | AG27: 140 | AH27: =SUM(AJ26-AG27-AI26) -> 27 | AI27: 1 | AJ27: =SUM(AF27+AG27) -> 141 | AK27: 1 | AL27: 65 | AM27: =SUM(AO26-AL27-AN26) -> 2 | AN27: 0 | AO27: =SUM(AK27+AL27) -> 66 | AP27: 0 | AQ27: 328 | AR27: =SUM(AT26-AQ27-AS26) -> 43 | AS27: 1 | AT27: =SUM(AP27+AQ27) -> 328 | DW27: =SUM(B27+G27+L27+Q27+V27+AA27+AF27+AK27+AP27+AU27+AZ27+BE27+BJ27) -> 2 | DX27: =SUM(C27+H27+M27+R27+W27+AB27+AG27+AL27+AQ27+AV27+BA27+BF27+BK27) -> 873 | DY27: =SUM(EA26-DX27-DZ26) -> 141 | DZ27: =SUM(E27+J27+O27+T27+Y27+AD27+AI27+AN27+AS27+AX27+BC27+BH27+BM27) -> 32 | EA27: =SUM(DW27+DX27) -> 875
A28: Ago-Dic 1991 | B28: 0 | C28: 6 | D28: =SUM(F27-C28-E27) -> 1 | E28: 2 | F28: =SUM(B28+C28) -> 6 | G28: 0 | H28: 6 | I28: =SUM(K27-H28-J27) -> 1 | J28: 3 | K28: =SUM(G28+H28) -> 6 | L28: 0 | M28: 0 | N28: =SUM(P27-M28-O27) -> -3 | O28: 0 | P28: =SUM(L28+M28) -> 0 | V28: 64 | W28: 224 | X28: =SUM(Z27-W28-Y27) -> 29 | Y28: 19 | Z28: =SUM(V28+W28) -> 288 | AA28: 38 | AB28: 48 | AC28: =SUM(AE27-AB28-AD27) -> -2 | AD28: 1 | AE28: =SUM(AA28+AB28) -> 86 | AF28: 59 | AG28: 128 | AH28: =SUM(AJ27-AG28-AI27) -> 12 | AI28: 6 | AJ28: =SUM(AF28+AG28) -> 187 | AK28: 45 | AL28: 62 | AM28: =SUM(AO27-AL28-AN27) -> 4 | AN28: 13 | AO28: =SUM(AK28+AL28) -> 107 | AP28: 106 | AQ28: 306 | AR28: =SUM(AT27-AQ28-AS27) -> 21 | AS28: 20 | AT28: =SUM(AP28+AQ28) -> 412 | DW28: =SUM(B28+G28+L28+Q28+V28+AA28+AF28+AK28+AP28+AU28+AZ28+BE28+BJ28) -> 312 | DX28: =SUM(C28+H28+M28+R28+W28+AB28+AG28+AL28+AQ28+AV28+BA28+BF28+BK28) -> 780 | DY28: =SUM(EA27-DX28-DZ27) -> 63 | DZ28: =SUM(E28+J28+O28+T28+Y28+AD28+AI28+AN28+AS28+AX28+BC28+BH28+BM28) -> 64 | EA28: =SUM(DW28+DX28) -> 1092
A29: Feb-Jun 1992 | B29: 0 | C29: 3 | D29: =SUM(F28-C29-E28) -> 1 | E29: 0 | F29: =SUM(B29+C29) -> 3 | G29: 0 | H29: 3 | I29: 0 | J29: 3 | K29: =SUM(G29+H29) -> 3 | L29: 0 | M29: 1 | N29: =SUM(P28-M29-O28) -> -1 | O29: 1 | P29: =SUM(L29+M29) -> 1 | V29: 21 | W29: 233 | X29: =SUM(Z28-W29-Y28) -> 36 | Y29: 17 | Z29: =SUM(V29+W29) -> 254 | AA29: 0 | AB29: 70 | AC29: =SUM(AE28-AB29-AD28) -> 15 | AD29: 8 | AE29: =SUM(AA29+AB29) -> 70 | AF29: 43 | AG29: 158 | AH29: =SUM(AJ28-AG29-AI28) -> 23 | AI29: 8 | AJ29: =SUM(AF29+AG29) -> 201 | AK29: 0 | AL29: 75 | AM29: =SUM(AO28-AL29-AN28) -> 19 | AN29: 6 | AO29: =SUM(AK29+AL29) -> 75 | AP29: 45 | AQ29: 350 | AR29: =SUM(AT28-AQ29-AS28) -> 42 | AS29: 20 | AT29: =SUM(AP29+AQ29) -> 395 | DW29: =SUM(B29+G29+L29+Q29+V29+AA29+AF29+AK29+AP29+AU29+AZ29+BE29+BJ29) -> 109 | DX29: =SUM(C29+H29+M29+R29+W29+AB29+AG29+AL29+AQ29+AV29+BA29+BF29+BK29) -> 893 | DY29: =SUM(EA28-DX29-DZ28) -> 135 | DZ29: =SUM(E29+J29+O29+T29+Y29+AD29+AI29+AN29+AS29+AX29+BC29+BH29+BM29) -> 63 | EA29: =SUM(DW29+DX29) -> 1002
A30: Ago-Dic 1992 | B30: 0 | C30: 0 | D30: =SUM(F29-C30-E29) -> 3 | E30: 0 | F30: 0 | G30: 0 | H30: 0 | I30: 0 | J30: 0 | K30: 0 | L30: 0 | M30: 0 | N30: 0 | O30: 0 | P30: 0 | V30: 80 | W30: 229 | X30: =SUM(Z29-W30-Y29) -> 8 | Y30: 15 | Z30: =SUM(V30+W30) -> 309 | AA30: 50 | AB30: 66 | AC30: =SUM(AE29-AB30-AD29) -> -4 | AD30: 5 | AE30: =SUM(AA30+AB30) -> 116 | AF30: 108 | AG30: 178 | AH30: =SUM(AJ29-AG30-AI29) -> 15 | AI30: 1 | AJ30: =SUM(AF30+AG30) -> 286 | AK30: 57 | AL30: 63 | AM30: =SUM(AO29-AL30-AN29) -> 6 | AN30: 1 | AO30: =SUM(AK30+AL30) -> 120 | AP30: 127 | AQ30: 327 | AR30: =SUM(AT29-AQ30-AS29) -> 48 | AS30: 20 | AT30: =SUM(AP30+AQ30) -> 454 | DW30: =SUM(B30+G30+L30+Q30+V30+AA30+AF30+AK30+AP30+AU30+AZ30+BE30+BJ30) -> 422 | DX30: =SUM(C30+H30+M30+R30+W30+AB30+AG30+AL30+AQ30+AV30+BA30+BF30+BK30) -> 863 | DY30: =SUM(EA29-DX30-DZ29) -> 76 | DZ30: =SUM(E30+J30+O30+T30+Y30+AD30+AI30+AN30+AS30+AX30+BC30+BH30+BM30) -> 42 | EA30: =SUM(DW30+DX30) -> 1285
A31: Feb-Jun 1993 | V31: 5 | W31: 233 | X31: =SUM(Z30-W31-Y30) -> 61 | Y31: 27 | Z31: =SUM(V31+W31) -> 238 | AA31: 15 | AB31: 79 | AC31: =SUM(AE30-AB31-AD30) -> 32 | AD31: 5 | AE31: =SUM(AA31+AB31) -> 94 | AF31: 35 | AG31: 242 | AH31: =SUM(AJ30-AG31-AI30) -> 43 | AI31: 10 | AJ31: =SUM(AF31+AG31) -> 277 | AK31: 20 | AL31: 92 | AM31: =SUM(AO30-AL31-AN30) -> 27 | AN31: 3 | AO31: =SUM(AK31+AL31) -> 112 | AP31: 43 | AQ31: 323 | AR31: =SUM(AT30-AQ31-AS30) -> 111 | AS31: 29 | AT31: =SUM(AP31+AQ31) -> 366 | DW31: =SUM(B31+G31+L31+Q31+V31+AA31+AF31+AK31+AP31+AU31+AZ31+BE31+BJ31) -> 118 | DX31: =SUM(C31+H31+M31+R31+W31+AB31+AG31+AL31+AQ31+AV31+BA31+BF31+BK31) -> 969 | DY31: =SUM(EA30-DX31-DZ30) -> 274 | DZ31: =SUM(E31+J31+O31+T31+Y31+AD31+AI31+AN31+AS31+AX31+BC31+BH31+BM31) -> 74 | EA31: =SUM(DW31+DX31) -> 1087
A32: Ago-Dic 1993 | V32: 42 | W32: 184 | X32: =SUM(Z31-W32-Y31) -> 27 | Y32: 19 | Z32: =SUM(V32+W32) -> 226 | AA32: 49 | AB32: 66 | AC32: =SUM(AE31-AB32-AD31) -> 23 | AD32: 1 | AE32: =SUM(AA32+AB32) -> 115 | AF32: 135 | AG32: 235 | AH32: =SUM(AJ31-AG32-AI31) -> 32 | AI32: 7 | AJ32: =SUM(AF32+AG32) -> 370 | AK32: 62 | AL32: 81 | AM32: =SUM(AO31-AL32-AN31) -> 28 | AN32: 7 | AO32: =SUM(AK32+AL32) -> 143 | AP32: 133 | AQ32: 282 | AR32: =SUM(AT31-AQ32-AS31) -> 55 | AS32: 47 | AT32: =SUM(AP32+AQ32) -> 415 | DW32: =SUM(B32+G32+L32+Q32+V32+AA32+AF32+AK32+AP32+AU32+AZ32+BE32+BJ32) -> 421 | DX32: =SUM(C32+H32+M32+R32+W32+AB32+AG32+AL32+AQ32+AV32+BA32+BF32+BK32) -> 848 | DY32: =SUM(EA31-DX32-DZ31) -> 165 | DZ32: =SUM(E32+J32+O32+T32+Y32+AD32+AI32+AN32+AS32+AX32+BC32+BH32+BM32) -> 81 | EA32: =SUM(DW32+DX32) -> 1269
A33: Feb-Jun 1994 | V33: 34 | W33: 169 | X33: =SUM(Z32-W33-Y32) -> 38 | Y33: 18 | Z33: =SUM(V33+W33) -> 203 | AA33: 0 | AB33: 93 | AC33: =SUM(AE32-AB33-AD32) -> 21 | AD33: 9 | AE33: =SUM(AA33+AB33) -> 93 | AF33: 53 | AG33: 298 | AH33: =SUM(AJ32-AG33-AI32) -> 65 | AI33: 29 | AJ33: =SUM(AF33+AG33) -> 351 | AK33: 0 | AL33: 118 | AM33: =SUM(AO32-AL33-AN32) -> 18 | AN33: 5 | AO33: =SUM(AK33+AL33) -> 118 | AP33: 47 | AQ33: 292 | AR33: =SUM(AT32-AQ33-AS32) -> 76 | AS33: 27 | AT33: =SUM(AP33+AQ33) -> 339 | AU33: 89 | AV33: 0 | AW33: =SUM(AY32-AV33-AX32) -> 0 | AX33: 0 | AY33: =SUM(AU33+AV33) -> 89 | DW33: =SUM(B33+G33+L33+Q33+V33+AA33+AF33+AK33+AP33+AU33+AZ33+BE33+BJ33) -> 223 | DX33: =SUM(C33+H33+M33+R33+W33+AB33+AG33+AL33+AQ33+AV33+BA33+BF33+BK33) -> 970 | DY33: =SUM(EA32-DX33-DZ32) -> 218 | DZ33: =SUM(E33+J33+O33+T33+Y33+AD33+AI33+AN33+AS33+AX33+BC33+BH33+BM33) -> 88 | EA33: =SUM(DW33+DX33) -> 1193
A34: Ago-Dic 1994 | V34: 88 | W34: 159 | X34: =SUM(Z33-W34-Y33) -> 26 | Y34: 19 | Z34: =SUM(V34+W34) -> 247 | AA34: 52 | AB34: 74 | AC34: =SUM(AE33-AB34-AD33) -> 10 | AD34: 5 | AE34: =SUM(AA34+AB34) -> 126 | AF34: 138 | AG34: 308 | AH34: =SUM(AJ33-AG34-AI33) -> 14 | AI34: 21 | AJ34: =SUM(AF34+AG34) -> 446 | AK34: 85 | AL34: 100 | AM34: =SUM(AO33-AL34-AN33) -> 13 | AN34: 1 | AO34: =SUM(AK34+AL34) -> 185 | AP34: 140 | AQ34: 283 | AR34: =SUM(AT33-AQ34-AS33) -> 29 | AS34: 29 | AT34: =SUM(AP34+AQ34) -> 423 | AU34: 150 | AV34: 86 | AW34: =SUM(AY33-AV34-AX33) -> 3 | AX34: 0 | AY34: =SUM(AU34+AV34) -> 236 | AZ34: 89 | BA34: 0 | BB34: =SUM(BD33-BA34-BC33) -> 0 | BC34: 0 | BD34: =SUM(AZ34+BA34) -> 89 | BE34: 70 | BF34: 0 | BG34: =SUM(BI33-BF34-BH33) -> 0 | BH34: 0 | BI34: =SUM(BE34+BF34) -> 70 | DW34: =SUM(B34+G34+L34+Q34+V34+AA34+AF34+AK34+AP34+AU34+AZ34+BE34+BJ34) -> 812 | DX34: =SUM(C34+H34+M34+R34+W34+AB34+AG34+AL34+AQ34+AV34+BA34+BF34+BK34) -> 1010 | DY34: =SUM(EA33-DX34-DZ33) -> 95 | DZ34: =SUM(E34+J34+O34+T34+Y34+AD34+AI34+AN34+AS34+AX34+BC34+BH34+BM34) -> 75 | EA34: =SUM(DW34+DX34) -> 1822
A35: Feb-Jun 1995 | V35: 26 | W35: 170 | X35: =SUM(Z34-W35-Y34) -> 58 | Y35: 18 | Z35: =SUM(V35+W35) -> 196 | AA35: 13 | AB35: 94 | AC35: =SUM(AE34-AB35-AD34) -> 27 | AD35: 4 | AE35: =SUM(AA35+AB35) -> 107 | AF35: 95 | AG35: 395 | AH35: =SUM(AJ34-AG35-AI34) -> 30 | AI35: 3 | AJ35: =SUM(AF35+AG35) -> 490 | AK35: 20 | AL35: 139 | AM35: =SUM(AO34-AL35-AN34) -> 45 | AN35: 3 | AO35: =SUM(AK35+AL35) -> 159 | AP35: 48 | AQ35: 352 | AR35: =SUM(AT34-AQ35-AS34) -> 42 | AS35: 9 | AT35: =SUM(AP35+AQ35) -> 400 | AU35: 101 | AV35: 209 | AW35: =SUM(AY34-AV35-AX34) -> 27 | AX35: 0 | AY35: =SUM(AU35+AV35) -> 310 | AZ35: 50 | BA35: 53 | BB35: =SUM(BD34-BA35-BC34) -> 36 | BC35: 0 | BD35: =SUM(AZ35+BA35) -> 103 | BE35: 53 | BF35: 56 | BG35: =SUM(BI34-BF35-BH34) -> 14 | BH35: 0 | BI35: =SUM(BE35+BF35) -> 109 | DW35: =SUM(B35+G35+L35+Q35+V35+AA35+AF35+AK35+AP35+AU35+AZ35+BE35+BJ35) -> 406 | DX35: =SUM(C35+H35+M35+R35+W35+AB35+AG35+AL35+AQ35+AV35+BA35+BF35+BK35) -> 1468 | DY35: =SUM(EA34-DX35-DZ34) -> 279 | DZ35: =SUM(E35+J35+O35+T35+Y35+AD35+AI35+AN35+AS35+AX35+BC35+BH35+BM35) -> 37 | EA35: =SUM(DW35+DX35) -> 1874
A36: Ago-Dic 1995 | V36: 91 | W36: 169 | X36: =SUM(Z35-W36-Y35) -> 9 | Y36: 24 | Z36: =SUM(V36+W36) -> 260 | AA36: 43 | AB36: 91 | AC36: =SUM(AE35-AB36-AD35) -> 12 | AD36: 4 | AE36: =SUM(AA36+AB36) -> 134 | AF36: 132 | AG36: 449 | AH36: =SUM(AJ35-AG36-AI35) -> 38 | AI36: 18 | AJ36: =SUM(AF36+AG36) -> 581 | AK36: 98 | AL36: 136 | AM36: =SUM(AO35-AL36-AN35) -> 20 | AN36: 5 | AO36: =SUM(AK36+AL36) -> 234 | AP36: 136 | AQ36: 351 | AR36: =SUM(AT35-AQ36-AS35) -> 40 | AS36: 0 | AT36: =SUM(AP36+AQ36) -> 487 | AU36: 92 | AV36: 286 | AW36: =SUM(AY35-AV36-AX35) -> 24 | AX36: 0 | AY36: =SUM(AU36+AV36) -> 378 | AZ36: 88 | BA36: 81 | BB36: =SUM(BD35-BA36-BC35) -> 22 | BC36: 0 | BD36: =SUM(AZ36+BA36) -> 169 | BE36: 41 | BF36: 89 | BG36: =SUM(BI35-BF36-BH35) -> 20 | BH36: 0 | BI36: =SUM(BE36+BF36) -> 130 | DW36: =SUM(B36+G36+L36+Q36+V36+AA36+AF36+AK36+AP36+AU36+AZ36+BE36+BJ36) -> 721 | DX36: =SUM(C36+H36+M36+R36+W36+AB36+AG36+AL36+AQ36+AV36+BA36+BF36+BK36) -> 1652 | DY36: =SUM(EA35-DX36-DZ35) -> 185 | DZ36: =SUM(E36+J36+O36+T36+Y36+AD36+AI36+AN36+AS36+AX36+BC36+BH36+BM36) -> 51 | EA36: =SUM(DW36+DX36) -> 2373
A37: Feb-Jun 1996 | V37: 7 | W37: 207 | X37: =SUM(Z36-W37-Y36) -> 29 | Y37: 14 | Z37: =SUM(V37+W37) -> 214 | AA37: 0 | AB37: 101 | AC37: =SUM(AE36-AB37-AD36) -> 29 | AD37: 6 | AE37: =SUM(AA37+AB37) -> 101 | AF37: 97 | AG37: 537 | AH37: =SUM(AJ36-AG37-AI36) -> 26 | AI37: 14 | AJ37: =SUM(AF37+AG37) -> 634 | AK37: 47 | AL37: 202 | AM37: =SUM(AO36-AL37-AN36) -> 27 | AN37: 12 | AO37: =SUM(AK37+AL37) -> 249 | AP37: 49 | AQ37: 383 | AR37: =SUM(AT36-AQ37-AS36) -> 104 | AS37: 17 | AT37: =SUM(AP37+AQ37) -> 432 | AU37: 48 | AV37: 358 | AW37: =SUM(AY36-AV37-AX36) -> 20 | AX37: 0 | AY37: =SUM(AU37+AV37) -> 406 | AZ37: 50 | BA37: 153 | BB37: =SUM(BD36-BA37-BC36) -> 16 | BC37: 0 | BD37: =SUM(AZ37+BA37) -> 203 | BE37: 0 | BF37: 103 | BG37: =SUM(BI36-BF37-BH36) -> 27 | BH37: 0 | BI37: =SUM(BE37+BF37) -> 103 | DW37: =SUM(B37+G37+L37+Q37+V37+AA37+AF37+AK37+AP37+AU37+AZ37+BE37+BJ37) -> 298 | DX37: =SUM(C37+H37+M37+R37+W37+AB37+AG37+AL37+AQ37+AV37+BA37+BF37+BK37) -> 2044 | DY37: =SUM(EA36-DX37-DZ36) -> 278 | DZ37: =SUM(E37+J37+O37+T37+Y37+AD37+AI37+AN37+AS37+AX37+BC37+BH37+BM37) -> 63 | EA37: =SUM(DW37+DX37) -> 2342
A38: Ago-Dic 1996 | V38: 98 | W38: 179 | X38: =SUM(Z37-W38-Y37) -> 21 | Y38: 14 | Z38: =SUM(V38+W38) -> 277 | AA38: 74 | AB38: 83 | AC38: =SUM(AE37-AB38-AD37) -> 12 | AD38: 8 | AE38: =SUM(AA38+AB38) -> 157 | AF38: 97 | AG38: 571 | AH38: =SUM(AJ37-AG38-AI37) -> 49 | AI38: 50 | AJ38: =SUM(AF38+AG38) -> 668 | AK38: 92 | AL38: 194 | AM38: =SUM(AO37-AL38-AN37) -> 43 | AN38: 5 | AO38: =SUM(AK38+AL38) -> 286 | AP38: 85 | AQ38: 354 | AR38: =SUM(AT37-AQ38-AS37) -> 61 | AS38: 21 | AT38: =SUM(AP38+AQ38) -> 439 | AU38: 93 | AV38: 388 | AW38: =SUM(AY37-AV38-AX37) -> 18 | AX38: 0 | AY38: =SUM(AU38+AV38) -> 481 | AZ38: 91 | BA38: 163 | BB38: =SUM(BD37-BA38-BC37) -> 40 | BC38: 0 | BD38: =SUM(AZ38+BA38) -> 254 | BE38: 43 | BF38: 88 | BG38: =SUM(BI37-BF38-BH37) -> 15 | BH38: 0 | BI38: =SUM(BE38+BF38) -> 131 | DW38: =SUM(B38+G38+L38+Q38+V38+AA38+AF38+AK38+AP38+AU38+AZ38+BE38+BJ38) -> 673 | DX38: =SUM(C38+H38+M38+R38+W38+AB38+AG38+AL38+AQ38+AV38+BA38+BF38+BK38) -> 2020 | DY38: =SUM(EA37-DX38-DZ37) -> 259 | DZ38: =SUM(E38+J38+O38+T38+Y38+AD38+AI38+AN38+AS38+AX38+BC38+BH38+BM38) -> 98 | EA38: =SUM(DW38+DX38) -> 2693
A39: Feb-Jun 1997 | V39: 42 | W39: 228 | X39: =SUM(Z38-W39-Y38) -> 35 | Y39: 6 | Z39: =SUM(V39+W39) -> 270 | AA39: 26 | AB39: 118 | AC39: =SUM(AE38-AB39-AD38) -> 31 | AD39: 0 | AE39: =SUM(AA39+AB39) -> 144 | AF39: 102 | AG39: 575 | AH39: =SUM(AJ38-AG39-AI38) -> 43 | AI39: 15 | AJ39: =SUM(AF39+AG39) -> 677 | AK39: 46 | AL39: 237 | AM39: =SUM(AO38-AL39-AN38) -> 44 | AN39: 7 | AO39: =SUM(AK39+AL39) -> 283 | AP39: 43 | AQ39: 362 | AR39: =SUM(AT38-AQ39-AS38) -> 56 | AS39: 14 | AT39: =SUM(AP39+AQ39) -> 405 | AU39: 46 | AV39: 458 | AW39: =SUM(AY38-AV39-AX38) -> 23 | AX39: 0 | AY39: =SUM(AU39+AV39) -> 504 | AZ39: 42 | BA39: 200 | BB39: =SUM(BD38-BA39-BC38) -> 54 | BC39: 0 | BD39: =SUM(AZ39+BA39) -> 242 | BE39: 27 | BF39: 104 | BG39: =SUM(BI38-BF39-BH38) -> 27 | BH39: 0 | BI39: =SUM(BE39+BF39) -> 131 | DW39: =SUM(B39+G39+L39+Q39+V39+AA39+AF39+AK39+AP39+AU39+AZ39+BE39+BJ39) -> 374 | DX39: =SUM(C39+H39+M39+R39+W39+AB39+AG39+AL39+AQ39+AV39+BA39+BF39+BK39) -> 2282 | DY39: =SUM(EA38-DX39-DZ38) -> 313 | DZ39: =SUM(E39+J39+O39+T39+Y39+AD39+AI39+AN39+AS39+AX39+BC39+BH39+BM39) -> 42 | EA39: =SUM(DW39+DX39) -> 2656
A40: Ago-Dic 1997 | V40: 78 | W40: 236 | X40: =SUM(Z39-W40-Y39) -> 28 | Y40: 13 | Z40: =SUM(V40+W40) -> 314 | AA40: 38 | AB40: 117 | AC40: =SUM(AE39-AB40-AD39) -> 27 | AD40: 11 | AE40: =SUM(AA40+AB40) -> 155 | AF40: 126 | AG40: 651 | AH40: =SUM(AJ39-AG40-AI39) -> 11 | AI40: 54 | AJ40: =SUM(AF40+AG40) -> 777 | AK40: 81 | AL40: 230 | AM40: =SUM(AO39-AL40-AN39) -> 46 | AN40: 10 | AO40: =SUM(AK40+AL40) -> 311 | AP40: 45 | AQ40: 343 | AR40: =SUM(AT39-AQ40-AS39) -> 48 | AS40: 15 | AT40: =SUM(AP40+AQ40) -> 388 | AU40: 72 | AV40: 481 | AW40: =SUM(AY39-AV40-AX39) -> 23 | AX40: 0 | AY40: =SUM(AU40+AV40) -> 553 | AZ40: 82 | BA40: 199 | BB40: =SUM(BD39-BA40-BC39) -> 43 | BC40: 0 | BD40: =SUM(AZ40+BA40) -> 281 | BE40: 36 | BF40: 118 | BG40: =SUM(BI39-BF40-BH39) -> 13 | BH40: 0 | BI40: =SUM(BE40+BF40) -> 154 | DW40: =SUM(B40+G40+L40+Q40+V40+AA40+AF40+AK40+AP40+AU40+AZ40+BE40+BJ40) -> 558 | DX40: =SUM(C40+H40+M40+R40+W40+AB40+AG40+AL40+AQ40+AV40+BA40+BF40+BK40) -> 2375 | DY40: =SUM(EA39-DX40-DZ39) -> 239 | DZ40: =SUM(E40+J40+O40+T40+Y40+AD40+AI40+AN40+AS40+AX40+BC40+BH40+BM40) -> 103 | EA40: =SUM(DW40+DX40) -> 2933
A41: Feb-Jun 1998 | V41: 47 | W41: 261 | X41: =SUM(Z40-W41-Y40) -> 40 | Y41: 9 | Z41: =SUM(V41+W41) -> 308 | AA41: 41 | AB41: 126 | AC41: =SUM(AE40-AB41-AD40) -> 18 | AD41: 3 | AE41: =SUM(AA41+AB41) -> 167 | AF41: 89 | AG41: 696 | AH41: =SUM(AJ40-AG41-AI40) -> 27 | AI41: 36 | AJ41: =SUM(AF41+AG41) -> 785 | AK41: 44 | AL41: 239 | AM41: =SUM(AO40-AL41-AN40) -> 62 | AN41: 10 | AO41: =SUM(AK41+AL41) -> 283 | AP41: 38 | AQ41: 347 | AR41: =SUM(AT40-AQ41-AS40) -> 26 | AS41: 29 | AT41: =SUM(AP41+AQ41) -> 385 | AU41: 0 | AV41: 529 | AW41: =SUM(AY40-AV41-AX40) -> 24 | AX41: 45 | AY41: =SUM(AU41+AV41) -> 529 | AZ41: 42 | BA41: 258 | BB41: =SUM(BD40-BA41-BC40) -> 23 | BC41: 0 | BD41: =SUM(AZ41+BA41) -> 300 | BE41: 42 | BF41: 132 | BG41: =SUM(BI40-BF41-BH40) -> 22 | BH41: 0 | BI41: =SUM(BE41+BF41) -> 174 | DW41: =SUM(B41+G41+L41+Q41+V41+AA41+AF41+AK41+AP41+AU41+AZ41+BE41+BJ41) -> 343 | DX41: =SUM(C41+H41+M41+R41+W41+AB41+AG41+AL41+AQ41+AV41+BA41+BF41+BK41) -> 2588 | DY41: =SUM(EA40-DX41-DZ40) -> 242 | DZ41: =SUM(E41+J41+O41+T41+Y41+AD41+AI41+AN41+AS41+AX41+BC41+BH41+BM41) -> 132 | EA41: =SUM(DW41+DX41) -> 2931
A42: Ago-Dic 1998 | V42: 79 | W42: 245 | X42: =SUM(Z41-W42-Y41) -> 54 | Y42: 11 | Z42: =SUM(V42+W42) -> 324 | AA42: 42 | AB42: 115 | AC42: =SUM(AE41-AB42-AD41) -> 49 | AD42: 7 | AE42: =SUM(AA42+AB42) -> 157 | AF42: 126 | AG42: 689 | AH42: =SUM(AJ41-AG42-AI41) -> 60 | AI42: 47 | AJ42: =SUM(AF42+AG42) -> 815 | AK42: 77 | AL42: 245 | AM42: =SUM(AO41-AL42-AN41) -> 28 | AN42: 14 | AO42: =SUM(AK42+AL42) -> 322 | AP42: 42 | AQ42: 299 | AR42: =SUM(AT41-AQ42-AS41) -> 57 | AS42: 26 | AT42: =SUM(AP42+AQ42) -> 341 | AU42: 78 | AV42: 472 | AW42: =SUM(AY41-AV42-AX41) -> 12 | AX42: 68 | AY42: =SUM(AU42+AV42) -> 550 | AZ42: 83 | BA42: 235 | BB42: =SUM(BD41-BA42-BC41) -> 65 | BC42: 0 | BD42: =SUM(AZ42+BA42) -> 318 | BE42: 40 | BF42: 140 | BG42: =SUM(BI41-BF42-BH41) -> 34 | BH42: 7 | BI42: =SUM(BE42+BF42) -> 180 | DW42: =SUM(B42+G42+L42+Q42+V42+AA42+AF42+AK42+AP42+AU42+AZ42+BE42+BJ42) -> 567 | DX42: =SUM(C42+H42+M42+R42+W42+AB42+AG42+AL42+AQ42+AV42+BA42+BF42+BK42) -> 2440 | DY42: =SUM(EA41-DX42-DZ41) -> 359 | DZ42: =SUM(E42+J42+O42+T42+Y42+AD42+AI42+AN42+AS42+AX42+BC42+BH42+BM42) -> 180 | EA42: =SUM(DW42+DX42) -> 3007
...

Sheet ESTADISTICAS
N1: INSTITUTO TECNOLOGICO DE MEXICALI
N2: PROYECCION DE LA POBLACION ESCOLAR
E4: ESTADISTICA DE CARRERAS ACTUALES Y LIQUIDACION DE FEB-JUN 09 A FEB-JUN 13 Y PROYECCION A AGO-DIC 2018
A6: per | B6: PERIODO | C6: LIC. EN INFORM. | D6: LIC. EN CONTAD. | E6: ING. ELECTRONICA | F6: ING. ELECTRICA | G6: ING. INDUSTRIAL | H6: ING. MECANICA | I6: ING. EN SIST. COMPS. | J6: ING. QUIMICA | K6: ING. MECATRONICA | M6: ING. ELECTRONICA | N6: ING. ELECTRICA | O6: ING. INDUSTRIAL | P6: ING. MECANICA | Q6: ING EN SIST.COPUTACIONALES | R6: ING. QUIMICA | S6: ING. MECATRONICA | T6: ING. EN LOGISTICA | U6: ING EN ENERGIAS RENOVABLES | V6: CONTADOR PUBLICO | W6: ING. EN GESTION EMPRESARIAL | X6: ING. EN INFORMATICA | AA6: TOTALES | AB6: PERIODO | AC6: LIC. EN INFORMATICA | AD6: LIC. EN CONTADURIA | AE6: ING. ELECTRONICA | AF6: ING. ELECTRICA | AG6: ING. INDUSTRIAL | AH6: ING. MECANICA | AI6: ING EN SIST.COPUTACIONALES | AJ6: ING. QUIMICA | AK6: ING. MECATRONICA | AL6: ING. EN LOGISTICA | AM6: ING EN ENERGIAS RENOVABLES | AN6: CONTADOR PUBLICO | AO6: ING. EN GESTION EMPRESARIAL | AP6: ING. EN INFORMATICA
A7: 20021 | B7: Feb-Jun 2002 | C7: 251 | D7: 364 | E7: 327 | F7: 154 | G7: 868 | H7: 352 | I7: 328 | J7: 162 | L7: =SUM(C7:K7) -> 2806 | Y7: =SUM(M7:X7) -> 0 | AA7: 2806 | AB7: Ago-Dic 2002 | AC7: =C7 -> 251 | AD7: =D7 -> 364 | AE7: =E7+M7 -> 327 | AF7: =F7+N7 -> 154 | AG7: =G7+O7 -> 868 | AH7: =H7+P7 -> 352 | AI7: =I7+Q7 -> 328 | AJ7: =J7+R7 -> 162 | AK7: =K7+S7 -> 0 | AL7: =T7 -> 0 | AM7: =U7 -> 0 | AN7: =V7 -> 0 | AO7: =W7 -> 0 | AP7: =X7 -> 0
A8: 20023 | B8: Ago-Dic 2002 | C8: 252 | D8: 405 | E8: 355 | F8: 150 | G8: 953 | H8: 391 | I8: 420 | J8: 190 | L8: =SUM(C8:K8) -> 3116 | Y8: =SUM(M8:X8) -> 0 | AA8: 3116 | AB8: Ago-Dic 2003 | AC8: =C8 -> 252 | AD8: =D8 -> 405 | AE8: =E8+M8 -> 355 | AF8: =F8+N8 -> 150 | AG8: =G8+O8 -> 953 | AH8: =H8+P8 -> 391 | AI8: =I8+Q8 -> 420 | AJ8: =J8+R8 -> 190 | AK8: =K8+S8 -> 0 | AL8: =T8 -> 0 | AM8: =U8 -> 0 | AN8: =V8 -> 0 | AO8: =W8 -> 0 | AP8: =X8 -> 0
A9: 20031 | B9: Feb-Jun 2003 | C9: 207 | D9: 387 | E9: 315 | F9: 143 | G9: 757 | H9: 362 | I9: 391 | J9: 188 | L9: =SUM(C9:K9) -> 2750 | Y9: =SUM(M9:X9) -> 0 | AA9: 2750 | AB9: Ago-Dic 2004 | AC9: =C9 -> 207 | AD9: =D9 -> 387 | AE9: =E9+M9 -> 315 | AF9: =F9+N9 -> 143 | AG9: =G9+O9 -> 757 | AH9: =H9+P9 -> 362 | AI9: =I9+Q9 -> 391 | AJ9: =J9+R9 -> 188 | AK9: =K9+S9 -> 0 | AL9: =T9 -> 0 | AM9: =U9 -> 0 | AN9: =V9 -> 0 | AO9: =W9 -> 0 | AP9: =X9 -> 0
A10: 20033 | B10: Ago-Dic 2003 | C10: 214 | D10: 478 | E10: 344 | F10: 149 | G10: 823 | H10: 384 | I10: 419 | J10: 202 | L10: =SUM(C10:K10) -> 3013 | Y10: =SUM(M10:X10) -> 0 | AA10: 3013 | AB10: Ago-Dic 2005 | AC10: =C10 -> 214 | AD10: =D10 -> 478 | AE10: =E10+M10 -> 344 | AF10: =F10+N10 -> 149 | AG10: =G10+O10 -> 823 | AH10: =H10+P10 -> 384 | AI10: =I10+Q10 -> 419 | AJ10: =J10+R10 -> 202 | AK10: =K10+S10 -> 0 | AL10: =T10 -> 0 | AM10: =U10 -> 0 | AN10: =V10 -> 0 | AO10: =W10 -> 0 | AP10: =X10 -> 0
A11: 20041 | B11: Feb-Jun 2004 | C11: 179 | D11: 358 | E11: 277 | F11: 111 | G11: 674 | H11: 342 | I11: 380 | J11: 181 | L11: =SUM(C11:K11) -> 2502 | Y11: =SUM(M11:X11) -> 0 | AA11: 2502 | AB11: Ago-Dic 2006 | AC11: =C11 -> 179 | AD11: =D11 -> 358 | AE11: =E11+M11 -> 277 | AF11: =F11+N11 -> 111 | AG11: =G11+O11 -> 674 | AH11: =H11+P11 -> 342 | AI11: =I11+Q11 -> 380 | AJ11: =J11+R11 -> 181 | AK11: =K11+S11 -> 0 | AL11: =T11 -> 0 | AM11: =U11 -> 0 | AN11: =V11 -> 0 | AO11: =W11 -> 0 | AP11: =X11 -> 0
A12: 20043 | B12: Ago-Dic 2004 | C12: 209 | D12: 411 | E12: 329 | F12: 139 | G12: 712 | H12: 348 | I12: 408 | J12: 231 | K12: 92 | L12: =SUM(C12:K12) -> 2879 | Y12: =SUM(M12:X12) -> 0 | AA12: 2879 | AB12: Ago-Dic 2007 | AC12: =C12 -> 209 | AD12: =D12 -> 411 | AE12: =E12+M12 -> 329 | AF12: =F12+N12 -> 139 | AG12: =G12+O12 -> 712 | AH12: =H12+P12 -> 348 | AI12: =I12+Q12 -> 408 | AJ12: =J12+R12 -> 231 | AK12: =K12+S12 -> 92 | AL12: =T12 -> 0 | AM12: =U12 -> 0 | AN12: =V12 -> 0 | AO12: =W12 -> 0 | AP12: =X12 -> 0
A13: 20051 | B13: Feb-Jun 2005 | C13: 166 | D13: 329 | E13: 260 | F13: 122 | G13: 583 | H13: 283 | I13: 303 | J13: 189 | K13: 84 | L13: =SUM(C13:K13) -> 2319 | Y13: =SUM(M13:X13) -> 0 | AA13: 2319 | AB13: Ago-Dic 2008 | AC13: =C13 -> 166 | AD13: =D13 -> 329 | AE13: =E13+M13 -> 260 | AF13: =F13+N13 -> 122 | AG13: =G13+O13 -> 583 | AH13: =H13+P13 -> 283 | AI13: =I13+Q13 -> 303 | AJ13: =J13+R13 -> 189 | AK13: =K13+S13 -> 84 | AL13: =T13 -> 0 | AM13: =U13 -> 0 | AN13: =V13 -> 0 | AO13: =W13 -> 0 | AP13: =X13 -> 0
A14: 20053 | B14: Ago-Dic 2005 | C14: 181 | D14: 369 | E14: 286 | F14: 150 | G14: 651 | H14: 301 | I14: 379 | J14: 230 | K14: 292 | L14: =SUM(C14:K14) -> 2839 | Y14: =SUM(M14:X14) -> 0 | AA14: 2839 | AB14: Ago-Dic 2009 | AC14: =C14 -> 181 | AD14: =D14 -> 369 | AE14: =E14+M14 -> 286 | AF14: =F14+N14 -> 150 | AG14: =G14+O14 -> 651 | AH14: =H14+P14 -> 301 | AI14: =I14+Q14 -> 379 | AJ14: =J14+R14 -> 230 | AK14: =K14+S14 -> 292 | AL14: =T14 -> 0 | AM14: =U14 -> 0 | AN14: =V14 -> 0 | AO14: =W14 -> 0 | AP14: =X14 -> 0
A15: 20061 | B15: Feb-Jun 2006 | C15: 158 | D15: 296 | E15: 235 | F15: 135 | G15: 533 | H15: 253 | I15: 297 | J15: 195 | K15: 258 | L15: =SUM(C15:K15) -> 2360 | Y15: =SUM(M15:X15) -> 0 | AA15: 2360 | AB15: Ago-Dic 2010 | AC15: =C15 -> 158 | AD15: =D15 -> 296 | AE15: =E15+M15 -> 235 | AF15: =F15+N15 -> 135 | AG15: =G15+O15 -> 533 | AH15: =H15+P15 -> 253 | AI15: =I15+Q15 -> 297 | AJ15: =J15+R15 -> 195 | AK15: =K15+S15 -> 258 | AL15: =T15 -> 0 | AM15: =U15 -> 0 | AN15: =V15 -> 0 | AO15: =W15 -> 0 | AP15: =X15 -> 0
A16: 20063 | B16: Ago-Dic 2006 | C16: 184 | D16: 342 | E16: 248 | F16: 155 | G16: 595 | H16: 271 | I16: 366 | J16: 228 | K16: 422 | L16: =SUM(C16:K16) -> 2811 | Y16: =SUM(M16:X16) -> 0 | AA16: 2811 | AB16: Ago-Dic 2011 | AC16: =C16 -> 184 | AD16: =D16 -> 342 | AE16: =E16+M16 -> 248 | AF16: =F16+N16 -> 155 | AG16: =G16+O16 -> 595 | AH16: =H16+P16 -> 271 | AI16: =I16+Q16 -> 366 | AJ16: =J16+R16 -> 228 | AK16: =K16+S16 -> 422 | AL16: =T16 -> 0 | AM16: =U16 -> 0 | AN16: =V16 -> 0 | AO16: =W16 -> 0 | AP16: =X16 -> 0
A17: 20071 | B17: Feb-Jun 2007 | C17: 152 | D17: 272 | E17: 213 | F17: 127 | G17: 485 | H17: 267 | I17: 273 | J17: 209 | K17: 387 | L17: =SUM(C17:K17) -> 2385 | Y17: =SUM(M17:X17) -> 0 | AA17: 2385 | AB17: Ago-Dic 2012 | AC17: =C17 -> 152 | AD17: =D17 -> 272 | AE17: =E17+M17 -> 213 | AF17: =F17+N17 -> 127 | AG17: =G17+O17 -> 485 | AH17: =H17+P17 -> 267 | AI17: =I17+Q17 -> 273 | AJ17: =J17+R17 -> 209 | AK17: =K17+S17 -> 387 | AL17: =T17 -> 0 | AM17: =U17 -> 0 | AN17: =V17 -> 0 | AO17: =W17 -> 0 | AP17: =X17 -> 0
A18: 20073 | B18: Ago-Dic 2007 | C18: 176 | D18: 316 | E18: 209 | F18: 139 | G18: 542 | H18: 311 | I18: 331 | J18: 206 | K18: 500 | L18: =SUM(C18:K18) -> 2730 | Y18: =SUM(M18:X18) -> 0 | AA18: 2730
A19: 20081 | B19: Feb-Jun 2008 | C19: 135 | D19: 251 | E19: 179 | F19: 121 | G19: 464 | H19: 250 | I19: 272 | J19: 165 | K19: 475 | L19: =SUM(C19:K19) -> 2312 | Y19: =SUM(M19:X19) -> 0 | AA19: 2312
A20: 20083 | B20: Ago-Dic 2008 | C20: 170 | D20: 273 | E20: 183 | F20: 151 | G20: 604 | H20: 245 | I20: 308 | J20: 207 | K20: 548 | L20: =SUM(C20:K20) -> 2689 | Y20: =SUM(M20:X20) -> 0 | AA20: 2689
A21: 20091 | B21: Feb-Jun 2009 | C21: 146 | D21: 231 | E21: 133 | F21: 124 | G21: 552 | H21: 213 | I21: 258 | J21: 158 | K21: 482 | L21: =SUM(C21:K21) -> 2297 | Y21: =SUM(M21:X21) -> 0 | AA21: 2297
A22: 20093 | B22: Ago-Dic 2009 | C22: 170 | D22: 252 | E22: 154 | F22: 164 | G22: 623 | H22: 257 | I22: 339 | J22: 226 | K22: 544 | L22: =SUM(C22:K22) -> 2729 | Y22: =SUM(M22:X22) -> 0 | AA22: 2729
A23: 20101 | B23: Feb-Jun 2010 | C23: 134 | D23: 186 | E23: 120 | F23: 154 | G23: 526 | H23: 210 | I23: 224 | J23: 176 | K23: 454 | L23: =SUM(C23:K23) -> 2184 | M23: 9 | N23: 11 | O23: 31 | P23: 11 | Q23: 23 | R23: 17 | S23: 25 | T23: 8 | U23: 0 | V23: 17 | W23: 16 | X23: 0 | Y23: =SUM(M23:X23) -> 168 | AA23: 2352
A24: 20103 | B24: Ago-Dic 2010 | C24: 122 | D24: 156 | E24: 99 | F24: 131 | G24: 439 | H24: 184 | I24: 181 | J24: 150 | K24: 359 | L24: =SUM(C24:K24) -> 1821 | M24: 37 | N24: 42 | O24: 138 | P24: 70 | Q24: 101 | R24: 58 | S24: 136 | T24: 20 | U24: 11 | V24: 38 | W24: 43 | X24: 20 | Y24: =SUM(M24:X24) -> 714 | AA24: 2535
A25: 20111 | B25: Feb-Jun 2011 | C25: 113 | D25: 120 | E25: 77 | F25: 116 | G25: 380 | H25: 165 | I25: 151 | J25: 124 | K25: 301 | L25: =SUM(C25:K25) -> 1547 | M25: 34 | N25: 54 | O25: 186 | P25: 86 | Q25: 117 | R25: 64 | S25: 168 | T25: 28 | U25: 23 | V25: 53 | W25: 49 | X25: 21 | Y25: =SUM(M25:X25) -> 883 | AA25: 2430
A26: 20113 | B26: Ago-Dic 2011 | C26: 92 | D26: 103 | E26: 65 | F26: 94 | G26: 319 | H26: 125 | I26: 131 | J26: 107 | K26: 248 | L26: =SUM(C26:K26) -> 1284 | M26: 74 | N26: 88 | O26: 380 | P26: 161 | Q26: 198 | R26: 112 | S26: 314 | T26: 50 | U26: 53 | V26: 94 | W26: 100 | X26: 54 | Y26: =SUM(M26:X26) -> 1678 | AA26: 2962
A27: 20121 | B27: Feb-Jun 2012 | C27: 80 | D27: 72 | E27: 48 | F27: 80 | G27: 257 | H27: 104 | I27: 108 | J27: 92 | K27: 198 | L27: =SUM(C27:K27) -> 1039 | M27: 65 | N27: 79 | O27: 398 | P27: 147 | Q27: 194 | R27: 83 | S27: 319 | T27: 32 | U27: 43 | V27: 93 | W27: 88 | X27: 40 | Y27: =SUM(M27:X27) -> 1581 | AA27: 2620
A28: 20123 | B28: Ago-Dic 2012 | C28: 68 | D28: 57 | E28: 44 | F28: 72 | G28: 205 | H28: 90 | I28: 94 | J28: 79 | K28: 158 | L28: =SUM(C28:K28) -> 867 | M28: 110 | N28: 120 | O28: 486 | P28: 209 | Q28: 249 | R28: 138 | S28: 421 | T28: 74 | U28: 89 | V28: 150 | W28: 140 | X28: 57 | Y28: =SUM(M28:X28) -> 2243 | AA28: 3110
A29: 20131 | B29: Feb-Jun 2013 | C29: 52 | D29: 40 | E29: 37 | F29: 72 | G29: 157 | H29: 62 | I29: 82 | J29: 63 | K29: 125 | L29: =SUM(C29:K29) -> 690 | M29: 95 | N29: 121 | O29: 516 | P29: 189 | Q29: 219 | R29: 139 | S29: 414 | T29: 70 | U29: 94 | V29: 141 | W29: 147 | X29: 46 | Y29: =SUM(M29:X29) -> 2191 | AA29: 2881

Sheet crecimientosXcarrera
B1: 52 | C1: 54 | D1: 56 | E1: 58 | F1: 60 | G1: 62 | H1: 64 | I1: 66 | J1: 68 | K1: 70
B2: 2003 | C2: 2004 | D2: 2005 | E2: 2006 | F2: 2007 | G2: 2008 | H2: 2009 | I2: 2010 | J2: 2011 | K2: 2012
A3: INGENIERIA ELECTRONICA | B3: ='2013-2'!Z52 -> 344 | C3: ='2013-2'!Z54 -> 329 | D3: ='2013-2'!Z56 -> 286 | E3: ='2013-2'!Z58 -> 248 | F3: ='2013-2'!Z60 -> 209 | G3: ='2013-2'!Z62 -> 183 | H3: ='2013-2'!Z64 -> 154 | I3: ='2013-2'!Z66 -> 99 | J3: ='2013-2'!Z68 -> 65 | K3: ='2013-2'!Z70 -> 44
A4: INGENIERIA ELECTRICA | B4: ='2013-2'!Z53 -> 277 | C4: ='2013-2'!Z55 -> 260 | D4: ='2013-2'!Z57 -> 235 | E4: ='2013-2'!Z59 -> 213 | F4: ='2013-2'!Z61 -> 179 | G4: ='2013-2'!Z63 -> 133 | H4: ='2013-2'!Z65 -> 120 | I4: ='2013-2'!Z67 -> 77 | J4: ='2013-2'!Z69 -> 48 | K4: ='2013-2'!Z71 -> 37
A5: INGENIERIA INDUSTRIAL | B5: ='2013-2'!Z54 -> 329 | C5: ='2013-2'!Z56 -> 286 | D5: ='2013-2'!Z58 -> 248 | E5: ='2013-2'!Z60 -> 209 | F5: ='2013-2'!Z62 -> 183 | G5: ='2013-2'!Z64 -> 154 | H5: ='2013-2'!Z66 -> 99 | I5: ='2013-2'!Z68 -> 65 | J5: ='2013-2'!Z70 -> 44 | K5: ='2013-2'!Z72 -> 25
A6: INGENIERIA MECANICA | B6: ='2013-2'!Z55 -> 260 | C6: ='2013-2'!Z57 -> 235 | D6: ='2013-2'!Z59 -> 213 | E6: ='2013-2'!Z61 -> 179 | F6: ='2013-2'!Z63 -> 133 | G6: ='2013-2'!Z65 -> 120 | H6: ='2013-2'!Z67 -> 77 | I6: ='2013-2'!Z69 -> 48 | J6: ='2013-2'!Z71 -> 37 | K6: ='2013-2'!Z73 -> 15
A7: LICENCIATURA EN INFORM. | B7: ='2013-2'!Z56 -> 286 | C7: ='2013-2'!Z58 -> 248 | D7: ='2013-2'!Z60 -> 209 | E7: ='2013-2'!Z62 -> 183 | F7: ='2013-2'!Z64 -> 154 | G7: ='2013-2'!Z66 -> 99 | H7: ='2013-2'!Z68 -> 65 | I7: ='2013-2'!Z70 -> 44 | J7: ='2013-2'!Z72 -> 25 | K7: ='2013-2'!Z74 -> 5
A8: LICENCIATURA EN CONTAD. | B8: ='2013-2'!Z57 -> 235 | C8: ='2013-2'!Z59 -> 213 | D8: ='2013-2'!Z61 -> 179 | E8: ='2013-2'!Z63 -> 133 | F8: ='2013-2'!Z65 -> 120 | G8: ='2013-2'!Z67 -> 77 | H8: ='2013-2'!Z69 -> 48 | I8: ='2013-2'!Z71 -> 37 | J8: ='2013-2'!Z73 -> 15 | K8: ='2013-2'!Z75 -> 0
A9: INGENIERIA EN SIST. COMPS. | B9: ='2013-2'!Z58 -> 248 | C9: ='2013-2'!Z60 -> 209 | D9: ='2013-2'!Z62 -> 183 | E9: ='2013-2'!Z64 -> 154 | F9: ='2013-2'!Z66 -> 99 | G9: ='2013-2'!Z68 -> 65 | H9: ='2013-2'!Z70 -> 44 | I9: ='2013-2'!Z72 -> 25 | J9: ='2013-2'!Z74 -> 5 | K9: ='2013-2'!Z76 -> 0
A10: INGENIERIA QUIMICA | B10: ='2013-2'!Z59 -> 213 | C10: ='2013-2'!Z61 -> 179 | D10: ='2013-2'!Z63 -> 133 | E10: ='2013-2'!Z65 -> 120 | F10: ='2013-2'!Z67 -> 77 | G10: ='2013-2'!Z69 -> 48 | H10: ='2013-2'!Z71 -> 37 | I10: ='2013-2'!Z73 -> 15 | J10: ='2013-2'!Z75 -> 0 | K10: ='2013-2'!Z77 -> 0
A11: INGENIERIA MECATRONICA | B11: ='2013-2'!Z60 -> 209 | C11: ='2013-2'!Z62 -> 183 | D11: ='2013-2'!Z64 -> 154 | E11: ='2013-2'!Z66 -> 99 | F11: ='2013-2'!Z68 -> 65 | G11: ='2013-2'!Z70 -> 44 | H11: ='2013-2'!Z72 -> 25 | I11: ='2013-2'!Z74 -> 5 | J11: ='2013-2'!Z76 -> 0 | K11: ='2013-2'!Z78 -> 0
A12: ING. EN GESTION EMPRESARIAL | B12: ='2013-2'!Z61 -> 179 | C12: ='2013-2'!Z63 -> 133 | D12: ='2013-2'!Z65 -> 120 | E12: ='2013-2'!Z67 -> 77 | F12: ='2013-2'!Z69 -> 48 | G12: ='2013-2'!Z71 -> 37 | H12: ='2013-2'!Z73 -> 15 | I12: ='2013-2'!Z75 -> 0 | J12: ='2013-2'!Z77 -> 0 | K12: ='2013-2'!Z79 -> 0
A13: INGENIERIA EN LOGISTICA | B13: ='2013-2'!Z62 -> 183 | C13: ='2013-2'!Z64 -> 154 | D13: ='2013-2'!Z66 -> 99 | E13: ='2013-2'!Z68 -> 65 | F13: ='2013-2'!Z70 -> 44 | G13: ='2013-2'!Z72 -> 25 | H13: ='2013-2'!Z74 -> 5 | I13: ='2013-2'!Z76 -> 0 | J13: ='2013-2'!Z78 -> 0 | K13: ='2013-2'!Z80 -> 0
A14: CONTADOR PUBLICO | B14: ='2013-2'!Z63 -> 133 | C14: ='2013-2'!Z65 -> 120 | D14: ='2013-2'!Z67 -> 77 | E14: ='2013-2'!Z69 -> 48 | F14: ='2013-2'!Z71 -> 37 | G14: ='2013-2'!Z73 -> 15 | H14: ='2013-2'!Z75 -> 0 | I14: ='2013-2'!Z77 -> 0 | J14: ='2013-2'!Z79 -> 0 | K14: ='2013-2'!Z81 -> 0
... A23: INGENIERIA QUIMICA | B23: ='2013-2'!Z72 -> 25 | C23: ='2013-2'!Z74 -> 5 | D23: ='2013-2'!Z76 -> 0 | E23: ='2013-2'!Z78 -> 0 | F23: ='2013-2'!Z80 -> 0 | G23: ='2013-2'!Z82 -> 0 | H23: ='2013-2'!Z84 -> 0 | I23: ='2013-2'!Z86 -> 0 | J23: ='2013-2'!Z88 -> 0 | K23: ='2013-2'!Z90 -> 0

Sheet Hoja2
B2: INSTITUTO TECNOLOGICO DE MEXICALI
B3: PROYECCION DE LA POBLACION ESCOLAR 2006
B5: AREA DE INGENIERIA
D7: INGENIERIA ELECTRONICA | I7: INGENIERIA ELECTRICA | N7: INGENIERIA INDUSTRIAL | S7: INGENIERIA MECANICA | X7: INGNIERIA EN SIST. COMPS. | AC7: INGENIERIA QUIMICA | AH7: TOTALES
B8: N I | C8: RI | D8: DE | E8: EG | F8: Total | G8: N I | H8: RI | I8: DE | J8: EG | K8: Total | L8: N I | M8: RI | N8: DE | O8: EG | P8: Total | Q8: N I | R8: RI | S8: DE | T8: EG | U8: Total | V8: N I | W8: RI | X8: DE | Y8: EG | Z8: Total | AA8: N I | AB8: RI | AC8: DE | AD8: EG | AE8: Total | AF8: N I | AG8: RI | AH8: DE | AI8: EG | AJ8: Total
A9: Ago-Dic 1990 | B9: 69 | C9: 244 | D9: 64 | E9: 0 | F9: =SUM(B9+C9) -> 313 | G9: 26 | H9: 29 | I9: 9 | J9: 0 | K9: =SUM(G9+H9) -> 55 | L9: 49 | M9: 118 | N9: 24 | O9: 0 | P9: =SUM(L9+M9) -> 167 | Q9: 14 | R9: 53 | S9: 21 | T9: 0 | U9: =SUM(Q9+R9) -> 67 | AF9: =SUM(B9+G9+L9+Q9+V9+AA9) -> 158 | AG9: =SUM(C9+H9+M9+R9+W9+AB9) -> 444 | AH9: 118 | AI9: =SUM(E9+J9+O9+T9+Y9+AD9) -> 0 | AJ9: =SUM(AF9+AG9) -> 602
A10: Feb-Jun 1991 | B10: 0 | C10: 265 | D10: =SUM(F9-C10-E9) -> 48 | E10: 12 | F10: =SUM(B10+C10) -> 265 | G10: 0 | H10: 46 | I10: =SUM(K9-H10-J9) -> 9 | J10: 0 | K10: =SUM(G10+H10) -> 46 | L10: 1 | M10: 140 | N10: =SUM(P9-M10-O9) -> 27 | O10: 1 | P10: =SUM(L10+M10) -> 141 | Q10: 1 | R10: 65 | S10: =SUM(U9-R10-T9) -> 2 | T10: 0 | U10: =SUM(Q10+R10) -> 66 | AF10: =SUM(B10+G10+L10+Q10+V10+AA10) -> 2 | AG10: =SUM(C10+H10+M10+R10+W10+AB10) -> 516 | AH10: =SUM(AJ9-AG10-AI9) -> 86 | AI10: =SUM(E10+J10+O10+T10+Y10+AD10) -> 13 | AJ10: =SUM(AF10+AG10) -> 518
A11: Ago-Dic 1991 | B11: 64 | C11: 224 | D11: =SUM(F10-C11-E10) -> 29 | E11: 19 | F11: =SUM(B11+C11) -> 288 | G11: 38 | H11: =46-9 -> 37 | I11: =SUM(K10-H11-J10) -> 9 | J11: 1 | K11: =SUM(G11+H11) -> 75 | L11: 59 | M11: 128 | N11: =SUM(P10-M11-O10) -> 12 | O11: 6 | P11: =SUM(L11+M11) -> 187 | Q11: 45 | R11: 62 | S11: =SUM(U10-R11-T10) -> 4 | T11: 13 | U11: =SUM(Q11+R11) -> 107 | AF11: =SUM(B11+G11+L11+Q11+V11+AA11) -> 206 | AG11: =SUM(C11+H11+M11+R11+W11+AB11) -> 451 | AH11: =SUM(AJ10-AG11-AI10) -> 54 | AI11: =SUM(E11+J11+O11+T11+Y11+AD11) -> 39 | AJ11: =SUM(AF11+AG11) -> 657
A12: Feb-Jun 1992 | B12: 21 | C12: 233 | D12: =SUM(F11-C12-E11) -> 36 | E12: 17 | F12: =SUM(B12+C12) -> 254 | G12: 0 | H12: 70 | I12: =SUM(K11-H12-J11) -> 4 | J12: 8 | K12: =SUM(G12+H12) -> 70 | L12: 43 | M12: 158 | N12: =SUM(P11-M12-O11) -> 23 | O12: 8 | P12: =SUM(L12+M12) -> 201 | Q12: 0 | R12: 75 | S12: =SUM(U11-R12-T11) -> 19 | T12: 6 | U12: =SUM(Q12+R12) -> 75 | AF12: =SUM(B12+G12+L12+Q12+V12+AA12) -> 64 | AG12: =SUM(C12+H12+M12+R12+W12+AB12) -> 536 | AH12: =SUM(AJ11-AG12-AI11) -> 82 | AI12: =SUM(E12+J12+O12+T12+Y12+AD12) -> 39 | AJ12: =SUM(AF12+AG12) -> 600
A13: Ago-Dic 1992 | B13: 80 | C13: 229 | D13: =SUM(F12-C13-E12) -> 8 | E13: 15 | F13: =SUM(B13+C13) -> 309 | G13: 50 | H13: =70-8-4 -> 58 | I13: =SUM(K12-H13-J12) -> 4 | J13: 5 | K13: =SUM(G13+H13) -> 108 | L13: 108 | M13: 178 | N13: =SUM(P12-M13-O12) -> 15 | O13: 1 | P13: =SUM(L13+M13) -> 286 | Q13: 57 | R13: 63 | S13: =SUM(U12-R13-T12) -> 6 | T13: 1 | U13: =SUM(Q13+R13) -> 120 | AF13: =SUM(B13+G13+L13+Q13+V13+AA13) -> 295 | AG13: =SUM(C13+H13+M13+R13+W13+AB13) -> 528 | AH13: =SUM(AJ12-AG13-AI12) -> 33 | AI13: =SUM(E13+J13+O13+T13+Y13+AD13) -> 22 | AJ13: =SUM(AF13+AG13) -> 823
A14: Feb-Jun 1993 | B14: 5 | C14: 233 | D14: =SUM(F13-C14-E13) -> 61 | E14: 27 | F14: =SUM(B14+C14) -> 238 | G14: 15 | H14: 79 | I14: =SUM(K13-H14-J13) -> 24 | J14: 5 | K14: =SUM(G14+H14) -> 94 | L14: 35 | M14: 242 | N14: =SUM(P13-M14-O13) -> 43 | O14: 10 | P14: =SUM(L14+M14) -> 277 | Q14: 20 | R14: 92 | S14: =SUM(U13-R14-T13) -> 27 | T14: 3 | U14: =SUM(Q14+R14) -> 112 | AF14: =SUM(B14+G14+L14+Q14+V14+AA14) -> 75 | AG14: =SUM(C14+H14+M14+R14+W14+AB14) -> 646 | AH14: =SUM(AJ13-AG14-AI13) -> 155 | AI14: =SUM(E14+J14+O14+T14+Y14+AD14) -> 45 | AJ14: =SUM(AF14+AG14) -> 721
A15: Ago-Dic 1993 | B15: 42 | C15: 184 | D15: =SUM(F14-C15-E14) -> 27 | E15: 19 | F15: =SUM(B15+C15) -> 226 | G15: 49 | H15: 66 | I15: =SUM(K14-H15-J14) -> 23 | J15: 1 | K15: =SUM(G15+H15) -> 115 | L15: 135 | M15: 235 | N15: =SUM(P14-M15-O14) -> 32 | O15: 7 | P15: =SUM(L15+M15) -> 370 | Q15: 62 | R15: 81 | S15: =SUM(U14-R15-T14) -> 28 | T15: 7 | U15: =SUM(Q15+R15) -> 143 | AF15: =SUM(B15+G15+L15+Q15+V15+AA15) -> 288 | AG15: =SUM(C15+H15+M15+R15+W15+AB15) -> 566 | AH15: =SUM(AJ14-AG15-AI14) -> 110 | AI15: =SUM(E15+J15+O15+T15+Y15+AD15) -> 34 | AJ15: =SUM(AF15+AG15) -> 854
A16: Feb-Jun 1994 | B16: 34 | C16: 169 | D16: =SUM(F15-C16-E15) -> 38 | E16: 18 | F16: =SUM(B16+C16) -> 203 | G16: 0 | H16: 93 | I16: =SUM(K15-H16-J15) -> 21 | J16: 9 | K16: =SUM(G16+H16) -> 93 | L16: 53 | M16: 298 | N16: =SUM(P15-M16-O15) -> 65 | O16: 29 | P16: =SUM(L16+M16) -> 351 | Q16: 0 | R16: 118 | S16: =SUM(U15-R16-T15) -> 18 | T16: 5 | U16: =SUM(Q16+R16) -> 118 | AF16: =SUM(B16+G16+L16+Q16+V16+AA16) -> 87 | AG16: =SUM(C16+H16+M16+R16+W16+AB16) -> 678 | AH16: =SUM(AJ15-AG16-AI15) -> 142 | AI16: =SUM(E16+J16+O16+T16+Y16+AD16) -> 61 | AJ16: =SUM(AF16+AG16) -> 765
A17: Ago-Dic 1994 | B17: 88 | C17: 159 | D17: =SUM(F16-C17-E16) -> 26 | E17: 19 | F17: =SUM(B17+C17) -> 247 | G17: 52 | H17: 74 | I17: =SUM(K16-H17-J16) -> 10 | J17: 5 | K17: =SUM(G17+H17) -> 126 | L17: 138 | M17: 308 | N17: =SUM(P16-M17-O16) -> 14 | O17: 21 | P17: =SUM(L17+M17) -> 446 | Q17: 85 | R17: 100 | S17: =SUM(U16-R17-T16) -> 13 | T17: 1 | U17: =SUM(Q17+R17) -> 185 | V17: 89 | W17: 0 | X17: =SUM(Z16-W17-Y16) -> 0 | Z17: =SUM(V17+W17) -> 89 | AA17: 70 | AB17: 0 | AC17: =SUM(AE16-AB17-AD16) -> 0 | AD17: 0 | AE17: =SUM(AA17+AB17) -> 70 | AF17: =SUM(B17+G17+L17+Q17+V17+AA17) -> 522 | AG17: =SUM(C17+H17+M17+R17+W17+AB17) -> 641 | AH17: =SUM(AJ16-AG17-AI16) -> 63 | AI17: =SUM(E17+J17+O17+T17+Y17+AD17) -> 46 | AJ17: =SUM(AF17+AG17) -> 1163
A18: Feb-Jun 1995 | B18: 26 | C18: 170 | D18: 58 | E18: 18 | F18: 196 | G18: 13 | H18: 94 | I18: 27 | J18: 4 | K18: 107 | L18: 95 | M18: 395 | N18: 30 | O18: 3 | P18: 490 | Q18: 20 | R18: 139 | S18: 45 | T18: 3 | U18: 159 | V18: 50 | W18: 53 | X18: 36 | Z18: 103 | AA18: 53 | AB18: 56 | AC18: 14 | AD18: 0 | AE18: 109 | AF18: =SUM(B18+G18+L18+Q18+V18+AA18) -> 257 | AG18: =SUM(C18+H18+M18+R18+W18+AB18) -> 907 | AH18: =SUM(AJ17-AG18-AI17) -> 210 | AI18: =SUM(E18+J18+O18+T18+Y18+AD18) -> 28 | AJ18: =SUM(AF18+AG18) -> 1164
A19: Ago-Dic 1995 | B19: 91 | C19: 169 | D19: =SUM(F18-C19-E18) -> 9 | E19: 24 | F19: =SUM(B19+C19) -> 260 | G19: 43 | H19: 91 | I19: =SUM(K18-H19-J18) -> 12 | J19: 4 | K19: =SUM(G19+H19) -> 134 | L19: 132 | M19: 449 | N19: =SUM(P18-M19-O18) -> 38 | O19: 18 | P19: =SUM(L19+M19) -> 581 | Q19: 98 | R19: 136 | S19: =SUM(U18-R19-T18) -> 20 | T19: 5 | U19: =SUM(Q19+R19) -> 234 | V19: 88 | W19: 81 | X19: =SUM(Z18-W19-Y18) -> 22 | Z19: =SUM(V19+W19) -> 169 | AA19: 41 | AB19: 89 | AC19: =SUM(AE18-AB19-AD18) -> 20 | AD19: 0 | AE19: =SUM(AA19+AB19) -> 130 | AF19: =SUM(B19+G19+L19+Q19+V19+AA19) -> 493 | AG19: =SUM(C19+H19+M19+R19+W19+AB19) -> 1015 | AH19: =SUM(AJ18-AG19-AI18) -> 121 | AI19: =SUM(E19+J19+O19+T19+Y19+AD19) -> 51 | AJ19: =SUM(AF19+AG19) -> 1508
A20: Feb-Jun 1996 | B20: 7 | C20: 207 | D20: =SUM(F19-C20-E19) -> 29 | E20: 15 | F20: =SUM(B20+C20) -> 214 | G20: 0 | H20: 101 | I20: =SUM(K19-H20-J19) -> 29 | J20: 8 | K20: =SUM(G20+H20) -> 101 | L20: 97 | M20: 537 | N20: =SUM(P19-M20-O19) -> 26 | O20: 21 | P20: =SUM(L20+M20) -> 634 | Q20: 47 | R20: 202 | S20: =SUM(U19-R20-T19) -> 27 | T20: 10 | U20: =SUM(Q20+R20) -> 249 | V20: 50 | W20: 153 | X20: =SUM(Z19-W20-Y19) -> 16 | Z20: =SUM(V20+W20) -> 203 | AA20: 0 | AB20: 103 | AC20: =SUM(AE19-AB20-AD19) -> 27 | AD20: 0 | AE20: =SUM(AA20+AB20) -> 103 | AF20: =SUM(B20+G20+L20+Q20+V20+AA20) -> 201 | AG20: =SUM(C20+H20+M20+R20+W20+AB20) -> 1303 | AH20: =SUM(AJ19-AG20-AI19) -> 154 | AI20: =SUM(E20+J20+O20+T20+Y20+AD20) -> 54 | AJ20: =SUM(AF20+AG20) -> 1504
A21: Ago-Dic 1996 | B21: 98 | C21: 179 | D21: =SUM(F20-C21-E20) -> 20 | E21: 13 | F21: =SUM(B21+C21) -> 277 | G21: 74 | H21: 83 | I21: =SUM(K20-H21-J20) -> 10 | J21: 5 | K21: =SUM(G21+H21) -> 157 | L21: 97 | M21: 571 | N21: =SUM(P20-M21-O20) -> 42 | O21: 10 | P21: =SUM(L21+M21) -> 668 | Q21: 92 | R21: 194 | S21: =SUM(U20-R21-T20) -> 45 | T21: 9 | U21: =SUM(Q21+R21) -> 286 | V21: 91 | W21: 163 | X21: =SUM(Z20-W21-Y20) -> 40 | Z21: =SUM(V21+W21) -> 254 | AA21: 43 | AB21: 88 | AC21: =SUM(AE20-AB21-AD20) -> 15 | AD21: 0 | AE21: =SUM(AA21+AB21) -> 131 | AF21: =SUM(B21+G21+L21+Q21+V21+AA21) -> 495 | AG21: =SUM(C21+H21+M21+R21+W21+AB21) -> 1278 | AH21: =SUM(AJ20-AG21-AI20) -> 172 | AI21: =SUM(E21+J21+O21+T21+Y21+AD21) -> 37 | AJ21: =SUM(AF21+AG21) -> 1773
A22: Feb-Jun 1997 | B22: 42 | C22: 228 | D22: =SUM(F21-C22-E21) -> 36 | E22: 10 | F22: =SUM(B22+C22) -> 270 | G22: 26 | H22: 118 | I22: =SUM(K21-H22-J21) -> 34 | J22: 6 | K22: =SUM(G22+H22) -> 144 | L22: 102 | M22: 575 | N22: =SUM(P21-M22-O21) -> 83 | O22: 20 | P22: =SUM(L22+M22) -> 677 | Q22: 46 | R22: 237 | S22: =SUM(U21-R22-T21) -> 40 | T22: 5 | U22: =SUM(Q22+R22) -> 283 | V22: 42 | W22: 200 | X22: =SUM(Z21-W22-Y21) -> 54 | Z22: =SUM(V22+W22) -> 242 | AA22: 27 | AB22: 104 | AC22: =SUM(AE21-AB22-AD21) -> 27 | AD22: 0 | AE22: =SUM(AA22+AB22) -> 131 | AF22: =SUM(B22+G22+L22+Q22+V22+AA22) -> 285 | AG22: =SUM(C22+H22+M22+R22+W22+AB22) -> 1462 | AH22: =SUM(AJ21-AG22-AI21) -> 274 | AI22: =SUM(E22+J22+O22+T22+Y22+AD22) -> 41 | AJ22: =SUM(AF22+AG22) -> 1747
A23: Ago-Dic 1997 | B23: 90 | C23: 225 | D23: =SUM(F22-C23-E22) -> 35 | E23: 15 | F23: =SUM(B23+C23) -> 315 | G23: 45 | H23: 110 | I23: =SUM(K22-H23-J22) -> 28 | J23: 8 | K23: =SUM(G23+H23) -> 155 | L23: 105 | M23: 610 | N23: =SUM(P22-M23-O22) -> 47 | O23: 20 | P23: =SUM(L23+M23) -> 715 | Q23: 90 | R23: 233 | S23: =SUM(U22-R23-T22) -> 45 | T23: 5 | U23: =SUM(Q23+R23) -> 323 | V23: 90 | W23: 192 | X23: =SUM(Z22-W23-Y22) -> 50 | Z23: =SUM(V23+W23) -> 282 | AA23: 45 | AB23: 105 | AC23: =SUM(AE22-AB23-AD22) -> 26 | AD23: 0 | AE23: =SUM(AA23+AB23) -> 150 | AF23: =SUM(B23+G23+L23+Q23+V23+AA23) -> 465 | AG23: =SUM(C23+H23+M23+R23+W23+AB23) -> 1475 | AH23: =SUM(AJ22-AG23-AI22) -> 231 | AI23: =SUM(E23+J23+O23+T23+Y23+AD23) -> 48 | AJ23: =SUM(AF23+AG23) -> 1940
A24: Feb-Jun 1998 | B24: 45 | C24: 260 | D24: =SUM(F23-C24-E23) -> 40 | E24: 11 | F24: =SUM(B24+C24) -> 305 | G24: 45 | H24: 117 | I24: =SUM(K23-H24-J23) -> 30 | J24: 4 | K24: =SUM(G24+H24) -> 162 | L24: 105 | M24: 645 | N24: =SUM(P23-M24-O23) -> 50 | O24: 20 | P24: =SUM(L24+M24) -> 750 | Q24: 45 | R24: 267 | S24: =SUM(U23-R24-T23) -> 51 | T24: 6 | U24: =SUM(Q24+R24) -> 312 | V24: 45 | W24: 223 | X24: =SUM(Z23-W24-Y23) -> 59 | Z24: =SUM(V24+W24) -> 268 | AA24: 35 | AB24: 120 | AC24: =SUM(AE23-AB24-AD23) -> 30 | AD24: 0 | AE24: =SUM(AA24+AB24) -> 155 | AF24: =SUM(B24+G24+L24+Q24+V24+AA24) -> 320 | AG24: =SUM(C24+H24+M24+R24+W24+AB24) -> 1632 | AH24: =SUM(AJ23-AG24-AI23) -> 260 | AI24: =SUM(E24+J24+O24+T24+Y24+AD24) -> 41 | AJ24: =SUM(AF24+AG24) -> 1952
