Workbook

Sheet 2013-2
AH1: INSTITUTO TECNOLOGICO DE MEXICALI
AH2: PROYECCION DE LA POBLACION ESCOLAR
V4: ESTADISTICA DE CARRERAS ACTUALES Y LIQUIDACION A AGO-DIC 2013 Y PROYECCION A AGO-DIC 2018
D6: ING. IND. MECANICA | I6: ING. IND. ELECTRONICA | N6: ING. ELECTRICA EN CONTRL. | S6: ING. IND. QUIMICA | V6: INGENIERIA ELECTRONICA | AA6: INGENIERIA ELECTRICA | AF6: INGENIERIA INDUSTRIAL | AK6: INGENIERIA MECANICA | AP6: LICENCIATURA EN INFORM. | AU6: LICENCIATURA EN CONTAD. | AZ6: INGENIERIA EN SIST. COMPS. | BE6: INGENIERIA QUIMICA | BJ6: INGENIERIA MECATRONICA | BO6: ING. EN GESTION EMPRESARIAL | BT6: INGENIERIA EN LOGISTICA | BY6: CONTADOR PUBLICO | CD6: INGENIERIA ELECTRICA | CI6: INGENIERIA ELECTRONICA | CN6: ING EN ENERGIAS RENOVABLES | CS6: ING EN SIST.COPUTACIONALES | CX6: INGENIERIA INDUSTRIAL | DC6: INGENIERIA EN INFORMATICA | DH6: INGENIERIA MECANICA | DM6: INGENIERIA MECATRONICA | DR6: INGENIERIA QUIMICA | DY6: TOTALES | EH6: % DESC x SEM
B7: N I | C7: RI | D7: DE | E7: EG | F7: Total | G7: N I | H7: RI | I7: DE | J7: EG | K7: Total | L7: N I | M7: RI | N7: DE | O7: EG | P7: Total | Q7: N I | R7: RI | S7: DE | T7: EG | U7: Total | V7: N I | W7: RI | X7: DE | Y7: EG | Z7: Total | AA7: N I | AB7: RI | AC7: DE | AD7: EG | AE7: Total | AF7: N I | AG7: RI | AH7: DE | AI7: EG | AJ7: Total | AK7: N I | AL7: RI | AM7: DE | AN7: EG | AO7: Total | AP7: N I | AQ7: RI | AR7: DE | AS7: EG | AT7: Total | AU7: N I | AV7: RI | AW7: DE | AX7: EG | AY7: Total | AZ7: N I | BA7: RI | BB7: DE | BC7: EG | BD7: Total | BE7: N I | BF7: RI | BG7: DE | BH7: EG | BI7: Total | BJ7: N I | BK7: RI | BL7: DE | BM7: EG | BN7: Total | BO7: N I | BP7: RI | BQ7: DE | BR7: EG | BS7: Total | BT7: N I | BU7: RI | BV7: DE | BW7: EG | BX7: Total | BY7: N I | BZ7: RI | CA7: DE | CB7: EG | CC7: Total | CD7: N I | CE7: RI | CF7: DE | CG7: EG | CH7: Total | CI7: N I | CJ7: RI | CK7: DE | CL7: EG | CM7: Total | CN7: N I | CO7: RI | CP7: DE | CQ7: EG | CR7: Total | CS7: N I | CT7: RI | CU7: DE | CV7: EG | CW7: Total | CX7: N I | CY7: RI | CZ7: DE | DA7: EG | DB7: Total | DC7: N I | DD7: RI | DE7: DE | DF7: EG | DG7: Total | DH7: N I | DI7: RI | DJ7: DE | DK7: EG | DL7: Total | DM7: N I | DN7: RI | DO7: DE | DP7: EG | DQ7: Total | DR7: N I | DS7: RI | DT7: DE | DU7: EG | DV7: Total | DW7: N I | DX7: RI | DY7: DE | DZ7: EG | EA7: Total | EC7: INGENIERIA ELECTRONICA
A8: Oct-Dic 1981 | B8: 146 | C8: 0 | D8: 0 | E8: 0 | F8: =SUM(B8+C8) -> 146 | G8: 98 | H8: 0 | I8: 0 | J8: 0 | K8: =SUM(G8+H8) -> 98 | L8: 102 | M8: 0 | N8: 0 | O8: 0 | P8: =SUM(L8+M8) -> 102 | DW8: 346 | DX8: =SUM(C8+H8+M8+R8+W8+AB8+AG8+AL8+AQ8+AV8+BA8+BF8) -> 0 | DY8: 0 | DZ8: =SUM(E8+J8+O8+T8+Y8+AD8+AI8+AN8+AS8+AX8+BC8+BH8) -> 0 | EA8: =SUM(DW8+DX8) -> 346 | EC8: INGENIERIA ELECTRONICA
A9: Feb-Jun 1982 | B9: 81 | C9: 65 | D9: =SUM(F8-C9-E8) -> 81 | E9: 0 | F9: =SUM(B9+C9) -> 146 | G9: 71 | H9: 63 | I9: =SUM(K8-H9-J8) -> 35 | J9: 0 | K9: =SUM(G9+H9) -> 134 | L9: 74 | M9: 48 | N9: =SUM(P8-M9-O8) -> 54 | O9: 0 | P9: =SUM(L9+M9) -> 122 | DW9: =SUM(B9+G9+L9+Q9+V9+AA9+AF9+AK9+AP9+AU9+AZ9+BE9) -> 226 | DX9: =SUM(C9+H9+M9+R9+W9+AB9+AG9+AL9+AQ9+AV9+BA9+BF9+BK9) -> 176 | DY9: =SUM(EA8-DX9-DZ8) -> 170 | DZ9: =SUM(E9+J9+O9+T9+Y9+AD9+AI9+AN9+AS9+AX9+BC9+BH9) -> 0 | EA9: =SUM(DW9+DX9) -> 402 | EC9: INGENIERIA ELECTRONICA
A10: Ago-Dic 1982 | B10: 140 | C10: 94 | D10: =SUM(F9-C10-E9) -> 52 | E10: 0 | F10: =SUM(B10+C10) -> 234 | G10: 103 | H10: 87 | I10: =SUM(K9-H10-J9) -> 47 | J10: 0 | K10: =SUM(G10+H10) -> 190 | L10: 77 | M10: 87 | N10: =SUM(P9-M10-O9) -> 35 | O10: 0 | P10: =SUM(L10+M10) -> 164 | Q10: 101 | R10: 0 | S10: =SUM(U9-R10-T9) -> 0 | T10: 0 | U10: =SUM(Q10+R10) -> 101 | DW10: =SUM(B10+G10+L10+Q10+V10+AA10+AF10+AK10+AP10+AU10+AZ10+BE10+BJ10) -> 421 | DX10: =SUM(C10+H10+M10+R10+W10+AB10+AG10+AL10+AQ10+AV10+BA10+BF10+BK10) -> 268 | DY10: =SUM(EA9-DX10-DZ9) -> 134 | DZ10: =SUM(E10+J10+O10+T10+Y10+AD10+AI10+AN10+AS10+AX10+BC10+BH10) -> 0 | EA10: =SUM(DW10+DX10) -> 689 | EC10: INGENIERIA ELECTRONICA
A11: Feb-Jun 1983 | B11: 63 | C11: 159 | D11: =SUM(F10-C11-E10) -> 75 | E11: 0 | F11: =SUM(B11+C11) -> 222 | G11: 59 | H11: 154 | I11: =SUM(K10-H11-J10) -> 36 | J11: 0 | K11: =SUM(G11+H11) -> 213 | L11: 38 | M11: 131 | N11: =SUM(P10-M11-O10) -> 33 | O11: 0 | P11: =SUM(L11+M11) -> 169 | Q11: 44 | R11: 84 | S11: =SUM(U10-R11-T10) -> 17 | T11: 0 | U11: =SUM(Q11+R11) -> 128 | DW11: =SUM(B11+G11+L11+Q11+V11+AA11+AF11+AK11+AP11+AU11+AZ11+BE11+BJ11) -> 204 | DX11: =SUM(C11+H11+M11+R11+W11+AB11+AG11+AL11+AQ11+AV11+BA11+BF11+BK11) -> 528 | DY11: =SUM(EA10-DX11-DZ10) -> 161 | DZ11: =SUM(E11+J11+O11+T11+Y11+AD11+AI11+AN11+AS11+AX11+BC11+BH11) -> 0 | EA11: =SUM(DW11+DX11) -> 732 | EC11: INGENIERIA ELECTRONICA
A12: Ago-Dic 1983 | B12: 32 | C12: 154 | D12: =SUM(F11-C12-E11) -> 68 | E12: 0 | F12: =SUM(B12+C12) -> 186 | G12: 51 | H12: 152 | I12: =SUM(K11-H12-J11) -> 61 | J12: 0 | K12: =SUM(G12+H12) -> 203 | L12: 28 | M12: 125 | N12: =SUM(P11-M12-O11) -> 44 | O12: 0 | P12: =SUM(L12+M12) -> 153 | Q12: 0 | R12: 95 | S12: =SUM(U11-R12-T11) -> 33 | T12: 0 | U12: =SUM(Q12+R12) -> 95 | DW12: =SUM(B12+G12+L12+Q12+V12+AA12+AF12+AK12+AP12+AU12+AZ12+BE12+BJ12) -> 111 | DX12: =SUM(C12+H12+M12+R12+W12+AB12+AG12+AL12+AQ12+AV12+BA12+BF12+BK12) -> 526 | DY12: =SUM(EA11-DX12-DZ11) -> 206 | DZ12: =SUM(E12+J12+O12+T12+Y12+AD12+AI12+AN12+AS12+AX12+BC12+BH12) -> 0 | EA12: =SUM(DW12+DX12) -> 637 | EC12: INGENIERIA ELECTRONICA
A13: Feb-Jun 1984 | B13: 31 | C13: 149 | D13: =SUM(F12-C13-E12) -> 37 | E13: 0 | F13: =SUM(B13+C13) -> 180 | G13: 42 | H13: 184 | I13: =SUM(K12-H13-J12) -> 19 | J13: 0 | K13: =SUM(G13+H13) -> 226 | L13: 24 | M13: 134 | N13: =SUM(P12-M13-O12) -> 19 | O13: 0 | P13: =SUM(L13+M13) -> 158 | Q13: 0 | R13: 86 | S13: =SUM(U12-R13-T12) -> 9 | T13: 0 | U13: =SUM(Q13+R13) -> 86 | DW13: =SUM(B13+G13+L13+Q13+V13+AA13+AF13+AK13+AP13+AU13+AZ13+BE13+BJ13) -> 97 | DX13: =SUM(C13+H13+M13+R13+W13+AB13+AG13+AL13+AQ13+AV13+BA13+BF13+BK13) -> 553 | DY13: =SUM(EA12-DX13-DZ12) -> 84 | DZ13: =SUM(E13+J13+O13+T13+Y13+AD13+AI13+AN13+AS13+AX13+BC13+BH13) -> 0 | EA13: =SUM(DW13+DX13) -> 650 | EC13: INGENIERIA ELECTRONICA
A14: Ago-Dic 1984 | B14: 56 | C14: 142 | D14: =SUM(F13-C14-E13) -> 38 | E14: 0 | F14: =SUM(B14+C14) -> 198 | G14: 94 | H14: 198 | I14: =SUM(K13-H14-J13) -> 28 | J14: 0 | K14: =SUM(G14+H14) -> 292 | L14: 34 | M14: 139 | N14: =SUM(P13-M14-O13) -> 19 | O14: 0 | P14: =SUM(L14+M14) -> 173 | Q14: 0 | R14: 68 | S14: =SUM(U13-R14-T13) -> 18 | T14: 0 | U14: =SUM(Q14+R14) -> 68 | DW14: =SUM(B14+G14+L14+Q14+V14+AA14+AF14+AK14+AP14+AU14+AZ14+BE14+BJ14) -> 184 | DX14: =SUM(C14+H14+M14+R14+W14+AB14+AG14+AL14+AQ14+AV14+BA14+BF14+BK14) -> 547 | DY14: =SUM(EA13-DX14-DZ13) -> 103 | DZ14: =SUM(E14+J14+O14+T14+Y14+AD14+AI14+AN14+AS14+AX14+BC14+BH14+BM14) -> 0 | EA14: =SUM(DW14+DX14) -> 731 | EC14: INGENIERIA ELECTRONICA
A15: Feb-Jun 1985 | B15: 14 | C15: 179 | D15: =SUM(F14-C15-E14) -> 19 | E15: 4 | F15: =SUM(B15+C15) -> 193 | G15: 16 | H15: 266 | I15: =SUM(K14-H15-J14) -> 26 | J15: 3 | K15: =SUM(G15+H15) -> 282 | L15: 16 | M15: 151 | N15: =SUM(P14-M15-O14) -> 22 | O15: 0 | P15: =SUM(L15+M15) -> 167 | Q15: 0 | R15: 63 | S15: =SUM(U14-R15-T14) -> 5 | T15: 0 | U15: =SUM(Q15+R15) -> 63 | DW15: =SUM(B15+G15+L15+Q15+V15+AA15+AF15+AK15+AP15+AU15+AZ15+BE15+BJ15) -> 46 | DX15: =SUM(C15+H15+M15+R15+W15+AB15+AG15+AL15+AQ15+AV15+BA15+BF15+BK15) -> 659 | DY15: =SUM(EA14-DX15-DZ14) -> 72 | DZ15: =SUM(E15+J15+O15+T15+Y15+AD15+AI15+AN15+AS15+AX15+BC15+BH15+BM15) -> 7 | EA15: =SUM(DW15+DX15) -> 705
A16: Ago-Dic 1985 | B16: 35 | C16: 168 | D16: =SUM(F15-C16-E15) -> 21 | E16: 4 | F16: =SUM(B16+C16) -> 203 | G16: 96 | H16: 248 | I16: =SUM(K15-H16-J15) -> 31 | J16: 5 | K16: =SUM(G16+H16) -> 344 | L16: 25 | M16: 164 | N16: =SUM(P15-M16-O15) -> 3 | O16: 12 | P16: =SUM(L16+M16) -> 189 | Q16: 0 | R16: 64 | S16: =SUM(U15-R16-T15) -> -1 | T16: 0 | U16: =SUM(Q16+R16) -> 64 | DW16: =SUM(B16+G16+L16+Q16+V16+AA16+AF16+AK16+AP16+AU16+AZ16+BE16+BJ16) -> 156 | DX16: =SUM(C16+H16+M16+R16+W16+AB16+AG16+AL16+AQ16+AV16+BA16+BF16+BK16) -> 644 | DY16: =SUM(EA15-DX16-DZ15) -> 54 | DZ16: =SUM(E16+J16+O16+T16+Y16+AD16+AI16+AN16+AS16+AX16+BC16+BH16+BM16) -> 21 | EA16: =SUM(DW16+DX16) -> 800
A17: Feb-Jun 1986 | B17: 0 | C17: 187 | D17: =SUM(F16-C17-E16) -> 12 | E17: 7 | F17: =SUM(B17+C17) -> 187 | G17: 51 | H17: 272 | I17: =SUM(K16-H17-J16) -> 67 | J17: 8 | K17: =SUM(G17+H17) -> 323 | L17: 0 | M17: 149 | N17: =SUM(P16-M17-O16) -> 28 | O17: 7 | P17: =SUM(L17+M17) -> 149 | Q17: 0 | R17: 50 | S17: =SUM(U16-R17-T16) -> 14 | T17: 2 | U17: =SUM(Q17+R17) -> 50 | DW17: =SUM(B17+G17+L17+Q17+V17+AA17+AF17+AK17+AP17+AU17+AZ17+BE17+BJ17) -> 51 | DX17: =SUM(C17+H17+M17+R17+W17+AB17+AG17+AL17+AQ17+AV17+BA17+BF17+BK17) -> 658 | DY17: =SUM(EA16-DX17-DZ16) -> 121 | DZ17: =SUM(E17+J17+O17+T17+Y17+AD17+AI17+AN17+AS17+AX17+BC17+BH17+BM17) -> 24 | EA17: =SUM(DW17+DX17) -> 709
A18: Ago-Dic 1986 | B18: 37 | C18: 166 | D18: =SUM(F17-C18-E17) -> 14 | E18: 11 | F18: =SUM(B18+C18) -> 203 | G18: 2 | H18: 293 | I18: =SUM(K17-H18-J17) -> 22 | J18: 20 | K18: =SUM(G18+H18) -> 295 | L18: 23 | M18: 129 | N18: =SUM(P17-M18-O17) -> 13 | O18: 31 | P18: =SUM(L18+M18) -> 152 | Q18: 0 | R18: 51 | S18: =SUM(U17-R18-T17) -> -3 | T18: 10 | U18: =SUM(Q18+R18) -> 51 | V18: 105 | W18: 0 | X18: =SUM(Z17-W18-Y17) -> 0 | Y18: 0 | Z18: =SUM(V18+W18) -> 105 | DW18: =SUM(B18+G18+L18+Q18+V18+AA18+AF18+AK18+AP18+AU18+AZ18+BE18+BJ18) -> 167 | DX18: =SUM(C18+H18+M18+R18+W18+AB18+AG18+AL18+AQ18+AV18+BA18+BF18+BK18) -> 639 | DY18: =SUM(EA17-DX18-DZ17) -> 46 | DZ18: =SUM(E18+J18+O18+T18+Y18+AD18+AI18+AN18+AS18+AX18+BC18+BH18+BM18) -> 72 | EA18: =SUM(DW18+DX18) -> 806
A19: Feb-Jun 1987 | B19: 9 | C19: 183 | D19: =SUM(F18-C19-E18) -> 9 | E19: 26 | F19: =SUM(B19+C19) -> 192 | G19: 0 | H19: 251 | I19: =SUM(K18-H19-J18) -> 24 | J19: 27 | K19: =SUM(G19+H19) -> 251 | L19: 6 | M19: 114 | N19: =SUM(P18-M19-O18) -> 7 | O19: 17 | P19: =SUM(L19+M19) -> 120 | Q19: 0 | R19: 39 | S19: =SUM(U18-R19-T18) -> 2 | T19: 18 | U19: =SUM(Q19+R19) -> 39 | V19: 25 | W19: 80 | X19: =SUM(Z18-W19-Y18) -> 25 | Y19: 0 | Z19: =SUM(V19+W19) -> 105 | AA19: 6 | AB19: 0 | AC19: =SUM(AE18-AB19-AD18) -> 0 | AD19: 0 | AE19: =SUM(AA19+AB19) -> 6 | DW19: =SUM(B19+G19+L19+Q19+V19+AA19+AF19+AK19+AP19+AU19+AZ19+BE19+BJ19) -> 46 | DX19: =SUM(C19+H19+M19+R19+W19+AB19+AG19+AL19+AQ19+AV19+BA19+BF19+BK19) -> 667 | DY19: =SUM(EA18-DX19-DZ18) -> 67 | DZ19: =SUM(E19+J19+O19+T19+Y19+AD19+AI19+AN19+AS19+AX19+BC19+BH19+BM19) -> 88 | EA19: =SUM(DW19+DX19) -> 713
A20: Ago-Dic 1987 | B20: 0 | C20: 132 | D20: =SUM(F19-C20-E19) -> 34 | E20: 11 | F20: =SUM(B20+C20) -> 132 | G20: 0 | H20: 212 | I20: =SUM(K19-H20-J19) -> 12 | J20: 30 | K20: =SUM(G20+H20) -> 212 | L20: 0 | M20: 91 | N20: =SUM(P19-M20-O19) -> 12 | O20: 18 | P20: =SUM(L20+M20) -> 91 | Q20: 0 | R20: 19 | S20: =SUM(U19-R20-T19) -> 2 | T20: 9 | U20: =SUM(Q20+R20) -> 19 | V20: 105 | W20: 96 | X20: =SUM(Z19-W20-Y19) -> 9 | Y20: 0 | Z20: =SUM(V20+W20) -> 201 | AA20: 24 | AB20: 2 | AC20: =SUM(AE19-AB20-AD19) -> 4 | AD20: 0 | AE20: =SUM(AA20+AB20) -> 26 | AF20: 17 | AG20: 0 | AH20: =SUM(AJ19-AG20-AI19) -> 0 | AI20: 0 | AJ20: =SUM(AF20+AG20) -> 17 | AK20: 45 | AL20: 0 | AM20: =SUM(AO19-AL20-AN19) -> 0 | AN20: 0 | AO20: =SUM(AK20+AL20) -> 45 | AP20: 63 | AQ20: 0 | AR20: =SUM(AT19-AQ20-AS19) -> 0 | AS20: 0 | AT20: =SUM(AP20+AQ20) -> 63 | DW20: =SUM(B20+G20+L20+Q20+V20+AA20+AF20+AK20+AP20+AU20+AZ20+BE20+BJ20) -> 254 | DX20: =SUM(C20+H20+M20+R20+W20+AB20+AG20+AL20+AQ20+AV20+BA20+BF20+BK20) -> 552 | DY20: =SUM(EA19-DX20-DZ19) -> 73 | DZ20: =SUM(E20+J20+O20+T20+Y20+AD20+AI20+AN20+AS20+AX20+BC20+BH20+BM20) -> 68 | EA20: =SUM(DW20+DX20) -> 806
A21: Feb-Jun 1988 | B21: 0 | C21: 107 | D21: =SUM(F20-C21-E20) -> 14 | E21: 17 | F21: =SUM(B21+C21) -> 107 | G21: 0 | H21: 163 | I21: =SUM(K20-H21-J20) -> 19 | J21: 20 | K21: =SUM(G21+H21) -> 163 | L21: 0 | M21: 58 | N21: =SUM(P20-M21-O20) -> 15 | O21: 5 | P21: =SUM(L21+M21) -> 58 | Q21: 0 | R21: 11 | S21: =SUM(U20-R21-T20) -> -1 | T21: 3 | U21: =SUM(Q21+R21) -> 11 | V21: 26 | W21: 148 | X21: =SUM(Z20-W21-Y20) -> 53 | Y21: 0 | Z21: =SUM(V21+W21) -> 174 | AA21: 0 | AB21: 21 | AC21: =SUM(AE20-AB21-AD20) -> 5 | AD21: 0 | AE21: =SUM(AA21+AB21) -> 21 | AF21: 10 | AG21: 8 | AH21: =SUM(AJ20-AG21-AI20) -> 9 | AI21: 0 | AJ21: =SUM(AF21+AG21) -> 18 | AK21: 1 | AL21: 28 | AM21: =SUM(AO20-AL21-AN20) -> 17 | AN21: 0 | AO21: =SUM(AK21+AL21) -> 29 | AP21: 34 | AQ21: 46 | AR21: =SUM(AT20-AQ21-AS20) -> 17 | AS21: 0 | AT21: =SUM(AP21+AQ21) -> 80 | DW21: =SUM(B21+G21+L21+Q21+V21+AA21+AF21+AK21+AP21+AU21+AZ21+BE21+BJ21) -> 71 | DX21: =SUM(C21+H21+M21+R21+W21+AB21+AG21+AL21+AQ21+AV21+BA21+BF21+BK21) -> 590 | DY21: =SUM(EA20-DX21-DZ20) -> 148 | DZ21: =SUM(E21+J21+O21+T21+Y21+AD21+AI21+AN21+AS21+AX21+BC21+BH21+BM21) -> 45 | EA21: =SUM(DW21+DX21) -> 661
A22: Ago-Dic 1988 | B22: 0 | C22: 81 | D22: =SUM(F21-C22-E21) -> 9 | E22: 15 | F22: =SUM(B22+C22) -> 81 | G22: 0 | H22: 133 | I22: =SUM(K21-H22-J21) -> 10 | J22: 26 | K22: =SUM(G22+H22) -> 133 | L22: 0 | M22: 45 | N22: =SUM(P21-M22-O21) -> 8 | O22: 2 | P22: =SUM(L22+M22) -> 45 | Q22: 0 | R22: 4 | S22: =SUM(U21-R22-T21) -> 4 | T22: 0 | U22: =SUM(Q22+R22) -> 4 | V22: 110 | W22: 148 | X22: =SUM(Z21-W22-Y21) -> 26 | Y22: 0 | Z22: =SUM(V22+W22) -> 258 | AA22: 30 | AB22: 15 | AC22: =SUM(AE21-AB22-AD21) -> 6 | AD22: 0 | AE22: =SUM(AA22+AB22) -> 45 | AF22: 60 | AG22: 12 | AH22: =SUM(AJ21-AG22-AI21) -> 6 | AI22: 0 | AJ22: =SUM(AF22+AG22) -> 72 | AK22: 30 | AL22: 23 | AM22: =SUM(AO21-AL22-AN21) -> 6 | AN22: 0 | AO22: =SUM(AK22+AL22) -> 53 | AP22: 95 | AQ22: 72 | AR22: =SUM(AT21-AQ22-AS21) -> 8 | AS22: 0 | AT22: =SUM(AP22+AQ22) -> 167 | DW22: =SUM(B22+G22+L22+Q22+V22+AA22+AF22+AK22+AP22+AU22+AZ22+BE22+BJ22) -> 325 | DX22: =SUM(C22+H22+M22+R22+W22+AB22+AG22+AL22+AQ22+AV22+BA22+BF22+BK22) -> 533 | DY22: =SUM(EA21-DX22-DZ21) -> 83 | DZ22: =SUM(E22+J22+O22+T22+Y22+AD22+AI22+AN22+AS22+AX22+BC22+BH22+BM22) -> 43 | EA22: =SUM(DW22+DX22) -> 858
A23: Feb-Jun 1989 | B23: 0 | C23: 62 | D23: =SUM(F22-C23-E22) -> 4 | E23: 6 | F23: =SUM(B23+C23) -> 62 | G23: 0 | H23: 91 | I23: =SUM(K22-H23-J22) -> 16 | J23: 30 | K23: =SUM(G23+H23) -> 91 | L23: 0 | M23: 41 | N23: =SUM(P22-M23-O22) -> 2 | O23: 7 | P23: =SUM(L23+M23) -> 41 | Q23: 0 | R23: 1 | S23: =SUM(U22-R23-T22) -> 3 | T23: 0 | U23: =SUM(Q23+R23) -> 1 | V23: 27 | W23: 214 | X23: =SUM(Z22-W23-Y22) -> 44 | Y23: 0 | Z23: =SUM(V23+W23) -> 241 | AA23: 0 | AB23: 25 | AC23: =SUM(AE22-AB23-AD22) -> 20 | AD23: 0 | AE23: =SUM(AA23+AB23) -> 25 | AF23: 11 | AG23: 60 | AH23: =SUM(AJ22-AG23-AI22) -> 12 | AI23: 0 | AJ23: =SUM(AF23+AG23) -> 71 | AK23: 0 | AL23: 41 | AM23: =SUM(AO22-AL23-AN22) -> 12 | AN23: 0 | AO23: =SUM(AK23+AL23) -> 41 | AP23: 36 | AQ23: 143 | AR23: =SUM(AT22-AQ23-AS22) -> 24 | AS23: 0 | AT23: =SUM(AP23+AQ23) -> 179 | DW23: =SUM(B23+G23+L23+Q23+V23+AA23+AF23+AK23+AP23+AU23+AZ23+BE23+BJ23) -> 74 | DX23: =SUM(C23+H23+M23+R23+W23+AB23+AG23+AL23+AQ23+AV23+BA23+BF23+BK23) -> 678 | DY23: =SUM(EA22-DX23-DZ22) -> 137 | DZ23: =SUM(E23+J23+O23+T23+Y23+AD23+AI23+AN23+AS23+AX23+BC23+BH23+BM23) -> 43 | EA23: =SUM(DW23+DX23) -> 752
A24: Ago-Dic 1989 | B24: 0 | C24: 50 | D24: =SUM(F23-C24-E23) -> 6 | E24: 12 | F24: =SUM(B24+C24) -> 50 | G24: 0 | H24: 66 | I24: =SUM(K23-H24-J23) -> -5 | J24: 19 | K24: =SUM(G24+H24) -> 66 | L24: 0 | M24: 36 | N24: =SUM(P23-M24-O23) -> -2 | O24: 5 | P24: =SUM(L24+M24) -> 36 | Q24: 0 | R24: 0 | S24: =SUM(U23-R24-T23) -> 1 | T24: 1 | U24: 0 | V24: 120 | W24: 207 | X24: =SUM(Z23-W24-Y23) -> 34 | Y24: 0 | Z24: =SUM(V24+W24) -> 327 | AA24: 24 | AB24: 18 | AC24: =SUM(AE23-AB24-AD23) -> 7 | AD24: 0 | AE24: =SUM(AA24+AB24) -> 42 | AF24: 81 | AG24: 55 | AH24: =SUM(AJ23-AG24-AI23) -> 16 | AI24: 0 | AJ24: =SUM(AF24+AG24) -> 136 | AK24: 40 | AL24: 37 | AM24: =SUM(AO23-AL24-AN23) -> 4 | AN24: 0 | AO24: =SUM(AK24+AL24) -> 77 | AP24: 148 | AQ24: 155 | AR24: =SUM(AT23-AQ24-AS23) -> 24 | AS24: 0 | AT24: =SUM(AP24+AQ24) -> 303 | DW24: =SUM(B24+G24+L24+Q24+V24+AA24+AF24+AK24+AP24+AU24+AZ24+BE24+BJ24) -> 413 | DX24: =SUM(C24+H24+M24+R24+W24+AB24+AG24+AL24+AQ24+AV24+BA24+BF24+BK24) -> 624 | DY24: =SUM(EA23-DX24-DZ23) -> 85 | DZ24: =SUM(E24+J24+O24+T24+Y24+AD24+AI24+AN24+AS24+AX24+BC24+BH24+BM24) -> 37 | EA24: =SUM(DW24+DX24) -> 1037
A25: Feb-Jun 1990 | B25: 0 | C25: 40 | D25: =SUM(F24-C25-E24) -> -2 | E25: 14 | F25: =SUM(B25+C25) -> 40 | G25: 0 | H25: 44 | I25: =SUM(K24-H25-J24) -> 3 | J25: 17 | K25: =SUM(G25+H25) -> 44 | L25: 0 | M25: 27 | N25: =SUM(P24-M25-O24) -> 4 | O25: 3 | P25: =SUM(L25+M25) -> 27 | Q25: 0 | R25: 0 | S25: =SUM(U24-R25-T24) -> -1 | T25: 0 | U25: 0 | V25: 20 | W25: 263 | X25: =SUM(Z24-W25-Y24) -> 64 | Y25: 0 | Z25: =SUM(V25+W25) -> 283 | AA25: 1 | AB25: 33 | AC25: =SUM(AE24-AB25-AD24) -> 9 | AD25: 0 | AE25: =SUM(AA25+AB25) -> 34 | AF25: 17 | AG25: 112 | AH25: =SUM(AJ24-AG25-AI24) -> 24 | AI25: 0 | AJ25: =SUM(AF25+AG25) -> 129 | AK25: 3 | AL25: 56 | AM25: =SUM(AO24-AL25-AN24) -> 21 | AN25: 0 | AO25: =SUM(AK25+AL25) -> 59 | AP25: 39 | AQ25: 243 | AR25: =SUM(AT24-AQ25-AS24) -> 60 | AS25: 0 | AT25: =SUM(AP25+AQ25) -> 282 | DW25: =SUM(B25+G25+L25+Q25+V25+AA25+AF25+AK25+AP25+AU25+AZ25+BE25+BJ25) -> 80 | DX25: =SUM(C25+H25+M25+R25+W25+AB25+AG25+AL25+AQ25+AV25+BA25+BF25+BK25) -> 818 | DY25: =SUM(EA24-DX25-DZ24) -> 182 | DZ25: =SUM(E25+J25+O25+T25+Y25+AD25+AI25+AN25+AS25+AX25+BC25+BH25+BM25) -> 34 | EA25: =SUM(DW25+DX25) -> 898
A26: Ago-Dic 1990 | B26: 0 | C26: 25 | D26: =SUM(F25-C26-E25) -> 1 | E26: 13 | F26: =SUM(B26+C26) -> 25 | G26: 0 | H26: 22 | I26: =SUM(K25-H26-J25) -> 5 | J26: 6 | K26: =SUM(G26+H26) -> 22 | L26: 0 | M26: 22 | N26: =SUM(P25-M26-O25) -> 2 | O26: 9 | P26: =SUM(L26+M26) -> 22 | V26: 69 | W26: 244 | X26: =SUM(Z25-W26-Y25) -> 39 | Y26: 0 | Z26: =SUM(V26+W26) -> 313 | AA26: 26 | AB26: 29 | AC26: =SUM(AE25-AB26-AD25) -> 5 | AD26: 0 | AE26: =SUM(AA26+AB26) -> 55 | AF26: 49 | AG26: 118 | AH26: =SUM(AJ25-AG26-AI25) -> 11 | AI26: 0 | AJ26: =SUM(AF26+AG26) -> 167 | AK26: 14 | AL26: 53 | AM26: =SUM(AO25-AL26-AN25) -> 6 | AN26: 0 | AO26: =SUM(AK26+AL26) -> 67 | AP26: 111 | AQ26: 260 | AR26: =SUM(AT25-AQ26-AS25) -> 22 | AS26: 0 | AT26: =SUM(AP26+AQ26) -> 371 | DW26: =SUM(B26+G26+L26+Q26+V26+AA26+AF26+AK26+AP26+AU26+AZ26+BE26+BJ26) -> 269 | DX26: =SUM(C26+H26+M26+R26+W26+AB26+AG26+AL26+AQ26+AV26+BA26+BF26+BK26) -> 773 | DY26: =SUM(EA25-DX26-DZ25) -> 91 | DZ26: =SUM(E26+J26+O26+T26+Y26+AD26+AI26+AN26+AS26+AX26+BC26+BH26+BM26) -> 28 | EA26: =SUM(DW26+DX26) -> 1042
A27: Feb-Jun 1991 | B27: 0 | C27: 10 | D27: =SUM(F26-C27-E26) -> 2 | E27: 3 | F27: =SUM(B27+C27) -> 10 | G27: 0 | H27: 11 | I27: =SUM(K26-H27-J26) -> 5 | J27: 4 | K27: =SUM(G27+H27) -> 11 | L27: 0 | M27: 8 | N27: =SUM(P26-M27-O26) -> 5 | O27: 11 | P27: =SUM(L27+M27) -> 8 | V27: 0 | W27: 265 | X27: =SUM(Z26-W27-Y26) -> 48 | Y27: 12 | Z27: =SUM(V27+W27) -> 265 | AA27: 0 | AB27: 46 | AC27: =SUM(AE26-AB27-AD26) -> 9 | AD27: 0 | AE27: =SUM(AA27+AB27) -> 46 | AF27: 1 | AG27: 140 | AH27: =SUM(AJ26-AG27-AI26) -> 27 | AI27: 1 | AJ27: =SUM(AF27+AG27) -> 141 | AK27: 1 | AL27: 65 | AM27: =SUM(AO26-AL27-AN26) -> 2 | AN27: 0 | AO27: =SUM(AK27+AL27) -> 66 | AP27: 0 | AQ27: 328 | AR27: =SUM(AT26-AQ27-AS26) -> 43 | AS27: 1 | AT27: =SUM(AP27+AQ27) -> 328 | DW27: =SUM(B27+G27+L27+Q27+V27+AA27+AF27+AK27+AP27+AU27+AZ27+BE27+BJ27) -> 2 | DX27: =SUM(C27+H27+M27+R27+W27+AB27+AG27+AL27+AQ27+AV27+BA27+BF27+BK27) -> 873 | DY27: =SUM(EA26-DX27-DZ26) -> 141 | DZ27: =SUM(E27+J27+O27+T27+Y27+AD27+AI27+AN27+AS27+AX27+BC27+BH27+BM27) -> 32 | EA27: =SUM(DW27+DX27) -> 875
A28: Ago-Dic 1991 | B28: 0 | C28: 6 | D28: =SUM(F27-C28-E27) -> 1 | E28: 2 | F28: =SUM(B28+C28) -> 6 | G28: 0 | H28: 6 | I28: =SUM(K27-H28-J27) -> 1 | J28: 3 | K28: =SUM(G28+H28) -> 6 | L28: 0 | M28: 0 | N28: =SUM(P27-M28-O27) -> -3 | O28: 0 | P28: =SUM(L28+M28) -> 0 | V28: 64 | W28: 224 | X28: =SUM(Z27-W28-Y27) -> 29 | Y28: 19 | Z28: =SUM(V28+W28) -> 288 | AA28: 38 | AB28: 48 | AC28: =SUM(AE27-AB28-AD27) -> -2 | AD28: 1 | AE28: =SUM(AA28+AB28) -> 86 | AF28: 59 | AG28: 128 | AH28: =SUM(AJ27-AG28-AI27) -> 12 | AI28: 6 | AJ28: =SUM(AF28+AG28) -> 187 | AK28: 45 | AL28: 62 | AM28: =SUM(AO27-AL28-AN27) -> 4 | AN28: 13 | AO28: =SUM(AK28+AL28) -> 107 | AP28: 106 | AQ28: 306 | AR28: =SUM(AT27-AQ28-AS27) -> 21 | AS28: 20 | AT28: =SUM(AP28+AQ28) -> 412 | DW28: =SUM(B28+G28+L28+Q28+V28+AA28+AF28+AK28+AP28+AU28+AZ28+BE28+BJ28) -> 312 | DX28: =SUM(C28+H28+M28+R28+W28+AB28+AG28+AL28+AQ28+AV28+BA28+BF28+BK28) -> 780 | DY28: =SUM(EA27-DX28-DZ27) -> 63 | DZ28: =SUM(E28+J28+O28+T28+Y28+AD28+AI28+AN28+AS28+AX28+BC28+BH28+BM28) -> 64 | EA28: =SUM(DW28+DX28) -> 1092
A29: Feb-Jun 1992 | B29: 0 | C29: 3 | D29: =SUM(F28-C29-E28) -> 1 | E29: 0 | F29: =SUM(B29+C29) -> 3 | G29: 0 | H29: 3 | I29: 0 | J29: 3 | K29: =SUM(G29+H29) -> 3 | L29: 0 | M29: 1 | N29: =SUM(P28-M29-O28) -> -1 | O29: 1 | P29: =SUM(L29+M29) -> 1 | V29: 21 | W29: 233 | X29: =SUM(Z28-W29-Y28) -> 36 | Y29: 17 | Z29: =SUM(V29+W29) -> 254 | AA29: 0 | AB29: 70 | AC29: =SUM(AE28-AB29-AD28) -> 15 | AD29: 8 | AE29: =SUM(AA29+AB29) -> 70 | AF29: 43 | AG29: 158 | AH29: =SUM(AJ28-AG29-AI28) -> 23 | AI29: 8 | AJ29: =SUM(AF29+AG29) -> 201 | AK29: 0 | AL29: 75 | AM29: =SUM(AO28-AL29-AN28) -> 19 | AN29: 6 | AO29: =SUM(AK29+AL29) -> 75 | AP29: 45 | AQ29: 350 | AR29: =SUM(AT28-AQ29-AS28) -> 42 | AS29: 20 | AT29: =SUM(AP29+AQ29) -> 395 | DW29: =SUM(B29+G29+L29+Q29+V29+AA29+AF29+AK29+AP29+AU29+AZ29+BE29+BJ29) -> 109 | DX29: =SUM(C29+H29+M29+R29+W29+AB29+AG29+AL29+AQ29+AV29+BA29+BF29+BK29) -> 893 | DY29: =SUM(EA28-DX29-DZ28) -> 135 | DZ29: =SUM(E29+J29+O29+T29+Y29+AD29+AI29+AN29+AS29+AX29+BC29+BH29+BM29) -> 63 | EA29: =SUM(DW29+DX29) -> 1002
A30: Ago-Dic 1992 | B30: 0 | C30: 0 | D30: =SUM(F29-C30-E29) -> 3 | E30: 0 | F30: 0 | G30: 0 | H30: 0 | I30: 0 | J30: 0 | K30: 0 | L30: 0 | M30: 0 | N30: 0 | O30: 0 | P30: 0 | V30: 80 | W30: 229 | X30: =SUM(Z29-W30-Y29) -> 8 | Y30: 15 | Z30: =SUM(V30+W30) -> 309 | AA30: 50 | AB30: 66 | AC30: =SUM(AE29-AB30-AD29) -> -4 | AD30: 5 | AE30: =SUM(AA30+AB30) -> 116 | AF30: 108 | AG30: 178 | AH30: =SUM(AJ29-AG30-AI29) -> 15 | AI30: 1 | AJ30: =SUM(AF30+AG30) -> 286 | AK30: 57 | AL30: 63 | AM30: =SUM(AO29-AL30-AN29) -> 6 | AN30: 1 | AO30: =SUM(AK30+AL30) -> 120 | AP30: 127 | AQ30: 327 | AR30: =SUM(AT29-AQ30-AS29) -> 48 | AS30: 20 | AT30: =SUM(AP30+AQ30) -> 454 | DW30: =SUM(B30+G30+L30+Q30+V30+AA30+AF30+AK30+AP30+AU30+AZ30+BE30+BJ30) -> 422 | DX30: =SUM(C30+H30+M30+R30+W30+AB30+AG30+AL30+AQ30+AV30+BA30+BF30+BK30) -> 863 | DY30: =SUM(EA29-DX30-DZ29) -> 76 | DZ30: =SUM(E30+J30+O30+T30+Y30+AD30+AI30+AN30+AS30+AX30+BC30+BH30+BM30) -> 42 | EA30: =SUM(DW30+DX30) -> 1285
A31: Feb-Jun 1993 | V31: 5 | W31: 233 | X31: =SUM(Z30-W31-Y30) -> 61 | Y31: 27 | Z31: =SUM(V31+W31) -> 238 | AA31: 15 | AB31: 79 | AC31: =SUM(AE30-AB31-AD30) -> 32 | AD31: 5 | AE31: =SUM(AA31+AB31) -> 94 | AF31: 35 | AG31: 242 | AH31: =SUM(AJ30-AG31-AI30) -> 43 | AI31: 10 | AJ31: =SUM(AF31+AG31) -> 277 | AK31: 20 | AL31: 92 | AM31: =SUM(AO30-AL31-AN30) -> 27 | AN31: 3 | AO31: =SUM(AK31+AL31) -> 112 | AP31: 43 | AQ31: 323 | AR31: =SUM(AT30-AQ31-AS30) -> 111 | AS31: 29 | AT31: =SUM(AP31+AQ31) -> 366 | DW31: =SUM(B31+G31+L31+Q31+V31+AA31+AF31+AK31+AP31+AU31+AZ31+BE31+BJ31) -> 118 | DX31: =SUM(C31+H31+M31+R31+W31+AB31+AG31+AL31+AQ31+AV31+BA31+BF31+BK31) -> 969 | DY31: =SUM(EA30-DX31-DZ30) -> 274 | DZ31: =SUM(E31+J31+O31+T31+Y31+AD31+AI31+AN31+AS31+AX31+BC31+BH31+BM31) -> 74 | EA31: =SUM(DW31+DX31) -> 1087
A32: Ago-Dic 1993 | V32: 42 | W32: 184 | X32: =SUM(Z31-W32-Y31) -> 27 | Y32: 19 | Z32: =SUM(V32+W32) -> 226 | AA32: 49 | AB32: 66 | AC32: =SUM(AE31-AB32-AD31) -> 23 | AD32: 1 | AE32: =SUM(AA32+AB32) -> 115 | AF32: 135 | AG32: 235 | AH32: =SUM(AJ31-AG32-AI31) -> 32 | AI32: 7 | AJ32: =SUM(AF32+AG32) -> 370 | AK32: 62 | AL32: 81 | AM32: =SUM(AO31-AL32-AN31) -> 28 | AN32: 7 | AO32: =SUM(AK32+AL32) -> 143 | AP32: 133 | AQ32: 282 | AR32: =SUM(AT31-AQ32-AS31) -> 55 | AS32: 47 | AT32: =SUM(AP32+AQ32) -> 415 | DW32: =SUM(B32+G32+L32+Q32+V32+AA32+AF32+AK32+AP32+AU32+AZ32+BE32+BJ32) -> 421 | DX32: =SUM(C32+H32+M32+R32+W32+AB32+AG32+AL32+AQ32+AV32+BA32+BF32+BK32) -> 848 | DY32: =SUM(EA31-DX32-DZ31) -> 165 | DZ32: =SUM(E32+J32+O32+T32+Y32+AD32+AI32+AN32+AS32+AX32+BC32+BH32+BM32) -> 81 | EA32: =SUM(DW32+DX32) -> 1269
A33: Feb-Jun 1994 | V33: 34 | W33: 169 | X33: =SUM(Z32-W33-Y32) -> 38 | Y33: 18 | Z33: =SUM(V33+W33) -> 203 | AA33: 0 | AB33: 93 | AC33: =SUM(AE32-AB33-AD32) -> 21 | AD33: 9 | AE33: =SUM(AA33+AB33) -> 93 | AF33: 53 | AG33: 298 | AH33: =SUM(AJ32-AG33-AI32) -> 65 | AI33: 29 | AJ33: =SUM(AF33+AG33) -> 351 | AK33: 0 | AL33: 118 | AM33: =SUM(AO32-AL33-AN32) -> 18 | AN33: 5 | AO33: =SUM(AK33+AL33) -> 118 | AP33: 47 | AQ33: 292 | AR33: =SUM(AT32-AQ33-AS32) -> 76 | AS33: 27 | AT33: =SUM(AP33+AQ33) -> 339 | AU33: 89 | AV33: 0 | AW33: =SUM(AY32-AV33-AX32) -> 0 | AX33: 0 | AY33: =SUM(AU33+AV33) -> 89 | DW33: =SUM(B33+G33+L33+Q33+V33+AA33+AF33+AK33+AP33+AU33+AZ33+BE33+BJ33) -> 223 | DX33: =SUM(C33+H33+M33+R33+W33+AB33+AG33+AL33+AQ33+AV33+BA33+BF33+BK33) -> 970 | DY33: =SUM(EA32-DX33-DZ32) -> 218 | DZ33: =SUM(E33+J33+O33+T33+Y33+AD33+AI33+AN33+AS33+AX33+BC33+BH33+BM33) -> 88 | EA33: =SUM(DW33+DX33) -> 1193
A34: Ago-Dic 1994 | V34: 88 | W34: 159 | X34: =SUM(Z33-W34-Y33) -> 26 | Y34: 19 | Z34: =SUM(V34+W34) -> 247 | AA34: 52 | AB34: 74 | AC34: =SUM(AE33-AB34-AD33) -> 10 | AD34: 5 | AE34: =SUM(AA34+AB34) -> 126 | AF34: 138 | AG34: 308 | AH34: =SUM(AJ33-AG34-AI33) -> 14 | AI34: 21 | AJ34: =SUM(AF34+AG34) -> 446 | AK34: 85 | AL34: 100 | AM34: =SUM(AO33-AL34-AN33) -> 13 | AN34: 1 | AO34: =SUM(AK34+AL34) -> 185 | AP34: 140 | AQ34: 283 | AR34: =SUM(AT33-AQ34-AS33) -> 29 | AS34: 29 | AT34: =SUM(AP34+AQ34) -> 423 | AU34: 150 | AV34: 86 | AW34: =SUM(AY33-AV34-AX33) -> 3 | AX34: 0 | AY34: =SUM(AU34+AV34) -> 236 | AZ34: 89 | BA34: 0 | BB34: =SUM(BD33-BA34-BC33) -> 0 | BC34: 0 | BD34: =SUM(AZ34+BA34) -> 89 | BE34: 70 | BF34: 0 | BG34: =SUM(BI33-BF34-BH33) -> 0 | BH34: 0 | BI34: =SUM(BE34+BF34) -> 70 | DW34: =SUM(B34+G34+L34+Q34+V34+AA34+AF34+AK34+AP34+AU34+AZ34+BE34+BJ34) -> 812 | DX34: =SUM(C34+H34+M34+R34+W34+AB34+AG34+AL34+AQ34+AV34+BA34+BF34+BK34) -> 1010 | DY34: =SUM(EA33-DX34-DZ33) -> 95 | DZ34: =SUM(E34+J34+O34+T34+Y34+AD34+AI34+AN34+AS34+AX34+BC34+BH34+BM34) -> 75 | EA34: =SUM(DW34+DX34) -> 1822
A35: Feb-Jun 1995 | V35: 26 | W35: 170 | X35: =SUM(Z34-W35-Y34) -> 58 | Y35: 18 | Z35: =SUM(V35+W35) -> 196 | AA35: 13 | AB35: 94 | AC35: =SUM(AE34-AB35-AD34) -> 27 | AD35: 4 | AE35: =SUM(AA35+AB35) -> 107 | AF35: 95 | AG35: 395 | AH35: =SUM(AJ34-AG35-AI34) -> 30 | AI35: 3 | AJ35: =SUM(AF35+AG35) -> 490 | AK35: 20 | AL35: 139 | AM35: =SUM(AO34-AL35-AN34) -> 45 | AN35: 3 | AO35: =SUM(AK35+AL35) -> 159 | AP35: 48 | AQ35: 352 | AR35: =SUM(AT34-AQ35-AS34) -> 42 | AS35: 9 | AT35: =SUM(AP35+AQ35) -> 400 | AU35: 101 | AV35: 209 | AW35: =SUM(AY34-AV35-AX34) -> 27 | AX35: 0 | AY35: =SUM(AU35+AV35) -> 310 | AZ35: 50 | BA35: 53 | BB35: =SUM(BD34-BA35-BC34) -> 36 | BC35: 0 | BD35: =SUM(AZ35+BA35) -> 103 | BE35: 53 | BF35: 56 | BG35: =SUM(BI34-BF35-BH34) -> 14 | BH35: 0 | BI35: =SUM(BE35+BF35) -> 109 | DW35: =SUM(B35+G35+L35+Q35+V35+AA35+AF35+AK35+AP35+AU35+AZ35+BE35+BJ35) -> 406 | DX35: =SUM(C35+H35+M35+R35+W35+AB35+AG35+AL35+AQ35+AV35+BA35+BF35+BK35) -> 1468 | DY35: =SUM(EA34-DX35-DZ34) -> 279 | DZ35: =SUM(E35+J35+O35+T35+Y35+AD35+AI35+AN35+AS35+AX35+BC35+BH35+BM35) -> 37 | EA35: =SUM(DW35+DX35) -> 1874
A36: Ago-Dic 1995 | V36: 91 | W36: 169 | X36: =SUM(Z35-W36-Y35) -> 9 | Y36: 24 | Z36: =SUM(V36+W36) -> 260 | AA36: 43 | AB36: 91 | AC36: =SUM(AE35-AB36-AD35) -> 12 | AD36: 4 | AE36: =SUM(AA36+AB36) -> 134 | AF36: 132 | AG36: 449 | AH36: =SUM(AJ35-AG36-AI35) -> 38 | AI36: 18 | AJ36: =SUM(AF36+AG36) -> 581 | AK36: 98 | AL36: 136 | AM36: =SUM(AO35-AL36-AN35) -> 20 | AN36: 5 | AO36: =SUM(AK36+AL36) -> 234 | AP36: 136 | AQ36: 351 | AR36: =SUM(AT35-AQ36-AS35) -> 40 | AS36: 0 | AT36: =SUM(AP36+AQ36) -> 487 | AU36: 92 | AV36: 286 | AW36: =SUM(AY35-AV36-AX35) -> 24 | AX36: 0 | AY36: =SUM(AU36+AV36) -> 378 | AZ36: 88 | BA36: 81 | BB36: =SUM(BD35-BA36-BC35) -> 22 | BC36: 0 | BD36: =SUM(AZ36+BA36) -> 169 | BE36: 41 | BF36: 89 | BG36: =SUM(BI35-BF36-BH35) -> 20 | BH36: 0 | BI36: =SUM(BE36+BF36) -> 130 | DW36: =SUM(B36+G36+L36+Q36+V36+AA36+AF36+AK36+AP36+AU36+AZ36+BE36+BJ36) -> 721 | DX36: =SUM(C36+H36+M36+R36+W36+AB36+AG36+AL36+AQ36+AV36+BA36+BF36+BK36) -> 1652 | DY36: =SUM(EA35-DX36-DZ35) -> 185 | DZ36: =SUM(E36+J36+O36+T36+Y36+AD36+AI36+AN36+AS36+AX36+BC36+BH36+BM36) -> 51 | EA36: =SUM(DW36+DX36) -> 2373
A37: Feb-Jun 1996 | V37: 7 | W37: 207 | X37: =SUM(Z36-W37-Y36) -> 29 | Y37: 14 | Z37: =SUM(V37+W37) -> 214 | AA37: 0 | AB37: 101 | AC37: =SUM(AE36-AB37-AD36) -> 29 | AD37: 6 | AE37: =SUM(AA37+AB37) -> 101 | AF37: 97 | AG37: 537 | AH37: =SUM(AJ36-AG37-AI36) -> 26 | AI37: 14 | AJ37: =SUM(AF37+AG37) -> 634 | AK37: 47 | AL37: 202 | AM37: =SUM(AO36-AL37-AN36) -> 27 | AN37: 12 | AO37: =SUM(AK37+AL37) -> 249 | AP37: 49 | AQ37: 383 | AR37: =SUM(AT36-AQ37-AS36) -> 104 | AS37: 17 | AT37: =SUM(AP37+AQ37) -> 432 | AU37: 48 | AV37: 358 | AW37: =SUM(AY36-AV37-AX36) -> 20 | AX37: 0 | AY37: =SUM(AU37+AV37) -> 406 | AZ37: 50 | BA37: 153 | BB37: =SUM(BD36-BA37-BC36) -> 16 | BC37: 0 | BD37: =SUM(AZ37+BA37) -> 203 | BE37: 0 | BF37: 103 | BG37: =SUM(BI36-BF37-BH36) -> 27 | BH37: 0 | BI37: =SUM(BE37+BF37) -> 103 | DW37: =SUM(B37+G37+L37+Q37+V37+AA37+AF37+AK37+AP37+AU37+AZ37+BE37+BJ37) -> 298 | DX37: =SUM(C37+H37+M37+R37+W37+AB37+AG37+AL37+AQ37+AV37+BA37+BF37+BK37) -> 2044 | DY37: =SUM(EA36-DX37-DZ36) -> 278 | DZ37: =SUM(E37+J37+O37+T37+Y37+AD37+AI37+AN37+AS37+AX37+BC37+BH37+BM37) -> 63 | EA37: =SUM(DW37+DX37) -> 2342
A38: Ago-Dic 1996 | V38: 98 | W38: 179 | X38: =SUM(Z37-W38-Y37) -> 21 | Y38: 14 | Z38: =SUM(V38+W38) -> 277 | AA38: 74 | AB38: 83 | AC38: =SUM(AE37-AB38-AD37) -> 12 | AD38: 8 | AE38: =SUM(AA38+AB38) -> 157 | AF38: 97 | AG38: 571 | AH38: =SUM(AJ37-AG38-AI37) -> 49 | AI38: 50 | AJ38: =SUM(AF38+AG38) -> 668 | AK38: 92 | AL38: 194 | AM38: =SUM(AO37-AL38-AN37) -> 43 | AN38: 5 | AO38: =SUM(AK38+AL38) -> 286 | AP38: 85 | AQ38: 354 | AR38: =SUM(AT37-AQ38-AS37) -> 61 | AS38: 21 | AT38: =SUM(AP38+AQ38) -> 439 | AU38: 93 | AV38: 388 | AW38: =SUM(AY37-AV38-AX37) -> 18 | AX38: 0 | AY38: =SUM(AU38+AV38) -> 481 | AZ38: 91 | BA38: 163 | BB38: =SUM(BD37-BA38-BC37) -> 40 | BC38: 0 | BD38: =SUM(AZ38+BA38) -> 254 | BE38: 43 | BF38: 88 | BG38: =SUM(BI37-BF38-BH37) -> 15 | BH38: 0 | BI38: =SUM(BE38+BF38) -> 131 | DW38: =SUM(B38+G38+L38+Q38+V38+AA38+AF38+AK38+AP38+AU38+AZ38+BE38+BJ38) -> 673 | DX38: =SUM(C38+H38+M38+R38+W38+AB38+AG38+AL38+AQ38+AV38+BA38+BF38+BK38) -> 2020 | DY38: =SUM(EA37-DX38-DZ37) -> 259 | DZ38: =SUM(E38+J38+O38+T38+Y38+AD38+AI38+AN38+AS38+AX38+BC38+BH38+BM38) -> 98 | EA38: =SUM(DW38+DX38) -> 2693
A39: Feb-Jun 1997 | V39: 42 | W39: 228 | X39: =SUM(Z38-W39-Y38) -> 35 | Y39: 6 | Z39: =SUM(V39+W39) -> 270 | AA39: 26 | AB39: 118 | AC39: =SUM(AE38-AB39-AD38) -> 31 | AD39: 0 | AE39: =SUM(AA39+AB39) -> 144 | AF39: 102 | AG39: 575 | AH39: =SUM(AJ38-AG39-AI38) -> 43 | AI39: 15 | AJ39: =SUM(AF39+AG39) -> 677 | AK39: 46 | AL39: 237 | AM39: =SUM(AO38-AL39-AN38) -> 44 | AN39: 7 | AO39: =SUM(AK39+AL39) -> 283 | AP39: 43 | AQ39: 362 | AR39: =SUM(AT38-AQ39-AS38) -> 56 | AS39: 14 | AT39: =SUM(AP39+AQ39) -> 405 | AU39: 46 | AV39: 458 | AW39: =SUM(AY38-AV39-AX38) -> 23 | AX39: 0 | AY39: =SUM(AU39+AV39) -> 504 | AZ39: 42 | BA39: 200 | BB39: =SUM(BD38-BA39-BC38) -> 54 | BC39: 0 | BD39: =SUM(AZ39+BA39) -> 242 | BE39: 27 | BF39: 104 | BG39: =SUM(BI38-BF39-BH38) -> 27 | BH39: 0 | BI39: =SUM(BE39+BF39) -> 131 | DW39: =SUM(B39+G39+L39+Q39+V39+AA39+AF39+AK39+AP39+AU39+AZ39+BE39+BJ39) -> 374 | DX39: =SUM(C39+H39+M39+R39+W39+AB39+AG39+AL39+AQ39+AV39+BA39+BF39+BK39) -> 2282 | DY39: =SUM(EA38-DX39-DZ38) -> 313 | DZ39: =SUM(E39+J39+O39+T39+Y39+AD39+AI39+AN39+AS39+AX39+BC39+BH39+BM39) -> 42 | EA39: =SUM(DW39+DX39) -> 2656
A40: Ago-Dic 1997 | V40: 78 | W40: 236 | X40: =SUM(Z39-W40-Y39) -> 28 | Y40: 13 | Z40: =SUM(V40+W40) -> 314 | AA40: 38 | AB40: 117 | AC40: =SUM(AE39-AB40-AD39) -> 27 | AD40: 11 | AE40: =SUM(AA40+AB40) -> 155 | AF40: 126 | AG40: 651 | AH40: =SUM(AJ39-AG40-AI39) -> 11 | AI40: 54 | AJ40: =SUM(AF40+AG40) -> 777 | AK40: 81 | AL40: 230 | AM40: =SUM(AO39-AL40-AN39) -> 46 | AN40: 10 | AO40: =SUM(AK40+AL40) -> 311 | AP40: 45 | AQ40: 343 | AR40: =SUM(AT39-AQ40-AS39) -> 48 | AS40: 15 | AT40: =SUM(AP40+AQ40) -> 388 | AU40: 72 | AV40: 481 | AW40: =SUM(AY39-AV40-AX39) -> 23 | AX40: 0 | AY40: =SUM(AU40+AV40) -> 553 | AZ40: 82 | BA40: 199 | BB40: =SUM(BD39-BA40-BC39) -> 43 | BC40: 0 | BD40: =SUM(AZ40+BA40) -> 281 | BE40: 36 | BF40: 118 | BG40: =SUM(BI39-BF40-BH39) -> 13 | BH40: 0 | BI40: =SUM(BE40+BF40) -> 154 | DW40: =SUM(B40+G40+L40+Q40+V40+AA40+AF40+AK40+AP40+AU40+AZ40+BE40+BJ40) -> 558 | DX40: =SUM(C40+H40+M40+R40+W40+AB40+AG40+AL40+AQ40+AV40+BA40+BF40+BK40) -> 2375 | DY40: =SUM(EA39-DX40-DZ39) -> 239 | DZ40: =SUM(E40+J40+O40+T40+Y40+AD40+AI40+AN40+AS40+AX40+BC40+BH40+BM40) -> 103 | EA40: =SUM(DW40+DX40) -> 2933
A41: Feb-Jun 1998 | V41: 47 | W41: 261 | X41: =SUM(Z40-W41-Y40) -> 40 | Y41: 9 | Z41: =SUM(V41+W41) -> 308 | AA41: 41 | AB41: 126 | AC41: =SUM(AE40-AB41-AD40) -> 18 | AD41: 3 | AE41: =SUM(AA41+AB41) -> 167 | AF41: 89 | AG41: 696 | AH41: =SUM(AJ40-AG41-AI40) -> 27 | AI41: 36 | AJ41: =SUM(AF41+AG41) -> 785 | AK41: 44 | AL41: 239 | AM41: =SUM(AO40-AL41-AN40) -> 62 | AN41: 10 | AO41: =SUM(AK41+AL41) -> 283 | AP41: 38 | AQ41: 347 | AR41: =SUM(AT40-AQ41-AS40) -> 26 | AS41: 29 | AT41: =SUM(AP41+AQ41) -> 385 | AU41: 0 | AV41: 529 | AW41: =SUM(AY40-AV41-AX40) -> 24 | AX41: 45 | AY41: =SUM(AU41+AV41) -> 529 | AZ41: 42 | BA41: 258 | BB41: =SUM(BD40-BA41-BC40) -> 23 | BC41: 0 | BD41: =SUM(AZ41+BA41) -> 300 | BE41: 42 | BF41: 132 | BG41: =SUM(BI40-BF41-BH40) -> 22 | BH41: 0 | BI41: =SUM(BE41+BF41) -> 174 | DW41: =SUM(B41+G41+L41+Q41+V41+AA41+AF41+AK41+AP41+AU41+AZ41+BE41+BJ41) -> 343 | DX41: =SUM(C41+H41+M41+R41+W41+AB41+AG41+AL41+AQ41+AV41+BA41+BF41+BK41) -> 2588 | DY41: =SUM(EA40-DX41-DZ40) -> 242 | DZ41: =SUM(E41+J41+O41+T41+Y41+AD41+AI41+AN41+AS41+AX41+BC41+BH41+BM41) -> 132 | EA41: =SUM(DW41+DX41) -> 2931
A42: Ago-Dic 1998 | V42: 79 | W42: 245 | X42: =SUM(Z41-W42-Y41) -> 54 | Y42: 11 | Z42: =SUM(V42+W42) -> 324 | AA42: 42 | AB42: 115 | AC42: =SUM(AE41-AB42-AD41) -> 49 | AD42: 7 | AE42: =SUM(AA42+AB42) -> 157 | AF42: 126 | AG42: 689 | AH42: =SUM(AJ41-AG42-AI41) -> 60 | AI42: 47 | AJ42: =SUM(AF42+AG42) -> 815 | AK42: 77 | AL42: 245 | AM42: =SUM(AO41-AL42-AN41) -> 28 | AN42: 14 | AO42: =SUM(AK42+AL42) -> 322 | AP42: 42 | AQ42: 299 | AR42: =SUM(AT41-AQ42-AS41) -> 57 | AS42: 26 | AT42: =SUM(AP42+AQ42) -> 341 | AU42: 78 | AV42: 472 | AW42: =SUM(AY41-AV42-AX41) -> 12 | AX42: 68 | AY42: =SUM(AU42+AV42) -> 550 | AZ42: 83 | BA42: 235 | BB42: =SUM(BD41-BA42-BC41) -> 65 | BC42: 0 | BD42: =SUM(AZ42+BA42) -> 318 | BE42: 40 | BF42: 140 | BG42: =SUM(BI41-BF42-BH41) -> 34 | BH42: 7 | BI42: =SUM(BE42+BF42) -> 180 | DW42: =SUM(B42+G42+L42+Q42+V42+AA42+AF42+AK42+AP42+AU42+AZ42+BE42+BJ42) -> 567 | DX42: =SUM(C42+H42+M42+R42+W42+AB42+AG42+AL42+AQ42+AV42+BA42+BF42+BK42) -> 2440 | DY42: =SUM(EA41-DX42-DZ41) -> 359 | DZ42: =SUM(E42+J42+O42+T42+Y42+AD42+AI42+AN42+AS42+AX42+BC42+BH42+BM42) -> 180 | EA42: =SUM(DW42+DX42) -> 3007
A43: Feb-Jun 1999 | V43: 42 | W43: 284 | X43: =SUM(Z42-W43-Y42) -> 29 | Y43: 8 | Z43: =SUM(V43+W43) -> 326 | AA43: 45 | AB43: 123 | AC43: =SUM(AE42-AB43-AD42) -> 27 | AD43: 10 | AE43: =SUM(AA43+AB43) -> 168 | AF43: 79 | AG43: 729 | AH43: =SUM(AJ42-AG43-AI42) -> 39 | AI43: 49 | AJ43: =SUM(AF43+AG43) -> 808 | AK43: 41 | AL43: 257 | AM43: =SUM(AO42-AL43-AN42) -> 51 | AN43: 6 | AO43: =SUM(AK43+AL43) -> 298 | AP43: 44 | AQ43: 269 | AR43: =SUM(AT42-AQ43-AS42) -> 46 | AS43: 15 | AT43: =SUM(AP43+AQ43) -> 313 | AU43: 0 | AV43: 430 | AW43: =SUM(AY42-AV43-AX42) -> 52 | AX43: 74 | AY43: =SUM(AU43+AV43) -> 430 | AZ43: 43 | BA43: 268 | BB43: =SUM(BD42-BA43-BC42) -> 50 | BC43: 4 | BD43: =SUM(AZ43+BA43) -> 311 | BE43: 40 | BF43: 155 | BG43: =SUM(BI42-BF43-BH42) -> 18 | BH43: 15 | BI43: =SUM(BE43+BF43) -> 195 | DW43: =SUM(B43+G43+L43+Q43+V43+AA43+AF43+AK43+AP43+AU43+AZ43+BE43+BJ43) -> 334 | DX43: =SUM(C43+H43+M43+R43+W43+AB43+AG43+AL43+AQ43+AV43+BA43+BF43+BK43) -> 2515 | DY43: =SUM(EA42-DX43-DZ42) -> 312 | DZ43: =SUM(E43+J43+O43+T43+Y43+AD43+AI43+AN43+AS43+AX43+BC43+BH43+BM43) -> 181 | EA43: =SUM(DW43+DX43) -> 2849
A44: Ago-Dic 1999 | V44: 83 | W44: 271 | X44: =SUM(Z43-W44-Y43) -> 47 | Y44: 10 | Z44: =SUM(V44+W44) -> 354 | AA44: 41 | AB44: 134 | AC44: =SUM(AE43-AB44-AD43) -> 24 | AD44: 5 | AE44: =SUM(AA44+AB44) -> 175 | AF44: 130 | AG44: 703 | AH44: =SUM(AJ43-AG44-AI43) -> 56 | AI44: 30 | AJ44: =SUM(AF44+AG44) -> 833 | AK44: 81 | AL44: 247 | AM44: =SUM(AO43-AL44-AN43) -> 45 | AN44: 10 | AO44: =SUM(AK44+AL44) -> 328 | AP44: 73 | AQ44: 256 | AR44: =SUM(AT43-AQ44-AS43) -> 42 | AS44: 15 | AT44: =SUM(AP44+AQ44) -> 329 | AU44: 87 | AV44: 351 | AW44: =SUM(AY43-AV44-AX43) -> 5 | AX44: 30 | AY44: =SUM(AU44+AV44) -> 438 | AZ44: 85 | BA44: 272 | BB44: =SUM(BD43-BA44-BC43) -> 35 | BC44: 10 | BD44: =SUM(AZ44+BA44) -> 357 | BE44: 82 | BF44: 160 | BG44: =SUM(BI43-BF44-BH43) -> 20 | BH44: 10 | BI44: =SUM(BE44+BF44) -> 242 | DW44: =SUM(B44+G44+L44+Q44+V44+AA44+AF44+AK44+AP44+AU44+AZ44+BE44+BJ44) -> 662 | DX44: =SUM(C44+H44+M44+R44+W44+AB44+AG44+AL44+AQ44+AV44+BA44+BF44+BK44) -> 2394 | DY44: =SUM(EA43-DX44-DZ43) -> 274 | DZ44: =SUM(E44+J44+O44+T44+Y44+AD44+AI44+AN44+AS44+AX44+BC44+BH44+BM44) -> 120 | EA44: =SUM(DW44+DX44) -> 3056
A45: Feb-Jun 2000 | V45: 49 | W45: 322 | X45: =SUM(Z44-W45-Y44) -> 22 | Y45: 23 | Z45: =SUM(V45+W45) -> 371 | AA45: 44 | AB45: 138 | AC45: =SUM(AE44-AB45-AD44) -> 32 | AD45: 2 | AE45: =SUM(AA45+AB45) -> 182 | AF45: 92 | AG45: 738 | AH45: =SUM(AJ44-AG45-AI44) -> 65 | AI45: 37 | AJ45: =SUM(AF45+AG45) -> 830 | AK45: 48 | AL45: 293 | AM45: =SUM(AO44-AL45-AN44) -> 25 | AN45: 27 | AO45: =SUM(AK45+AL45) -> 341 | AP45: 42 | AQ45: 283 | AR45: =SUM(AT44-AQ45-AS44) -> 31 | AS45: 25 | AT45: =SUM(AP45+AQ45) -> 325 | AU45: 43 | AV45: 356 | AW45: =SUM(AY44-AV45-AX44) -> 52 | AX45: 36 | AY45: =SUM(AU45+AV45) -> 399 | AZ45: 47 | BA45: 308 | BB45: =SUM(BD44-BA45-BC44) -> 39 | BC45: 26 | BD45: =SUM(AZ45+BA45) -> 355 | BE45: 0 | BF45: 203 | BG45: =SUM(BI44-BF45-BH44) -> 29 | BH45: 15 | BI45: =SUM(BE45+BF45) -> 203 | DW45: =SUM(B45+G45+L45+Q45+V45+AA45+AF45+AK45+AP45+AU45+AZ45+BE45+BJ45) -> 365 | DX45: =SUM(C45+H45+M45+R45+W45+AB45+AG45+AL45+AQ45+AV45+BA45+BF45+BK45) -> 2641 | DY45: =SUM(EA44-DX45-DZ44) -> 295 | DZ45: =SUM(E45+J45+O45+T45+Y45+AD45+AI45+AN45+AS45+AX45+BC45+BH45+BM45) -> 191 | EA45: =SUM(DW45+DX45) -> 3006
A46: Ago-Dic 2000 | V46: 83 | W46: 297 | X46: =SUM(Z45-W46-Y45) -> 51 | Y46: 14 | Z46: =SUM(V46+W46) -> 380 | AA46: 42 | AB46: =178-42 -> 136 | AC46: =SUM(AE45-AB46-AD45) -> 44 | AD46: 5 | AE46: =SUM(AA46+AB46) -> 178 | AF46: 135 | AG46: =883-135 -> 748 | AH46: =AJ45-AI45-AG46 -> 45 | AI46: 76 | AJ46: =SUM(AF46+AG46) -> 883 | AK46: 87 | AL46: =359-87 -> 272 | AM46: =SUM(AO45-AL46-AN45) -> 42 | AN46: 17 | AO46: =SUM(AK46+AL46) -> 359 | AP46: 50 | AQ46: =316-50 -> 266 | AR46: =AT45-AS45-AQ46 -> 34 | AS46: 30 | AT46: =SUM(AP46+AQ46) -> 316 | AU46: 82 | AV46: =421-82 -> 339 | AW46: =AY45-AX45-AV46 -> 24 | AX46: 55 | AY46: =SUM(AU46+AV46) -> 421 | AZ46: 81 | BA46: =365-81 -> 284 | BB46: =BD45-BC45-BA46 -> 45 | BC46: 14 | BD46: =SUM(AZ46+BA46) -> 365 | BE46: 50 | BF46: =224-50 -> 174 | BG46: =SUM(BI45-BF46-BH45) -> 14 | BH46: 18 | BI46: =SUM(BE46+BF46) -> 224 | DW46: =SUM(B46+G46+L46+Q46+V46+AA46+AF46+AK46+AP46+AU46+AZ46+BE46+BJ46) -> 610 | DX46: =SUM(C46+H46+M46+R46+W46+AB46+AG46+AL46+AQ46+AV46+BA46+BF46+BK46) -> 2516 | DY46: =SUM(EA45-DX46-DZ45) -> 299 | DZ46: =SUM(E46+J46+O46+T46+Y46+AD46+AI46+AN46+AS46+AX46+BC46+BH46+BM46) -> 229 | EA46: =SUM(DW46+DX46) -> 3126
A47: Feb-Jun 2001 | V47: 43 | W47: 313 | X47: =SUM(Z46-W47-Y46) -> 53 | Y47: 20 | Z47: 356 | AA47: 0 | AB47: 131 | AC47: =SUM(AE46-AB47-AD46) -> 42 | AD47: 4 | AE47: =SUM(AA47+AB47) -> 131 | AF47: 79 | AG47: 765 | AH47: =AJ46-AI46-AG47 -> 42 | AI47: 68 | AJ47: =SUM(AF47+AG47) -> 844 | AK47: 59 | AL47: 298 | AM47: =SUM(AO46-AL47-AN46) -> 44 | AN47: 32 | AO47: =SUM(AK47+AL47) -> 357 | AP47: 0 | AQ47: 247 | AR47: =AT46-AS46-AQ47 -> 39 | AS47: 19 | AT47: =SUM(AP47+AQ47) -> 247 | AU47: 34 | AV47: 311 | AW47: =AY46-AX46-AV47 -> 55 | AX47: 25 | AY47: =SUM(AU47+AV47) -> 345 | AZ47: 45 | BA47: 288 | BB47: =BD46-BC46-BA47 -> 63 | BC47: 27 | BD47: =SUM(AZ47+BA47) -> 333 | BE47: 0 | BF47: 180 | BG47: =SUM(BI46-BF47-BH46) -> 26 | BH47: 8 | BI47: =SUM(BE47+BF47) -> 180 | DW47: =SUM(B47+G47+L47+Q47+V47+AA47+AF47+AK47+AP47+AU47+AZ47+BE47+BJ47) -> 260 | DX47: =SUM(C47+H47+M47+R47+W47+AB47+AG47+AL47+AQ47+AV47+BA47+BF47+BK47) -> 2533 | DY47: =SUM(EA46-DX47-DZ46) -> 364 | DZ47: =SUM(E47+J47+O47+T47+Y47+AD47+AI47+AN47+AS47+AX47+BC47+BH47+BM47) -> 203 | EA47: =SUM(DW47+DX47) -> 2793
A48: Ago-Dic 2001 | V48: 89 | W48: 300 | X48: =SUM(Z47-W48-Y47) -> 36 | Y48: 21 | Z48: =SUM(V48+W48) -> 389 | AA48: 42 | AB48: 117 | AC48: =SUM(AE47-AB48-AD47) -> 10 | AD48: 3 | AE48: =SUM(AA48+AB48) -> 159 | AF48: 181 | AG48: 741 | AH48: =AJ47-AI47-AG48 -> 35 | AI48: 64 | AJ48: =SUM(AF48+AG48) -> 922 | AK48: 81 | AL48: 300 | AM48: =SUM(AO47-AL48-AN47) -> 25 | AN48: 27 | AO48: =SUM(AK48+AL48) -> 381 | AP48: 44 | AQ48: 199 | AR48: =AT47-AS47-AQ48 -> 29 | AS48: 14 | AT48: =SUM(AP48+AQ48) -> 243 | AU48: 92 | AV48: 289 | AW48: =AY47-AX47-AV48 -> 31 | AX48: 24 | AY48: =SUM(AU48+AV48) -> 381 | AZ48: 83 | BA48: 263 | BB48: =BD47-BC47-BA48 -> 43 | BC48: 15 | BD48: =SUM(AZ48+BA48) -> 346 | BE48: 40 | BF48: 152 | BG48: =SUM(BI47-BF48-BH47) -> 20 | BH48: 13 | BI48: =SUM(BE48+BF48) -> 192 | DW48: =SUM(B48+G48+L48+Q48+V48+AA48+AF48+AK48+AP48+AU48+AZ48+BE48+BJ48) -> 652 | DX48: =SUM(C48+H48+M48+R48+W48+AB48+AG48+AL48+AQ48+AV48+BA48+BF48+BK48) -> 2361 | DY48: =SUM(EA47-DX48-DZ47) -> 229 | DZ48: =SUM(E48+J48+O48+T48+Y48+AD48+AI48+AN48+AS48+AX48+BC48+BH48+BM48) -> 181 | EA48: =SUM(DW48+DX48) -> 3013
A49: Feb-Jun 2002 | V49: 45 | W49: 282 | X49: =SUM(Z48-W49-Y48) -> 86 | Y49: 11 | Z49: =SUM(V49+W49) -> 327 | AA49: 44 | AB49: 110 | AC49: =SUM(AE48-AB49-AD48) -> 46 | AD49: 3 | AE49: =SUM(AA49+AB49) -> 154 | AF49: 100 | AG49: 768 | AH49: =SUM(AJ48-AG49-AI48) -> 90 | AI49: 62 | AJ49: =SUM(AF49+AG49) -> 868 | AK49: 51 | AL49: 301 | AM49: =SUM(AO48-AL49-AN48) -> 53 | AN49: 17 | AO49: =SUM(AK49+AL49) -> 352 | AP49: 54 | AQ49: 197 | AR49: =SUM(AT48-AQ49-AS48) -> 32 | AS49: 18 | AT49: =SUM(AP49+AQ49) -> 251 | AU49: 52 | AV49: 312 | AW49: =SUM(AY48-AV49-AX48) -> 45 | AX49: 33 | AY49: =SUM(AU49+AV49) -> 364 | AZ49: 50 | BA49: 278 | BB49: =SUM(BD48-BA49-BC48) -> 53 | BC49: 14 | BD49: =SUM(AZ49+BA49) -> 328 | BE49: 0 | BF49: 162 | BG49: =SUM(BI48-BF49-BH48) -> 17 | BH49: 13 | BI49: =SUM(BE49+BF49) -> 162 | DW49: =SUM(B49+G49+L49+Q49+V49+AA49+AF49+AK49+AP49+AU49+AZ49+BE49+BJ49) -> 396 | DX49: =SUM(C49+H49+M49+R49+W49+AB49+AG49+AL49+AQ49+AV49+BA49+BF49+BK49) -> 2410 | DY49: =SUM(EA48-DX49-DZ48) -> 422 | DZ49: =SUM(E49+J49+O49+T49+Y49+AD49+AI49+AN49+AS49+AX49+BC49+BH49+BM49) -> 171 | EA49: =SUM(DW49+DX49) -> 2806 | EB49: <<=== | EH49: =SUM(DZ15:DZ50) -> 3226
A50: Ago-Dic 2002 | V50: 92 | W50: 263 | X50: =SUM(Z49-W50-Y49) -> 53 | Y50: 14 | Z50: =SUM(V50+W50) -> 355 | AA50: 35 | AB50: 115 | AC50: =SUM(AE49-AB50-AD49) -> 36 | AD50: 9 | AE50: =SUM(AA50+AB50) -> 150 | AF50: 201 | AG50: 752 | AH50: =SUM(AJ49-AG50-AI49) -> 54 | AI50: 100 | AJ50: =SUM(AF50+AG50) -> 953 | AK50: 82 | AL50: 309 | AM50: =SUM(AO49-AL50-AN49) -> 26 | AN50: 18 | AO50: =SUM(AK50+AL50) -> 391 | AP50: 51 | AQ50: 201 | AR50: =SUM(AT49-AQ50-AS49) -> 32 | AS50: 25 | AT50: =SUM(AP50+AQ50) -> 252 | AU50: 107 | AV50: 298 | AW50: =SUM(AY49-AV50-AX49) -> 33 | AX50: 15 | AY50: =SUM(AU50+AV50) -> 405 | AZ50: 151 | BA50: 269 | BB50: =SUM(BD49-BA50-BC49) -> 45 | BC50: 13 | BD50: =SUM(AZ50+BA50) -> 420 | BE50: 58 | BF50: 132 | BG50: =SUM(BI49-BF50-BH49) -> 17 | BH50: 21 | BI50: =SUM(BE50+BF50) -> 190 | DW50: =SUM(B50+G50+L50+Q50+V50+AA50+AF50+AK50+AP50+AU50+AZ50+BE50+BJ50) -> 777 | DX50: =SUM(C50+H50+M50+R50+W50+AB50+AG50+AL50+AQ50+AV50+BA50+BF50+BK50) -> 2339 | DY50: =SUM(EA49-DX50-DZ49) -> 296 | DZ50: =SUM(E50+J50+O50+T50+Y50+AD50+AI50+AN50+AS50+AX50+BC50+BH50+BM50) -> 215 | EA50: =SUM(DW50+DX50) -> 3116 | EB50: <<=== | EH50: =SUM(DW8:DW51) -> 14182 | EI50: Egresados
A51: Feb-Jun 2003 | V51: 32 | W51: =+Z51-V51 -> 283 | X51: 58 | Y51: 12 | Z51: 315 | AA51: 24 | AB51: =+AE51-AA51 -> 119 | AC51: 22 | AD51: 12 | AE51: 143 | AF51: 1 | AG51: =+AJ51-AF51 -> 756 | AH51: 97 | AI51: 95 | AJ51: 757 | AK51: 45 | AL51: =+AO51-AK51 -> 317 | AM51: 56 | AN51: 24 | AO51: 362 | AP51: 0 | AQ51: =+AT51-AP51 -> 207 | AR51: 20 | AS51: 20 | AT51: 207 | AU51: 53 | AV51: =+AY51-AU51 -> 334 | AW51: 56 | AX51: 43 | AY51: 387 | AZ51: 50 | BA51: =+BD51-AZ51 -> 341 | BB51: 66 | BC51: 20 | BD51: 391 | BE51: 21 | BF51: =+BI51-BE51 -> 167 | BG51: 2 | BH51: 8 | BI51: 188 | DW51: =SUM(B51+G51+L51+Q51+V51+AA51+AF51+AK51+AP51+AU51+AZ51+BE51+BJ51) -> 226 | DX51: =SUM(C51+H51+M51+R51+W51+AB51+AG51+AL51+AQ51+AV51+BA51+BF51+BK51) -> 2524 | DY51: =SUM(EA50-DX51-DZ50) -> 377 | DZ51: =SUM(E51+J51+O51+T51+Y51+AD51+AI51+AN51+AS51+AX51+BC51+BH51+BM51) -> 234 | EA51: =SUM(DW51+DX51) -> 2750 | EI51: Almns. q han pasado x el Tec.
A52: Ago-Dic 2003 | V52: 90 | W52: 254 | X52: 49 | Y52: 13 | Z52: =SUM(V52+W52) -> 344 | AA52: 45 | AB52: 104 | AC52: 27 | AD52: 12 | AE52: =SUM(AA52+AB52) -> 149 | AF52: 166 | AG52: 657 | AH52: 5 | AI52: 72 | AJ52: =SUM(AF52+AG52) -> 823 | AK52: 80 | AL52: 304 | AM52: 34 | AN52: 14 | AO52: =SUM(AK52+AL52) -> 384 | AP52: 42 | AQ52: 172 | AR52: 15 | AS52: 11 | AT52: =SUM(AP52+AQ52) -> 214 | AU52: 138 | AV52: 340 | AW52: 4 | AX52: 39 | AY52: =SUM(AU52+AV52) -> 478 | AZ52: 124 | BA52: 295 | BB52: 76 | BC52: 14 | BD52: =SUM(AZ52+BA52) -> 419 | BE52: 44 | BF52: 158 | BG52: 22 | BH52: 14 | BI52: =SUM(BE52+BF52) -> 202 | DW52: =SUM(B52+G52+L52+Q52+V52+AA52+AF52+AK52+AP52+AU52+AZ52+BE52+BJ52) -> 729 | DX52: =SUM(C52+H52+M52+R52+W52+AB52+AG52+AL52+AQ52+AV52+BA52+BF52+BK52) -> 2284 | DY52: =SUM(EA51-DX52-DZ51) -> 232 | DZ52: =SUM(E52+J52+O52+T52+Y52+AD52+AI52+AN52+AS52+AX52+BC52+BH52+BM52) -> 189 | EA52: =SUM(DW52+DX52) -> 3013
A53: Feb-Jun 2004 | V53: 5 | W53: 272 | X53: 59 | Y53: 19 | Z53: =SUM(V53+W53) -> 277 | AA53: 0 | AB53: 111 | AC53: 26 | AD53: 10 | AE53: =SUM(AA53+AB53) -> 111 | AF53: 19 | AG53: 655 | AH53: 96 | AI53: 51 | AJ53: =SUM(AF53+AG53) -> 674 | AK53: 24 | AL53: 318 | AM53: 52 | AN53: 35 | AO53: =SUM(AK53+AL53) -> 342 | AP53: 0 | AQ53: 179 | AR53: 24 | AS53: 14 | AT53: =SUM(AP53+AQ53) -> 179 | AU53: 12 | AV53: 346 | AW53: 93 | AX53: 16 | AY53: =SUM(AU53+AV53) -> 358 | AZ53: 38 | BA53: 342 | BB53: 63 | BC53: 23 | BD53: =SUM(AZ53+BA53) -> 380 | BE53: 10 | BF53: 171 | BG53: 17 | BH53: 20 | BI53: =SUM(BE53+BF53) -> 181 | DW53: =SUM(B53+G53+L53+Q53+V53+AA53+AF53+AK53+AP53+AU53+AZ53+BE53+BJ53) -> 108 | DX53: =SUM(C53+H53+M53+R53+W53+AB53+AG53+AL53+AQ53+AV53+BA53+BF53+BK53) -> 2394 | DY53: =SUM(EA52-DX53-DZ52) -> 430 | DZ53: =SUM(E53+J53+O53+T53+Y53+AD53+AI53+AN53+AS53+AX53+BC53+BH53+BM53) -> 188 | EA53: =SUM(DW53+DX53) -> 2502
A54: Ago-Dic 2004 | V54: 83 | W54: 246 | X54: 12 | Y54: 18 | Z54: 329 | AA54: 42 | AB54: 97 | AC54: 4 | AD54: 3 | AE54: 139 | AF54: 94 | AG54: 618 | AH54: 5 | AI54: 89 | AJ54: 712 | AK54: 53 | AL54: 295 | AM54: 12 | AN54: 36 | AO54: =SUM(AK54+AL54) -> 348 | AP54: 49 | AQ54: 160 | AR54: 5 | AS54: 14 | AT54: =SUM(AP54+AQ54) -> 209 | AU54: 86 | AV54: 325 | AW54: 17 | AX54: 42 | AY54: =SUM(AU54+AV54) -> 411 | AZ54: 100 | BA54: 308 | BB54: 49 | BC54: 21 | BD54: =SUM(AZ54+BA54) -> 408 | BE54: 84 | BF54: 147 | BG54: 14 | BH54: 25 | BI54: =SUM(BE54+BF54) -> 231 | BJ54: 92 | BK54: 0 | BL54: 0 | BM54: 0 | BN54: =SUM(BJ54+BK54) -> 92 | DW54: =SUM(B54+G54+L54+Q54+V54+AA54+AF54+AK54+AP54+AU54+AZ54+BE54+BJ54) -> 683 | DX54: =SUM(C54+H54+M54+R54+W54+AB54+AG54+AL54+AQ54+AV54+BA54+BF54+BK54) -> 2196 | DY54: =SUM(EA53-DX54-DZ53) -> 118 | DZ54: =SUM(E54+J54+O54+T54+Y54+AD54+AI54+AN54+AS54+AX54+BC54+BH54+BM54) -> 248 | EA54: =SUM(DW54+DX54) -> 2879 | EH54: % DESC
A55: Feb-Jun 2005 | V55: 0 | W55: 260 | X55: 51 | Y55: 21 | Z55: =SUM(V55+W55) -> 260 | AA55: 0 | AB55: 122 | AC55: 14 | AD55: 7 | AE55: =SUM(AA55+AB55) -> 122 | AF55: 0 | AG55: 583 | AH55: 40 | AI55: 59 | AJ55: =SUM(AF55+AG55) -> 583 | AK55: 0 | AL55: 283 | AM55: 29 | AN55: 19 | AO55: =SUM(AK55+AL55) -> 283 | AP55: 0 | AQ55: 166 | AR55: 29 | AS55: 13 | AT55: =SUM(AP55+AQ55) -> 166 | AU55: 0 | AV55: 329 | AW55: 40 | AX55: 25 | AY55: =SUM(AU55+AV55) -> 329 | AZ55: 0 | BA55: 303 | BB55: 84 | BC55: 20 | BD55: =SUM(AZ55+BA55) -> 303 | BE55: 0 | BF55: 189 | BG55: 17 | BH55: 10 | BI55: =SUM(BE55+BF55) -> 189 | BJ55: 0 | BK55: 84 | BL55: =BN54-BK55 -> 8 | BM55: 0 | BN55: =SUM(BJ55+BK55) -> 84 | DW55: =SUM(B55+G55+L55+Q55+V55+AA55+AF55+AK55+AP55+AU55+AZ55+BE55+BJ55) -> 0 | DX55: =SUM(C55+H55+M55+R55+W55+AB55+AG55+AL55+AQ55+AV55+BA55+BF55+BK55) -> 2319 | DY55: =SUM(EA54-DX55-DZ54) -> 312 | DZ55: =SUM(E55+J55+O55+T55+Y55+AD55+AI55+AN55+AS55+AX55+BC55+BH55+BM55) -> 174 | EA55: =SUM(DW55+DX55) -> 2319
A56: Ago-Dic 2005 | V56: 67 | W56: 219 | X56: 20 | Y56: 37 | Z56: =SUM(V56+W56) -> 286 | AA56: 42 | AB56: 108 | AC56: 7 | AD56: 5 | AE56: =SUM(AA56+AB56) -> 150 | AF56: 179 | AG56: 472 | AH56: 52 | AI56: 94 | AJ56: =SUM(AF56+AG56) -> 651 | AK56: 50 | AL56: 251 | AM56: 13 | AN56: 30 | AO56: =SUM(AK56+AL56) -> 301 | AP56: 45 | AQ56: 136 | AR56: 17 | AS56: 15 | AT56: =SUM(AP56+AQ56) -> 181 | AU56: 86 | AV56: 283 | AW56: 21 | AX56: 48 | AY56: =SUM(AU56+AV56) -> 369 | AZ56: 131 | BA56: 248 | BB56: 35 | BC56: 34 | BD56: =SUM(AZ56+BA56) -> 379 | BE56: 68 | BF56: 162 | BG56: 17 | BH56: 19 | BI56: =SUM(BE56+BF56) -> 230 | BJ56: 213 | BK56: 79 | BL56: 5 | BM56: 0 | BN56: =SUM(BJ56+BK56) -> 292 | DW56: =SUM(B56+G56+L56+Q56+V56+AA56+AF56+AK56+AP56+AU56+AZ56+BE56+BJ56) -> 881 | DX56: =SUM(C56+H56+M56+R56+W56+AB56+AG56+AL56+AQ56+AV56+BA56+BF56+BK56) -> 1958 | DY56: =SUM(EA55-DX56-DZ55) -> 187 | DZ56: =SUM(E56+J56+O56+T56+Y56+AD56+AI56+AN56+AS56+AX56+BC56+BH56+BM56) -> 282 | EA56: =SUM(DW56+DX56) -> 2839 | EH56: =DY57/EA56 -> 0.069390631
A57: Feb-Jun 2006 | V57: 0 | W57: 235 | X57: 14 | Y57: 19 | Z57: =SUM(V57+W57) -> 235 | AA57: 0 | AB57: 135 | AC57: 10 | AD57: 7 | AE57: =SUM(AA57+AB57) -> 135 | AF57: 0 | AG57: 533 | AH57: 24 | AI57: 62 | AJ57: =SUM(AF57+AG57) -> 533 | AK57: 0 | AL57: 253 | AM57: 18 | AN57: 20 | AO57: =SUM(AK57+AL57) -> 253 | AP57: 0 | AQ57: 158 | AR57: 8 | AS57: 9 | AT57: =SUM(AP57+AQ57) -> 158 | AU57: 0 | AV57: 296 | AW57: 25 | AX57: 22 | AY57: =SUM(AU57+AV57) -> 296 | AZ57: 0 | BA57: 297 | BB57: 48 | BC57: 17 | BD57: =SUM(AZ57+BA57) -> 297 | BE57: 0 | BF57: 195 | BG57: 16 | BH57: 8 | BI57: =SUM(BE57+BF57) -> 195 | BJ57: 0 | BK57: 258 | BL57: =BN56-BM56-BK57 -> 34 | BM57: 0 | BN57: =SUM(BJ57+BK57) -> 258 | DW57: =SUM(B57+G57+L57+Q57+V57+AA57+AF57+AK57+AP57+AU57+AZ57+BE57+BJ57) -> 0 | DX57: =SUM(C57+H57+M57+R57+W57+AB57+AG57+AL57+AQ57+AV57+BA57+BF57+BK57) -> 2360 | DY57: =SUM(EA56-DX57-DZ56) -> 197 | DZ57: =SUM(E57+J57+O57+T57+Y57+AD57+AI57+AN57+AS57+AX57+BC57+BH57+BM57) -> 164 | EA57: =SUM(DW57+DX57) -> 2360 | EH57: =DY58/EA57 -> 0.059322034
A58: Ago-Dic 2006 | V58: 47 | W58: 201 | X58: 15 | Y58: 25 | Z58: =SUM(V58+W58) -> 248 | AA58: 44 | AB58: 111 | AC58: 17 | AD58: 14 | AE58: =SUM(AA58+AB58) -> 155 | AF58: 136 | AG58: 459 | AH58: 12 | AI58: 73 | AJ58: =SUM(AF58+AG58) -> 595 | AK58: 45 | AL58: 226 | AM58: 7 | AN58: 27 | AO58: =SUM(AK58+AL58) -> 271 | AP58: 45 | AQ58: 139 | AR58: 10 | AS58: 9 | AT58: =SUM(AP58+AQ58) -> 184 | AU58: 81 | AV58: 261 | AW58: 13 | AX58: 45 | AY58: =SUM(AU58+AV58) -> 342 | AZ58: 126 | BA58: =+BD57-BC57-BB58 -> 240 | BB58: 40 | BC58: 26 | BD58: =SUM(AZ58+BA58) -> 366 | BE58: 50 | BF58: 178 | BG58: 9 | BH58: 22 | BI58: =SUM(BE58+BF58) -> 228 | BJ58: 181 | BK58: 241 | BL58: =BN57-BM57-BK58 -> 17 | BM58: 0 | BN58: =SUM(BJ58+BK58) -> 422 | DW58: =SUM(B58+G58+L58+Q58+V58+AA58+AF58+AK58+AP58+AU58+AZ58+BE58+BJ58) -> 755 | DX58: =SUM(C58+H58+M58+R58+W58+AB58+AG58+AL58+AQ58+AV58+BA58+BF58+BK58) -> 2056 | DY58: =SUM(EA57-DX58-DZ57) -> 140 | DZ58: =SUM(E58+J58+O58+T58+Y58+AD58+AI58+AN58+AS58+AX58+BC58+BH58+BM58) -> 241 | EA58: =SUM(DW58+DX58) -> 2811 | EH58: =DY59/EA58 -> 0.086446105
A59: Feb-Jun 2007 | V59: 0 | W59: 213 | X59: 10 | Y59: 22 | Z59: =SUM(V59+W59) -> 213 | AA59: 0 | AB59: 127 | AC59: 14 | AD59: 9 | AE59: =SUM(AA59+AB59) -> 127 | AF59: 0 | AG59: 485 | AH59: 37 | AI59: 58 | AJ59: =SUM(AF59+AG59) -> 485 | AK59: 39 | AL59: 228 | AM59: 16 | AN59: 21 | AO59: =SUM(AK59+AL59) -> 267 | AP59: 0 | AQ59: 152 | AR59: 23 | AS59: 11 | AT59: =SUM(AP59+AQ59) -> 152 | AU59: 0 | AV59: 272 | AW59: 25 | AX59: 29 | AY59: =SUM(AU59+AV59) -> 272 | AZ59: 0 | BA59: 273 | BB59: 67 | BC59: 24 | BD59: 273 | BE59: 19 | BF59: 190 | BG59: 16 | BH59: 23 | BI59: =SUM(BE59+BF59) -> 209 | BJ59: 0 | BK59: 387 | BL59: 35 | BM59: 0 | BN59: =SUM(BJ59+BK59) -> 387 | DW59: =SUM(B59+G59+L59+Q59+V59+AA59+AF59+AK59+AP59+AU59+AZ59+BE59+BJ59) -> 58 | DX59: =SUM(C59+H59+M59+R59+W59+AB59+AG59+AL59+AQ59+AV59+BA59+BF59+BK59) -> 2327 | DY59: =SUM(EA58-DZ58-DX59) -> 243 | DZ59: =SUM(E59+J59+O59+T59+Y59+AD59+AI59+AN59+AS59+AX59+BC59+BH59+BM59) -> 197 | EA59: =SUM(DW59+DX59) -> 2385 | EH59: =DY60/EA59 -> 0.077987421
A60: Ago-Dic 2007 | V60: 36 | W60: 173 | X60: 18 | Y60: 21 | Z60: =SUM(V60+W60) -> 209 | AA60: 39 | AB60: 100 | AC60: 18 | AD60: 17 | AE60: =SUM(AA60+AB60) -> 139 | AF60: 142 | AG60: 400 | AH60: 27 | AI60: 48 | AJ60: =SUM(AF60+AG60) -> 542 | AK60: 82 | AL60: 229 | AM60: 17 | AN60: 34 | AO60: =SUM(AK60+AL60) -> 311 | AP60: 45 | AQ60: 131 | AR60: 10 | AS60: 22 | AT60: =SUM(AP60+AQ60) -> 176 | AU60: 81 | AV60: 235 | AW60: 8 | AX60: 35 | AY60: =SUM(AU60+AV60) -> 316 | AZ60: 123 | BA60: 208 | BB60: 41 | BC60: 26 | BD60: 331 | BE60: 46 | BF60: 160 | BG60: 26 | BH60: 21 | BI60: =SUM(BE60+BF60) -> 206 | BJ60: 134 | BK60: 366 | BL60: 21 | BM60: 0 | BN60: =SUM(BJ60+BK60) -> 500 | DW60: =SUM(B60+G60+L60+Q60+V60+AA60+AF60+AK60+AP60+AU60+AZ60+BE60+BJ60) -> 728 | DX60: =SUM(C60+H60+M60+R60+W60+AB60+AG60+AL60+AQ60+AV60+BA60+BF60+BK60) -> 2002 | DY60: =SUM(EA59-DZ59-DX60) -> 186 | DZ60: =SUM(E60+J60+O60+T60+Y60+AD60+AI60+AN60+AS60+AX60+BC60+BH60+BM60) -> 224 | EA60: =SUM(DW60+DX60) -> 2730 | EH60: =DY61/EA60 -> 0.071062271
A61: Feb-Jun 2008 | V61: 0 | W61: 179 | X61: 9 | Y61: 10 | Z61: =SUM(V61+W61) -> 179 | AA61: 0 | AB61: 121 | AC61: 1 | AD61: 7 | AE61: =SUM(AA61+AB61) -> 121 | AF61: 0 | AG61: 464 | AH61: 30 | AI61: 24 | AJ61: =SUM(AF61+AG61) -> 464 | AK61: 0 | AL61: 250 | AM61: 27 | AN61: 42 | AO61: =SUM(AK61+AL61) -> 250 | AP61: 0 | AQ61: 135 | AR61: 19 | AS61: 21 | AT61: =SUM(AP61+AQ61) -> 135 | AU61: 0 | AV61: 251 | AW61: 30 | AX61: 23 | AY61: =SUM(AU61+AV61) -> 251 | AZ61: 0 | BA61: 272 | BB61: 33 | BC61: 38 | BD61: 272 | BE61: 0 | BF61: 165 | BG61: 20 | BH61: 13 | BI61: =SUM(BE61+BF61) -> 165 | BJ61: 0 | BK61: 475 | BL61: 25 | BM61: 9 | BN61: =SUM(BJ61+BK61) -> 475 | DW61: =SUM(B61+G61+L61+Q61+V61+AA61+AF61+AK61+AP61+AU61+AZ61+BE61+BJ61) -> 0 | DX61: =SUM(C61+H61+M61+R61+W61+AB61+AG61+AL61+AQ61+AV61+BA61+BF61+BK61) -> 2312 | DY61: =SUM(EA60-DZ60-DX61) -> 194 | DZ61: =SUM(E61+J61+O61+T61+Y61+AD61+AI61+AN61+AS61+AX61+BC61+BH61+BM61) -> 187 | EA61: =SUM(DW61+DX61) -> 2312 | EH61: =DY62/EA61 -> 0.09299308
A62: Ago-Dic 2008 | V62: 39 | W62: 144 | X62: 25 | Y62: 23 | Z62: 183 | AA62: 36 | AB62: 115 | AC62: -1 | AD62: 17 | AE62: 151 | AF62: 197 | AG62: 407 | AH62: 33 | AI62: 36 | AJ62: 604 | AK62: 77 | AL62: 168 | AM62: 40 | AN62: 23 | AO62: 245 | AP62: 65 | AQ62: 105 | AR62: 9 | AS62: 6 | AT62: 170 | AU62: 62 | AV62: 211 | AW62: 17 | AX62: 30 | AY62: 273 | AZ62: 114 | BA62: 194 | BB62: 40 | BC62: 23 | BD62: 308 | BE62: 69 | BF62: 138 | BG62: 14 | BH62: 29 | BI62: 207 | BJ62: 120 | BK62: 428 | BL62: 38 | BM62: 24 | BN62: 548 | DW62: =SUM(B62+G62+L62+Q62+V62+AA62+AF62+AK62+AP62+AU62+AZ62+BE62+BJ62) -> 779 | DX62: =SUM(C62+H62+M62+R62+W62+AB62+AG62+AL62+AQ62+AV62+BA62+BF62+BK62) -> 1910 | DY62: 215 | DZ62: =SUM(E62+J62+O62+T62+Y62+AD62+AI62+AN62+AS62+AX62+BC62+BH62+BM62) -> 211 | EA62: =SUM(DW62+DX62) -> 2689 | EH62: =DY63/(EA62-DZ62) -> 0.11904762
A63: Feb-Jun 2009 | V63: 0 | W63: 133 | X63: 27 | Y63: 14 | Z63: 133 | AA63: 0 | AB63: 124 | AC63: 10 | AD63: 3 | AE63: 124 | AF63: 33 | AG63: 519 | AH63: 49 | AI63: 33 | AJ63: 552 | AK63: 22 | AL63: 191 | AM63: 31 | AN63: 18 | AO63: 213 | AP63: 0 | AQ63: 146 | AR63: 18 | AS63: 6 | AT63: 146 | AU63: 19 | AV63: 212 | AW63: 31 | AX63: 6 | AY63: 231 | AZ63: 22 | BA63: 236 | BB63: 49 | BC63: 7 | BD63: 258 | BE63: 0 | BF63: 158 | BG63: 20 | BH63: 4 | BI63: 158 | BJ63: 18 | BK63: 464 | BL63: 60 | BM63: 12 | BN63: 482 | DW63: =SUM(B63+G63+L63+Q63+V63+AA63+AF63+AK63+AP63+AU63+AZ63+BE63+BJ63) -> 114 | DX63: =SUM(C63+H63+M63+R63+W63+AB63+AG63+AL63+AQ63+AV63+BA63+BF63+BK63) -> 2183 | DY63: =SUM(EA62-DZ62-DX63) -> 295 | DZ63: =SUM(E63+J63+O63+T63+Y63+AD63+AI63+AN63+AS63+AX63+BC63+BH63+BM63) -> 103 | EA63: =SUM(DW63+DX63) -> 2297 | EB63: 189/(2297-103)= | EH63: =DY64/(EA63-DZ63) -> 0.086144029
A64: Ago-Dic 2009 | V64: 38 | W64: 116 | X64: 3 | Y64: 14 | Z64: 154 | AA64: 46 | AB64: 118 | AC64: 3 | AD64: 3 | AE64: 164 | AF64: 156 | AG64: 467 | AH64: 52 | AI64: 39 | AJ64: 623 | AK64: 79 | AL64: 178 | AM64: 17 | AN64: 26 | AO64: 257 | AP64: 41 | AQ64: 129 | AR64: 11 | AS64: 22 | AT64: 170 | AU64: 46 | AV64: 206 | AW64: 19 | AX64: 34 | AY64: 252 | AZ64: 127 | BA64: 212 | BB64: 39 | BC64: 24 | BD64: 339 | BE64: 77 | BF64: 149 | BG64: 5 | BH64: 6 | BI64: 226 | BJ64: 114 | BK64: 430 | BL64: 40 | BM64: 38 | BN64: 544 | DW64: =SUM(B64+G64+L64+Q64+V64+AA64+AF64+AK64+AP64+AU64+AZ64+BE64+BJ64) -> 724 | DX64: =SUM(C64+H64+M64+R64+W64+AB64+AG64+AL64+AQ64+AV64+BA64+BF64+BK64) -> 2005 | DY64: =SUM(EA63-DZ63-DX64) -> 189 | DZ64: =SUM(E64+J64+O64+T64+Y64+AD64+AI64+AN64+AS64+AX64+BC64+BH64+BM64) -> 206 | EA64: =SUM(DW64+DX64) -> 2729 | EB64: 339/(2729-206)= | EH64: =DY65/(EA64-DZ64) -> 0.13436385
A65: Feb-Jun 2010 | V65: 0 | W65: 120 | X65: 20 | Y65: 10 | Z65: 120 | AA65: 0 | AB65: 154 | AC65: 7 | AD65: 14 | AE65: 154 | AF65: 0 | AG65: 526 | AH65: 58 | AI65: 37 | AJ65: 526 | AK65: 0 | AL65: 210 | AM65: 21 | AN65: 3 | AO65: 210 | AP65: 0 | AQ65: 134 | AR65: 14 | AS65: 5 | AT65: 134 | AU65: 0 | AV65: 186 | AW65: 32 | AX65: 15 | AY65: 186 | AZ65: 0 | BA65: 224 | BB65: 91 | BC65: 17 | BD65: 224 | BE65: 0 | BF65: 176 | BG65: 44 | BH65: 12 | BI65: 176 | BJ65: 0 | BK65: 454 | BL65: 52 | BM65: 60 | BN65: 454 | BO65: 16 | BR65: 0 | BS65: 16 | BT65: 8 | BW65: 0 | BX65: 8 | BY65: 17 | CB65: 0 | CC65: 17 | CD65: 11 | CG65: 0 | CH65: 11 | CI65: 9 | CM65: 9 | CN65: 0 | CQ65: 0 | CR65: 0 | CS65: 23 | CV65: 0 | CW65: 23 | CX65: 31 | DA65: 0 | DB65: 31 | DC65: 0 | DF65: 0 | DG65: 0 | DH65: 11 | DK65: 0 | DL65: 11 | DM65: 25 | DP65: 0 | DQ65: 25 | DR65: 17 | DU65: 0 | DV65: 17 | DW65: =SUM(B65+G65+L65+Q65+V65+AA65+AF65+AK65+AP65+AU65+AZ65+BE65+BJ65+BO65+BT65+BY65+CD65+CI65+CN65+CS65+CX65+DC65+DH65+DM65+DR65) -> 168 | DX65: =SUM(C65+H65+M65+R65+W65+AB65+AG65+AL65+AQ65+AV65+BA65+BF65+BK65+BP65+BU65+BZ65+CE65+CJ65+CO65+CT65+CY65+DD65+DI65+DN65+DS65) -> 2184 | DY65: =SUM(D65+I65+N65+S65+X65+AC65+AH65+AM65+AR65+AW65+BB65+BG65+BL65+BQ65+BV65+CA65+CF65+CK65+CP65+CU65+CZ65+DE65+DJ65+DO65+DT65) -> 339 | DZ65: =SUM(E65+J65+O65+T65+Y65+AD65+AI65+AN65+AS65+AX65+BC65+BH65+BM65+BR65+BW65+CB65+CG65+CL65+CQ65+CV65+DA65+DF65+DK65+DP65+DU65) -> 173 | EA65: =SUM(F65+K65+P65+U65+Z65+AE65+AJ65+AO65+AT65+AY65+BD65+BI65+BN65+BS65+BX65+CC65+CH65+CM65+CR65+CW65+DB65+DG65+DL65+DQ65+DV65) -> 2352 | EB65: 244/(2352-173)= | EH65: =DY66/(EA65-DZ65) -> 0.11197797
A66: Ago-Dic 2010 | V66: 0 | W66: 99 | X66: 11 | Y66: 9 | Z66: 99 | AA66: 0 | AB66: 131 | AC66: 9 | AD66: 18 | AE66: 131 | AF66: 0 | AG66: 439 | AH66: 50 | AI66: 36 | AJ66: 439 | AK66: 0 | AL66: 184 | AM66: 23 | AN66: 9 | AO66: 184 | AP66: 0 | AQ66: 122 | AR66: 7 | AS66: 7 | AT66: 122 | AU66: 0 | AV66: 156 | AW66: 15 | AX66: 33 | AY66: 156 | AZ66: 0 | BA66: 181 | BB66: 26 | BC66: 18 | BD66: 181 | BE66: 0 | BF66: 150 | BG66: 14 | BH66: 21 | BI66: 150 | BJ66: 0 | BK66: 359 | BL66: 35 | BM66: 30 | BN66: 359 | BO66: 30 | BP66: 13 | BQ66: 3 | BR66: 0 | BS66: 43 | BT66: 19 | BU66: 1 | BV66: 7 | BW66: 0 | BX66: 20 | BY66: 31 | BZ66: 7 | CA66: 10 | CB66: 0 | CC66: 38 | CD66: 36 | CE66: 6 | CF66: 5 | CG66: 0 | CH66: 42 | CI66: 32 | CJ66: 5 | CK66: 4 | CL66: 0 | CM66: 37 | CN66: 11 | CO66: 0 | CP66: 0 | CQ66: 0 | CR66: 11 | CS66: 85 | CT66: 16 | CU66: 7 | CV66: 0 | CW66: 101 | CX66: 116 | CY66: 22 | CZ66: 9 | DA66: 0 | DB66: 138 | DC66: 20 | DD66: 0 | DE66: 0 | DF66: 0 | DG66: 20 | DH66: 59 | DI66: 11 | DJ66: 0 | DK66: 0 | DL66: 70 | DM66: 118 | DN66: 18 | DO66: 7 | DP66: 0 | DQ66: 136 | DR66: 43 | DS66: 15 | DT66: 2 | DU66: 0 | DV66: 58 | DW66: =SUM(B66+G66+L66+Q66+V66+AA66+AF66+AK66+AP66+AU66+AZ66+BE66+BJ66+BO66+BT66+BY66+CD66+CI66+CN66+CS66+CX66+DC66+DH66+DM66+DR66) -> 600 | DX66: =SUM(C66+H66+M66+R66+W66+AB66+AG66+AL66+AQ66+AV66+BA66+BF66+BK66+BP66+BU66+BZ66+CE66+CJ66+CO66+CT66+CY66+DD66+DI66+DN66+DS66) -> 1935 | DY66: =SUM(D66+I66+N66+S66+X66+AC66+AH66+AM66+AR66+AW66+BB66+BG66+BL66+BQ66+BV66+CA66+CF66+CK66+CP66+CU66+CZ66+DE66+DJ66+DO66+DT66) -> 244 | DZ66: =SUM(E66+J66+O66+T66+Y66+AD66+AI66+AN66+AS66+AX66+BC66+BH66+BM66+BR66+BW66+CB66+CG66+CL66+CQ66+CV66+DA66+DF66+DK66+DP66+DU66) -> 181 | EA66: =SUM(F66+K66+P66+U66+Z66+AE66+AJ66+AO66+AT66+AY66+BD66+BI66+BN66+BS66+BX66+CC66+CH66+CM66+CR66+CW66+DB66+DG66+DL66+DQ66+DV66) -> 2535 | EB66: 194/(2535-181)= | EH66: =DY67/(EA66-DZ66) -> 0.082412914
A67: Feb-Jun 2011 | V67: 0 | W67: 77 | X67: 13 | Y67: 12 | Z67: 77 | AA67: 0 | AB67: 116 | AC67: -3 | AD67: 9 | AE67: 116 | AF67: 0 | AG67: 380 | AH67: 23 | AI67: 38 | AJ67: 380 | AK67: 0 | AL67: 165 | AM67: 10 | AN67: 21 | AO67: 165 | AP67: 0 | AQ67: 113 | AR67: 2 | AS67: 10 | AT67: 113 | AU67: 0 | AV67: 120 | AW67: 3 | AX67: 8 | AY67: 120 | AZ67: 0 | BA67: 151 | BB67: 12 | BC67: 17 | BD67: 151 | BE67: 0 | BF67: 124 | BG67: 5 | BH67: 15 | BI67: 124 | BJ67: 0 | BK67: 301 | BL67: 28 | BM67: 47 | BN67: 301 | BO67: 10 | BP67: 39 | BQ67: 4 | BR67: 0 | BS67: 49 | BT67: 9 | BU67: 19 | BV67: 1 | BW67: 0 | BX67: 28 | BY67: 21 | BZ67: 32 | CA67: 6 | CB67: 0 | CC67: 53 | CD67: 16 | CE67: 38 | CF67: 4 | CG67: 0 | CH67: 54 | CI67: 1 | CJ67: 33 | CK67: 4 | CL67: 0 | CM67: 34 | CN67: 12 | CO67: 11 | CP67: 0 | CQ67: 0 | CR67: 23 | CS67: 40 | CT67: 77 | CU67: 24 | CV67: 0 | CW67: 117 | CX67: 63 | CY67: 123 | CZ67: 15 | DA67: 0 | DB67: 186 | DC67: 7 | DD67: 14 | DE67: 6 | DF67: 0 | DG67: 21 | DH67: 28 | DI67: 58 | DJ67: 12 | DK67: 0 | DL67: 86 | DM67: 48 | DN67: 120 | DO67: 16 | DP67: 0 | DQ67: 168 | DR67: 15 | DS67: 49 | DT67: 9 | DU67: 0 | DV67: 64 | DW67: =SUM(B67+G67+L67+Q67+V67+AA67+AF67+AK67+AP67+AU67+AZ67+BE67+BJ67+BO67+BT67+BY67+CD67+CI67+CN67+CS67+CX67+DC67+DH67+DM67+DR67) -> 270 | DX67: =SUM(C67+H67+M67+R67+W67+AB67+AG67+AL67+AQ67+AV67+BA67+BF67+BK67+BP67+BU67+BZ67+CE67+CJ67+CO67+CT67+CY67+DD67+DI67+DN67+DS67) -> 2160 | DY67: =SUM(D67+I67+N67+S67+X67+AC67+AH67+AM67+AR67+AW67+BB67+BG67+BL67+BQ67+BV67+CA67+CF67+CK67+CP67+CU67+CZ67+DE67+DJ67+DO67+DT67) -> 194 | DZ67: =SUM(E67+J67+O67+T67+Y67+AD67+AI67+AN67+AS67+AX67+BC67+BH67+BM67+BR67+BW67+CB67+CG67+CL67+CQ67+CV67+DA67+DF67+DK67+DP67+DU67) -> 177 | EA67: =SUM(F67+K67+P67+U67+Z67+AE67+AJ67+AO67+AT67+AY67+BD67+BI67+BN67+BS67+BX67+CC67+CH67+CM67+CR67+CW67+DB67+DG67+DL67+DQ67+DV67) -> 2430 | EB67: 213/(2430-177)= | EH67: =DY68/(EA67-DZ67) -> 0.094540613
A68: Ago-Dic 2011 | V68: 0 | W68: 65 | X68: 0 | Y68: 6 | Z68: 65 | AA68: 0 | AB68: 94 | AC68: 13 | AD68: 12 | AE68: 94 | AF68: 0 | AG68: 319 | AH68: 23 | AI68: 49 | AJ68: 319 | AK68: 0 | AL68: 125 | AM68: 19 | AN68: 20 | AO68: 125 | AP68: 0 | AQ68: 92 | AR68: 11 | AS68: 7 | AT68: 92 | AU68: 0 | AV68: 103 | AW68: 9 | AX68: 26 | AY68: 103 | AZ68: 0 | BA68: 131 | BB68: 3 | BC68: 16 | BD68: 131 | BE68: 0 | BF68: 107 | BG68: 2 | BH68: 13 | BI68: 107 | BJ68: 0 | BK68: 248 | BL68: 6 | BM68: 31 | BN68: 248 | BO68: 55 | BP68: 45 | BQ68: 4 | BR68: 0 | BS68: 100 | BT68: 26 | BU68: 24 | BV68: 4 | BW68: 0 | BX68: 50 | BY68: 56 | BZ68: 38 | CA68: 15 | CB68: 0 | CC68: 94 | CD68: 44 | CE68: 44 | CF68: 10 | CG68: 0 | CH68: 88 | CI68: 42 | CJ68: 32 | CK68: 2 | CL68: 0 | CM68: 74 | CN68: 34 | CO68: 19 | CP68: 4 | CQ68: 0 | CR68: 53 | CS68: 111 | CT68: 87 | CU68: 30 | CV68: 0 | CW68: 198 | CX68: 195 | CY68: 185 | CZ68: 1 | DA68: 0 | DB68: 380 | DC68: 36 | DD68: 18 | DE68: 3 | DF68: 0 | DG68: 54 | DH68: 93 | DI68: 68 | DJ68: 18 | DK68: 0 | DL68: 161 | DM68: 164 | DN68: 150 | DO68: 18 | DP68: 0 | DQ68: 314 | DR68: 66 | DS68: 46 | DT68: 18 | DU68: 0 | DV68: 112 | DW68: =SUM(B68+G68+L68+Q68+V68+AA68+AF68+AK68+AP68+AU68+AZ68+BE68+BJ68+BO68+BT68+BY68+CD68+CI68+CN68+CS68+CX68+DC68+DH68+DM68+DR68) -> 922 | DX68: =SUM(C68+H68+M68+R68+W68+AB68+AG68+AL68+AQ68+AV68+BA68+BF68+BK68+BP68+BU68+BZ68+CE68+CJ68+CO68+CT68+CY68+DD68+DI68+DN68+DS68) -> 2040 | DY68: =SUM(D68+I68+N68+S68+X68+AC68+AH68+AM68+AR68+AW68+BB68+BG68+BL68+BQ68+BV68+CA68+CF68+CK68+CP68+CU68+CZ68+DE68+DJ68+DO68+DT68) -> 213 | DZ68: =SUM(E68+J68+O68+T68+Y68+AD68+AI68+AN68+AS68+AX68+BC68+BH68+BM68+BR68+BW68+CB68+CG68+CL68+CQ68+CV68+DA68+DF68+DK68+DP68+DU68) -> 180 | EA68: =SUM(F68+K68+P68+U68+Z68+AE68+AJ68+AO68+AT68+AY68+BD68+BI68+BN68+BS68+BX68+CC68+CH68+CM68+CR68+CW68+DB68+DG68+DL68+DQ68+DV68) -> 2962 | EB68: 316/(2962-180)= | EH68: =DY69/(EA68-DZ68) -> 0.11358735
A69: Feb-Jun 2012 | V69: 0 | W69: 48 | X69: 11 | Y69: 7 | Z69: 48 | AA69: 0 | AB69: 80 | AC69: 2 | AD69: 4 | AE69: 80 | AF69: 0 | AG69: 257 | AH69: 13 | AI69: 34 | AJ69: 257 | AK69: 0 | AL69: 104 | AM69: 1 | AN69: 14 | AO69: 104 | AP69: 0 | AQ69: 80 | AR69: 5 | AS69: 6 | AT69: 80 | AU69: 0 | AV69: 72 | AW69: 5 | AX69: 13 | AY69: 72 | AZ69: 0 | BA69: 108 | BB69: 7 | BC69: 14 | BD69: 108 | BE69: 0 | BF69: 92 | BG69: 2 | BH69: 10 | BI69: 92 | BJ69: 0 | BK69: 198 | BL69: 19 | BM69: 23 | BN69: 198 | BO69: 0 | BP69: 88 | BQ69: 12 | BR69: 0 | BS69: 88 | BT69: 0 | BU69: 32 | BV69: 18 | BW69: 0 | BX69: 32 | BY69: 20 | BZ69: 73 | CA69: 21 | CB69: 0 | CC69: 93 | CD69: 1 | CE69: 78 | CF69: 10 | CG69: 0 | CH69: 79 | CI69: 0 | CJ69: 65 | CK69: 9 | CL69: 0 | CM69: 65 | CN69: 0 | CO69: 43 | CP69: 10 | CQ69: 0 | CR69: 43 | CS69: 31 | CT69: 163 | CU69: 35 | CV69: 0 | CW69: 194 | CX69: 61 | CY69: 337 | CZ69: 43 | DA69: 0 | DB69: 398 | DC69: 0 | DD69: 40 | DE69: 14 | DF69: 0 | DG69: 40 | DH69: 0 | DI69: 147 | DJ69: 14 | DK69: 0 | DL69: 147 | DM69: 41 | DN69: 278 | DO69: 36 | DP69: 0 | DQ69: 319 | DR69: 0 | DS69: 83 | DT69: 29 | DU69: 0 | DV69: 83 | DW69: =SUM(B69+G69+L69+Q69+V69+AA69+AF69+AK69+AP69+AU69+AZ69+BE69+BJ69+BO69+BT69+BY69+CD69+CI69+CN69+CS69+CX69+DC69+DH69+DM69+DR69) -> 154 | DX69: =SUM(C69+H69+M69+R69+W69+AB69+AG69+AL69+AQ69+AV69+BA69+BF69+BK69+BP69+BU69+BZ69+CE69+CJ69+CO69+CT69+CY69+DD69+DI69+DN69+DS69) -> 2466 | DY69: =SUM(D69+I69+N69+S69+X69+AC69+AH69+AM69+AR69+AW69+BB69+BG69+BL69+BQ69+BV69+CA69+CF69+CK69+CP69+CU69+CZ69+DE69+DJ69+DO69+DT69) -> 316 | DZ69: =SUM(E69+J69+O69+T69+Y69+AD69+AI69+AN69+AS69+AX69+BC69+BH69+BM69+BR69+BW69+CB69+CG69+CL69+CQ69+CV69+DA69+DF69+DK69+DP69+DU69) -> 125 | EA69: =SUM(F69+K69+P69+U69+Z69+AE69+AJ69+AO69+AT69+AY69+BD69+BI69+BN69+BS69+BX69+CC69+CH69+CM69+CR69+CW69+DB69+DG69+DL69+DQ69+DV69) -> 2620 | EB69: 213/(2620-125)= | EH69: =DY70/(EA69-DZ69) -> 0.085370741
A70: Ago-Dic 2012 | V70: 0 | W70: =Z70-V70 -> 44 | X70: -3 | Y70: 6 | Z70: =5+39 -> 44 | AA70: 0 | AB70: 62 | AC70: 4 | AD70: 4 | AE70: =AA70+AB70 -> 62 | AF70: 0 | AG70: =AJ70-AF70 -> 205 | AH70: =AJ69-AI69-AG70 -> 18 | AI70: 42 | AJ70: =71+134 -> 205 | AK70: 0 | AL70: =AO70-AK70 -> 90 | AM70: =AO69-AN69-AL70 -> 0 | AN70: 15 | AO70: =8+82 -> 90 | AP70: 0 | AQ70: =AT70-AP70 -> 68 | AR70: =AT69-AS69-AQ70 -> 6 | AS70: 8 | AT70: =27+41 -> 68 | AU70: 0 | AV70: =AY70-AU70 -> 57 | AW70: =AY69-AX69-AV70 -> 2 | AX70: 15 | AY70: =31+26 -> 57 | AZ70: 0 | BA70: =BD70-AZ70 -> 94 | BB70: =BD69-BC69-BA70 -> 0 | BC70: 11 | BD70: =19+75 -> 94 | BE70: 0 | BF70: =BI70-BE70 -> 79 | BG70: =BI69-BH69-BF70 -> 3 | BH70: 13 | BI70: =42+37 -> 79 | BJ70: 0 | BK70: =BN70-BJ70 -> 158 | BL70: =BN69-BM69-BK70 -> 17 | BM70: 24 | BN70: =9+149 -> 158 | BO70: 51 | BP70: 88 | BQ70: 0 | BR70: 0 | BS70: =80+60 -> 140 | BT70: 43 | BU70: =BX70-BT70 -> 31 | BV70: =BX69-BW69-BU70 -> 1 | BW70: 0 | BX70: =35+39 -> 74 | BY70: 70 | BZ70: =CC70-BY70 -> 80 | CA70: =CC69-CB69-BZ70 -> 13 | CC70: =96+54 -> 150 | CD70: 50 | CE70: =CH70-CD70 -> 70 | CF70: =CH69-CG69-CE70 -> 9 | CG70: 0 | CH70: =6+114 -> 120 | CI70: 46 | CJ70: =CM70-CI70 -> 64 | CK70: =CM69-CL69-CJ70 -> 1 | CL70: 0 | CM70: =17+93 -> 110 | CN70: 47 | CO70: =CR70-CN70 -> 42 | CP70: =CR69-CQ69-CO70 -> 1 | CQ70: 0 | CR70: =21+68 -> 89 | CS70: 90 | CT70: =CW70-CS70 -> 159 | CU70: =CW69-CV69-CT70 -> 35 | CV70: 0 | CW70: =49+200 -> 249 | CX70: 125 | CY70: =DB70-CX70 -> 361 | CZ70: =DB69-DA69-CY70 -> 37 | DA70: 0 | DB70: =164+322 -> 486 | DC70: 23 | DD70: =DG70-DC70 -> 34 | DE70: =DG69-DF69-DD70 -> 6 | DF70: 0 | DG70: =18+39 -> 57 | DH70: 82 | DI70: =DL70-DH70 -> 127 | DJ70: =DL69-DK69-DI70 -> 20 | DK70: 0 | DL70: =8+201 -> 209 | DM70: 133 | DN70: =DQ70-DM70 -> 288 | DO70: =DQ69-DP69-DN70 -> 31 | DP70: 0 | DQ70: =41+380 -> 421 | DR70: 67 | DS70: =DV70-DR70 -> 71 | DT70: =DV69-DU69-DS70 -> 12 | DU70: 0 | DV70: =70+68 -> 138 | DW70: =SUM(B70+G70+L70+Q70+V70+AA70+AF70+AK70+AP70+AU70+AZ70+BE70+BJ70+BO70+BT70+BY70+CD70+CI70+CN70+CS70+CX70+DC70+DH70+DM70+DR70) -> 827 | DX70: =SUM(C70+H70+M70+R70+W70+AB70+AG70+AL70+AQ70+AV70+BA70+BF70+BK70+BP70+BU70+BZ70+CE70+CJ70+CO70+CT70+CY70+DD70+DI70+DN70+DS70) -> 2272 | DY70: =SUM(D70+I70+N70+S70+X70+AC70+AH70+AM70+AR70+AW70+BB70+BG70+BL70+BQ70+BV70+CA70+CF70+CK70+CP70+CU70+CZ70+DE70+DJ70+DO70+DT70) -> 213 | DZ70: =SUM(E70+J70+O70+T70+Y70+AD70+AI70+AN70+AS70+AX70+BC70+BH70+BM70+BR70+BW70+CB70+CG70+CL70+CQ70+CV70+DA70+DF70+DK70+DP70+DU70) -> 138 | EA70: =SUM(F70+K70+P70+U70+Z70+AE70+AJ70+AO70+AT70+AY70+BD70+BI70+BN70+BS70+BX70+CC70+CH70+CM70+CR70+CW70+DB70+DG70+DL70+DQ70+DV70) -> 3100 | EB70: 347/(3110-138)= | EH70: =DY71/(EA70-DZ70) -> 0.11377448
A71: Feb-Jun 2013 | V71: 0 | W71: 37 | X71: =Z70-Y70-W71 -> 1 | Y71: 12 | Z71: 37 | AA71: 0 | AB71: 62 | AC71: =AE70-AD70-AB71 -> -4 | AD71: 15 | AE71: =AA71+AB71 -> 62 | AF71: 0 | AG71: 157 | AH71: =AJ70-AI70-AG71 -> 6 | AI71: 45 | AJ71: =AG71+AF71 -> 157 | AK71: 0 | AL71: 62 | AM71: =AO70-AN70-AL71 -> 13 | AN71: 16 | AO71: =AL71+AK71 -> 62 | AP71: 0 | AQ71: 52 | AR71: =AT70-AS70-AQ71 -> 8 | AS71: 14 | AT71: =AQ71+AP71 -> 52 | AU71: 0 | AV71: 40 | AW71: =AY70-AX70-AV71 -> 2 | AX71: 9 | AY71: =AV71+AU71 -> 40 | AZ71: 0 | BA71: 82 | BB71: =BD70-BC70-BA71 -> 1 | BC71: 15 | BD71: =AZ71+BA71 -> 82 | BE71: 0 | BF71: 63 | BG71: =BI70-BH70-BF71 -> 3 | BH71: 23 | BI71: =BE71+BF71 -> 63 | BJ71: 0 | BK71: 125 | BL71: =BN70-BM70-BK71 -> 9 | BM71: 21 | BN71: =BJ71+BK71 -> 125 | BO71: 9 | BP71: 138 | BQ71: =BS70-BR70-BP71 -> 2 | BR71: 0 | BS71: =BO71+BP71 -> 147 | BT71: 8 | BU71: 62 | BV71: =BX70-BW70-BU71 -> 12 | BW71: 0 | BX71: =BT71+BU71 -> 70 | BY71: 22 | BZ71: 119 | CA71: =CC70-CB70-BZ71 -> 31 | CB71: 0 | CC71: =BY71+BZ71 -> 141 | CD71: 13 | CE71: 108 | CF71: =CH70-CG70-CE71 -> 12 | CG71: 0 | CH71: =CD71+CE71 -> 121 | CI71: 3 | CJ71: 92 | CK71: =CM70-CL70-CJ71 -> 18 | CL71: 0 | CM71: =CI71+CJ71 -> 95 | CN71: 14 | CO71: 80 | CP71: =CR70-CQ70-CO71 -> 9 | CQ71: 0 | CR71: =CN71+CO71 -> 94 | CS71: 23 | CT71: 196 | CU71: =CW70-CV70-CT71 -> 53 | CV71: 0 | CW71: =CS71+CT71 -> 219 | CX71: 79 | CY71: 437 | CZ71: =DB70-DA70-CY71 -> 49 | DA71: 0 | DB71: =CX71+CY71 -> 516 | DC71: 0 | DD71: 46 | DE71: =DG70-DF70-DD71 -> 11 | DF71: 0 | DG71: =DC71+DD71 -> 46 | DH71: 21 | DI71: 168 | DJ71: =DL70-DK70-DI71 -> 41 | DK71: 0 | DL71: =DI71+DH71 -> 189 | DM71: 42 | DN71: 372 | DO71: =DQ70-DP70-DN71 -> 49 | DP71: 0 | DQ71: =DM71+DN71 -> 414 | DR71: 12 | DS71: 127 | DT71: =DV70-DU70-DS71 -> 11 | DU71: 0 | DV71: =DS71+DR71 -> 139 | DW71: =SUM(B71+G71+L71+Q71+V71+AA71+AF71+AK71+AP71+AU71+AZ71+BE71+BJ71+BO71+BT71+BY71+CD71+CI71+CN71+CS71+CX71+DC71+DH71+DM71+DR71) -> 246 | DX71: =SUM(C71+H71+M71+R71+W71+AB71+AG71+AL71+AQ71+AV71+BA71+BF71+BK71+BP71+BU71+BZ71+CE71+CJ71+CO71+CT71+CY71+DD71+DI71+DN71+DS71) -> 2625 | DY71: =SUM(D71+I71+N71+S71+X71+AC71+AH71+AM71+AR71+AW71+BB71+BG71+BL71+BQ71+BV71+CA71+CF71+CK71+CP71+CU71+CZ71+DE71+DJ71+DO71+DT71) -> 337 | DZ71: =SUM(E71+J71+O71+T71+Y71+AD71+AI71+AN71+AS71+AX71+BC71+BH71+BM71+BR71+BW71+CB71+CG71+CL71+CQ71+CV71+DA71+DF71+DK71+DP71+DU71) -> 170 | EA71: =SUM(F71+K71+P71+U71+Z71+AE71+AJ71+AO71+AT71+AY71+BD71+BI71+BN71+BS71+BX71+CC71+CH71+CM71+CR71+CW71+DB71+DG71+DL71+DQ71+DV71) -> 2871 | EB71: 200/(2881-224)= | EH71: =DY72/(EA71-DZ71) -> 0.069233617
A72: Ago-Dic 2013 | V72: 0 | W72: 25 | X72: =Z71-Y71-W72 -> 0 | Y72: 10 | Z72: =V72+W72 -> 25 | AA72: 0 | AB72: 48 | AC72: =AE71-AD71-AB72 -> -1 | AD72: 22 | AE72: =AA72+AB72 -> 48 | AF72: 0 | AG72: 116 | AH72: =AJ71-AI71-AG72 -> -4 | AI72: 37 | AJ72: =AF72+AG72 -> 116 | AK72: 0 | AL72: 53 | AM72: =AO71-AN71-AL72 -> -7 | AN72: 22 | AO72: =AK72+AL72 -> 53 | AP72: 0 | AQ72: 44 | AR72: =AT71-AS71-AQ72 -> -6 | AS72: 7 | AT72: =AP72+AQ72 -> 44 | AU72: 0 | AV72: 31 | AW72: =AY71-AX71-AV72 -> 0 | AX72: 13 | AY72: =AU72+AV72 -> 31 | AZ72: 0 | BA72: 62 | BB72: =BD71-BC71-BA72 -> 5 | BC72: 30 | BD72: =AZ72+BA72 -> 62 | BE72: 0 | BF72: 45 | BG72: =BI71-BH71-BF72 -> -5 | BH72: 29 | BI72: =BE72+BF72 -> 45 | BJ72: 0 | BK72: 99 | BL72: =BN71-BM71-BK72 -> 5 | BM72: 40 | BN72: =BJ72+BK72 -> 99 | BO72: 42 | BP72: 137 | BQ72: =BS71-BR71-BP72 -> 10 | BR72: 0 | BS72: =BO72+BP72 -> 179 | BT72: 61 | BU72: 68 | BV72: =BX71-BW71-BU72 -> 2 | BW72: 0 | BX72: =BT72+BU72 -> 129 | BY72: 48 | BZ72: 129 | CA72: =CC71-CB71-BZ72 -> 12 | CB72: 0 | CC72: =BY72+BZ72 -> 177 | CD72: 49 | CE72: 115 | CF72: =CH71-CG71-CE72 -> 6 | CG72: 0 | CH72: =CD72+CE72 -> 164 | CI72: 41 | CJ72: 84 | CK72: =CM71-CL71-CJ72 -> 11 | CL72: 0 | CM72: =CI72+CJ72 -> 125 | CN72: 69 | CO72: 81 | CP72: =CR71-CQ71-CO72 -> 13 | CQ72: 0 | CR72: =CN72+CO72 -> 150 | CS72: 80 | CT72: 195 | CU72: =CW71-CV71-CT72 -> 24 | CV72: 0 | CW72: =CS72+CT72 -> 275 | CX72: 121 | CY72: 472 | CZ72: =DB71-DA71-CY72 -> 44 | DA72: 0 | DB72: =CX72+CY72 -> 593 | DC72: 0 | DD72: 39 | DE72: =DG71-DF71-DD72 -> 7 | DF72: 0 | DG72: =DC72+DD72 -> 39 | DH72: 76 | DI72: 169 | DJ72: =DL71-DK71-DI72 -> 20 | DK72: 0 | DL72: =DH72+DI72 -> 245 | DM72: 89 | DN72: 373 | DO72: =DQ71-DP71-DN72 -> 41 | DP72: 0 | DQ72: =DM72+DN72 -> 462 | DR72: 43 | DS72: 129 | DT72: =DV71-DU71-DS72 -> 10 | DU72: 0 | DV72: =DR72+DS72 -> 172 | DW72: =SUM(B72+G72+L72+Q72+V72+AA72+AF72+AK72+AP72+AU72+AZ72+BE72+BJ72+BO72+BT72+BY72+CD72+CI72+CN72+CS72+CX72+DC72+DH72+DM72+DR72) -> 719 | DX72: =SUM(C72+H72+M72+R72+W72+AB72+AG72+AL72+AQ72+AV72+BA72+BF72+BK72+BP72+BU72+BZ72+CE72+CJ72+CO72+CT72+CY72+DD72+DI72+DN72+DS72) -> 2514 | DY72: =EA71-DZ71-DX72 -> 187 | DZ72: =SUM(E72+J72+O72+T72+Y72+AD72+AI72+AN72+AS72+AX72+BC72+BH72+BM72+BR72+BW72+CB72+CG72+CL72+CQ72+CV72+DA72+DF72+DK72+DP72+DU72) -> 210 | EA72: =SUM(F72+K72+P72+U72+Z72+AE72+AJ72+AO72+AT72+AY72+BD72+BI72+BN72+BS72+BX72+CC72+CH72+CM72+CR72+CW72+DB72+DG72+DL72+DQ72+DV72) -> 3233 | EB72: 253/(3342-164)= | EH72: =DY73/(EA72-DZ72) -> 0.0714522
A73: Feb-Jun 2014 | V73: 0 | W73: =Z72-Y72-X72 -> 15 | X73: 1 | Y73: 9 | Z73: =V73+W73 -> 15 | AA73: 0 | AB73: =AE72-AD72-1 -> 25 | AC73: 1 | AD73: 15 | AE73: =AA73+AB73 -> 25 | AF73: 0 | AG73: =AJ72-AI72-AH73 -> 75 | AH73: 4 | AI73: 50 | AJ73: =AF73+AG73 -> 75 | AK73: 0 | AL73: =AO72-AN72 -> 31 | AM73: =AO72-AN72-AL73 -> 0 | AN73: 20 | AO73: =AK73+AL73 -> 31 | AP73: 0 | AQ73: =AT72-AS72-AR73 -> 35 | AR73: 2 | AS73: 15 | AT73: =AP73+AQ73 -> 35 | AU73: 0 | AV73: =AY72-AX72-AW73 -> 17 | AW73: 1 | AX73: 8 | AY73: =AU73+AV73 -> 17 | AZ73: 0 | BA73: =BD72-BC72 -> 32 | BB73: 0 | BC73: 30 | BD73: =AZ73+BA73 -> 32 | BE73: 0 | BF73: =BI72-BH72 -> 16 | BG73: =BI72-BH72-BF73 -> 0 | BH73: 16 | BI73: =BE73+BF73 -> 16 | BJ73: 0 | BK73: =BN72-BM72-BL73 -> 55 | BL73: 4 | BM73: 20 | BN73: =BJ73+BK73 -> 55 | BO73: 15 | BP73: =BS72-BR72-BQ73 -> 174 | BQ73: 5 | BR73: 10 | BS73: =BO73+BP73 -> 189 | BT73: 15 | BU73: 90 | BV73: =BX72-BW72-BU73 -> 39 | BW73: 5 | BX73: =BT73+BU73 -> 105 | BY73: 35 | BZ73: 180 | CA73: 10 | CB73: 5 | CC73: =BY73+BZ73 -> 215 | CD73: 20 | CE73: 165 | CF73: 6 | CG73: 0 | CH73: =CD73+CE73 -> 185 | CI73: 15 | CJ73: 130 | CK73: 10 | CL73: 0 | CM73: =CI73+CJ73 -> 145 | CN73: 15 | CO73: 130 | CP73: =CR72-CQ72-CO73 -> 20 | CQ73: 0 | CR73: =CN73+CO73 -> 145 | CS73: 25 | CT73: 250 | CU73: =CW72-CV72-CT73 -> 25 | CV73: 5 | CW73: =CS73+CT73 -> 275 | CX73: 80 | CY73: 590 | CZ73: =DB72-DA72-CY73 -> 3 | DA73: 10 | DB73: =CX73+CY73 -> 670 | DC73: 0 | DD73: 55 | DE73: 5 | DF73: 4 | DG73: =DC73+DD73 -> 55 | DH73: 20 | DI73: 210 | DJ73: =DL72-DK72-DI73 -> 35 | DK73: 4 | DL73: =DH73+DI73 -> 230 | DM73: 80 | DN73: 500 | DO73: 35 | DP73: 0 | DQ73: =DM73+DN73 -> 580 | DR73: 20 | DS73: 185 | DT73: 10 | DU73: 7 | DV73: =DR73+DS73 -> 205 | DW73: =SUM(B73+G73+L73+Q73+V73+AA73+AF73+AK73+AP73+AU73+AZ73+BE73+BJ73+BO73+BT73+BY73+CD73+CI73+CN73+CS73+CX73+DC73+DH73+DM73+DR73) -> 340 | DX73: =SUM(C73+H73+M73+R73+W73+AB73+AG73+AL73+AQ73+AV73+BA73+BF73+BK73+BP73+BU73+BZ73+CE73+CJ73+CO73+CT73+CY73+DD73+DI73+DN73+DS73) -> 2960 | DY73: =SUM(D73+I73+N73+S73+X73+AC73+AH73+AM73+AR73+AW73+BB73+BG73+BL73+BQ73+BV73+CA73+CF73+CK73+CP73+CU73+CZ73+DE73+DJ73+DO73+DT73) -> 216 | DZ73: =SUM(E73+J73+O73+T73+Y73+AD73+AI73+AN73+AS73+AX73+BC73+BH73+BM73+BR73+BW73+CB73+CG73+CL73+CQ73+CV73+DA73+DF73+DK73+DP73+DU73) -> 233 | EA73: =SUM(F73+K73+P73+U73+Z73+AE73+AJ73+AO73+AT73+AY73+BD73+BI73+BN73+BS73+BX73+CC73+CH73+CM73+CR73+CW73+DB73+DG73+DL73+DQ73+DV73) -> 3300 | EB73: 176/(3265-237)= | EH73: =DY74/(EA73-DZ73) -> 0.056406912
A74: Ago-Dic 2014 | V74: 0 | W74: =Z73-Y73-X73 -> 5 | X74: =Z73-Y73-W74 -> 1 | Y74: 5 | Z74: =V74+W74 -> 5 | AA74: 0 | AB74: =AE73-AD73 -> 10 | AC74: 0 | AD74: 10 | AE74: =AA74+AB74 -> 10 | AF74: 0 | AG74: =AJ73-AI73 -> 25 | AH74: =AJ73-AI73-AG74 -> 0 | AI74: 3 | AJ74: =AF74+AG74 -> 25 | AK74: 0 | AL74: =AO73-AN73 -> 11 | AM74: =AO73-AN73-AL74 -> 0 | AN74: 5 | AO74: =AK74+AL74 -> 11 | AP74: 0 | AQ74: =AT73-AS73 -> 20 | AR74: =AT73-AS73-AQ74 -> 0 | AS74: 3 | AT74: =AP74+AQ74 -> 20 | AU74: 0 | AV74: =AY73-AX73 -> 9 | AW74: =AY73-AX73-AV74 -> 0 | AX74: 0 | AY74: =AU74+AV74 -> 9 | AZ74: 0 | BA74: =BD73-BC73 -> 2 | BB74: =BD73-BC73-BA74 -> 0 | BC74: 2 | BD74: =AZ74+BA74 -> 2 | BE74: 0 | BF74: =BI73-BH73 -> 0 | BG74: =BI73-BH73-BF74 -> 0 | BH74: 0 | BI74: =BE74+BF74 -> 0 | BJ74: 0 | BK74: =BN73-BM73-BL74 -> 35 | BL74: 0 | BM74: 16 | BN74: =BJ74+BK74 -> 35 | BO74: 35 | BP74: =BS73-BR73-BQ74 -> 174 | BQ74: 5 | BR74: 15 | BS74: =BO74+BP74 -> 209 | BT74: 35 | BU74: 95 | BV74: =BX73-BW73-BU74 -> 5 | BW74: 5 | BX74: =BT74+BU74 -> 130 | BY74: 70 | BZ74: 195 | CA74: =CC73-CB73-BZ74 -> 15 | CB74: 10 | CC74: =BY74+BZ74 -> 265 | CD74: 60 | CE74: 175 | CF74: =CH73-CG73-CE74 -> 10 | CG74: 10 | CH74: =CD74+CE74 -> 235 | CI74: 50 | CJ74: 135 | CK74: =CM73-CL73-CJ74 -> 10 | CL74: 10 | CM74: =CI74+CJ74 -> 185 | CN74: 50 | CO74: 140 | CP74: =CR73-CQ73-CO74 -> 5 | CQ74: 3 | CR74: =CN74+CO74 -> 190 | CS74: 90 | CT74: 240 | CU74: =CW73-CV73-CT74 -> 30 | CV74: 10 | CW74: =CS74+CT74 -> 330 | CX74: 160 | CY74: 630 | CZ74: =DB73-DA73-CY74 -> 30 | DA74: 40 | DB74: =CX74+CY74 -> 790 | DC74: 25 | DD74: 50 | DE74: =DG73-DF73-DD74 -> 1 | DF74: 4 | DG74: =DC74+DD74 -> 75 | DH74: 80 | DI74: 210 | DJ74: =DL73-DK73-DI74 -> 16 | DK74: 20 | DL74: =DH74+DI74 -> 290 | DM74: 160 | DN74: 540 | DO74: 35 | DP74: 10 | DQ74: =DM74+DN74 -> 700 | DR74: 70 | DS74: 190 | DT74: 10 | DU74: 15 | DV74: =DR74+DS74 -> 260 | DW74: =SUM(B74+G74+L74+Q74+V74+AA74+AF74+AK74+AP74+AU74+AZ74+BE74+BJ74+BO74+BT74+BY74+CD74+CI74+CN74+CS74+CX74+DC74+DH74+DM74+DR74) -> 885 | DX74: =EA74-DW74 -> 2891 | DY74: =SUM(D74+I74+N74+S74+X74+AC74+AH74+AM74+AR74+AW74+BB74+BG74+BL74+BQ74+BV74+CA74+CF74+CK74+CP74+CU74+CZ74+DE74+DJ74+DO74+DT74) -> 173 | DZ74: =SUM(E74+J74+O74+T74+Y74+AD74+AI74+AN74+AS74+AX74+BC74+BH74+BM74+BR74+BW74+CB74+CG74+CL74+CQ74+CV74+DA74+DF74+DK74+DP74+DU74) -> 196 | EA74: =SUM(F74+K74+P74+U74+Z74+AE74+AJ74+AO74+AT74+AY74+BD74+BI74+BN74+BS74+BX74+CC74+CH74+CM74+CR74+CW74+DB74+DG74+DL74+DQ74+DV74) -> 3776 | EB74: 308/(3737-225)= | EH74: =DY75/(EA74-DZ74) -> 0.067877095
A75: Feb-Jun 2015 | V75: 0 | W75: =Z74-Y74 -> 0 | X75: =Z74-Y74-W75 -> 0 | Y75: 0 | Z75: =V75+W75 -> 0 | AA75: 0 | AB75: =AE74-AD74 -> 0 | AC75: =AE74-AD74-AB75 -> 0 | AD75: 0 | AE75: =AA75+AB75 -> 0 | AF75: 0 | AG75: =AJ74-AI74 -> 22 | AH75: =AJ74-AI74-AG75 -> 0 | AI75: 0 | AJ75: =AF75+AG75 -> 22 | AK75: 0 | AL75: =AO74-AN74 -> 6 | AM75: =AO74-AN74-AL75 -> 0 | AN75: 0 | AO75: =AK75+AL75 -> 6 | AP75: 0 | AQ75: =AT74-AS74 -> 17 | AR75: =AT74-AS74-AQ75 -> 0 | AS75: 0 | AT75: =AP75+AQ75 -> 17 | AU75: 0 | AV75: =AY74-AX74 -> 9 | AW75: =AY74-AX74-AV75 -> 0 | AX75: 0 | AY75: =AU75+AV75 -> 9 | AZ75: 0 | BA75: =BD74-BC74 -> 0 | BB75: 0 | BC75: 0 | BD75: =AZ75+BA75 -> 0 | BE75: 0 | BF75: =BI74-BH74 -> 0 | BG75: =BI74-BH74-BF75 -> 0 | BH75: 0 | BI75: =BE75+BF75 -> 0 | BJ75: 0 | BK75: =BN74-BM74 -> 19 | BL75: =BN74-BM74-BK75 -> 0 | BM75: 0 | BN75: =BJ75+BK75 -> 19 | BO75: 15 | BP75: =BS74-BR74-BQ75 -> 189 | BQ75: 5 | BR75: 10 | BS75: =BO75+BP75 -> 204 | BT75: 15 | BU75: 110 | BV75: =BX74-BW74-BU75 -> 15 | BW75: 5 | BX75: =BT75+BU75 -> 125 | BY75: 35 | BZ75: 225 | CA75: =CC74-CB74-BZ75 -> 30 | CB75: 15 | CC75: =BY75+BZ75 -> 260 | CD75: 20 | CE75: 215 | CF75: =CH74-CG74-CE75 -> 10 | CG75: 10 | CH75: =CD75+CE75 -> 235 | CI75: 15 | CJ75: 165 | CK75: =CM74-CL74-CJ75 -> 10 | CL75: 10 | CM75: =CI75+CJ75 -> 180 | CN75: 15 | CO75: 180 | CP75: =CR74-CQ74-CO75 -> 7 | CQ75: 5 | CR75: =CN75+CO75 -> 195 | CS75: 25 | CT75: 280 | CU75: 30 | CV75: 15 | CW75: =CS75+CT75 -> 305 | CX75: 80 | CY75: 710 | CZ75: =DB74-DA74-CY75 -> 40 | DA75: 30 | DB75: =CX75+CY75 -> 790 | DC75: 0 | DD75: 60 | DE75: =DG74-DF74-DD75 -> 11 | DF75: 10 | DG75: =DC75+DD75 -> 60 | DH75: 20 | DI75: 230 | DJ75: =DL74-DK74-DI75 -> 40 | DK75: 10 | DL75: =DH75+DI75 -> 250 | DM75: 80 | DN75: 600 | DO75: 35 | DP75: 30 | DQ75: =DM75+DN75 -> 680 | DR75: 20 | DS75: 235 | DT75: =DV74-DU74-DS75 -> 10 | DU75: 10 | DV75: =DR75+DS75 -> 255 | DW75: =SUM(B75+G75+L75+Q75+V75+AA75+AF75+AK75+AP75+AU75+AZ75+BE75+BJ75+BO75+BT75+BY75+CD75+CI75+CN75+CS75+CX75+DC75+DH75+DM75+DR75) -> 340 | DX75: =EA75-DW75 -> 3272 | DY75: =SUM(D75+I75+N75+S75+X75+AC75+AH75+AM75+AR75+AW75+BB75+BG75+BL75+BQ75+BV75+CA75+CF75+CK75+CP75+CU75+CZ75+DE75+DJ75+DO75+DT75) -> 243 | DZ75: =SUM(E75+J75+O75+T75+Y75+AD75+AI75+AN75+AS75+AX75+BC75+BH75+BM75+BR75+BW75+CB75+CG75+CL75+CQ75+CV75+DA75+DF75+DK75+DP75+DU75) -> 160 | EA75: =SUM(F75+K75+P75+U75+Z75+AE75+AJ75+AO75+AT75+AY75+BD75+BI75+BN75+BS75+BX75+CC75+CH75+CM75+CR75+CW75+DB75+DG75+DL75+DQ75+DV75) -> 3612
A76: Ago-Dic 2015 | V76: 0 | W76: =Z75-Y75 -> 0 | X76: =Z75-Y75-W76 -> 0 | Y76: 0 | Z76: =V76+W76 -> 0 | AA76: 0 | AB76: =AE75-AD75 -> 0 | AC76: =AE75-AD75-AB76 -> 0 | AD76: 0 | AE76: =AA76+AB76 -> 0 | AF76: 0 | AG76: =AJ75-AI75 -> 22 | AH76: =AJ75-AI75-AG76 -> 0 | AI76: 0 | AJ76: =AF76+AG76 -> 22 | AK76: 0 | AL76: =AO75-AN75 -> 6 | AM76: =AO75-AN75-AL76 -> 0 | AN76: 0 | AO76: =AK76+AL76 -> 6 | AP76: 0 | AQ76: =AT75-AS75 -> 17 | AR76: =AT75-AS75-AQ76 -> 0 | AS76: 0 | AT76: =AP76+AQ76 -> 17 | AU76: 0 | AV76: =AY75-AX75 -> 9 | AW76: =AY75-AX75-AV76 -> 0 | AX76: 0 | AY76: =AU76+AV76 -> 9 | AZ76: 0 | BA76: =BD75-BC75 -> 0 | BB76: =BD75-BC75-BA76 -> 0 | BC76: 0 | BD76: =AZ76+BA76 -> 0 | BE76: 0 | BF76: =BI75-BH75 -> 0 | BG76: =BI75-BH75-BF76 -> 0 | BH76: 0 | BI76: =BE76+BF76 -> 0 | BJ76: 0 | BK76: =BN75-BM75 -> 19 | BL76: =BN75-BM75-BK76 -> 0 | BM76: 0 | BN76: =BJ76+BK76 -> 19 | BO76: 35 | BP76: =BS75-BR75-BQ76 -> 189 | BQ76: 5 | BR76: 20 | BS76: =BO76+BP76 -> 224 | BT76: 35 | BU76: =BX75-BW75-BV76 -> 115 | BV76: 5 | BW76: 5 | BX76: =BT76+BU76 -> 150 | BY76: 70 | BZ76: =CC75-CB75-CA76 -> 230 | CA76: 15 | CB76: 15 | CC76: =BY76+BZ76 -> 300 | CD76: 60 | CE76: =CH75-CG75-CF76 -> 215 | CF76: 10 | CG76: 10 | CH76: =CD76+CE76 -> 275 | CI76: 50 | CJ76: =CM75-CL75-CK76 -> 160 | CK76: 10 | CL76: 15 | CM76: =CI76+CJ76 -> 210 | CN76: 50 | CO76: =CR75-CQ75-CP76 -> 182 | CP76: 8 | CQ76: 10 | CR76: =CN76+CO76 -> 232 | CS76: 90 | CT76: =CW75-CV75-CU76 -> 260 | CU76: 30 | CV76: 15 | CW76: =CS76+CT76 -> 350 | CX76: 160 | CY76: =DB75-DA75-CZ76 -> 730 | CZ76: 30 | DA76: 40 | DB76: =CX76+CY76 -> 890 | DC76: 25 | DD76: =DG75-DF75-DE76 -> 48 | DE76: 2 | DF76: 6 | DG76: =DC76+DD76 -> 73 | DH76: 80 | DI76: =DL75-DK75-DJ76 -> 225 | DJ76: 15 | DK76: 15 | DL76: =DH76+DI76 -> 305 | DM76: 160 | DN76: =DQ75-DP75-DO76 -> 615 | DO76: 35 | DP76: 40 | DQ76: =DM76+DN76 -> 775 | DR76: 70 | DS76: =DV75-DU75-DT76 -> 235 | DT76: 10 | DU76: 25 | DV76: =DR76+DS76 -> 305 | DW76: =SUM(B76+G76+L76+Q76+V76+AA76+AF76+AK76+AP76+AU76+AZ76+BE76+BJ76+BO76+BT76+BY76+CD76+CI76+CN76+CS76+CX76+DC76+DH76+DM76+DR76) -> 885 | DX76: =EA76-DW76 -> 3277 | DY76: =SUM(D76+I76+N76+S76+X76+AC76+AH76+AM76+AR76+AW76+BB76+BG76+BL76+BQ76+BV76+CA76+CF76+CK76+CP76+CU76+CZ76+DE76+DJ76+DO76+DT76) -> 175 | DZ76: =SUM(E76+J76+O76+T76+Y76+AD76+AI76+AN76+AS76+AX76+BC76+BH76+BM76+BR76+BW76+CB76+CG76+CL76+CQ76+CV76+DA76+DF76+DK76+DP76+DU76) -> 216 | EA76: =SUM(F76+K76+P76+U76+Z76+AE76+AJ76+AO76+AT76+AY76+BD76+BI76+BN76+BS76+BX76+CC76+CH76+CM76+CR76+CW76+DB76+DG76+DL76+DQ76+DV76) -> 4162
A77: Feb-Jun 2016 | V77: 0 | W77: =Z76-Y76 -> 0 | X77: =Z76-Y76-W77 -> 0 | Y77: 0 | Z77: =V77+W77 -> 0 | AA77: 0 | AB77: =AE76-AD76 -> 0 | AC77: =AE76-AD76-AB77 -> 0 | AD77: 0 | AE77: =AA77+AB77 -> 0 | AF77: 0 | AG77: =AJ76-AI76 -> 22 | AH77: =AJ76-AI76-AG77 -> 0 | AI77: 0 | AJ77: =AF77+AG77 -> 22 | AK77: 0 | AL77: =AO76-AN76 -> 6 | AM77: =AO76-AN76-AL77 -> 0 | AN77: 0 | AO77: =AK77+AL77 -> 6 | AP77: 0 | AQ77: =AT76-AS76 -> 17 | AR77: =AT76-AS76-AQ77 -> 0 | AS77: 0 | AT77: =AP77+AQ77 -> 17 | AU77: 0 | AV77: =AY76-AX76 -> 9 | AW77: =AY76-AX76-AV77 -> 0 | AX77: 0 | AY77: =AU77+AV77 -> 9 | AZ77: 0 | BA77: =BD76-BC76 -> 0 | BB77: =BD76-BC76-BA77 -> 0 | BC77: 0 | BD77: =AZ77+BA77 -> 0 | BE77: 0 | BF77: =BI76-BH76 -> 0 | BG77: =BI76-BH76-BF77 -> 0 | BH77: 0 | BI77: =BE77+BF77 -> 0 | BJ77: 0 | BK77: =BN76-BM76 -> 19 | BL77: =BN76-BM76-BK77 -> 0 | BM77: 0 | BN77: =BJ77+BK77 -> 19 | BO77: 15 | BP77: =BS76-BR76-BQ77 -> 199 | BQ77: 5 | BR77: 15 | BS77: =BO77+BP77 -> 214 | BT77: 15 | BU77: =BX76-BW76-BV77 -> 135 | BV77: 10 | BW77: 5 | BX77: =BT77+BU77 -> 150 | BY77: 35 | BZ77: =CC76-CB76-CA77 -> 260 | CA77: 25 | CB77: 20 | CC77: =BY77+BZ77 -> 295 | CD77: 20 | CE77: =CH76-CG76-CF77 -> 255 | CF77: 10 | CG77: 10 | CH77: =CD77+CE77 -> 275 | CI77: 15 | CJ77: =CM76-CL76-CK77 -> 185 | CK77: 10 | CL77: 10 | CM77: =CI77+CJ77 -> 200 | CN77: 15 | CO77: =CR76-CQ76-CP77 -> 214 | CP77: 8 | CQ77: 10 | CR77: =CN77+CO77 -> 229 | CS77: 25 | CT77: =CW76-CV76-CU77 -> 300 | CU77: 35 | CV77: 15 | CW77: =CS77+CT77 -> 325 | CX77: 80 | CY77: =DB76-DA76-CZ77 -> 815 | CZ77: 35 | DA77: 30 | DB77: =CX77+CY77 -> 895 | DC77: 0 | DD77: =DG76-DF76-DE77 -> 57 | DE77: 10 | DF77: 5 | DG77: =DC77+DD77 -> 57 | DH77: 20 | DI77: =DL76-DK76-DJ77 -> 255 | DJ77: 35 | DK77: 20 | DL77: =DH77+DI77 -> 275 | DM77: 80 | DN77: =DQ76-DP76-DO77 -> 700 | DO77: 35 | DP77: 30 | DQ77: =DM77+DN77 -> 780 | DR77: 20 | DS77: =DV76-DU76-DT77 -> 270 | DT77: 10 | DU77: 25 | DV77: =DR77+DS77 -> 290 | DW77: =SUM(B77+G77+L77+Q77+V77+AA77+AF77+AK77+AP77+AU77+AZ77+BE77+BJ77+BO77+BT77+BY77+CD77+CI77+CN77+CS77+CX77+DC77+DH77+DM77+DR77) -> 340 | DX77: =EA77-DW77 -> 3718 | DY77: =SUM(D77+I77+N77+S77+X77+AC77+AH77+AM77+AR77+AW77+BB77+BG77+BL77+BQ77+BV77+CA77+CF77+CK77+CP77+CU77+CZ77+DE77+DJ77+DO77+DT77) -> 228 | DZ77: =SUM(E77+J77+O77+T77+Y77+AD77+AI77+AN77+AS77+AX77+BC77+BH77+BM77+BR77+BW77+CB77+CG77+CL77+CQ77+CV77+DA77+DF77+DK77+DP77+DU77) -> 195 | EA77: =SUM(F77+K77+P77+U77+Z77+AE77+AJ77+AO77+AT77+AY77+BD77+BI77+BN77+BS77+BX77+CC77+CH77+CM77+CR77+CW77+DB77+DG77+DL77+DQ77+DV77) -> 4058
A78: Ago-Dic 2016 | V78: 0 | W78: =Z77-Y77 -> 0 | X78: =Z77-Y77-W78 -> 0 | Y78: 0 | Z78: =V78+W78 -> 0 | AA78: 0 | AB78: =AE77-AD77 -> 0 | AC78: =AE77-AD77-AB78 -> 0 | AD78: 0 | AE78: =AA78+AB78 -> 0 | AF78: 0 | AG78: =AJ77-AI77 -> 22 | AH78: =AJ77-AI77-AG78 -> 0 | AI78: 0 | AJ78: =AF78+AG78 -> 22 | AK78: 0 | AL78: =AO77-AN77 -> 6 | AM78: =AO77-AN77-AL78 -> 0 | AN78: 0 | AO78: =AK78+AL78 -> 6 | AP78: 0 | AQ78: =AT77-AS77 -> 17 | AR78: =AT77-AS77-AQ78 -> 0 | AS78: 0 | AT78: =AP78+AQ78 -> 17 | AU78: 0 | AV78: =AY77-AX77 -> 9 | AW78: =AY77-AX77-AV78 -> 0 | AX78: 0 | AY78: =AU78+AV78 -> 9 | AZ78: 0 | BA78: =BD77-BC77 -> 0 | BB78: =BD77-BC77-BA78 -> 0 | BC78: 0 | BD78: =AZ78+BA78 -> 0 | BE78: 0 | BF78: =BI77-BH77 -> 0 | BG78: =BI77-BH77-BF78 -> 0 | BH78: 0 | BI78: =BE78+BF78 -> 0 | BJ78: 0 | BK78: =BN77-BM77 -> 19 | BL78: =BN77-BM77-BK78 -> 0 | BM78: 0 | BN78: =BJ78+BK78 -> 19 | BO78: 35 | BP78: =BS77-BR77-BQ78 -> 194 | BQ78: 5 | BR78: 10 | BS78: =BO78+BP78 -> 229 | BT78: 35 | BU78: =BX77-BW77-BV78 -> 140 | BV78: 5 | BW78: 10 | BX78: =BT78+BU78 -> 175 | BY78: 70 | BZ78: =CC77-CB77-CA78 -> 260 | CA78: 15 | CB78: 15 | CC78: =BY78+BZ78 -> 330 | CD78: 60 | CE78: =CH77-CG77-CF78 -> 255 | CF78: 10 | CG78: 10 | CH78: =CD78+CE78 -> 315 | CI78: 50 | CJ78: =CM77-CL77-CK78 -> 180 | CK78: 10 | CL78: 15 | CM78: =CI78+CJ78 -> 230 | CN78: 50 | CO78: =CR77-CQ77-CP78 -> 211 | CP78: 8 | CQ78: 10 | CR78: =CN78+CO78 -> 261 | CS78: 90 | CT78: =CW77-CV77-CU78 -> 280 | CU78: 30 | CV78: 20 | CW78: =CS78+CT78 -> 370 | CX78: 160 | CY78: =DB77-DA77-CZ78 -> 835 | CZ78: 30 | DA78: 40 | DB78: =CX78+CY78 -> 995 | DC78: 25 | DD78: =DG77-DF77-DE78 -> 50 | DE78: 2 | DF78: 6 | DG78: =DC78+DD78 -> 75 | DH78: 80 | DI78: =DL77-DK77-DJ78 -> 240 | DJ78: 15 | DK78: 15 | DL78: =DH78+DI78 -> 320 | DM78: 160 | DN78: =DQ77-DP77-DO78 -> 715 | DO78: 35 | DP78: 40 | DQ78: =DM78+DN78 -> 875 | DR78: 70 | DS78: =DV77-DU77-DT78 -> 255 | DT78: 10 | DU78: 20 | DV78: =DR78+DS78 -> 325 | DW78: =SUM(B78+G78+L78+Q78+V78+AA78+AF78+AK78+AP78+AU78+AZ78+BE78+BJ78+BO78+BT78+BY78+CD78+CI78+CN78+CS78+CX78+DC78+DH78+DM78+DR78) -> 885 | DX78: =EA78-DW78 -> 3688 | DY78: =SUM(D78+I78+N78+S78+X78+AC78+AH78+AM78+AR78+AW78+BB78+BG78+BL78+BQ78+BV78+CA78+CF78+CK78+CP78+CU78+CZ78+DE78+DJ78+DO78+DT78) -> 175 | DZ78: =SUM(E78+J78+O78+T78+Y78+AD78+AI78+AN78+AS78+AX78+BC78+BH78+BM78+BR78+BW78+CB78+CG78+CL78+CQ78+CV78+DA78+DF78+DK78+DP78+DU78) -> 211 | EA78: =SUM(F78+K78+P78+U78+Z78+AE78+AJ78+AO78+AT78+AY78+BD78+BI78+BN78+BS78+BX78+CC78+CH78+CM78+CR78+CW78+DB78+DG78+DL78+DQ78+DV78) -> 4573
A79: Feb-Jun 2017 | V79: 0 | W79: =Z78-Y78 -> 0 | X79: =Z78-Y78-W79 -> 0 | Y79: 0 | Z79: =V79+W79 -> 0 | AA79: 0 | AB79: =AE78-AD78 -> 0 | AC79: =AE78-AD78-AB79 -> 0 | AD79: 0 | AE79: =AA79+AB79 -> 0 | AF79: 0 | AG79: =AJ78-AI78 -> 22 | AH79: =AJ78-AI78-AG79 -> 0 | AI79: 0 | AJ79: =AF79+AG79 -> 22 | AK79: 0 | AL79: =AO78-AN78 -> 6 | AM79: =AO78-AN78-AL79 -> 0 | AN79: 0 | AO79: =AK79+AL79 -> 6 | AP79: 0 | AQ79: =AT78-AS78 -> 17 | AR79: =AT78-AS78-AQ79 -> 0 | AS79: 0 | AT79: =AP79+AQ79 -> 17 | AU79: 0 | AV79: =AY78-AX78 -> 9 | AW79: =AY78-AX78-AV79 -> 0 | AX79: 0 | AY79: =AU79+AV79 -> 9 | AZ79: 0 | BA79: =BD78-BC78 -> 0 | BB79: =BD78-BC78-BA79 -> 0 | BC79: 0 | BD79: =AZ79+BA79 -> 0 | BE79: 0 | BF79: =BI78-BH78 -> 0 | BG79: =BI78-BH78-BF79 -> 0 | BH79: 0 | BI79: =BE79+BF79 -> 0 | BJ79: 0 | BK79: =BN78-BM78 -> 19 | BL79: =BN78-BM78-BK79 -> 0 | BM79: 0 | BN79: =BJ79+BK79 -> 19 | BO79: 15 | BP79: =BS78-BR78-BQ79 -> 214 | BQ79: 5 | BR79: 20 | BS79: =BO79+BP79 -> 229 | BT79: 15 | BU79: =BX78-BW78-BV79 -> 155 | BV79: 10 | BW79: 5 | BX79: =BT79+BU79 -> 170 | BY79: 35 | BZ79: =CC78-CB78-CA79 -> 290 | CA79: 25 | CB79: 25 | CC79: =BY79+BZ79 -> 325 | CD79: 20 | CE79: =CH78-CG78-CF79 -> 295 | CF79: 10 | CG79: 10 | CH79: =CD79+CE79 -> 315 | CI79: 15 | CJ79: =CM78-CL78-CK79 -> 205 | CK79: 10 | CL79: 10 | CM79: =CI79+CJ79 -> 220 | CN79: 15 | CO79: =CR78-CQ78-CP79 -> 243 | CP79: 8 | CQ79: 15 | CR79: =CN79+CO79 -> 258 | CS79: 25 | CT79: =CW78-CV78-CU79 -> 315 | CU79: 35 | CV79: 20 | CW79: =CS79+CT79 -> 340 | CX79: 80 | CY79: =DB78-DA78-CZ79 -> 920 | CZ79: 35 | DA79: 30 | DB79: =CX79+CY79 -> 1000 | DC79: 0 | DD79: =DG78-DF78-DE79 -> 59 | DE79: 10 | DF79: 5 | DG79: =DC79+DD79 -> 59 | DH79: 20 | DI79: =DL78-DK78-DJ79 -> 270 | DJ79: 35 | DK79: 20 | DL79: =DH79+DI79 -> 290 | DM79: 80 | DN79: =DQ78-DP78-DO79 -> 800 | DO79: 35 | DP79: 30 | DQ79: =DM79+DN79 -> 880 | DR79: 20 | DS79: =DV78-DU78-DT79 -> 295 | DT79: 10 | DU79: 20 | DV79: =DR79+DS79 -> 315 | DW79: =SUM(B79+G79+L79+Q79+V79+AA79+AF79+AK79+AP79+AU79+AZ79+BE79+BJ79+BO79+BT79+BY79+CD79+CI79+CN79+CS79+CX79+DC79+DH79+DM79+DR79) -> 340 | DX79: =EA79-DW79 -> 4134 | DY79: =SUM(D79+I79+N79+S79+X79+AC79+AH79+AM79+AR79+AW79+BB79+BG79+BL79+BQ79+BV79+CA79+CF79+CK79+CP79+CU79+CZ79+DE79+DJ79+DO79+DT79) -> 228 | DZ79: =SUM(E79+J79+O79+T79+Y79+AD79+AI79+AN79+AS79+AX79+BC79+BH79+BM79+BR79+BW79+CB79+CG79+CL79+CQ79+CV79+DA79+DF79+DK79+DP79+DU79) -> 210 | EA79: =SUM(F79+K79+P79+U79+Z79+AE79+AJ79+AO79+AT79+AY79+BD79+BI79+BN79+BS79+BX79+CC79+CH79+CM79+CR79+CW79+DB79+DG79+DL79+DQ79+DV79) -> 4474
A80: Ago-Dic 2017 | BO80: 35 | BP80: =BS79-BR79-BQ80 -> 204 | BQ80: 5 | BR80: 10 | BS80: =BO80+BP80 -> 239 | BT80: 35 | BU80: =BX79-BW79-BV80 -> 160 | BV80: 5 | BW80: 10 | BX80: =BT80+BU80 -> 195 | BY80: 70 | BZ80: =CC79-CB79-CA80 -> 285 | CA80: 15 | CB80: 15 | CC80: =BY80+BZ80 -> 355 | CD80: 60 | CE80: =CH79-CG79-CF80 -> 295 | CF80: 10 | CG80: 10 | CH80: =CD80+CE80 -> 355 | CI80: 50 | CJ80: =CM79-CL79-CK80 -> 200 | CK80: 10 | CL80: 15 | CM80: =CI80+CJ80 -> 250 | CN80: 50 | CO80: =CR79-CQ79-CP80 -> 235 | CP80: 8 | CQ80: 5 | CR80: =CN80+CO80 -> 285 | CS80: 90 | CT80: =CW79-CV79-CU80 -> 290 | CU80: 30 | CV80: 15 | CW80: =CS80+CT80 -> 380 | CX80: 160 | CY80: =DB79-DA79-CZ80 -> 940 | CZ80: 30 | DA80: 40 | DB80: =CX80+CY80 -> 1100 | DC80: 25 | DD80: =DG79-DF79-DE80 -> 52 | DE80: 2 | DF80: 6 | DG80: =DC80+DD80 -> 77 | DH80: 80 | DI80: =DL79-DK79-DJ80 -> 255 | DJ80: 15 | DK80: 15 | DL80: =DH80+DI80 -> 335 | DM80: 160 | DN80: =DQ79-DP79-DO80 -> 815 | DO80: 35 | DP80: 40 | DQ80: =DM80+DN80 -> 975 | DR80: 70 | DS80: =DV79-DU79-DT80 -> 285 | DT80: 10 | DU80: 20 | DV80: =DR80+DS80 -> 355 | DW80: =SUM(B80+G80+L80+Q80+V80+AA80+AF80+AK80+AP80+AU80+AZ80+BE80+BJ80+BO80+BT80+BY80+CD80+CI80+CN80+CS80+CX80+DC80+DH80+DM80+DR80) -> 885 | DX80: =EA80-DW80 -> 4016 | DY80: =SUM(D80+I80+N80+S80+X80+AC80+AH80+AM80+AR80+AW80+BB80+BG80+BL80+BQ80+BV80+CA80+CF80+CK80+CP80+CU80+CZ80+DE80+DJ80+DO80+DT80) -> 175 | DZ80: =SUM(E80+J80+O80+T80+Y80+AD80+AI80+AN80+AS80+AX80+BC80+BH80+BM80+BR80+BW80+CB80+CG80+CL80+CQ80+CV80+DA80+DF80+DK80+DP80+DU80) -> 201 | EA80: =SUM(F80+K80+P80+U80+Z80+AE80+AJ80+AO80+AT80+AY80+BD80+BI80+BN80+BS80+BX80+CC80+CH80+CM80+CR80+CW80+DB80+DG80+DL80+DQ80+DV80) -> 4901
A81: Feb-Jun 2018 | BO81: 15 | BP81: =BS80-BR80-BQ81 -> 224 | BQ81: 5 | BR81: 15 | BS81: =BO81+BP81 -> 239 | BT81: 15 | BU81: =BX80-BW80-BV81 -> 175 | BV81: 10 | BW81: 5 | BX81: =BT81+BU81 -> 190 | BY81: 35 | BZ81: =CC80-CB80-CA81 -> 315 | CA81: 25 | CB81: 25 | CC81: =BY81+BZ81 -> 350 | CD81: 20 | CE81: =CH80-CG80-CF81 -> 335 | CF81: 10 | CG81: 10 | CH81: =CD81+CE81 -> 355 | CI81: 15 | CJ81: =CM80-CL80-CK81 -> 225 | CK81: 10 | CL81: 10 | CM81: =CI81+CJ81 -> 240 | CN81: 15 | CO81: =CR80-CQ80-CP81 -> 272 | CP81: 8 | CQ81: 15 | CR81: =CN81+CO81 -> 287 | CS81: 25 | CT81: =CW80-CV80-CU81 -> 330 | CU81: 35 | CV81: 15 | CW81: =CS81+CT81 -> 355 | CX81: 80 | CY81: =DB80-DA80-CZ81 -> 1025 | CZ81: 35 | DA81: 30 | DB81: =CX81+CY81 -> 1105 | DC81: 0 | DD81: =DG80-DF80-DE81 -> 61 | DE81: 10 | DF81: 5 | DG81: =DC81+DD81 -> 61 | DH81: 20 | DI81: =DL80-DK80-DJ81 -> 285 | DJ81: 35 | DK81: 20 | DL81: =DH81+DI81 -> 305 | DM81: 80 | DN81: =DQ80-DP80-DO81 -> 900 | DO81: 35 | DP81: 30 | DQ81: =DM81+DN81 -> 980 | DR81: 20 | DS81: =DV80-DU80-DT81 -> 325 | DT81: 10 | DU81: 20 | DV81: =DR81+DS81 -> 345 | DW81: =SUM(B81+G81+L81+Q81+V81+AA81+AF81+AK81+AP81+AU81+AZ81+BE81+BJ81+BO81+BT81+BY81+CD81+CI81+CN81+CS81+CX81+DC81+DH81+DM81+DR81) -> 340 | DX81: =EA81-DW81 -> 4472 | DY81: =SUM(D81+I81+N81+S81+X81+AC81+AH81+AM81+AR81+AW81+BB81+BG81+BL81+BQ81+BV81+CA81+CF81+CK81+CP81+CU81+CZ81+DE81+DJ81+DO81+DT81) -> 228 | DZ81: =SUM(E81+J81+O81+T81+Y81+AD81+AI81+AN81+AS81+AX81+BC81+BH81+BM81+BR81+BW81+CB81+CG81+CL81+CQ81+CV81+DA81+DF81+DK81+DP81+DU81) -> 200 | EA81: =SUM(F81+K81+P81+U81+Z81+AE81+AJ81+AO81+AT81+AY81+BD81+BI81+BN81+BS81+BX81+CC81+CH81+CM81+CR81+CW81+DB81+DG81+DL81+DQ81+DV81) -> 4812
A82: Ago-Dic 2018 | BO82: 35 | BP82: =BS81-BR81-BQ82 -> 219 | BQ82: 5 | BR82: 10 | BS82: =BO82+BP82 -> 254 | BT82: 35 | BU82: =BX81-BW81-BV82 -> 180 | BV82: 5 | BW82: 10 | BX82: =BT82+BU82 -> 215 | BY82: 70 | BZ82: =CC81-CB81-CA82 -> 310 | CA82: 15 | CB82: 15 | CC82: =BY82+BZ82 -> 380 | CD82: 60 | CE82: =CH81-CG81-CF82 -> 335 | CF82: 10 | CG82: 10 | CH82: =CD82+CE82 -> 395 | CI82: 50 | CJ82: =CM81-CL81-CK82 -> 220 | CK82: 10 | CL82: 15 | CM82: =CI82+CJ82 -> 270 | CN82: 50 | CO82: =CR81-CQ81-CP82 -> 264 | CP82: 8 | CQ82: 5 | CR82: =CN82+CO82 -> 314 | CS82: 90 | CT82: =CW81-CV81-CU82 -> 310 | CU82: 30 | CV82: 15 | CW82: =CS82+CT82 -> 400 | CX82: 160 | CY82: =DB81-DA81-CZ82 -> 1045 | CZ82: 30 | DA82: 40 | DB82: =CX82+CY82 -> 1205 | DC82: 25 | DD82: =DG81-DF81-DE82 -> 54 | DE82: 2 | DF82: 6 | DG82: =DC82+DD82 -> 79 | DH82: 80 | DI82: =DL81-DK81-DJ82 -> 270 | DJ82: 15 | DK82: 15 | DL82: =DH82+DI82 -> 350 | DM82: 160 | DN82: =DQ81-DP81-DO82 -> 915 | DO82: 35 | DP82: 40 | DQ82: =DM82+DN82 -> 1075 | DR82: 70 | DS82: =DV81-DU81-DT82 -> 315 | DT82: 10 | DU82: 20 | DV82: =DR82+DS82 -> 385 | DW82: =SUM(B82+G82+L82+Q82+V82+AA82+AF82+AK82+AP82+AU82+AZ82+BE82+BJ82+BO82+BT82+BY82+CD82+CI82+CN82+CS82+CX82+DC82+DH82+DM82+DR82) -> 885 | DX82: =EA82-DW82 -> 4437 | DY82: =SUM(D82+I82+N82+S82+X82+AC82+AH82+AM82+AR82+AW82+BB82+BG82+BL82+BQ82+BV82+CA82+CF82+CK82+CP82+CU82+CZ82+DE82+DJ82+DO82+DT82) -> 175 | DZ82: =SUM(E82+J82+O82+T82+Y82+AD82+AI82+AN82+AS82+AX82+BC82+BH82+BM82+BR82+BW82+CB82+CG82+CL82+CQ82+CV82+DA82+DF82+DK82+DP82+DU82) -> 201 | EA82: =SUM(F82+K82+P82+U82+Z82+AE82+AJ82+AO82+AT82+AY82+BD82+BI82+BN82+BS82+BX82+CC82+CH82+CM82+CR82+CW82+DB82+DG82+DL82+DQ82+DV82) -> 5322
A84: Desc x carr | W84: =X71/(Z70-Y70) -> 0.026315789 | AB84: =AC71/(AE70-AD70) -> -0.068965517 | AG84: =AH71/(AJ70-AI70) -> 0.036809816 | AL84: =AM71/(AO70-AN70) -> 0.17333333 | AQ84: =AR71/(AT70-AS70) -> 0.13333333 | AV84: =AW71/(AY70-AX70) -> 0.047619048 | BA84: =BB71/(BD70-BC70) -> 0.012048193 | BF84: =BG71/(BI70-BH70) -> 0.045454545 | BK84: =BL71/(BN70-BM70) -> 0.067164179 | BP84: =BQ71/(BS70-BR70) -> 0.014285714 | BU84: =BV71/(BX70-BW70) -> 0.16216216 | BZ84: =CA71/(CC70-CB70) -> 0.20666667 | CE84: =CF71/(CH70-CG70) -> 0.1 | CJ84: =CK71/(CM70-CL70) -> 0.16363636 | CO84: =CP71/(CR70-CQ70) -> 0.1011236 | CT84: =CU71/(CW70-CV70) -> 0.21285141 | CY84: =CZ71/(DB70-DA70) -> 0.10082305 | DD84: =DE71/(DG70-DF70) -> 0.19298246 | DI84: =DJ71/(DL70-DK70) -> 0.19617225 | DN84: =DO71/(DQ70-DP70) -> 0.11638955 | DS84: =DT71/(DV70-DU70) -> 0.079710145 | DX84: =DY71/(EA70-DZ70) -> 0.11377448 | EA84: =DX61+DY61+DZ60-EA60 -> 0
A85: AGO-DIC 2012
Z86: =W63+X63+Y62-Z62 -> 0 | AC86: DE (Deserción) calculada en base al promedio de los 4 semestres anteriores
Z87: =W64+X64+Y63-Z63 -> 0 | AC87: RI (ReIngreso) calculado de la diferencia del TOTAL del sem. Anterior - EG - DE calculada
Z88: =W65+X65+Y64-Z64 -> 0
Z89: =W66+X66+Y65-Z65 -> 0 | AB89: Nota: - Las cantidades que se encuentran subrayadas son datos estimados y establecidos como constante
Z90: =W67+X67+Y66-Z66 -> 0 | AB90: - Las cantidades del nuevo ingreso es la oferta que se ha venido manejando hasta el momento
BS91: TOTAL | BT91: CP | BU91: GE | BV91: ING
BR92: 2012 | BS92: 3110 | BT92: 150 | BU92: 140 | BV92: =BS92-BT92-BU92 -> 2820
AG93: Departamento de Planeación 10/Abr/2003 | BR93: 2013 | BS93: 3342 | BT93: 200 | BU93: 180 | BV93: =BS93-BT93-BU93 -> 2962
BR94: 2014 | BS94: 3737 | BT94: 265 | BU94: 210 | BV94: =BS94-BT94-BU94 -> 3262
BR95: 2015 | BS95: 4090 | BT95: 300 | BU95: 225 | BV95: =BS95-BT95-BU95 -> 3565
BR96: 2016 | BS96: 4501 | BT96: 330 | BU96: 230 | BV96: =BS96-BT96-BU96 -> 3941
BR97: 2017 | BS97: 4902 | BT97: 355 | BU97: 240 | BV97: =BS97-BT97-BU97 -> 4307
BR98: 2018 | BS98: 5323 | BT98: 380 | BU98: 255 | BV98: =BS98-BT98-BU98 -> 4688

Sheet ESTADISTICAS
N1: INSTITUTO TECNOLOGICO DE MEXICALI
N2: PROYECCION DE LA POBLACION ESCOLAR
E4: ESTADISTICA DE CARRERAS ACTUALES Y LIQUIDACION DE FEB-JUN 09 A FEB-JUN 13 Y PROYECCION A AGO-DIC 2018
A6: per | B6: PERIODO | C6: LIC. EN INFORM. | D6: LIC. EN CONTAD. | E6: ING. ELECTRONICA | F6: ING. ELECTRICA | G6: ING. INDUSTRIAL | H6: ING. MECANICA | I6: ING. EN SIST. COMPS. | J6: ING. QUIMICA | K6: ING. MECATRONICA | M6: ING. ELECTRONICA | N6: ING. ELECTRICA | O6: ING. INDUSTRIAL | P6: ING. MECANICA | Q6: ING EN SIST.COPUTACIONALES | R6: ING. QUIMICA | S6: ING. MECATRONICA | T6: ING. EN LOGISTICA | U6: ING EN ENERGIAS RENOVABLES | V6: CONTADOR PUBLICO | W6: ING. EN GESTION EMPRESARIAL | X6: ING. EN INFORMATICA | AA6: TOTALES | AB6: PERIODO | AC6: LIC. EN INFORMATICA | AD6: LIC. EN CONTADURIA | AE6: ING. ELECTRONICA | AF6: ING. ELECTRICA | AG6: ING. INDUSTRIAL | AH6: ING. MECANICA | AI6: ING EN SIST.COPUTACIONALES | AJ6: ING. QUIMICA | AK6: ING. MECATRONICA | AL6: ING. EN LOGISTICA | AM6: ING EN ENERGIAS RENOVABLES | AN6: CONTADOR PUBLICO | AO6: ING. EN GESTION EMPRESARIAL | AP6: ING. EN INFORMATICA
A7: 20021 | B7: Feb-Jun 2002 | C7: 251 | D7: 364 | E7: 327 | F7: 154 | G7: 868 | H7: 352 | I7: 328 | J7: 162 | L7: =SUM(C7:K7) -> 2806 | Y7: =SUM(M7:X7) -> 0 | AA7: 2806 | AB7: Ago-Dic 2002 | AC7: =C7 -> 251 | AD7: =D7 -> 364 | AE7: =E7+M7 -> 327 | AF7: =F7+N7 -> 154 | AG7: =G7+O7 -> 868 | AH7: =H7+P7 -> 352 | AI7: =I7+Q7 -> 328 | AJ7: =J7+R7 -> 162 | AK7: =K7+S7 -> 0 | AL7: =T7 -> 0 | AM7: =U7 -> 0 | AN7: =V7 -> 0 | AO7: =W7 -> 0 | AP7: =X7 -> 0
A8: 20023 | B8: Ago-Dic 2002 | C8: 252 | D8: 405 | E8: 355 | F8: 150 | G8: 953 | H8: 391 | I8: 420 | J8: 190 | L8: =SUM(C8:K8) -> 3116 | Y8: =SUM(M8:X8) -> 0 | AA8: 3116 | AB8: Ago-Dic 2003 | AC8: =C8 -> 252 | AD8: =D8 -> 405 | AE8: =E8+M8 -> 355 | AF8: =F8+N8 -> 150 | AG8: =G8+O8 -> 953 | AH8: =H8+P8 -> 391 | AI8: =I8+Q8 -> 420 | AJ8: =J8+R8 -> 190 | AK8: =K8+S8 -> 0 | AL8: =T8 -> 0 | AM8: =U8 -> 0 | AN8: =V8 -> 0 | AO8: =W8 -> 0 | AP8: =X8 -> 0
A9: 20031 | B9: Feb-Jun 2003 | C9: 207 | D9: 387 | E9: 315 | F9: 143 | G9: 757 | H9: 362 | I9: 391 | J9: 188 | L9: =SUM(C9:K9) -> 2750 | Y9: =SUM(M9:X9) -> 0 | AA9: 2750 | AB9: Ago-Dic 2004 | AC9: =C9 -> 207 | AD9: =D9 -> 387 | AE9: =E9+M9 -> 315 | AF9: =F9+N9 -> 143 | AG9: =G9+O9 -> 757 | AH9: =H9+P9 -> 362 | AI9: =I9+Q9 -> 391 | AJ9: =J9+R9 -> 188 | AK9: =K9+S9 -> 0 | AL9: =T9 -> 0 | AM9: =U9 -> 0 | AN9: =V9 -> 0 | AO9: =W9 -> 0 | AP9: =X9 -> 0
A10: 20033 | B10: Ago-Dic 2003 | C10: 214 | D10: 478 | E10: 344 | F10: 149 | G10: 823 | H10: 384 | I10: 419 | J10: 202 | L10: =SUM(C10:K10) -> 3013 | Y10: =SUM(M10:X10) -> 0 | AA10: 3013 | AB10: Ago-Dic 2005 | AC10: =C10 -> 214 | AD10: =D10 -> 478 | AE10: =E10+M10 -> 344 | AF10: =F10+N10 -> 149 | AG10: =G10+O10 -> 823 | AH10: =H10+P10 -> 384 | AI10: =I10+Q10 -> 419 | AJ10: =J10+R10 -> 202 | AK10: =K10+S10 -> 0 | AL10: =T10 -> 0 | AM10: =U10 -> 0 | AN10: =V10 -> 0 | AO10: =W10 -> 0 | AP10: =X10 -> 0
A11: 20041 | B11: Feb-Jun 2004 | C11: 179 | D11: 358 | E11: 277 | F11: 111 | G11: 674 | H11: 342 | I11: 380 | J11: 181 | L11: =SUM(C11:K11) -> 2502 | Y11: =SUM(M11:X11) -> 0 | AA11: 2502 | AB11: Ago-Dic 2006 | AC11: =C11 -> 179 | AD11: =D11 -> 358 | AE11: =E11+M11 -> 277 | AF11: =F11+N11 -> 111 | AG11: =G11+O11 -> 674 | AH11: =H11+P11 -> 342 | AI11: =I11+Q11 -> 380 | AJ11: =J11+R11 -> 181 | AK11: =K11+S11 -> 0 | AL11: =T11 -> 0 | AM11: =U11 -> 0 | AN11: =V11 -> 0 | AO11: =W11 -> 0 | AP11: =X11 -> 0
A12: 20043 | B12: Ago-Dic 2004 | C12: 209 | D12: 411 | E12: 329 | F12: 139 | G12: 712 | H12: 348 | I12: 408 | J12: 231 | K12: 92 | L12: =SUM(C12:K12) -> 2879 | Y12: =SUM(M12:X12) -> 0 | AA12: 2879 | AB12: Ago-Dic 2007 | AC12: =C12 -> 209 | AD12: =D12 -> 411 | AE12: =E12+M12 -> 329 | AF12: =F12+N12 -> 139 | AG12: =G12+O12 -> 712 | AH12: =H12+P12 -> 348 | AI12: =I12+Q12 -> 408 | AJ12: =J12+R12 -> 231 | AK12: =K12+S12 -> 92 | AL12: =T12 -> 0 | AM12: =U12 -> 0 | AN12: =V12 -> 0 | AO12: =W12 -> 0 | AP12: =X12 -> 0
A13: 20051 | B13: Feb-Jun 2005 | C13: 166 | D13: 329 | E13: 260 | F13: 122 | G13: 583 | H13: 283 | I13: 303 | J13: 189 | K13: 84 | L13: =SUM(C13:K13) -> 2319 | Y13: =SUM(M13:X13) -> 0 | AA13: 2319 | AB13: Ago-Dic 2008 | AC13: =C13 -> 166 | AD13: =D13 -> 329 | AE13: =E13+M13 -> 260 | AF13: =F13+N13 -> 122 | AG13: =G13+O13 -> 583 | AH13: =H13+P13 -> 283 | AI13: =I13+Q13 -> 303 | AJ13: =J13+R13 -> 189 | AK13: =K13+S13 -> 84 | AL13: =T13 -> 0 | AM13: =U13 -> 0 | AN13: =V13 -> 0 | AO13: =W13 -> 0 | AP13: =X13 -> 0
A14: 20053 | B14: Ago-Dic 2005 | C14: 181 | D14: 369 | E14: 286 | F14: 150 | G14: 651 | H14: 301 | I14: 379 | J14: 230 | K14: 292 | L14: =SUM(C14:K14) -> 2839 | Y14: =SUM(M14:X14) -> 0 | AA14: 2839 | AB14: Ago-Dic 2009 | AC14: =C14 -> 181 | AD14: =D14 -> 369 | AE14: =E14+M14 -> 286 | AF14: =F14+N14 -> 150 | AG14: =G14+O14 -> 651 | AH14: =H14+P14 -> 301 | AI14: =I14+Q14 -> 379 | AJ14: =J14+R14 -> 230 | AK14: =K14+S14 -> 292 | AL14: =T14 -> 0 | AM14: =U14 -> 0 | AN14: =V14 -> 0 | AO14: =W14 -> 0 | AP14: =X14 -> 0
A15: 20061 | B15: Feb-Jun 2006 | C15: 158 | D15: 296 | E15: 235 | F15: 135 | G15: 533 | H15: 253 | I15: 297 | J15: 195 | K15: 258 | L15: =SUM(C15:K15) -> 2360 | Y15: =SUM(M15:X15) -> 0 | AA15: 2360 | AB15: Ago-Dic 2010 | AC15: =C15 -> 158 | AD15: =D15 -> 296 | AE15: =E15+M15 -> 235 | AF15: =F15+N15 -> 135 | AG15: =G15+O15 -> 533 | AH15: =H15+P15 -> 253 | AI15: =I15+Q15 -> 297 | AJ15: =J15+R15 -> 195 | AK15: =K15+S15 -> 258 | AL15: =T15 -> 0 | AM15: =U15 -> 0 | AN15: =V15 -> 0 | AO15: =W15 -> 0 | AP15: =X15 -> 0
A16: 20063 | B16: Ago-Dic 2006 | C16: 184 | D16: 342 | E16: 248 | F16: 155 | G16: 595 | H16: 271 | I16: 366 | J16: 228 | K16: 422 | L16: =SUM(C16:K16) -> 2811 | Y16: =SUM(M16:X16) -> 0 | AA16: 2811 | AB16: Ago-Dic 2011 | AC16: =C16 -> 184 | AD16: =D16 -> 342 | AE16: =E16+M16 -> 248 | AF16: =F16+N16 -> 155 | AG16: =G16+O16 -> 595 | AH16: =H16+P16 -> 271 | AI16: =I16+Q16 -> 366 | AJ16: =J16+R16 -> 228 | AK16: =K16+S16 -> 422 | AL16: =T16 -> 0 | AM16: =U16 -> 0 | AN16: =V16 -> 0 | AO16: =W16 -> 0 | AP16: =X16 -> 0
A17: 20071 | B17: Feb-Jun 2007 | C17: 152 | D17: 272 | E17: 213 | F17: 127 | G17: 485 | H17: 267 | I17: 273 | J17: 209 | K17: 387 | L17: =SUM(C17:K17) -> 2385 | Y17: =SUM(M17:X17) -> 0 | AA17: 2385 | AB17: Ago-Dic 2012 | AC17: =C17 -> 152 | AD17: =D17 -> 272 | AE17: =E17+M17 -> 213 | AF17: =F17+N17 -> 127 | AG17: =G17+O17 -> 485 | AH17: =H17+P17 -> 267 | AI17: =I17+Q17 -> 273 | AJ17: =J17+R17 -> 209 | AK17: =K17+S17 -> 387 | AL17: =T17 -> 0 | AM17: =U17 -> 0 | AN17: =V17 -> 0 | AO17: =W17 -> 0 | AP17: =X17 -> 0
A18: 20073 | B18: Ago-Dic 2007 | C18: 176 | D18: 316 | E18: 209 | F18: 139 | G18: 542 | H18: 311 | I18: 331 | J18: 206 | K18: 500 | L18: =SUM(C18:K18) -> 2730 | Y18: =SUM(M18:X18) -> 0 | AA18: 2730
A19: 20081 | B19: Feb-Jun 2008 | C19: 135 | D19: 251 | E19: 179 | F19: 121 | G19: 464 | H19: 250 | I19: 272 | J19: 165 | K19: 475 | L19: =SUM(C19:K19) -> 2312 | Y19: =SUM(M19:X19) -> 0 | AA19: 2312
A20: 20083 | B20: Ago-Dic 2008 | C20: 170 | D20: 273 | E20: 183 | F20: 151 | G20: 604 | H20: 245 | I20: 308 | J20: 207 | K20: 548 | L20: =SUM(C20:K20) -> 2689 | Y20: =SUM(M20:X20) -> 0 | AA20: 2689
A21: 20091 | B21: Feb-Jun 2009 | C21: 146 | D21: 231 | E21: 133 | F21: 124 | G21: 552 | H21: 213 | I21: 258 | J21: 158 | K21: 482 | L21: =SUM(C21:K21) -> 2297 | Y21: =SUM(M21:X21) -> 0 | AA21: 2297
A22: 20093 | B22: Ago-Dic 2009 | C22: 170 | D22: 252 | E22: 154 | F22: 164 | G22: 623 | H22: 257 | I22: 339 | J22: 226 | K22: 544 | L22: =SUM(C22:K22) -> 2729 | Y22: =SUM(M22:X22) -> 0 | AA22: 2729
A23: 20101 | B23: Feb-Jun 2010 | C23: 134 | D23: 186 | E23: 120 | F23: 154 | G23: 526 | H23: 210 | I23: 224 | J23: 176 | K23: 454 | L23: =SUM(C23:K23) -> 2184 | M23: 9 | N23: 11 | O23: 31 | P23: 11 | Q23: 23 | R23: 17 | S23: 25 | T23: 8 | U23: 0 | V23: 17 | W23: 16 | X23: 0 | Y23: =SUM(M23:X23) -> 168 | AA23: 2352
A24: 20103 | B24: Ago-Dic 2010 | C24: 122 | D24: 156 | E24: 99 | F24: 131 | G24: 439 | H24: 184 | I24: 181 | J24: 150 | K24: 359 | L24: =SUM(C24:K24) -> 1821 | M24: 37 | N24: 42 | O24: 138 | P24: 70 | Q24: 101 | R24: 58 | S24: 136 | T24: 20 | U24: 11 | V24: 38 | W24: 43 | X24: 20 | Y24: =SUM(M24:X24) -> 714 | AA24: 2535
A25: 20111 | B25: Feb-Jun 2011 | C25: 113 | D25: 120 | E25: 77 | F25: 116 | G25: 380 | H25: 165 | I25: 151 | J25: 124 | K25: 301 | L25: =SUM(C25:K25) -> 1547 | M25: 34 | N25: 54 | O25: 186 | P25: 86 | Q25: 117 | R25: 64 | S25: 168 | T25: 28 | U25: 23 | V25: 53 | W25: 49 | X25: 21 | Y25: =SUM(M25:X25) -> 883 | AA25: 2430
A26: 20113 | B26: Ago-Dic 2011 | C26: 92 | D26: 103 | E26: 65 | F26: 94 | G26: 319 | H26: 125 | I26: 131 | J26: 107 | K26: 248 | L26: =SUM(C26:K26) -> 1284 | M26: 74 | N26: 88 | O26: 380 | P26: 161 | Q26: 198 | R26: 112 | S26: 314 | T26: 50 | U26: 53 | V26: 94 | W26: 100 | X26: 54 | Y26: =SUM(M26:X26) -> 1678 | AA26: 2962
A27: 20121 | B27: Feb-Jun 2012 | C27: 80 | D27: 72 | E27: 48 | F27: 80 | G27: 257 | H27: 104 | I27: 108 | J27: 92 | K27: 198 | L27: =SUM(C27:K27) -> 1039 | M27: 65 | N27: 79 | O27: 398 | P27: 147 | Q27: 194 | R27: 83 | S27: 319 | T27: 32 | U27: 43 | V27: 93 | W27: 88 | X27: 40 | Y27: =SUM(M27:X27) -> 1581 | AA27: 2620
A28: 20123 | B28: Ago-Dic 2012 | C28: 68 | D28: 57 | E28: 44 | F28: 72 | G28: 205 | H28: 90 | I28: 94 | J28: 79 | K28: 158 | L28: =SUM(C28:K28) -> 867 | M28: 110 | N28: 120 | O28: 486 | P28: 209 | Q28: 249 | R28: 138 | S28: 421 | T28: 74 | U28: 89 | V28: 150 | W28: 140 | X28: 57 | Y28: =SUM(M28:X28) -> 2243 | AA28: 3110
A29: 20131 | B29: Feb-Jun 2013 | C29: 52 | D29: 40 | E29: 37 | F29: 72 | G29: 157 | H29: 62 | I29: 82 | J29: 63 | K29: 125 | L29: =SUM(C29:K29) -> 690 | M29: 95 | N29: 121 | O29: 516 | P29: 189 | Q29: 219 | R29: 139 | S29: 414 | T29: 70 | U29: 94 | V29: 141 | W29: 147 | X29: 46 | Y29: =SUM(M29:X29) -> 2191 | AA29: 2881

Sheet crecimientosXcarrera
B1: 52 | C1: 54 | D1: 56 | E1: 58 | F1: 60 | G1: 62 | H1: 64 | I1: 66 | J1: 68 | K1: 70
B2: 2003 | C2: 2004 | D2: 2005 | E2: 2006 | F2: 2007 | G2: 2008 | H2: 2009 | I2: 2010 | J2: 2011 | K2: 2012
A3: INGENIERIA ELECTRONICA | B3: ='2013-2'!Z52 -> 344 | C3: ='2013-2'!Z54 -> 329 | D3: ='2013-2'!Z56 -> 286 | E3: ='2013-2'!Z58 -> 248 | F3: ='2013-2'!Z60 -> 209 | G3: ='2013-2'!Z62 -> 183 | H3: ='2013-2'!Z64 -> 154 | I3: ='2013-2'!Z66 -> 99 | J3: ='2013-2'!Z68 -> 65 | K3: ='2013-2'!Z70 -> 44
A4: INGENIERIA ELECTRICA | B4: ='2013-2'!Z53 -> 277 | C4: ='2013-2'!Z55 -> 260 | D4: ='2013-2'!Z57 -> 235 | E4: ='2013-2'!Z59 -> 213 | F4: ='2013-2'!Z61 -> 179 | G4: ='2013-2'!Z63 -> 133 | H4: ='2013-2'!Z65 -> 120 | I4: ='2013-2'!Z67 -> 77 | J4: ='2013-2'!Z69 -> 48 | K4: ='2013-2'!Z71 -> 37
A5: INGENIERIA INDUSTRIAL | B5: ='2013-2'!Z54 -> 329 | C5: ='2013-2'!Z56 -> 286 | D5: ='2013-2'!Z58 -> 248 | E5: ='2013-2'!Z60 -> 209 | F5: ='2013-2'!Z62 -> 183 | G5: ='2013-2'!Z64 -> 154 | H5: ='2013-2'!Z66 -> 99 | I5: ='2013-2'!Z68 -> 65 | J5: ='2013-2'!Z70 -> 44 | K5: ='2013-2'!Z72 -> 25
A6: INGENIERIA MECANICA | B6: ='2013-2'!Z55 -> 260 | C6: ='2013-2'!Z57 -> 235 | D6: ='2013-2'!Z59 -> 213 | E6: ='2013-2'!Z61 -> 179 | F6: ='2013-2'!Z63 -> 133 | G6: ='2013-2'!Z65 -> 120 | H6: ='2013-2'!Z67 -> 77 | I6: ='2013-2'!Z69 -> 48 | J6: ='2013-2'!Z71 -> 37 | K6: ='2013-2'!Z73 -> 15
A7: LICENCIATURA EN INFORM. | B7: ='2013-2'!Z56 -> 286 | C7: ='2013-2'!Z58 -> 248 | D7: ='2013-2'!Z60 -> 209 | E7: ='2013-2'!Z62 -> 183 | F7: ='2013-2'!Z64 -> 154 | G7: ='2013-2'!Z66 -> 99 | H7: ='2013-2'!Z68 -> 65 | I7: ='2013-2'!Z70 -> 44 | J7: ='2013-2'!Z72 -> 25 | K7: ='2013-2'!Z74 -> 5
A8: LICENCIATURA EN CONTAD. | B8: ='2013-2'!Z57 -> 235 | C8: ='2013-2'!Z59 -> 213 | D8: ='2013-2'!Z61 -> 179 | E8: ='2013-2'!Z63 -> 133 | F8: ='2013-2'!Z65 -> 120 | G8: ='2013-2'!Z67 -> 77 | H8: ='2013-2'!Z69 -> 48 | I8: ='2013-2'!Z71 -> 37 | J8: ='2013-2'!Z73 -> 15 | K8: ='2013-2'!Z75 -> 0
A9: INGENIERIA EN SIST. COMPS. | B9: ='2013-2'!Z58 -> 248 | C9: ='2013-2'!Z60 -> 209 | D9: ='2013-2'!Z62 -> 183 | E9: ='2013-2'!Z64 -> 154 | F9: ='2013-2'!Z66 -> 99 | G9: ='2013-2'!Z68 -> 65 | H9: ='2013-2'!Z70 -> 44 | I9: ='2013-2'!Z72 -> 25 | J9: ='2013-2'!Z74 -> 5 | K9: ='2013-2'!Z76 -> 0
A10: INGENIERIA QUIMICA | B10: ='2013-2'!Z59 -> 213 | C10: ='2013-2'!Z61 -> 179 | D10: ='2013-2'!Z63 -> 133 | E10: ='2013-2'!Z65 -> 120 | F10: ='2013-2'!Z67 -> 77 | G10: ='2013-2'!Z69 -> 48 | H10: ='2013-2'!Z71 -> 37 | I10: ='2013-2'!Z73 -> 15 | J10: ='2013-2'!Z75 -> 0 | K10: ='2013-2'!Z77 -> 0
A11: INGENIERIA MECATRONICA | B11: ='2013-2'!Z60 -> 209 | C11: ='2013-2'!Z62 -> 183 | D11: ='2013-2'!Z64 -> 154 | E11: ='2013-2'!Z66 -> 99 | F11: ='2013-2'!Z68 -> 65 | G11: ='2013-2'!Z70 -> 44 | H11: ='2013-2'!Z72 -> 25 | I11: ='2013-2'!Z74 -> 5 | J11: ='2013-2'!Z76 -> 0 | K11: ='2013-2'!Z78 -> 0
A12: ING. EN GESTION EMPRESARIAL | B12: ='2013-2'!Z61 -> 179 | C12: ='2013-2'!Z63 -> 133 | D12: ='2013-2'!Z65 -> 120 | E12: ='2013-2'!Z67 -> 77 | F12: ='2013-2'!Z69 -> 48 | G12: ='2013-2'!Z71 -> 37 | H12: ='2013-2'!Z73 -> 15 | I12: ='2013-2'!Z75 -> 0 | J12: ='2013-2'!Z77 -> 0 | K12: ='2013-2'!Z79 -> 0
A13: INGENIERIA EN LOGISTICA | B13: ='2013-2'!Z62 -> 183 | C13: ='2013-2'!Z64 -> 154 | D13: ='2013-2'!Z66 -> 99 | E13: ='2013-2'!Z68 -> 65 | F13: ='2013-2'!Z70 -> 44 | G13: ='2013-2'!Z72 -> 25 | H13: ='2013-2'!Z74 -> 5 | I13: ='2013-2'!Z76 -> 0 | J13: ='2013-2'!Z78 -> 0 | K13: ='2013-2'!Z80 -> 0
A14: CONTADOR PUBLICO | B14: ='2013-2'!Z63 -> 133 | C14: ='2013-2'!Z65 -> 120 | D14: ='2013-2'!Z67 -> 77 | E14: ='2013-2'!Z69 -> 48 | F14: ='2013-2'!Z71 -> 37 | G14: ='2013-2'!Z73 -> 15 | H14: ='2013-2'!Z75 -> 0 | I14: ='2013-2'!Z77 -> 0 | J14: ='2013-2'!Z79 -> 0 | K14: ='2013-2'!Z81 -> 0
... A23: INGENIERIA QUIMICA | B23: ='2013-2'!Z72 -> 25 | C23: ='2013-2'!Z74 -> 5 | D23: ='2013-2'!Z76 -> 0 | E23: ='2013-2'!Z78 -> 0 | F23: ='2013-2'!Z80 -> 0 | G23: ='2013-2'!Z82 -> 0 | H23: ='2013-2'!Z84 -> 0 | I23: ='2013-2'!Z86 -> 0 | J23: ='2013-2'!Z88 -> 0 | K23: ='2013-2'!Z90 -> 0

Sheet Hoja2
B2: INSTITUTO TECNOLOGICO DE MEXICALI
B3: PROYECCION DE LA POBLACION ESCOLAR 2006
B5: AREA DE INGENIERIA
D7: INGENIERIA ELECTRONICA | I7: INGENIERIA ELECTRICA | N7: INGENIERIA INDUSTRIAL | S7: INGENIERIA MECANICA | X7: INGNIERIA EN SIST. COMPS. | AC7: INGENIERIA QUIMICA | AH7: TOTALES
B8: N I | C8: RI | D8: DE | E8: EG | F8: Total | G8: N I | H8: RI | I8: DE | J8: EG | K8: Total | L8: N I | M8: RI | N8: DE | O8: EG | P8: Total | Q8: N I | R8: RI | S8: DE | T8: EG | U8: Total | V8: N I | W8: RI | X8: DE | Y8: EG | Z8: Total | AA8: N I | AB8: RI | AC8: DE | AD8: EG | AE8: Total | AF8: N I | AG8: RI | AH8: DE | AI8: EG | AJ8: Total
A9: Ago-Dic 1990 | B9: 69 | C9: 244 | D9: 64 | E9: 0 | F9: =SUM(B9+C9) -> 313 | G9: 26 | H9: 29 | I9: 9 | J9: 0 | K9: =SUM(G9+H9) -> 55 | L9: 49 | M9: 118 | N9: 24 | O9: 0 | P9: =SUM(L9+M9) -> 167 | Q9: 14 | R9: 53 | S9: 21 | T9: 0 | U9: =SUM(Q9+R9) -> 67 | AF9: =SUM(B9+G9+L9+Q9+V9+AA9) -> 158 | AG9: =SUM(C9+H9+M9+R9+W9+AB9) -> 444 | AH9: 118 | AI9: =SUM(E9+J9+O9+T9+Y9+AD9) -> 0 | AJ9: =SUM(AF9+AG9) -> 602
A10: Feb-Jun 1991 | B10: 0 | C10: 265 | D10: =SUM(F9-C10-E9) -> 48 | E10: 12 | F10: =SUM(B10+C10) -> 265 | G10: 0 | H10: 46 | I10: =SUM(K9-H10-J9) -> 9 | J10: 0 | K10: =SUM(G10+H10) -> 46 | L10: 1 | M10: 140 | N10: =SUM(P9-M10-O9) -> 27 | O10: 1 | P10: =SUM(L10+M10) -> 141 | Q10: 1 | R10: 65 | S10: =SUM(U9-R10-T9) -> 2 | T10: 0 | U10: =SUM(Q10+R10) -> 66 | AF10: =SUM(B10+G10+L10+Q10+V10+AA10) -> 2 | AG10: =SUM(C10+H10+M10+R10+W10+AB10) -> 516 | AH10: =SUM(AJ9-AG10-AI9) -> 86 | AI10: =SUM(E10+J10+O10+T10+Y10+AD10) -> 13 | AJ10: =SUM(AF10+AG10) -> 518
A11: Ago-Dic 1991 | B11: 64 | C11: 224 | D11: =SUM(F10-C11-E10) -> 29 | E11: 19 | F11: =SUM(B11+C11) -> 288 | G11: 38 | H11: =46-9 -> 37 | I11: =SUM(K10-H11-J10) -> 9 | J11: 1 | K11: =SUM(G11+H11) -> 75 | L11: 59 | M11: 128 | N11: =SUM(P10-M11-O10) -> 12 | O11: 6 | P11: =SUM(L11+M11) -> 187 | Q11: 45 | R11: 62 | S11: =SUM(U10-R11-T10) -> 4 | T11: 13 | U11: =SUM(Q11+R11) -> 107 | AF11: =SUM(B11+G11+L11+Q11+V11+AA11) -> 206 | AG11: =SUM(C11+H11+M11+R11+W11+AB11) -> 451 | AH11: =SUM(AJ10-AG11-AI10) -> 54 | AI11: =SUM(E11+J11+O11+T11+Y11+AD11) -> 39 | AJ11: =SUM(AF11+AG11) -> 657
A12: Feb-Jun 1992 | B12: 21 | C12: 233 | D12: =SUM(F11-C12-E11) -> 36 | E12: 17 | F12: =SUM(B12+C12) -> 254 | G12: 0 | H12: 70 | I12: =SUM(K11-H12-J11) -> 4 | J12: 8 | K12: =SUM(G12+H12) -> 70 | L12: 43 | M12: 158 | N12: =SUM(P11-M12-O11) -> 23 | O12: 8 | P12: =SUM(L12+M12) -> 201 | Q12: 0 | R12: 75 | S12: =SUM(U11-R12-T11) -> 19 | T12: 6 | U12: =SUM(Q12+R12) -> 75 | AF12: =SUM(B12+G12+L12+Q12+V12+AA12) -> 64 | AG12: =SUM(C12+H12+M12+R12+W12+AB12) -> 536 | AH12: =SUM(AJ11-AG12-AI11) -> 82 | AI12: =SUM(E12+J12+O12+T12+Y12+AD12) -> 39 | AJ12: =SUM(AF12+AG12) -> 600
A13: Ago-Dic 1992 | B13: 80 | C13: 229 | D13: =SUM(F12-C13-E12) -> 8 | E13: 15 | F13: =SUM(B13+C13) -> 309 | G13: 50 | H13: =70-8-4 -> 58 | I13: =SUM(K12-H13-J12) -> 4 | J13: 5 | K13: =SUM(G13+H13) -> 108 | L13: 108 | M13: 178 | N13: =SUM(P12-M13-O12) -> 15 | O13: 1 | P13: =SUM(L13+M13) -> 286 | Q13: 57 | R13: 63 | S13: =SUM(U12-R13-T12) -> 6 | T13: 1 | U13: =SUM(Q13+R13) -> 120 | AF13: =SUM(B13+G13+L13+Q13+V13+AA13) -> 295 | AG13: =SUM(C13+H13+M13+R13+W13+AB13) -> 528 | AH13: =SUM(AJ12-AG13-AI12) -> 33 | AI13: =SUM(E13+J13+O13+T13+Y13+AD13) -> 22 | AJ13: =SUM(AF13+AG13) -> 823
A14: Feb-Jun 1993 | B14: 5 | C14: 233 | D14: =SUM(F13-C14-E13) -> 61 | E14: 27 | F14: =SUM(B14+C14) -> 238 | G14: 15 | H14: 79 | I14: =SUM(K13-H14-J13) -> 24 | J14: 5 | K14: =SUM(G14+H14) -> 94 | L14: 35 | M14: 242 | N14: =SUM(P13-M14-O13) -> 43 | O14: 10 | P14: =SUM(L14+M14) -> 277 | Q14: 20 | R14: 92 | S14: =SUM(U13-R14-T13) -> 27 | T14: 3 | U14: =SUM(Q14+R14) -> 112 | AF14: =SUM(B14+G14+L14+Q14+V14+AA14) -> 75 | AG14: =SUM(C14+H14+M14+R14+W14+AB14) -> 646 | AH14: =SUM(AJ13-AG14-AI13) -> 155 | AI14: =SUM(E14+J14+O14+T14+Y14+AD14) -> 45 | AJ14: =SUM(AF14+AG14) -> 721
A15: Ago-Dic 1993 | B15: 42 | C15: 184 | D15: =SUM(F14-C15-E14) -> 27 | E15: 19 | F15: =SUM(B15+C15) -> 226 | G15: 49 | H15: 66 | I15: =SUM(K14-H15-J14) -> 23 | J15: 1 | K15: =SUM(G15+H15) -> 115 | L15: 135 | M15: 235 | N15: =SUM(P14-M15-O14) -> 32 | O15: 7 | P15: =SUM(L15+M15) -> 370 | Q15: 62 | R15: 81 | S15: =SUM(U14-R15-T14) -> 28 | T15: 7 | U15: =SUM(Q15+R15) -> 143 | AF15: =SUM(B15+G15+L15+Q15+V15+AA15) -> 288 | AG15: =SUM(C15+H15+M15+R15+W15+AB15) -> 566 | AH15: =SUM(AJ14-AG15-AI14) -> 110 | AI15: =SUM(E15+J15+O15+T15+Y15+AD15) -> 34 | AJ15: =SUM(AF15+AG15) -> 854
A16: Feb-Jun 1994 | B16: 34 | C16: 169 | D16: =SUM(F15-C16-E15) -> 38 | E16: 18 | F16: =SUM(B16+C16) -> 203 | G16: 0 | H16: 93 | I16: =SUM(K15-H16-J15) -> 21 | J16: 9 | K16: =SUM(G16+H16) -> 93 | L16: 53 | M16: 298 | N16: =SUM(P15-M16-O15) -> 65 | O16: 29 | P16: =SUM(L16+M16) -> 351 | Q16: 0 | R16: 118 | S16: =SUM(U15-R16-T15) -> 18 | T16: 5 | U16: =SUM(Q16+R16) -> 118 | AF16: =SUM(B16+G16+L16+Q16+V16+AA16) -> 87 | AG16: =SUM(C16+H16+M16+R16+W16+AB16) -> 678 | AH16: =SUM(AJ15-AG16-AI15) -> 142 | AI16: =SUM(E16+J16+O16+T16+Y16+AD16) -> 61 | AJ16: =SUM(AF16+AG16) -> 765
A17: Ago-Dic 1994 | B17: 88 | C17: 159 | D17: =SUM(F16-C17-E16) -> 26 | E17: 19 | F17: =SUM(B17+C17) -> 247 | G17: 52 | H17: 74 | I17: =SUM(K16-H17-J16) -> 10 | J17: 5 | K17: =SUM(G17+H17) -> 126 | L17: 138 | M17: 308 | N17: =SUM(P16-M17-O16) -> 14 | O17: 21 | P17: =SUM(L17+M17) -> 446 | Q17: 85 | R17: 100 | S17: =SUM(U16-R17-T16) -> 13 | T17: 1 | U17: =SUM(Q17+R17) -> 185 | V17: 89 | W17: 0 | X17: =SUM(Z16-W17-Y16) -> 0 | Z17: =SUM(V17+W17) -> 89 | AA17: 70 | AB17: 0 | AC17: =SUM(AE16-AB17-AD16) -> 0 | AD17: 0 | AE17: =SUM(AA17+AB17) -> 70 | AF17: =SUM(B17+G17+L17+Q17+V17+AA17) -> 522 | AG17: =SUM(C17+H17+M17+R17+W17+AB17) -> 641 | AH17: =SUM(AJ16-AG17-AI16) -> 63 | AI17: =SUM(E17+J17+O17+T17+Y17+AD17) -> 46 | AJ17: =SUM(AF17+AG17) -> 1163
A18: Feb-Jun 1995 | B18: 26 | C18: 170 | D18: 58 | E18: 18 | F18: 196 | G18: 13 | H18: 94 | I18: 27 | J18: 4 | K18: 107 | L18: 95 | M18: 395 | N18: 30 | O18: 3 | P18: 490 | Q18: 20 | R18: 139 | S18: 45 | T18: 3 | U18: 159 | V18: 50 | W18: 53 | X18: 36 | Z18: 103 | AA18: 53 | AB18: 56 | AC18: 14 | AD18: 0 | AE18: 109 | AF18: =SUM(B18+G18+L18+Q18+V18+AA18) -> 257 | AG18: =SUM(C18+H18+M18+R18+W18+AB18) -> 907 | AH18: =SUM(AJ17-AG18-AI17) -> 210 | AI18: =SUM(E18+J18+O18+T18+Y18+AD18) -> 28 | AJ18: =SUM(AF18+AG18) -> 1164
A19: Ago-Dic 1995 | B19: 91 | C19: 169 | D19: =SUM(F18-C19-E18) -> 9 | E19: 24 | F19: =SUM(B19+C19) -> 260 | G19: 43 | H19: 91 | I19: =SUM(K18-H19-J18) -> 12 | J19: 4 | K19: =SUM(G19+H19) -> 134 | L19: 132 | M19: 449 | N19: =SUM(P18-M19-O18) -> 38 | O19: 18 | P19: =SUM(L19+M19) -> 581 | Q19: 98 | R19: 136 | S19: =SUM(U18-R19-T18) -> 20 | T19: 5 | U19: =SUM(Q19+R19) -> 234 | V19: 88 | W19: 81 | X19: =SUM(Z18-W19-Y18) -> 22 | Z19: =SUM(V19+W19) -> 169 | AA19: 41 | AB19: 89 | AC19: =SUM(AE18-AB19-AD18) -> 20 | AD19: 0 | AE19: =SUM(AA19+AB19) -> 130 | AF19: =SUM(B19+G19+L19+Q19+V19+AA19) -> 493 | AG19: =SUM(C19+H19+M19+R19+W19+AB19) -> 1015 | AH19: =SUM(AJ18-AG19-AI18) -> 121 | AI19: =SUM(E19+J19+O19+T19+Y19+AD19) -> 51 | AJ19: =SUM(AF19+AG19) -> 1508
A20: Feb-Jun 1996 | B20: 7 | C20: 207 | D20: =SUM(F19-C20-E19) -> 29 | E20: 15 | F20: =SUM(B20+C20) -> 214 | G20: 0 | H20: 101 | I20: =SUM(K19-H20-J19) -> 29 | J20: 8 | K20: =SUM(G20+H20) -> 101 | L20: 97 | M20: 537 | N20: =SUM(P19-M20-O19) -> 26 | O20: 21 | P20: =SUM(L20+M20) -> 634 | Q20: 47 | R20: 202 | S20: =SUM(U19-R20-T19) -> 27 | T20: 10 | U20: =SUM(Q20+R20) -> 249 | V20: 50 | W20: 153 | X20: =SUM(Z19-W20-Y19) -> 16 | Z20: =SUM(V20+W20) -> 203 | AA20: 0 | AB20: 103 | AC20: =SUM(AE19-AB20-AD19) -> 27 | AD20: 0 | AE20: =SUM(AA20+AB20) -> 103 | AF20: =SUM(B20+G20+L20+Q20+V20+AA20) -> 201 | AG20: =SUM(C20+H20+M20+R20+W20+AB20) -> 1303 | AH20: =SUM(AJ19-AG20-AI19) -> 154 | AI20: =SUM(E20+J20+O20+T20+Y20+AD20) -> 54 | AJ20: =SUM(AF20+AG20) -> 1504
A21: Ago-Dic 1996 | B21: 98 | C21: 179 | D21: =SUM(F20-C21-E20) -> 20 | E21: 13 | F21: =SUM(B21+C21) -> 277 | G21: 74 | H21: 83 | I21: =SUM(K20-H21-J20) -> 10 | J21: 5 | K21: =SUM(G21+H21) -> 157 | L21: 97 | M21: 571 | N21: =SUM(P20-M21-O20) -> 42 | O21: 10 | P21: =SUM(L21+M21) -> 668 | Q21: 92 | R21: 194 | S21: =SUM(U20-R21-T20) -> 45 | T21: 9 | U21: =SUM(Q21+R21) -> 286 | V21: 91 | W21: 163 | X21: =SUM(Z20-W21-Y20) -> 40 | Z21: =SUM(V21+W21) -> 254 | AA21: 43 | AB21: 88 | AC21: =SUM(AE20-AB21-AD20) -> 15 | AD21: 0 | AE21: =SUM(AA21+AB21) -> 131 | AF21: =SUM(B21+G21+L21+Q21+V21+AA21) -> 495 | AG21: =SUM(C21+H21+M21+R21+W21+AB21) -> 1278 | AH21: =SUM(AJ20-AG21-AI20) -> 172 | AI21: =SUM(E21+J21+O21+T21+Y21+AD21) -> 37 | AJ21: =SUM(AF21+AG21) -> 1773
A22: Feb-Jun 1997 | B22: 42 | C22: 228 | D22: =SUM(F21-C22-E21) -> 36 | E22: 10 | F22: =SUM(B22+C22) -> 270 | G22: 26 | H22: 118 | I22: =SUM(K21-H22-J21) -> 34 | J22: 6 | K22: =SUM(G22+H22) -> 144 | L22: 102 | M22: 575 | N22: =SUM(P21-M22-O21) -> 83 | O22: 20 | P22: =SUM(L22+M22) -> 677 | Q22: 46 | R22: 237 | S22: =SUM(U21-R22-T21) -> 40 | T22: 5 | U22: =SUM(Q22+R22) -> 283 | V22: 42 | W22: 200 | X22: =SUM(Z21-W22-Y21) -> 54 | Z22: =SUM(V22+W22) -> 242 | AA22: 27 | AB22: 104 | AC22: =SUM(AE21-AB22-AD21) -> 27 | AD22: 0 | AE22: =SUM(AA22+AB22) -> 131 | AF22: =SUM(B22+G22+L22+Q22+V22+AA22) -> 285 | AG22: =SUM(C22+H22+M22+R22+W22+AB22) -> 1462 | AH22: =SUM(AJ21-AG22-AI21) -> 274 | AI22: =SUM(E22+J22+O22+T22+Y22+AD22) -> 41 | AJ22: =SUM(AF22+AG22) -> 1747
A23: Ago-Dic 1997 | B23: 90 | C23: 225 | D23: =SUM(F22-C23-E22) -> 35 | E23: 15 | F23: =SUM(B23+C23) -> 315 | G23: 45 | H23: 110 | I23: =SUM(K22-H23-J22) -> 28 | J23: 8 | K23: =SUM(G23+H23) -> 155 | L23: 105 | M23: 610 | N23: =SUM(P22-M23-O22) -> 47 | O23: 20 | P23: =SUM(L23+M23) -> 715 | Q23: 90 | R23: 233 | S23: =SUM(U22-R23-T22) -> 45 | T23: 5 | U23: =SUM(Q23+R23) -> 323 | V23: 90 | W23: 192 | X23: =SUM(Z22-W23-Y22) -> 50 | Z23: =SUM(V23+W23) -> 282 | AA23: 45 | AB23: 105 | AC23: =SUM(AE22-AB23-AD22) -> 26 | AD23: 0 | AE23: =SUM(AA23+AB23) -> 150 | AF23: =SUM(B23+G23+L23+Q23+V23+AA23) -> 465 | AG23: =SUM(C23+H23+M23+R23+W23+AB23) -> 1475 | AH23: =SUM(AJ22-AG23-AI22) -> 231 | AI23: =SUM(E23+J23+O23+T23+Y23+AD23) -> 48 | AJ23: =SUM(AF23+AG23) -> 1940
A24: Feb-Jun 1998 | B24: 45 | C24: 260 | D24: =SUM(F23-C24-E23) -> 40 | E24: 11 | F24: =SUM(B24+C24) -> 305 | G24: 45 | H24: 117 | I24: =SUM(K23-H24-J23) -> 30 | J24: 4 | K24: =SUM(G24+H24) -> 162 | L24: 105 | M24: 645 | N24: =SUM(P23-M24-O23) -> 50 | O24: 20 | P24: =SUM(L24+M24) -> 750 | Q24: 45 | R24: 267 | S24: =SUM(U23-R24-T23) -> 51 | T24: 6 | U24: =SUM(Q24+R24) -> 312 | V24: 45 | W24: 223 | X24: =SUM(Z23-W24-Y23) -> 59 | Z24: =SUM(V24+W24) -> 268 | AA24: 35 | AB24: 120 | AC24: =SUM(AE23-AB24-AD23) -> 30 | AD24: 0 | AE24: =SUM(AA24+AB24) -> 155 | AF24: =SUM(B24+G24+L24+Q24+V24+AA24) -> 320 | AG24: =SUM(C24+H24+M24+R24+W24+AB24) -> 1632 | AH24: =SUM(AJ23-AG24-AI23) -> 260 | AI24: =SUM(E24+J24+O24+T24+Y24+AD24) -> 41 | AJ24: =SUM(AF24+AG24) -> 1952
A25: Ago-Dic 1998 | B25: 90 | C25: 254 | D25: =SUM(F24-C25-E24) -> 40 | E25: 10 | F25: =SUM(B25+C25) -> 344 | G25: 45 | H25: 126 | I25: =SUM(K24-H25-J24) -> 32 | J25: 8 | K25: =SUM(G25+H25) -> 171 | L25: 105 | M25: 670 | N25: =SUM(P24-M25-O24) -> 60 | O25: 20 | P25: =SUM(L25+M25) -> 775 | Q25: 90 | R25: 252 | S25: =SUM(U24-R25-T24) -> 54 | T25: 10 | U25: =SUM(Q25+R25) -> 342 | V25: 90 | W25: 215 | X25: =SUM(Z24-W25-Y24) -> 53 | Z25: =SUM(V25+W25) -> 305 | AA25: 45 | AB25: 126 | AC25: =SUM(AE24-AB25-AD24) -> 29 | AD25: 0 | AE25: =SUM(AA25+AB25) -> 171 | AF25: =SUM(B25+G25+L25+Q25+V25+AA25) -> 465 | AG25: =SUM(C25+H25+M25+R25+W25+AB25) -> 1643 | AH25: =SUM(AJ24-AG25-AI24) -> 268 | AI25: =SUM(E25+J25+O25+T25+Y25+AD25) -> 48 | AJ25: =SUM(AF25+AG25) -> 2108
A26: Feb-Jun 1999 | B26: 45 | C26: 294 | D26: =SUM(F25-C26-E25) -> 40 | E26: 8 | F26: =SUM(B26+C26) -> 339 | G26: 45 | H26: 129 | I26: =SUM(K25-H26-J25) -> 34 | J26: 6 | K26: =SUM(G26+H26) -> 174 | L26: 90 | M26: 695 | N26: =SUM(P25-M26-O25) -> 60 | O26: 40 | P26: =SUM(L26+M26) -> 785 | Q26: 45 | R26: 276 | S26: =SUM(U25-R26-T25) -> 56 | T26: 11 | U26: =SUM(Q26+R26) -> 321 | V26: 45 | W26: 244 | X26: =SUM(Z25-W26-Y25) -> 61 | Y26: 10 | Z26: =SUM(V26+W26) -> 289 | AA26: 35 | AB26: 135 | AC26: =SUM(AE25-AB26-AD25) -> 36 | AD26: 10 | AE26: =SUM(AA26+AB26) -> 170 | AF26: =SUM(B26+G26+L26+Q26+V26+AA26) -> 305 | AG26: =SUM(C26+H26+M26+R26+W26+AB26) -> 1773 | AH26: =SUM(AJ25-AG26-AI25) -> 287 | AI26: =SUM(E26+J26+O26+T26+Y26+AD26) -> 85 | AJ26: =SUM(AF26+AG26) -> 2078
A27: Ago-Dic 1999 | B27: 90 | C27: 291 | D27: =SUM(F26-C27-E26) -> 40 | E27: 10 | F27: =SUM(B27+C27) -> 381 | G27: 45 | H27: 134 | I27: =SUM(K26-H27-J26) -> 34 | J27: 3 | K27: =SUM(G27+H27) -> 179 | L27: 105 | M27: 685 | N27: =SUM(P26-M27-O26) -> 60 | O27: 40 | P27: =SUM(L27+M27) -> 790 | Q27: 90 | R27: 260 | S27: =SUM(U26-R27-T26) -> 50 | T27: 10 | U27: =SUM(Q27+R27) -> 350 | V27: 90 | W27: 222 | X27: =SUM(Z26-W27-Y26) -> 57 | Y27: 10 | Z27: =SUM(V27+W27) -> 312 | AA27: 45 | AB27: 126 | AC27: =SUM(AE26-AB27-AD26) -> 34 | AD27: 10 | AE27: =SUM(AA27+AB27) -> 171 | AF27: =SUM(B27+G27+L27+Q27+V27+AA27) -> 465 | AG27: =SUM(C27+H27+M27+R27+W27+AB27) -> 1718 | AH27: =SUM(AJ26-AG27-AI26) -> 275 | AI27: =SUM(E27+J27+O27+T27+Y27+AD27) -> 83 | AJ27: =SUM(AF27+AG27) -> 2183
A28: Feb-Jun 2000 | B28: 45 | C28: 321 | D28: =SUM(F27-C28-E27) -> 50 | E28: 10 | F28: =SUM(B28+C28) -> 366 | G28: 45 | H28: 141 | I28: =SUM(K27-H28-J27) -> 35 | J28: 8 | K28: =SUM(G28+H28) -> 186 | L28: 90 | M28: 690 | N28: =SUM(P27-M28-O27) -> 60 | O28: 20 | P28: =SUM(L28+M28) -> 780 | Q28: 45 | R28: 284 | S28: =SUM(U27-R28-T27) -> 56 | T28: 10 | U28: =SUM(Q28+R28) -> 329 | V28: 45 | W28: 237 | X28: =SUM(Z27-W28-Y27) -> 65 | Y28: 10 | Z28: =SUM(V28+W28) -> 282 | AA28: 35 | AB28: 122 | AC28: =SUM(AE27-AB28-AD27) -> 39 | AD28: 10 | AE28: =SUM(AA28+AB28) -> 157 | AF28: =SUM(B28+G28+L28+Q28+V28+AA28) -> 305 | AG28: =SUM(C28+H28+M28+R28+W28+AB28) -> 1795 | AH28: =SUM(AJ27-AG28-AI27) -> 305 | AI28: =SUM(E28+J28+O28+T28+Y28+AD28) -> 68 | AJ28: =SUM(AF28+AG28) -> 2100
A29: Ago-Dic 2000 | B29: 90 | C29: 306 | D29: =SUM(F28-C29-E28) -> 50 | E29: 8 | F29: =SUM(B29+C29) -> 396 | G29: 45 | H29: 140 | I29: =SUM(K28-H29-J28) -> 38 | J29: 8 | K29: =SUM(G29+H29) -> 185 | L29: 135 | M29: 700 | N29: =SUM(P28-M29-O28) -> 60 | O29: 20 | P29: =SUM(L29+M29) -> 835 | Q29: 90 | R29: 267 | S29: =SUM(U28-R29-T28) -> 52 | T29: 10 | U29: =SUM(Q29+R29) -> 357 | V29: 90 | W29: 215 | X29: =SUM(Z28-W29-Y28) -> 57 | Y29: 10 | Z29: =SUM(V29+W29) -> 305 | AA29: 45 | AB29: 129 | AC29: =SUM(AE28-AB29-AD28) -> 18 | AD29: 10 | AE29: =SUM(AA29+AB29) -> 174 | AF29: =SUM(B29+G29+L29+Q29+V29+AA29) -> 495 | AG29: =SUM(C29+H29+M29+R29+W29+AB29) -> 1757 | AH29: =SUM(AJ28-AG29-AI28) -> 275 | AI29: =SUM(E29+J29+O29+T29+Y29+AD29) -> 66 | AJ29: =SUM(AF29+AG29) -> 2252
A30: Feb-Jun 2001 | B30: 45 | C30: 338 | D30: =SUM(F29-C30-E29) -> 50 | E30: 10 | F30: =SUM(B30+C30) -> 383 | G30: 45 | H30: 140 | I30: =SUM(K29-H30-J29) -> 37 | J30: 8 | K30: =SUM(G30+H30) -> 185 | L30: 90 | M30: 755 | N30: =SUM(P29-M30-O29) -> 60 | O30: 20 | P30: =SUM(L30+M30) -> 845 | Q30: 45 | R30: 292 | S30: =SUM(U29-R30-T29) -> 55 | T30: 10 | U30: =SUM(Q30+R30) -> 337 | V30: 45 | W30: 235 | X30: =SUM(Z29-W30-Y29) -> 60 | Y30: 10 | Z30: =SUM(V30+W30) -> 280 | AA30: 45 | AB30: 130 | AC30: =SUM(AE29-AB30-AD29) -> 34 | AD30: 10 | AE30: =SUM(AA30+AB30) -> 175 | AF30: =SUM(B30+G30+L30+Q30+V30+AA30) -> 315 | AG30: =SUM(C30+H30+M30+R30+W30+AB30) -> 1890 | AH30: =SUM(AJ29-AG30-AI29) -> 296 | AI30: =SUM(E30+J30+O30+T30+Y30+AD30) -> 68 | AJ30: =SUM(AF30+AG30) -> 2205
A31: Ago-Dic 2001 | B31: 90 | C31: 323 | D31: =SUM(F30-C31-E30) -> 50 | E31: 15 | F31: =SUM(B31+C31) -> 413 | G31: 45 | H31: 140 | I31: =SUM(K30-H31-J30) -> 37 | J31: 8 | K31: =SUM(G31+H31) -> 185 | L31: 135 | M31: 765 | N31: =SUM(P30-M31-O30) -> 60 | O31: 20 | P31: =SUM(L31+M31) -> 900 | Q31: 90 | R31: 272 | S31: =SUM(U30-R31-T30) -> 55 | T31: 15 | U31: =SUM(Q31+R31) -> 362 | V31: 90 | W31: =(Z30-Y30)-((Z30-Y30)*0.21) -> 213.3 | X31: =SUM(Z30-W31-Y30) -> 56.7 | Y31: 10 | Z31: 303 | AA31: 45 | AB31: 131 | AC31: =SUM(AE30-AB31-AD30) -> 34 | AD31: 10 | AE31: =SUM(AA31+AB31) -> 176 | AF31: =SUM(B31+G31+L31+Q31+V31+AA31) -> 495 | AG31: =SUM(C31+H31+M31+R31+W31+AB31) -> 1844.3 | AH31: =SUM(AJ30-AG31-AI30) -> 292.7 | AI31: =SUM(E31+J31+O31+T31+Y31+AD31) -> 78 | AJ31: =SUM(AF31+AG31) -> 2339.3
A32: Feb-Jun 2002 | B32: 45 | C32: 348 | D32: =SUM(F31-C32-E31) -> 50 | E32: 20 | F32: =SUM(B32+C32) -> 393 | G32: 45 | H32: 142 | I32: =SUM(K31-H32-J31) -> 35 | J32: 8 | K32: =SUM(G32+H32) -> 187 | L32: 90 | M32: 820 | N32: =SUM(P31-M32-O31) -> 60 | O32: 30 | P32: =SUM(L32+M32) -> 910 | Q32: 45 | R32: 294 | S32: =SUM(U31-R32-T31) -> 53 | T32: 15 | U32: =SUM(Q32+R32) -> 339 | V32: 45 | W32: =(Z31-Y31)-((Z31-Y31)*0.21) -> 231.47 | X32: =SUM(Z31-W32-Y31) -> 61.53 | Y32: 11 | Z32: 276 | AA32: 45 | AB32: =(AE31-AD31)-((AE31-AD31)*0.2) -> 132.8 | AC32: =SUM(AE31-AB32-AD31) -> 33.2 | AD32: 10 | AE32: =SUM(AA32+AB32) -> 177.8 | AF32: =SUM(B32+G32+L32+Q32+V32+AA32) -> 315 | AG32: =SUM(C32+H32+M32+R32+W32+AB32) -> 1968.27 | AH32: 293 | AI32: =SUM(E32+J32+O32+T32+Y32+AD32) -> 94 | AJ32: =SUM(AF32+AG32) -> 2283.27
A33: Ago-Dic 2002 | B33: 90 | C33: 323 | D33: =SUM(F32-C33-E32) -> 50 | E33: 20 | F33: =SUM(B33+C33) -> 413 | G33: 45 | H33: 144 | I33: =SUM(K32-H33-J32) -> 35 | J33: 8 | K33: =SUM(G33+H33) -> 189 | L33: 135 | M33: 810 | N33: =SUM(P32-M33-O32) -> 70 | O33: 30 | P33: =SUM(L33+M33) -> 945 | Q33: 90 | R33: 274 | S33: =SUM(U32-R33-T32) -> 50 | T33: 15 | U33: =SUM(Q33+R33) -> 364 | V33: 90 | W33: =(Z32-Y32)-((Z32-Y32)*0.21) -> 209.35 | X33: =SUM(Z32-W33-Y32) -> 55.65 | Y33: 15 | Z33: 303 | AA33: 45 | AB33: =(AE32-AD32)-((AE32-AD32)*0.2) -> 134.24 | AC33: =SUM(AE32-AB33-AD32) -> 33.56 | AD33: 10 | AE33: =SUM(AA33+AB33) -> 179.24 | AF33: =SUM(B33+G33+L33+Q33+V33+AA33) -> 495 | AG33: =SUM(C33+H33+M33+R33+W33+AB33) -> 1894.59 | AH33: 294 | AI33: =SUM(E33+J33+O33+T33+Y33+AD33) -> 98 | AJ33: =SUM(AF33+AG33) -> 2389.59
A34: Feb-Jun 2003 | B34: 45 | C34: 343 | D34: =SUM(F33-C34-E33) -> 50 | E34: 20 | F34: =SUM(B34+C34) -> 388 | G34: 45 | H34: 146 | I34: =SUM(K33-H34-J33) -> 35 | J34: 8 | K34: =SUM(G34+H34) -> 191 | L34: 90 | M34: 845 | N34: =SUM(P33-M34-O33) -> 70 | O34: 40 | P34: =SUM(L34+M34) -> 935 | Q34: 45 | R34: 307 | S34: =SUM(U33-R34-T33) -> 42 | T34: 15 | U34: =SUM(Q34+R34) -> 352 | V34: 45 | W34: =(Z33-Y33)-((Z33-Y33)*0.21) -> 227.52 | X34: =SUM(Z33-W34-Y33) -> 60.48 | Y34: 11 | Z34: 270 | AA34: 45 | AB34: =(AE33-AD33)-((AE33-AD33)*0.2) -> 135.392 | AC34: =SUM(AE33-AB34-AD33) -> 33.848 | AD34: 10 | AE34: =SUM(AA34+AB34) -> 180.392 | AF34: =SUM(B34+G34+L34+Q34+V34+AA34) -> 315 | AG34: =SUM(C34+H34+M34+R34+W34+AB34) -> 2003.912 | AH34: 291 | AI34: =SUM(E34+J34+O34+T34+Y34+AD34) -> 104 | AJ34: =SUM(AF34+AG34) -> 2318.912
A35: Ago-Dic 2003 | B35: 90 | C35: 318 | D35: =SUM(F34-C35-E34) -> 50 | E35: 15 | F35: =SUM(B35+C35) -> 408 | G35: 45 | H35: 148 | I35: =SUM(K34-H35-J34) -> 35 | J35: 8 | K35: =SUM(G35+H35) -> 193 | L35: 135 | M35: 825 | N35: =SUM(P34-M35-O34) -> 70 | O35: 50 | P35: =SUM(L35+M35) -> 960 | Q35: 90 | R35: 284 | S35: =SUM(U34-R35-T34) -> 53 | T35: 15 | U35: =SUM(Q35+R35) -> 374 | V35: 90 | W35: =(Z34-Y34)-((Z34-Y34)*0.21) -> 204.61 | X35: =SUM(Z34-W35-Y34) -> 54.39 | Y35: 15 | Z35: 295 | AA35: 45 | AB35: =(AE34-AD34)-((AE34-AD34)*0.2) -> 136.3136 | AC35: =SUM(AE34-AB35-AD34) -> 34.0784 | AD35: 10 | AE35: =SUM(AA35+AB35) -> 181.3136 | AF35: =SUM(B35+G35+L35+Q35+V35+AA35) -> 495 | AG35: =SUM(C35+H35+M35+R35+W35+AB35) -> 1915.9236 | AH35: 296 | AI35: =SUM(E35+J35+O35+T35+Y35+AD35) -> 113 | AJ35: =SUM(AF35+AG35) -> 2410.9236
A36: Feb-Jun 2004 | B36: 45 | C36: 342 | D36: =SUM(F35-C36-E35) -> 51 | E36: 20 | F36: =SUM(B36+C36) -> 387 | G36: 45 | H36: 150 | I36: =SUM(K35-H36-J35) -> 35 | J36: 8 | K36: =SUM(G36+H36) -> 195 | L36: 90 | M36: 850 | N36: =SUM(P35-M36-O35) -> 60 | O36: 50 | P36: =SUM(L36+M36) -> 940 | Q36: 45 | R36: 312 | S36: =SUM(U35-R36-T35) -> 47 | T36: 15 | U36: =SUM(Q36+R36) -> 357 | V36: 45 | W36: =(Z35-Y35)-((Z35-Y35)*0.21) -> 221.2 | X36: =SUM(Z35-W36-Y35) -> 58.8 | Y36: 12 | Z36: 266 | AA36: 45 | AB36: =(AE35-AD35)-((AE35-AD35)*0.2) -> 137.05088 | AC36: =SUM(AE35-AB36-AD35) -> 34.26272 | AD36: 10 | AE36: =SUM(AA36+AB36) -> 182.05088 | AF36: =SUM(B36+G36+L36+Q36+V36+AA36) -> 315 | AG36: =SUM(C36+H36+M36+R36+W36+AB36) -> 2012.2509 | AH36: 286 | AI36: =SUM(E36+J36+O36+T36+Y36+AD36) -> 115 | AJ36: =SUM(AF36+AG36) -> 2327.2509
A37: Ago-Dic 2004 | B37: 90 | C37: 317 | D37: =SUM(F36-C37-E36) -> 50 | E37: 15 | F37: =SUM(B37+C37) -> 407 | G37: 45 | H37: 152 | I37: =SUM(K36-H37-J36) -> 35 | J37: 8 | K37: =SUM(G37+H37) -> 197 | L37: 135 | M37: 815 | N37: =SUM(P36-M37-O36) -> 75 | O37: 60 | P37: =SUM(L37+M37) -> 950 | Q37: 90 | R37: =357-47-15 -> 295 | S37: =SUM(U36-R37-T36) -> 47 | T37: 15 | U37: =SUM(Q37+R37) -> 385 | V37: 90 | W37: =(Z36-Y36)-((Z36-Y36)*0.21) -> 200.66 | X37: =SUM(Z36-W37-Y36) -> 53.34 | Y37: 16 | Z37: 291 | AA37: 45 | AB37: =(AE36-AD36)-((AE36-AD36)*0.2) -> 137.6407 | AC37: =SUM(AE36-AB37-AD36) -> 34.410176 | AD37: 10 | AE37: =SUM(AA37+AB37) -> 182.6407 | AF37: =SUM(B37+G37+L37+Q37+V37+AA37) -> 495 | AG37: =SUM(C37+H37+M37+R37+W37+AB37) -> 1917.3007 | AH37: 295 | AI37: =SUM(E37+J37+O37+T37+Y37+AD37) -> 124 | AJ37: =SUM(AF37+AG37) -> 2412.3007
A38: Feb-Jun 2005 | B38: 45 | C38: 334 | D38: =SUM(F37-C38-E37) -> 58 | E38: 20 | F38: =SUM(B38+C38) -> 379 | G38: 45 | H38: 154 | I38: =SUM(K37-H38-J37) -> 35 | J38: 8 | K38: =SUM(G38+H38) -> 199 | L38: 90 | M38: 815 | N38: =SUM(P37-M38-O37) -> 75 | O38: 60 | P38: =SUM(L38+M38) -> 905 | Q38: 45 | R38: 312 | S38: =SUM(U37-R38-T37) -> 58 | T38: 15 | U38: =SUM(Q38+R38) -> 357 | V38: 45 | W38: =(Z37-Y37)-((Z37-Y37)*0.21) -> 217.25 | X38: =SUM(Z37-W38-Y37) -> 57.75 | Y38: 13 | Z38: 262 | AA38: 45 | AB38: =(AE37-AD37)-((AE37-AD37)*0.2) -> 138.11256 | AC38: =SUM(AE37-AB38-AD37) -> 34.528141 | AD38: 10 | AE38: =SUM(AA38+AB38) -> 183.11256 | AF38: =SUM(B38+G38+L38+Q38+V38+AA38) -> 315 | AG38: =SUM(C38+H38+M38+R38+W38+AB38) -> 1970.3626 | AH38: 318 | AI38: =SUM(E38+J38+O38+T38+Y38+AD38) -> 126 | AJ38: =SUM(AF38+AG38) -> 2285.3626
A39: Ago-Dic 2005 | B39: 90 | C39: 309 | D39: =SUM(F38-C39-E38) -> 50 | E39: 15 | F39: =SUM(B39+C39) -> 399 | G39: 45 | H39: 156 | I39: =SUM(K38-H39-J38) -> 35 | J39: 8 | K39: =SUM(G39+H39) -> 201 | L39: 135 | M39: 775 | N39: =SUM(P38-M39-O38) -> 70 | O39: 60 | P39: =SUM(L39+M39) -> 910 | Q39: 90 | R39: 289 | S39: =SUM(U38-R39-T38) -> 53 | T39: 15 | U39: =SUM(Q39+R39) -> 379 | V39: 90 | W39: =(Z38-Y38)-((Z38-Y38)*0.21) -> 196.71 | X39: =SUM(Z38-W39-Y38) -> 52.29 | Y39: 18 | Z39: 287 | AA39: 45 | AB39: =(AE38-AD38)-((AE38-AD38)*0.2) -> 138.49005 | AC39: =SUM(AE38-AB39-AD38) -> 34.622513 | AD39: 10 | AE39: =SUM(AA39+AB39) -> 183.49005 | AF39: =SUM(B39+G39+L39+Q39+V39+AA39) -> 495 | AG39: =SUM(C39+H39+M39+R39+W39+AB39) -> 1864.2001 | AH39: 295 | AI39: =SUM(E39+J39+O39+T39+Y39+AD39) -> 126 | AJ39: =SUM(AF39+AG39) -> 2359.2001
A40: Feb-Jun 2006 | B40: 45 | C40: 332 | D40: =SUM(F37-C40-E37) -> 60 | E40: 20 | F40: =SUM(B40+C40) -> 377 | G40: 45 | H40: 158 | I40: =SUM(K37-H40-J37) -> 31 | J40: 8 | K40: =SUM(G40+H40) -> 203 | L40: 90 | M40: 780 | N40: =SUM(P37-M40-O37) -> 110 | O40: 60 | P40: =SUM(L40+M40) -> 870 | Q40: 45 | R40: 310 | S40: =SUM(U37-R40-T37) -> 60 | T40: 15 | U40: =SUM(Q40+R40) -> 355 | V40: 45 | W40: =(Z39-Y39)-((Z39-Y39)*0.21) -> 212.51 | X40: =SUM(Z37-W40-Y37) -> 62.49 | Y40: 15 | Z40: 257 | AA40: 45 | AB40: =(AE39-AD39)-((AE39-AD39)*0.2) -> 138.79204 | AC40: =SUM(AE39-AB40-AD39) -> 34.69801 | AD40: 10 | AE40: =SUM(AA40+AB40) -> 183.79204 | AF40: =SUM(B40+G40+L40+Q40+V40+AA40) -> 315 | AG40: =SUM(C40+H40+M40+R40+W40+AB40) -> 1931.302 | AH40: 357 | AI40: =SUM(E40+J40+O40+T40+Y40+AD40) -> 128 | AJ40: =SUM(AF40+AG40) -> 2246.302
A41: Ago-Dic 2006 | B41: 90 | C41: 307 | D41: =SUM(F40-C41-E40) -> 50 | E41: 15 | F41: =SUM(B41+C41) -> 397 | G41: 45 | H41: 160 | I41: =SUM(K40-H41-J40) -> 35 | J41: 8 | K41: =SUM(G41+H41) -> 205 | L41: 135 | M41: 745 | N41: =SUM(P40-M41-O40) -> 65 | O41: 60 | P41: =SUM(L41+M41) -> 880 | Q41: 90 | R41: 289 | S41: =SUM(U40-R41-T40) -> 51 | T41: 15 | U41: =SUM(Q41+R41) -> 379 | V41: 90 | W41: =(Z40-Y40)-((Z40-Y40)*0.21) -> 191.18 | X41: =SUM(Z40-W41-Y40) -> 50.82 | Y41: 20 | Z41: 281 | AA41: 45 | AB41: =(AE40-AD40)-((AE40-AD40)*0.2) -> 139.03363 | AC41: =SUM(AE40-AB41-AD40) -> 34.758408 | AD41: 10 | AE41: =SUM(AA41+AB41) -> 184.03363 | AF41: =SUM(B41+G41+L41+Q41+V41+AA41) -> 495 | AG41: =SUM(C41+H41+M41+R41+W41+AB41) -> 1831.2136 | AH41: 287 | AI41: =SUM(E41+J41+O41+T41+Y41+AD41) -> 128 | AJ41: =SUM(AF41+AG41) -> 2326.2136
B43: INSTITUTO TECNOLOGICO DE MEXICALI
B44: PROYECCION DE LA POBLACION ESCOLAR 2000
B45: AREA DE CIENCIAS ECONOMICO ADMINISTRATIVAS | V45: TOTALES
B47: LICENCIATURA EN INFORM. | G47: LICENCIATURA EN CONTAD. | L47: TOTALES | X47: INGENIERIA | AC47: CIENCIAS ECON-ADMVAS | AH47: TOTALES
B48: N I | C48: RI | D48: DE | E48: EG | F48: Total | G48: N I | H48: RI | I48: DE | J48: EG | K48: Total | L48: N I | M48: RI | N48: DE | O48: EG | P48: Total | V48: N I | W48: RI | X48: DE | Y48: EG | Z48: Total | AA48: N I | AB48: RI | AC48: DE | AD48: EG | AE48: Total | AF48: N I | AG48: RI | AH48: DE | AI48: EG | AJ48: Total
A49: Ago-Dic 1990 | B49: 111 | C49: 260 | D49: 60 | E49: 0 | F49: =SUM(B49+C49) -> 371 | L49: =SUM(B49+G49) -> 111 | M49: =SUM(C49+H49) -> 260 | N49: 60 | O49: =SUM(E49+J49) -> 0 | P49: =SUM(L49+M49) -> 371 | V49: 158 | W49: =SUM(C9+H9+M9+R9+W9+AB9) -> 444 | X49: =SUM(D9+I9+N9+S9+X9+AC9) -> 118 | Y49: =SUM(E9+J9+O9+T9+Y9+AD9) -> 0 | Z49: =SUM(V49+W49) -> 602 | AA49: =SUM(B49+G49) -> 111 | AB49: =SUM(C49+H49) -> 260 | AC49: =SUM(D49+I49) -> 60 | AD49: =SUM(E49+J49) -> 0 | AE49: =SUM(L49+M49) -> 371 | AF49: =SUM(V49+AA49) -> 269 | AG49: =SUM(W49+AB49) -> 704 | AH49: =SUM(X49+AC49) -> 178 | AI49: =SUM(Y49+AD49) -> 0 | AJ49: =SUM(Z49+AE49) -> 973
A50: Feb-Jun 1991 | B50: 0 | C50: 328 | D50: =SUM(F49-C50-E49) -> 43 | E50: 1 | F50: =SUM(B50+C50) -> 328 | L50: =SUM(B50+G50) -> 0 | M50: =SUM(C50+H50) -> 328 | N50: =SUM(P49-M50-O49) -> 43 | O50: =SUM(E50+J50) -> 1 | P50: =SUM(L50+M50) -> 328 | V50: 2 | W50: =SUM(C10+H10+M10+R10+W10+AB10) -> 516 | X50: =SUM(D10+I10+N10+S10+X10+AC10) -> 86 | Y50: =SUM(E10+J10+O10+T10+Y10+AD10) -> 13 | Z50: =SUM(V50+W50) -> 518 | AA50: =SUM(B50+G50) -> 0 | AB50: =SUM(C50+H50) -> 328 | AC50: =SUM(D50+I50) -> 43 | AD50: =SUM(E50+J50) -> 1 | AE50: =SUM(L50+M50) -> 328 | AF50: =SUM(V50+AA50) -> 2 | AG50: =SUM(W50+AB50) -> 844 | AH50: =SUM(X50+AC50) -> 129 | AI50: =SUM(Y50+AD50) -> 14 | AJ50: =SUM(Z50+AE50) -> 846
A51: Ago-Dic 1991 | B51: 106 | C51: 306 | D51: =SUM(F50-C51-E50) -> 21 | E51: 20 | F51: =SUM(B51+C51) -> 412 | L51: =SUM(B51+G51) -> 106 | M51: =SUM(C51+H51) -> 306 | N51: =SUM(P50-M51-O50) -> 21 | O51: =SUM(E51+J51) -> 20 | P51: =SUM(L51+M51) -> 412 | V51: 206 | W51: =SUM(C11+H11+M11+R11+W11+AB11) -> 451 | X51: =SUM(D11+I11+N11+S11+X11+AC11) -> 54 | Y51: =SUM(E11+J11+O11+T11+Y11+AD11) -> 39 | Z51: =SUM(V51+W51) -> 657 | AA51: =SUM(B51+G51) -> 106 | AB51: =SUM(C51+H51) -> 306 | AC51: =SUM(D51+I51) -> 21 | AD51: =SUM(E51+J51) -> 20 | AE51: =SUM(L51+M51) -> 412 | AF51: =SUM(V51+AA51) -> 312 | AG51: =SUM(W51+AB51) -> 757 | AH51: =SUM(X51+AC51) -> 75 | AI51: =SUM(Y51+AD51) -> 59 | AJ51: =SUM(Z51+AE51) -> 1069
A52: Feb-Jun 1992 | B52: 45 | C52: 350 | D52: =SUM(F51-C52-E51) -> 42 | E52: 20 | F52: =SUM(B52+C52) -> 395 | L52: =SUM(B52+G52) -> 45 | M52: =SUM(C52+H52) -> 350 | N52: =SUM(P51-M52-O51) -> 42 | O52: =SUM(E52+J52) -> 20 | P52: =SUM(L52+M52) -> 395 | V52: 64 | W52: =SUM(C12+H12+M12+R12+W12+AB12) -> 536 | X52: =SUM(D12+I12+N12+S12+X12+AC12) -> 82 | Y52: =SUM(E12+J12+O12+T12+Y12+AD12) -> 39 | Z52: =SUM(V52+W52) -> 600 | AA52: =SUM(B52+G52) -> 45 | AB52: =SUM(C52+H52) -> 350 | AC52: =SUM(D52+I52) -> 42 | AD52: =SUM(E52+J52) -> 20 | AE52: =SUM(L52+M52) -> 395 | AF52: =SUM(V52+AA52) -> 109 | AG52: =SUM(W52+AB52) -> 886 | AH52: =SUM(X52+AC52) -> 124 | AI52: =SUM(Y52+AD52) -> 59 | AJ52: =SUM(Z52+AE52) -> 995
A53: Ago-Dic 1992 | B53: 127 | C53: 327 | D53: =SUM(F52-C53-E52) -> 48 | E53: 20 | F53: =SUM(B53+C53) -> 454 | L53: =SUM(B53+G53) -> 127 | M53: =SUM(C53+H53) -> 327 | N53: =SUM(P52-M53-O52) -> 48 | O53: =SUM(E53+J53) -> 20 | P53: =SUM(L53+M53) -> 454 | V53: 295 | W53: =SUM(C13+H13+M13+R13+W13+AB13) -> 528 | X53: =SUM(D13+I13+N13+S13+X13+AC13) -> 33 | Y53: =SUM(E13+J13+O13+T13+Y13+AD13) -> 22 | Z53: =SUM(V53+W53) -> 823 | AA53: =SUM(B53+G53) -> 127 | AB53: =SUM(C53+H53) -> 327 | AC53: =SUM(D53+I53) -> 48 | AD53: =SUM(E53+J53) -> 20 | AE53: =SUM(L53+M53) -> 454 | AF53: =SUM(V53+AA53) -> 422 | AG53: =SUM(W53+AB53) -> 855 | AH53: =SUM(X53+AC53) -> 81 | AI53: =SUM(Y53+AD53) -> 42 | AJ53: =SUM(Z53+AE53) -> 1277
A54: Feb-Jun 1993 | B54: 43 | C54: 323 | D54: =SUM(F53-C54-E53) -> 111 | E54: 29 | F54: =SUM(B54+C54) -> 366 | L54: =SUM(B54+G54) -> 43 | M54: =SUM(C54+H54) -> 323 | N54: =SUM(P53-M54-O53) -> 111 | O54: =SUM(E54+J54) -> 29 | P54: =SUM(L54+M54) -> 366 | V54: 75 | W54: =SUM(C14+H14+M14+R14+W14+AB14) -> 646 | X54: =SUM(D14+I14+N14+S14+X14+AC14) -> 155 | Y54: =SUM(E14+J14+O14+T14+Y14+AD14) -> 45 | Z54: =SUM(V54+W54) -> 721 | AA54: =SUM(B54+G54) -> 43 | AB54: =SUM(C54+H54) -> 323 | AC54: =SUM(D54+I54) -> 111 | AD54: =SUM(E54+J54) -> 29 | AE54: =SUM(L54+M54) -> 366 | AF54: =SUM(V54+AA54) -> 118 | AG54: =SUM(W54+AB54) -> 969 | AH54: =SUM(X54+AC54) -> 266 | AI54: =SUM(Y54+AD54) -> 74 | AJ54: =SUM(Z54+AE54) -> 1087
A55: Ago-Dic 1993 | B55: 133 | C55: 282 | D55: =SUM(F54-C55-E54) -> 55 | E55: 47 | F55: =SUM(B55+C55) -> 415 | L55: =SUM(B55+G55) -> 133 | M55: =SUM(C55+H55) -> 282 | N55: =SUM(P54-M55-O54) -> 55 | O55: =SUM(E55+J55) -> 47 | P55: =SUM(L55+M55) -> 415 | V55: 288 | W55: =SUM(C15+H15+M15+R15+W15+AB15) -> 566 | X55: =SUM(D15+I15+N15+S15+X15+AC15) -> 110 | Y55: =SUM(E15+J15+O15+T15+Y15+AD15) -> 34 | Z55: =SUM(V55+W55) -> 854 | AA55: =SUM(B55+G55) -> 133 | AB55: =SUM(C55+H55) -> 282 | AC55: =SUM(D55+I55) -> 55 | AD55: =SUM(E55+J55) -> 47 | AE55: =SUM(L55+M55) -> 415 | AF55: =SUM(V55+AA55) -> 421 | AG55: =SUM(W55+AB55) -> 848 | AH55: =SUM(X55+AC55) -> 165 | AI55: =SUM(Y55+AD55) -> 81 | AJ55: =SUM(Z55+AE55) -> 1269
A56: Feb-Jun 1994 | B56: 47 | C56: 292 | D56: =SUM(F55-C56-E55) -> 76 | E56: 27 | F56: =SUM(B56+C56) -> 339 | G56: 89 | H56: 0 | I56: =SUM(K55-H56-J55) -> 0 | J56: 0 | K56: =SUM(G56+H56) -> 89 | L56: =SUM(B56+G56) -> 136 | M56: =SUM(C56+H56) -> 292 | N56: =SUM(P55-M56-O55) -> 76 | O56: =SUM(E56+J56) -> 27 | P56: =SUM(L56+M56) -> 428 | V56: 87 | W56: =SUM(C16+H16+M16+R16+W16+AB16) -> 678 | X56: =SUM(D16+I16+N16+S16+X16+AC16) -> 142 | Y56: =SUM(E16+J16+O16+T16+Y16+AD16) -> 61 | Z56: =SUM(V56+W56) -> 765 | AA56: =SUM(B56+G56) -> 136 | AB56: =SUM(C56+H56) -> 292 | AC56: =SUM(D56+I56) -> 76 | AD56: =SUM(E56+J56) -> 27 | AE56: =SUM(L56+M56) -> 428 | AF56: =SUM(V56+AA56) -> 223 | AG56: =SUM(W56+AB56) -> 970 | AH56: =SUM(X56+AC56) -> 218 | AI56: =SUM(Y56+AD56) -> 88 | AJ56: =SUM(Z56+AE56) -> 1193
A57: Ago-Dic 1994 | B57: 140 | C57: 283 | D57: =SUM(F56-C57-E56) -> 29 | E57: 29 | F57: =SUM(B57+C57) -> 423 | G57: 150 | H57: 86 | I57: =SUM(K56-H57-J56) -> 3 | J57: 0 | K57: =SUM(G57+H57) -> 236 | L57: =SUM(B57+G57) -> 290 | M57: =SUM(C57+H57) -> 369 | N57: =SUM(P56-M57-O56) -> 32 | O57: =SUM(E57+J57) -> 29 | P57: =SUM(L57+M57) -> 659 | V57: 522 | W57: =SUM(C17+H17+M17+R17+W17+AB17) -> 641 | X57: =SUM(D17+I17+N17+S17+X17+AC17) -> 63 | Y57: =SUM(E17+J17+O17+T17+Y17+AD17) -> 46 | Z57: =SUM(V57+W57) -> 1163 | AA57: =SUM(B57+G57) -> 290 | AB57: =SUM(C57+H57) -> 369 | AC57: =SUM(D57+I57) -> 32 | AD57: =SUM(E57+J57) -> 29 | AE57: =SUM(L57+M57) -> 659 | AF57: =SUM(V57+AA57) -> 812 | AG57: =SUM(W57+AB57) -> 1010 | AH57: =SUM(X57+AC57) -> 95 | AI57: =SUM(Y57+AD57) -> 75 | AJ57: =SUM(Z57+AE57) -> 1822
A58: Feb-Jun 1995 | B58: 48 | C58: 352 | D58: =SUM(F57-C58-E57) -> 42 | E58: 9 | F58: =SUM(B58+C58) -> 400 | G58: 101 | H58: 209 | I58: =SUM(K57-H58-J57) -> 27 | J58: 0 | K58: =SUM(G58+H58) -> 310 | L58: =SUM(B58+G58) -> 149 | M58: =SUM(C58+H58) -> 561 | N58: =SUM(P57-M58-O57) -> 69 | O58: =SUM(E58+J58) -> 9 | P58: =SUM(L58+M58) -> 710 | V58: 257 | W58: =SUM(C18+H18+M18+R18+W18+AB18) -> 907 | X58: =SUM(D18+I18+N18+S18+X18+AC18) -> 210 | Y58: =SUM(E18+J18+O18+T18+Y18+AD18) -> 28 | Z58: =SUM(V58+W58) -> 1164 | AA58: =SUM(B58+G58) -> 149 | AB58: =SUM(C58+H58) -> 561 | AC58: =SUM(D58+I58) -> 69 | AD58: =SUM(E58+J58) -> 9 | AE58: =SUM(L58+M58) -> 710 | AF58: =SUM(V58+AA58) -> 406 | AG58: =SUM(W58+AB58) -> 1468 | AH58: =SUM(X58+AC58) -> 279 | AI58: =SUM(Y58+AD58) -> 37 | AJ58: =SUM(Z58+AE58) -> 1874
A59: Ago-Dic 1995 | B59: 136 | C59: 351 | D59: =SUM(F58-C59-E58) -> 40 | E59: 0 | F59: =SUM(B59+C59) -> 487 | G59: 92 | H59: 286 | I59: =SUM(K58-H59-J58) -> 24 | J59: 0 | K59: =SUM(G59+H59) -> 378 | L59: =SUM(B59+G59) -> 228 | M59: =SUM(C59+H59) -> 637 | N59: =SUM(P58-M59-O58) -> 64 | O59: =SUM(E59+J59) -> 0 | P59: =SUM(L59+M59) -> 865 | V59: 493 | W59: =SUM(C19+H19+M19+R19+W19+AB19) -> 1015 | X59: =SUM(D19+I19+N19+S19+X19+AC19) -> 121 | Y59: =SUM(E19+J19+O19+T19+Y19+AD19) -> 51 | Z59: =SUM(V59+W59) -> 1508 | AA59: =SUM(B59+G59) -> 228 | AB59: =SUM(C59+H59) -> 637 | AC59: =SUM(D59+I59) -> 64 | AD59: =SUM(E59+J59) -> 0 | AE59: =SUM(L59+M59) -> 865 | AF59: =SUM(V59+AA59) -> 721 | AG59: =SUM(W59+AB59) -> 1652 | AH59: =SUM(X59+AC59) -> 185 | AI59: =SUM(Y59+AD59) -> 51 | AJ59: =SUM(Z59+AE59) -> 2373
A60: Feb-Jun 1996 | B60: 49 | C60: 383 | D60: =SUM(F59-C60-E59) -> 104 | E60: 22 | F60: =SUM(B60+C60) -> 432 | G60: 48 | H60: 358 | I60: 19 | J60: 0 | K60: =SUM(G60+H60) -> 406 | L60: =SUM(B60+G60) -> 97 | M60: =SUM(C60+H60) -> 741 | N60: =SUM(P59-M60-O59) -> 124 | O60: =SUM(E60+J60) -> 22 | P60: =SUM(L60+M60) -> 838 | V60: 201 | W60: =SUM(C20+H20+M20+R20+W20+AB20) -> 1303 | X60: =SUM(D20+I20+N20+S20+X20+AC20) -> 154 | Y60: =SUM(E20+J20+O20+T20+Y20+AD20) -> 54 | Z60: =SUM(V60+W60) -> 1504 | AA60: =SUM(B60+G60) -> 97 | AB60: =SUM(C60+H60) -> 741 | AC60: =SUM(D60+I60) -> 123 | AD60: =SUM(E60+J60) -> 22 | AE60: =SUM(L60+M60) -> 838 | AF60: =SUM(V60+AA60) -> 298 | AG60: =SUM(W60+AB60) -> 2044 | AH60: =SUM(X60+AC60) -> 277 | AI60: =SUM(Y60+AD60) -> 76 | AJ60: =SUM(Z60+AE60) -> 2342
A61: Ago-Dic 1996 | B61: 85 | C61: 354 | D61: =SUM(F60-C61-E60) -> 56 | E61: 20 | F61: =SUM(B61+C61) -> 439 | G61: 93 | H61: 388 | I61: =SUM(K60-H61-J60) -> 18 | J61: 0 | K61: =SUM(G61+H61) -> 481 | L61: =SUM(B61+G61) -> 178 | M61: =SUM(C61+H61) -> 742 | N61: =SUM(P60-M61-O60) -> 74 | O61: =SUM(E61+J61) -> 20 | P61: =SUM(L61+M61) -> 920 | V61: =AF21 -> 495 | W61: =SUM(C21+H21+M21+R21+W21+AB21) -> 1278 | X61: =SUM(D21+I21+N21+S21+X21+AC21) -> 172 | Y61: =SUM(E21+J21+O21+T21+Y21+AD21) -> 37 | Z61: =SUM(V61+W61) -> 1773 | AA61: =SUM(B61+G61) -> 178 | AB61: =SUM(C61+H61) -> 742 | AC61: =SUM(D61+I61) -> 74 | AD61: =SUM(E61+J61) -> 20 | AE61: =SUM(L61+M61) -> 920 | AF61: =SUM(V61+AA61) -> 673 | AG61: =SUM(W61+AB61) -> 2020 | AH61: =SUM(X61+AC61) -> 246 | AI61: =SUM(Y61+AD61) -> 57 | AJ61: =SUM(Z61+AE61) -> 2693
A62: Feb-Jun 1997 | B62: 43 | C62: 362 | D62: =SUM(F61-C62-E61) -> 57 | E62: 17 | F62: =SUM(B62+C62) -> 405 | G62: 46 | H62: 458 | I62: =SUM(K61-H62-J61) -> 23 | J62: 0 | K62: =SUM(G62+H62) -> 504 | L62: =SUM(B62+G62) -> 89 | M62: =SUM(C62+H62) -> 820 | N62: =SUM(P61-M62-O61) -> 80 | O62: =SUM(E62+J62) -> 17 | P62: =SUM(L62+M62) -> 909 | V62: =AF22 -> 285 | W62: =SUM(C22+H22+M22+R22+W22+AB22) -> 1462 | X62: =SUM(D22+I22+N22+S22+X22+AC22) -> 274 | Y62: =SUM(E22+J22+O22+T22+Y22+AD22) -> 41 | Z62: =SUM(V62+W62) -> 1747 | AA62: =SUM(B62+G62) -> 89 | AB62: =SUM(C62+H62) -> 820 | AC62: =SUM(D62+I62) -> 80 | AD62: =SUM(E62+J62) -> 17 | AE62: =SUM(L62+M62) -> 909 | AF62: =SUM(V62+AA62) -> 374 | AG62: =SUM(W62+AB62) -> 2282 | AH62: =SUM(X62+AC62) -> 354 | AI62: =SUM(Y62+AD62) -> 58 | AJ62: =SUM(Z62+AE62) -> 2656
A63: Ago-Dic 1997 | B63: 45 | C63: 338 | D63: =SUM(F62-C63-E62) -> 50 | E63: 11 | F63: =SUM(B63+C63) -> 383 | G63: 90 | H63: =(K62-J62)-((K62-J62)*0.05) -> 478.8 | I63: =(K62-J62)*0.05 -> 25.2 | J63: 0 | K63: =SUM(G63+H63) -> 568.8 | L63: =SUM(B63+G63) -> 135 | M63: =SUM(C63+H63) -> 816.8 | N63: =SUM(P62-M63-O62) -> 75.2 | O63: =SUM(E63+J63) -> 11 | P63: =SUM(L63+M63) -> 951.8 | V63: =AF23 -> 465 | W63: =SUM(C23+H23+M23+R23+W23+AB23) -> 1475 | X63: =SUM(D23+I23+N23+S23+X23+AC23) -> 231 | Y63: =SUM(E23+J23+O23+T23+Y23+AD23) -> 48 | Z63: =SUM(V63+W63) -> 1940 | AA63: =SUM(B63+G63) -> 135 | AB63: =SUM(C63+H63) -> 816.8 | AC63: =SUM(D63+I63) -> 75.2 | AD63: =SUM(E63+J63) -> 11 | AE63: =SUM(L63+M63) -> 951.8 | AF63: =SUM(V63+AA63) -> 600 | AG63: =SUM(W63+AB63) -> 2291.8 | AH63: =SUM(X63+AC63) -> 306.2 | AI63: =SUM(Y63+AD63) -> 59 | AJ63: =SUM(Z63+AE63) -> 2891.8
A64: Feb-Jun 1998 | B64: 45 | C64: 322 | D64: =SUM(F63-C64-E63) -> 50 | E64: 14 | F64: =SUM(B64+C64) -> 367 | G64: 45 | H64: =(K63-J63)-((K63-J63)*0.05) -> 540.36 | I64: =(K63-J63)*0.05 -> 28.44 | J64: 0 | K64: =SUM(G64+H64) -> 585.36 | L64: =SUM(B64+G64) -> 90 | M64: =SUM(C64+H64) -> 862.36 | N64: =SUM(P63-M64-O63) -> 78.44 | O64: =SUM(E64+J64) -> 14 | P64: =SUM(L64+M64) -> 952.36 | V64: =AF24 -> 320 | W64: =SUM(C24+H24+M24+R24+W24+AB24) -> 1632 | X64: =SUM(D24+I24+N24+S24+X24+AC24) -> 260 | Y64: =SUM(E24+J24+O24+T24+Y24+AD24) -> 41 | Z64: =SUM(V64+W64) -> 1952 | AA64: =SUM(B64+G64) -> 90 | AB64: =SUM(C64+H64) -> 862.36 | AC64: =SUM(D64+I64) -> 78.44 | AD64: =SUM(E64+J64) -> 14 | AE64: =SUM(L64+M64) -> 952.36 | AF64: =SUM(V64+AA64) -> 410 | AG64: =SUM(W64+AB64) -> 2494.36 | AH64: =SUM(X64+AC64) -> 338.44 | AI64: =SUM(Y64+AD64) -> 55 | AJ64: =SUM(Z64+AE64) -> 2904.36
A65: Ago-Dic 1998 | B65: 45 | C65: 305 | D65: =SUM(F64-C65-E64) -> 48 | E65: 10 | F65: =SUM(B65+C65) -> 350 | G65: 90 | H65: =(K64-J64)-((K64-J64)*0.05) -> 556.092 | I65: =(K64-J64)*0.05 -> 29.268 | J65: 20 | K65: =SUM(G65+H65) -> 646.092 | L65: =SUM(B65+G65) -> 135 | M65: =SUM(C65+H65) -> 861.092 | N65: =SUM(P64-M65-O64) -> 77.268 | O65: =SUM(E65+J65) -> 30 | P65: =SUM(L65+M65) -> 996.092 | V65: =AF25 -> 465 | W65: =SUM(C25+H25+M25+R25+W25+AB25) -> 1643 | X65: =SUM(D25+I25+N25+S25+X25+AC25) -> 268 | Y65: =SUM(E25+J25+O25+T25+Y25+AD25) -> 48 | Z65: =SUM(V65+W65) -> 2108 | AA65: =SUM(B65+G65) -> 135 | AB65: =SUM(C65+H65) -> 861.092 | AC65: =SUM(D65+I65) -> 77.268 | AD65: =SUM(E65+J65) -> 30 | AE65: =SUM(L65+M65) -> 996.092 | AF65: =SUM(V65+AA65) -> 600 | AG65: =SUM(W65+AB65) -> 2504.092 | AH65: =SUM(X65+AC65) -> 345.268 | AI65: =SUM(Y65+AD65) -> 78 | AJ65: =SUM(Z65+AE65) -> 3104.092
A66: Feb-Jun 1999 | B66: 45 | C66: 295 | D66: =SUM(F65-C66-E65) -> 45 | E66: 11 | F66: =SUM(B66+C66) -> 340 | G66: 45 | H66: =(K65-J65)-((K65-J65)*0.05) -> 594.7874 | I66: =(K65-J65)*0.05 -> 31.3046 | J66: 20 | K66: =SUM(G66+H66) -> 639.7874 | L66: =SUM(B66+G66) -> 90 | M66: =SUM(C66+H66) -> 889.7874 | N66: =SUM(P65-M66-O65) -> 76.3046 | O66: =SUM(E66+J66) -> 31 | P66: =SUM(L66+M66) -> 979.7874 | V66: =AF26 -> 305 | W66: =SUM(C26+H26+M26+R26+W26+AB26) -> 1773 | X66: =SUM(D26+I26+N26+S26+X26+AC26) -> 287 | Y66: =SUM(E26+J26+O26+T26+Y26+AD26) -> 85 | Z66: =SUM(V66+W66) -> 2078 | AA66: =SUM(B66+G66) -> 90 | AB66: =SUM(C66+H66) -> 889.7874 | AC66: =SUM(D66+I66) -> 76.3046 | AD66: =SUM(E66+J66) -> 31 | AE66: =SUM(L66+M66) -> 979.7874 | AF66: =SUM(V66+AA66) -> 395 | AG66: =SUM(W66+AB66) -> 2662.7874 | AH66: =SUM(X66+AC66) -> 363.3046 | AI66: =SUM(Y66+AD66) -> 116 | AJ66: =SUM(Z66+AE66) -> 3057.7874
A67: Ago-Dic 1999 | B67: 45 | C67: 284 | D67: =SUM(F66-C67-E66) -> 45 | E67: 10 | F67: =SUM(B67+C67) -> 329 | G67: 90 | H67: =(K66-J66)-((K66-J66)*0.05) -> 588.79803 | I67: =(K66-J66)*0.05 -> 30.98937 | J67: 20 | K67: =SUM(G67+H67) -> 678.79803 | L67: =SUM(B67+G67) -> 135 | M67: =SUM(C67+H67) -> 872.79803 | N67: =SUM(P66-M67-O66) -> 75.98937 | O67: =SUM(E67+J67) -> 30 | P67: =SUM(L67+M67) -> 1007.798 | V67: =AF27 -> 465 | W67: =SUM(C27+H27+M27+R27+W27+AB27) -> 1718 | X67: =SUM(D27+I27+N27+S27+X27+AC27) -> 275 | Y67: =SUM(E27+J27+O27+T27+Y27+AD27) -> 83 | Z67: =SUM(V67+W67) -> 2183 | AA67: =SUM(B67+G67) -> 135 | AB67: =SUM(C67+H67) -> 872.79803 | AC67: =SUM(D67+I67) -> 75.98937 | AD67: =SUM(E67+J67) -> 30 | AE67: =SUM(L67+M67) -> 1007.798 | AF67: =SUM(V67+AA67) -> 600 | AG67: =SUM(W67+AB67) -> 2590.798 | AH67: =SUM(X67+AC67) -> 350.98937 | AI67: =SUM(Y67+AD67) -> 113 | AJ67: =SUM(Z67+AE67) -> 3190.798
A68: Feb-Jun 2000 | B68: 45 | C68: 279 | D68: =SUM(F67-C68-E67) -> 40 | E68: 15 | F68: =SUM(B68+C68) -> 324 | G68: 45 | H68: =(K67-J67)-((K67-J67)*0.05) -> 625.85813 | I68: =(K67-J67)*0.05 -> 32.939901 | J68: 20 | K68: =SUM(G68+H68) -> 670.85813 | L68: =SUM(B68+G68) -> 90 | M68: =SUM(C68+H68) -> 904.85813 | N68: =SUM(P67-M68-O67) -> 72.939902 | O68: =SUM(E68+J68) -> 35 | P68: =SUM(L68+M68) -> 994.85813 | V68: =AF28 -> 305 | W68: =SUM(C28+H28+M28+R28+W28+AB28) -> 1795 | X68: =SUM(D28+I28+N28+S28+X28+AC28) -> 305 | Y68: =SUM(E28+J28+O28+T28+Y28+AD28) -> 68 | Z68: =SUM(V68+W68) -> 2100 | AA68: =SUM(B68+G68) -> 90 | AB68: =SUM(C68+H68) -> 904.85813 | AC68: =SUM(D68+I68) -> 72.939901 | AD68: =SUM(E68+J68) -> 35 | AE68: =SUM(L68+M68) -> 994.85813 | AF68: =SUM(V68+AA68) -> 395 | AG68: =SUM(W68+AB68) -> 2699.8581 | AH68: =SUM(X68+AC68) -> 377.9399 | AI68: =SUM(Y68+AD68) -> 103 | AJ68: =SUM(Z68+AE68) -> 3094.8581
A69: Ago-Dic 2000 | B69: 45 | C69: =(F68-E68)-((F68-E68)*0.13) -> 268.83 | D69: =SUM(F68-C69-E68) -> 40.17 | E69: 20 | F69: =SUM(B69+C69) -> 313.83 | G69: 90 | H69: =(K68-J68)-((K68-J68)*0.05) -> 618.31522 | I69: =(K68-J68)*0.05 -> 32.542906 | J69: 20 | K69: =SUM(G69+H69) -> 708.31522 | L69: =SUM(B69+G69) -> 135 | M69: =SUM(C69+H69) -> 887.14522 | N69: =SUM(P68-M69-O68) -> 72.712906 | O69: =SUM(E69+J69) -> 40 | P69: =SUM(L69+M69) -> 1022.1452 | V69: =AF29 -> 495 | W69: =SUM(C29+H29+M29+R29+W29+AB29) -> 1757 | X69: =SUM(D29+I29+N29+S29+X29+AC29) -> 275 | Y69: =SUM(E29+J29+O29+T29+Y29+AD29) -> 66 | Z69: =SUM(V69+W69) -> 2252 | AA69: =SUM(B69+G69) -> 135 | AB69: =SUM(C69+H69) -> 887.14522 | AC69: =SUM(D69+I69) -> 72.712906 | AD69: =SUM(E69+J69) -> 40 | AE69: =SUM(L69+M69) -> 1022.1452 | AF69: =SUM(V69+AA69) -> 630 | AG69: =SUM(W69+AB69) -> 2644.1452 | AH69: =SUM(X69+AC69) -> 347.71291 | AI69: =SUM(Y69+AD69) -> 106 | AJ69: =SUM(Z69+AE69) -> 3274.1452
A70: Feb-Jun 2001 | B70: 45 | C70: =(F69-E69)-((F69-E69)*0.13) -> 255.6321 | D70: =SUM(F69-C70-E69) -> 38.1979 | E70: 20 | F70: =SUM(B70+C70) -> 300.6321 | G70: 45 | H70: =(K69-J69)-((K69-J69)*0.05) -> 653.89946 | I70: =(K69-J69)*0.05 -> 34.415761 | J70: 20 | K70: =SUM(G70+H70) -> 698.89946 | L70: =SUM(B70+G70) -> 90 | M70: =SUM(C70+H70) -> 909.53156 | N70: =SUM(P69-M70-O69) -> 72.613661 | O70: =SUM(E70+J70) -> 40 | P70: =SUM(L70+M70) -> 999.53156 | V70: =AF30 -> 315 | W70: =SUM(C30+H30+M30+R30+W30+AB30) -> 1890 | X70: =SUM(D30+I30+N30+S30+X30+AC30) -> 296 | Y70: =SUM(E30+J30+O30+T30+Y30+AD30) -> 68 | Z70: =SUM(V70+W70) -> 2205 | AA70: =SUM(B70+G70) -> 90 | AB70: =SUM(C70+H70) -> 909.53156 | AC70: =SUM(D70+I70) -> 72.613661 | AD70: =SUM(E70+J70) -> 40 | AE70: =SUM(L70+M70) -> 999.53156 | AF70: =SUM(V70+AA70) -> 405 | AG70: =SUM(W70+AB70) -> 2799.5316 | AH70: =SUM(X70+AC70) -> 368.61366 | AI70: =SUM(Y70+AD70) -> 108 | AJ70: =SUM(Z70+AE70) -> 3204.5316
A71: Ago-Dic 2001 | B71: 45 | C71: =(F70-E70)-((F70-E70)*0.13) -> 244.14993 | D71: =SUM(F70-C71-E70) -> 36.482173 | E71: 20 | F71: =SUM(B71+C71) -> 289.14993 | G71: 90 | H71: =(K70-J70)-((K70-J70)*0.05) -> 644.95449 | I71: =(K70-J70)*0.05 -> 33.944973 | J71: 20 | K71: =SUM(G71+H71) -> 734.95449 | L71: =SUM(B71+G71) -> 135 | M71: =SUM(C71+H71) -> 889.10441 | N71: =SUM(P70-M71-O70) -> 70.427146 | O71: =SUM(E71+J71) -> 40 | P71: =SUM(L71+M71) -> 1024.1044 | V71: =AF31 -> 495 | W71: =SUM(C31+H31+M31+R31+W31+AB31) -> 1844.3 | X71: =SUM(D31+I31+N31+S31+X31+AC31) -> 292.7 | Y71: =SUM(E31+J31+O31+T31+Y31+AD31) -> 78 | Z71: =SUM(V71+W71) -> 2339.3 | AA71: =SUM(B71+G71) -> 135 | AB71: =SUM(C71+H71) -> 889.10441 | AC71: =SUM(D71+I71) -> 70.427146 | AD71: =SUM(E71+J71) -> 40 | AE71: =SUM(L71+M71) -> 1024.1044 | AF71: =SUM(V71+AA71) -> 630 | AG71: =SUM(W71+AB71) -> 2733.4044 | AH71: =SUM(X71+AC71) -> 363.12715 | AI71: =SUM(Y71+AD71) -> 118 | AJ71: =SUM(Z71+AE71) -> 3363.4044
A72: Feb-Jun 2002 | B72: 45 | C72: =(F71-E71)-((F71-E71)*0.13) -> 234.16044 | D72: =SUM(F71-C72-E71) -> 34.989491 | E72: 20 | F72: =SUM(B72+C72) -> 279.16044 | G72: 45 | H72: =(K71-J71)-((K71-J71)*0.05) -> 679.20676 | I72: =(K71-J71)*0.05 -> 35.747724 | J72: 20 | K72: =SUM(G72+H72) -> 724.20676 | L72: =SUM(B72+G72) -> 90 | M72: =SUM(C72+H72) -> 913.3672 | N72: =SUM(P71-M72-O71) -> 70.737215 | O72: =SUM(E72+J72) -> 40 | P72: =SUM(L72+M72) -> 1003.3672 | V72: =AF32 -> 315 | W72: =SUM(C32+H32+M32+R32+W32+AB32) -> 1968.27 | X72: =SUM(D32+I32+N32+S32+X32+AC32) -> 292.73 | Y72: =SUM(E32+J32+O32+T32+Y32+AD32) -> 94 | Z72: =SUM(V72+W72) -> 2283.27 | AA72: =SUM(B72+G72) -> 90 | AB72: =SUM(C72+H72) -> 913.3672 | AC72: =SUM(D72+I72) -> 70.737215 | AD72: =SUM(E72+J72) -> 40 | AE72: =SUM(L72+M72) -> 1003.3672 | AF72: =SUM(V72+AA72) -> 405 | AG72: =SUM(W72+AB72) -> 2881.6372 | AH72: =SUM(X72+AC72) -> 363.46721 | AI72: =SUM(Y72+AD72) -> 134 | AJ72: =SUM(Z72+AE72) -> 3286.6372
A73: Ago-Dic 2002 | B73: 45 | C73: =(F72-E72)-((F72-E72)*0.13) -> 225.46958 | D73: =SUM(F72-C73-E72) -> 33.690857 | E73: 15 | F73: =SUM(B73+C73) -> 270.46958 | G73: 90 | H73: =(K72-J72)-((K72-J72)*0.05) -> 668.99643 | I73: =(K72-J72)*0.05 -> 35.210338 | J73: 20 | K73: =SUM(G73+H73) -> 758.99643 | L73: =SUM(B73+G73) -> 135 | M73: =SUM(C73+H73) -> 894.46601 | N73: =SUM(P72-M73-O72) -> 68.901195 | O73: =SUM(E73+J73) -> 35 | P73: =SUM(L73+M73) -> 1029.466 | V73: =AF33 -> 495 | W73: =SUM(C33+H33+M33+R33+W33+AB33) -> 1894.59 | X73: =SUM(D33+I33+N33+S33+X33+AC33) -> 294.21 | Y73: =SUM(E33+J33+O33+T33+Y33+AD33) -> 98 | Z73: =SUM(V73+W73) -> 2389.59 | AA73: =SUM(B73+G73) -> 135 | AB73: =SUM(C73+H73) -> 894.46601 | AC73: =SUM(D73+I73) -> 68.901195 | AD73: =SUM(E73+J73) -> 35 | AE73: =SUM(L73+M73) -> 1029.466 | AF73: =SUM(V73+AA73) -> 630 | AG73: =SUM(W73+AB73) -> 2789.056 | AH73: =SUM(X73+AC73) -> 363.11119 | AI73: =SUM(Y73+AD73) -> 133 | AJ73: =SUM(Z73+AE73) -> 3419.056
A74: Feb-Jun 2003 | B74: 45 | C74: =(F73-E73)-((F73-E73)*0.13) -> 222.25853 | D74: =SUM(F73-C74-E73) -> 33.211045 | E74: 15 | F74: =SUM(B74+C74) -> 267.25853 | G74: 45 | H74: =(K73-J73)-((K73-J73)*0.05) -> 702.0466 | I74: =(K73-J73)*0.05 -> 36.949821 | J74: 20 | K74: =SUM(G74+H74) -> 747.0466 | L74: =SUM(B74+G74) -> 90 | M74: =SUM(C74+H74) -> 924.30514 | N74: =SUM(P73-M74-O73) -> 70.160867 | O74: =SUM(E74+J74) -> 35 | P74: =SUM(L74+M74) -> 1014.3051 | V74: =AF34 -> 315 | W74: =SUM(C34+H34+M34+R34+W34+AB34) -> 2003.912 | X74: =SUM(D34+I34+N34+S34+X34+AC34) -> 291.328 | Y74: =SUM(E34+J34+O34+T34+Y34+AD34) -> 104 | Z74: =SUM(V74+W74) -> 2318.912 | AA74: =SUM(B74+G74) -> 90 | AB74: =SUM(C74+H74) -> 924.30514 | AC74: =SUM(D74+I74) -> 70.160867 | AD74: =SUM(E74+J74) -> 35 | AE74: =SUM(L74+M74) -> 1014.3051 | AF74: =SUM(V74+AA74) -> 405 | AG74: =SUM(W74+AB74) -> 2928.2171 | AH74: =SUM(X74+AC74) -> 361.48887 | AI74: =SUM(Y74+AD74) -> 139 | AJ74: =SUM(Z74+AE74) -> 3333.2171
A75: Ago-Dic 2003 | B75: 45 | C75: =(F74-E74)-((F74-E74)*0.13) -> 219.46492 | D75: =SUM(F74-C75-E74) -> 32.793609 | E75: 15 | F75: =SUM(B75+C75) -> 264.46492 | G75: 90 | H75: =(K74-J74)-((K74-J74)*0.05) -> 690.69427 | I75: =(K74-J74)*0.05 -> 36.35233 | J75: 20 | K75: =SUM(G75+H75) -> 780.69427 | L75: =SUM(B75+G75) -> 135 | M75: =SUM(C75+H75) -> 910.1592 | N75: =SUM(P74-M75-O74) -> 69.14594 | O75: =SUM(E75+J75) -> 35 | P75: =SUM(L75+M75) -> 1045.1592 | V75: =AF35 -> 495 | W75: =SUM(C35+H35+M35+R35+W35+AB35) -> 1915.9236 | X75: =SUM(D35+I35+N35+S35+X35+AC35) -> 296.4684 | Y75: =SUM(E35+J35+O35+T35+Y35+AD35) -> 113 | Z75: =SUM(V75+W75) -> 2410.9236 | AA75: =SUM(B75+G75) -> 135 | AB75: =SUM(C75+H75) -> 910.1592 | AC75: =SUM(D75+I75) -> 69.14594 | AD75: =SUM(E75+J75) -> 35 | AE75: =SUM(L75+M75) -> 1045.1592 | AF75: =SUM(V75+AA75) -> 630 | AG75: =SUM(W75+AB75) -> 2826.0828 | AH75: =SUM(X75+AC75) -> 365.61434 | AI75: =SUM(Y75+AD75) -> 148 | AJ75: =SUM(Z75+AE75) -> 3456.0828
A76: Feb-Jun 2004 | B76: 45 | C76: =(F75-E75)-((F75-E75)*0.13) -> 217.03448 | D76: =SUM(F75-C76-E75) -> 32.43044 | E76: 15 | F76: =SUM(B76+C76) -> 262.03448 | G76: 45 | H76: =(K75-J75)-((K75-J75)*0.05) -> 722.65956 | I76: =(K75-J75)*0.05 -> 38.034714 | J76: 20 | K76: =SUM(G76+H76) -> 767.65956 | L76: =SUM(B76+G76) -> 90 | M76: =SUM(C76+H76) -> 939.69404 | N76: =SUM(P75-M76-O75) -> 70.465154 | O76: =SUM(E76+J76) -> 35 | P76: =SUM(L76+M76) -> 1029.694 | V76: =AF36 -> 315 | W76: =SUM(C36+H36+M36+R36+W36+AB36) -> 2012.2509 | X76: =SUM(D36+I36+N36+S36+X36+AC36) -> 286.06272 | Y76: =SUM(E36+J36+O36+T36+Y36+AD36) -> 115 | Z76: =SUM(V76+W76) -> 2327.2509 | AA76: =SUM(B76+G76) -> 90 | AB76: =SUM(C76+H76) -> 939.69404 | AC76: =SUM(D76+I76) -> 70.465154 | AD76: =SUM(E76+J76) -> 35 | AE76: =SUM(L76+M76) -> 1029.694 | AF76: =SUM(V76+AA76) -> 405 | AG76: =SUM(W76+AB76) -> 2951.9449 | AH76: =SUM(X76+AC76) -> 356.52787 | AI76: =SUM(Y76+AD76) -> 150 | AJ76: =SUM(Z76+AE76) -> 3356.9449
A77: Ago-Dic 2004 | B77: 45 | C77: =(F76-E76)-((F76-E76)*0.13) -> 214.92 | D77: =SUM(F76-C77-E76) -> 32.114483 | E77: 15 | F77: =SUM(B77+C77) -> 259.92 | G77: 90 | H77: =(K76-J76)-((K76-J76)*0.05) -> 710.27658 | I77: =(K76-J76)*0.05 -> 37.382978 | J77: 20 | K77: =SUM(G77+H77) -> 800.27658 | L77: =SUM(B77+G77) -> 135 | M77: =SUM(C77+H77) -> 925.19658 | N77: =SUM(P76-M77-O76) -> 69.497461 | O77: =SUM(E77+J77) -> 35 | P77: =SUM(L77+M77) -> 1060.1966 | V77: =AF37 -> 495 | W77: =SUM(C37+H37+M37+R37+W37+AB37) -> 1917.3007 | X77: =SUM(D37+I37+N37+S37+X37+AC37) -> 294.75018 | Y77: =SUM(E37+J37+O37+T37+Y37+AD37) -> 124 | Z77: =SUM(V77+W77) -> 2412.3007 | AA77: =SUM(B77+G77) -> 135 | AB77: =SUM(C77+H77) -> 925.19658 | AC77: =SUM(D77+I77) -> 69.497461 | AD77: =SUM(E77+J77) -> 35 | AE77: =SUM(L77+M77) -> 1060.1966 | AF77: =SUM(V77+AA77) -> 630 | AG77: =SUM(W77+AB77) -> 2842.4973 | AH77: =SUM(X77+AC77) -> 364.24764 | AI77: =SUM(Y77+AD77) -> 159 | AJ77: =SUM(Z77+AE77) -> 3472.4973
A78: Feb-Jun 2005 | B78: 45 | C78: =(F77-E77)-((F77-E77)*0.13) -> 213.0804 | D78: =SUM(F77-C78-E77) -> 31.8396 | E78: 15 | F78: =SUM(B78+C78) -> 258.0804 | G78: 45 | H78: =(K77-J77)-((K77-J77)*0.05) -> 741.26275 | I78: =(K77-J77)*0.05 -> 39.013829 | J78: 20 | K78: =SUM(G78+H78) -> 786.26275 | L78: =SUM(B78+G78) -> 90 | M78: =SUM(C78+H78) -> 954.34315 | N78: =SUM(P77-M78-O77) -> 70.853429 | O78: =SUM(E78+J78) -> 35 | P78: =SUM(L78+M78) -> 1044.3432 | V78: =AF38 -> 315 | W78: =SUM(C38+H38+M38+R38+W38+AB38) -> 1970.3626 | X78: =SUM(D38+I38+N38+S38+X38+AC38) -> 318.27814 | Y78: =SUM(E38+J38+O38+T38+Y38+AD38) -> 126 | Z78: =SUM(V78+W78) -> 2285.3626 | AA78: =SUM(B78+G78) -> 90 | AB78: =SUM(C78+H78) -> 954.34315 | AC78: =SUM(D78+I78) -> 70.853429 | AD78: =SUM(E78+J78) -> 35 | AE78: =SUM(L78+M78) -> 1044.3432 | AF78: =SUM(V78+AA78) -> 405 | AG78: =SUM(W78+AB78) -> 2924.7057 | AH78: =SUM(X78+AC78) -> 389.13157 | AI78: =SUM(Y78+AD78) -> 161 | AJ78: =SUM(Z78+AE78) -> 3329.7057
A79: Ago-Dic 2005 | B79: 45 | C79: =(F78-E78)-((F78-E78)*0.13) -> 211.47995 | D79: =SUM(F78-C79-E78) -> 31.600452 | E79: 15 | F79: =SUM(B79+C79) -> 256.47995 | G79: 90 | H79: =(K78-J78)-((K78-J78)*0.05) -> 727.94962 | I79: =(K78-J78)*0.05 -> 38.313138 | J79: 20 | K79: =SUM(G79+H79) -> 817.94962 | L79: =SUM(B79+G79) -> 135 | M79: =SUM(C79+H79) -> 939.42956 | N79: =SUM(P78-M79-O78) -> 69.91359 | O79: =SUM(E79+J79) -> 35 | P79: =SUM(L79+M79) -> 1074.4296 | V79: =AF39 -> 495 | W79: =SUM(C39+H39+M39+R39+W39+AB39) -> 1864.2001 | X79: =SUM(D39+I39+N39+S39+X39+AC39) -> 294.91251 | Y79: =SUM(E39+J39+O39+T39+Y39+AD39) -> 126 | Z79: =SUM(V79+W79) -> 2359.2001 | AA79: =SUM(B79+G79) -> 135 | AB79: =SUM(C79+H79) -> 939.42956 | AC79: =SUM(D79+I79) -> 69.91359 | AD79: =SUM(E79+J79) -> 35 | AE79: =SUM(L79+M79) -> 1074.4296 | AF79: =SUM(V79+AA79) -> 630 | AG79: =SUM(W79+AB79) -> 2803.6296 | AH79: =SUM(X79+AC79) -> 364.8261 | AI79: =SUM(Y79+AD79) -> 161 | AJ79: =SUM(Z79+AE79) -> 3433.6296
A80: Feb-Jun 2006 | B80: 45 | C80: =(F79-E79)-((F79-E79)*0.13) -> 210.08756 | D80: =SUM(F79-C80-E79) -> 31.392393 | E80: 15 | F80: =SUM(B80+C80) -> 255.08756 | G80: 45 | H80: =(K79-J79)-((K79-J79)*0.05) -> 758.05213 | I80: =(K79-J79)*0.05 -> 39.897481 | J80: 20 | K80: =SUM(G80+H80) -> 803.05213 | L80: =SUM(B80+G80) -> 90 | M80: =SUM(C80+H80) -> 968.13969 | N80: =SUM(P79-M80-O79) -> 71.289874 | O80: =SUM(E80+J80) -> 35 | P80: =SUM(L80+M80) -> 1058.1397 | V80: =AF40 -> 315 | W80: =SUM(C40+H40+M40+R40+W40+AB40) -> 1931.302 | X80: =SUM(D40+I40+N40+S40+X40+AC40) -> 358.18801 | Y80: =SUM(E40+J40+O40+T40+Y40+AD40) -> 128 | Z80: =SUM(V80+W80) -> 2246.302 | AA80: =SUM(B80+G80) -> 90 | AB80: =SUM(C80+H80) -> 968.13969 | AC80: =SUM(D80+I80) -> 71.289874 | AD80: =SUM(E80+J80) -> 35 | AE80: =SUM(L80+M80) -> 1058.1397 | AF80: =SUM(V80+AA80) -> 405 | AG80: =SUM(W80+AB80) -> 2899.4417 | AH80: =SUM(X80+AC80) -> 429.47788 | AI80: =SUM(Y80+AD80) -> 163 | AJ80: =SUM(Z80+AE80) -> 3304.4417
A81: Ago-Dic 2006 | B81: 45 | C81: =(F80-E80)-((F80-E80)*0.13) -> 208.87617 | D81: =SUM(F80-C81-E80) -> 31.211382 | E81: 15 | F81: =SUM(B81+C81) -> 253.87617 | G81: 90 | H81: =(K80-J80)-((K80-J80)*0.05) -> 743.89953 | I81: =(K80-J80)*0.05 -> 39.152607 | J81: 20 | K81: =SUM(G81+H81) -> 833.89953 | L81: =SUM(B81+G81) -> 135 | M81: =SUM(C81+H81) -> 952.7757 | N81: =SUM(P80-M81-O80) -> 70.363989 | O81: =SUM(E81+J81) -> 35 | P81: =SUM(L81+M81) -> 1087.7757 | V81: =AF41 -> 495 | W81: =SUM(C41+H41+M41+R41+W41+AB41) -> 1831.2136 | X81: =SUM(D41+I41+N41+S41+X41+AC41) -> 286.57841 | Y81: =SUM(E41+J41+O41+T41+Y41+AD41) -> 128 | Z81: =SUM(V81+W81) -> 2326.2136 | AA81: =SUM(B81+G81) -> 135 | AB81: =SUM(C81+H81) -> 952.7757 | AC81: =SUM(D81+I81) -> 70.363989 | AD81: =SUM(E81+J81) -> 35 | AE81: =SUM(L81+M81) -> 1087.7757 | AF81: =SUM(V81+AA81) -> 630 | AG81: =SUM(W81+AB81) -> 2783.9893 | AH81: =SUM(X81+AC81) -> 356.9424 | AI81: =SUM(Y81+AD81) -> 163 | AJ81: =SUM(Z81+AE81) -> 3413.9893

Sheet Hoja3
B6: INGENIERIA | H6: CIENCIAS ECONOMICO ADMVAS | N6: TOTALES
B7: N I | C7: RI | D7: DE | E7: EG | F7: Total | G7: %D | H7: N I | I7: RI | J7: DE | K7: EG | L7: Total | M7: %D | N7: N I | O7: RI | P7: DE | Q7: EG | R7: Total | S7: %D
B8: 41 | C8: 464 | D8: 118 | E8: 0 | F8: 505 | G8: -0.13 | H8: 39 | I8: 243 | J8: 60 | K8: 0 | L8: 282 | M8: -0.07 | N8: 80 | O8: 707 | P8: 178 | Q8: 0 | R8: 787 | S8: -0.11
A9: Ago-Dic 1990 | B9: 158 | C9: 444 | D9: 61 | E9: 0 | F9: 602 | G9: =SUM(F9/F8)-1 -> 0.19207921 | H9: 111 | I9: 260 | J9: 22 | K9: 0 | L9: 371 | M9: =SUM(L9/L8)-1 -> 0.31560284 | N9: 269 | O9: 704 | P9: 83 | Q9: 0 | R9: 973 | S9: =SUM(R9/R8)-1 -> 0.23634053
A10: Feb-Jun 1991 | B10: 2 | C10: 516 | D10: 86 | E10: 13 | F10: 518 | G10: =SUM(F10/F9)-1 -> -0.13953488 | H10: 0 | I10: 328 | J10: 43 | K10: 1 | L10: 328 | M10: =SUM(L10/L9)-1 -> -0.11590296 | N10: 2 | O10: 844 | P10: 129 | Q10: 14 | R10: 846 | S10: =SUM(R10/R9)-1 -> -0.13052415
A11: Ago-Dic 1991 | B11: 206 | C11: 462 | D11: 43 | E11: 39 | F11: 668 | G11: =SUM(F11/F10)-1 -> 0.28957529 | H11: 106 | I11: 306 | J11: 21 | K11: 20 | L11: 412 | M11: =SUM(L11/L10)-1 -> 0.25609756 | N11: 312 | O11: 768 | P11: 64 | Q11: 59 | R11: 1080 | S11: =SUM(R11/R10)-1 -> 0.27659574
A12: Feb-Jun 1992 | B12: 64 | C12: 536 | D12: 93 | E12: 39 | F12: 600 | G12: =SUM(F12/F11)-1 -> -0.10179641 | H12: 45 | I12: 350 | J12: 42 | K12: 20 | L12: 395 | M12: =SUM(L12/L11)-1 -> -0.041262136 | N12: 109 | O12: 886 | P12: 135 | Q12: 59 | R12: 995 | S12: =SUM(R12/R11)-1 -> -0.078703704
A13: Ago-Dic 1992 | B13: 295 | C13: 536 | D13: 25 | E13: 22 | F13: 831 | G13: =SUM(F13/F12)-1 -> 0.385 | H13: 127 | I13: 327 | J13: 48 | K13: 20 | L13: 454 | M13: =SUM(L13/L12)-1 -> 0.14936709 | N13: 422 | O13: 863 | P13: 73 | Q13: 42 | R13: 1285 | S13: =SUM(R13/R12)-1 -> 0.29145729
A14: Feb-Jun 1993 | B14: 75 | C14: 646 | D14: 163 | E14: 45 | F14: 721 | G14: =SUM(F14/F13)-1 -> -0.13237064 | H14: 43 | I14: 323 | J14: 111 | K14: 29 | L14: 366 | M14: =SUM(L14/L13)-1 -> -0.1938326 | N14: 118 | O14: 969 | P14: 274 | Q14: 74 | R14: 1087 | S14: =SUM(R14/R13)-1 -> -0.1540856
A15: Ago-Dic 1993 | B15: 288 | C15: 566 | D15: 110 | E15: 34 | F15: 854 | G15: =SUM(F15/F14)-1 -> 0.18446602 | H15: 133 | I15: 282 | J15: 55 | K15: 47 | L15: 415 | M15: =SUM(L15/L14)-1 -> 0.13387978 | N15: 421 | O15: 848 | P15: 165 | Q15: 81 | R15: 1269 | S15: =SUM(R15/R14)-1 -> 0.1674333
A16: Feb-Jun 1994 | B16: 87 | C16: 678 | D16: 142 | E16: 61 | F16: 765 | G16: =SUM(F16/F15)-1 -> -0.10421546 | H16: 136 | I16: 292 | J16: 76 | K16: 27 | L16: 428 | M16: =SUM(L16/L15)-1 -> 0.031325301 | N16: 223 | O16: 970 | P16: 218 | Q16: 88 | R16: 1193 | S16: =SUM(R16/R15)-1 -> -0.059889677
A17: Ago-Dic 1994 | B17: 522 | C17: 641 | D17: 63 | E17: 46 | F17: 1163 | G17: =SUM(F17/F16)-1 -> 0.52026144 | H17: 290 | I17: 369 | J17: 32 | K17: 29 | L17: 659 | M17: =SUM(L17/L16)-1 -> 0.53971963 | N17: 812 | O17: 1010 | P17: 95 | Q17: 75 | R17: 1822 | S17: =SUM(R17/R16)-1 -> 0.52724225
A18: Feb-Jun 1995 | B18: 257 | C18: 907 | D18: 210 | E18: 28 | F18: 1164 | G18: =SUM(F18/F17)-1 -> 0.00085984523 | H18: 149 | I18: 561 | J18: 69 | K18: 9 | L18: 710 | M18: =SUM(L18/L17)-1 -> 0.077389985 | N18: 406 | O18: 1468 | P18: 279 | Q18: 37 | R18: 1874 | S18: =SUM(R18/R17)-1 -> 0.028540066
A19: Ago-Dic 1995 | B19: 493 | C19: 1015 | D19: 121 | E19: 51 | F19: 1508 | G19: =SUM(F19/F18)-1 -> 0.29553265 | H19: 228 | I19: 637 | J19: 64 | K19: 0 | L19: 865 | M19: =SUM(L19/L18)-1 -> 0.21830986 | N19: 721 | O19: 1652 | P19: 185 | Q19: 51 | R19: 2373 | S19: =SUM(R19/R18)-1 -> 0.26627535
A20: Feb-Jun 1996 | B20: 201 | C20: 1303 | D20: 154 | E20: 54 | F20: 1504 | G20: =SUM(F20/F19)-1 -> -0.0026525199 | H20: 97 | I20: 741 | J20: 124 | K20: 22 | L20: 838 | M20: =SUM(L20/L19)-1 -> -0.031213873 | N20: 298 | O20: 2044 | P20: 278 | Q20: 76 | R20: 2342 | S20: =SUM(R20/R19)-1 -> -0.013063633
... A29: Ago-Dic 2000 | B29: 450 | C29: 1887 | D29: 210 | E29: 86 | F29: 2337 | G29: =SUM(F29/F28)-1 -> 0.070054945 | H29: 180 | I29: 943 | J29: 90 | K29: 40 | L29: 1123 | M29: =SUM(L29/L28)-1 -> 0.051498127 | N29: 630 | O29: 2830 | P29: 300 | Q29: 126 | R29: 3460 | S29: =SUM(R29/R28)-1 -> 0.06396064

Sheet Hoja4
B7: Total
A8: Oct-Dic 1981 | B8: 346
A9: Feb-Jun 1982 | B9: 402
A10: Ago-Dic 1982 | B10: 689
A11: Feb-Jun 1983 | B11: 732
A12: Ago-Dic 1983 | B12: 637
A13: Feb-Jun 1984 | B13: 650
A14: Ago-Dic 1984 | B14: 731
A15: Feb-Jun 1985 | B15: 705
A16: Ago-Dic 1985 | B16: 800
A17: Feb-Jun 1986 | B17: 709
A18: Ago-Dic 1986 | B18: 806
A19: Feb-Jun 1987 | B19: 713
... A42: Ago-Dic 1998 | B42: 3007
