Workbook
Name bddeptos: 'Crec x Depto'!$Z$3:$AC$8
Name BDEST: ESTADISTICAS!$M$6:$Z$53
Name DBESTLIQ: ESTADISTICAS!$C$6:$L$35
Name MATEST: #REF!
Name MATPOB: EST_ITM!$A$5:$EN$96
Name periodos: ESTADISTICAS!$A$6:$B$55
Name periodos2: ESTADISTICAS!$AB$6:$AC$53

Sheet EST_ITM
BO1: INSTITUTO TECNOLOGICO DE MEXICALI
BO2: PROYECCION DE LA POBLACION ESCOLAR
BO4: ESTADISTICA DE CARRERAS ACTUALES Y LIQUIDACION A ENE-JUN 2015 Y PROYECCION A AGO-DIC 2018
A5: 1 | B5: 2 | C5: 3 | D5: 4 | E5: 5 | F5: 6 | G5: 7 | H5: 8 | I5: 9 | J5: 10 | K5: 11 | L5: 12 | M5: 13 | N5: 14 | O5: 15 | P5: 16 | Q5: 17 | R5: 18 | S5: 19 | T5: 20 | U5: 21 | V5: 22 | W5: 23 | X5: 24 | Y5: 25 | Z5: 26 | AA5: 27 | AB5: 28 | AC5: 29 | AD5: 30 | AE5: 31 | AF5: 32 | AG5: 33 | AH5: 34 | AI5: 35 | AJ5: 36 | AK5: 37 | AL5: 38 | AM5: 39 | AN5: 40 | AO5: 41 | AP5: 42 | AQ5: 43 | AR5: 44 | AS5: 45 | AT5: 46 | AU5: 47 | AV5: 48 | AW5: 49 | AX5: 50 | AY5: 51 | AZ5: 52 | BA5: 53 | BB5: 54 | BC5: 55 | BD5: 56 | BE5: 57 | BF5: 58 | BG5: 59 | BH5: 60 | BI5: 61 | BJ5: 62 | BK5: 63 | BL5: 64 | BM5: 65 | BN5: 66 | BO5: 67 | BP5: 68 | BQ5: 69 | BR5: 70 | BS5: 71 | BT5: 72 | BU5: 73 | BV5: 74 | BW5: 75 | BX5: 76 | BY5: 77 | BZ5: 78 | CA5: 79 | CB5: 80 | CC5: 81 | CD5: 82 | CE5: 83 | CF5: 84 | CG5: 85 | CH5: 86 | CI5: 87 | CJ5: 88 | CK5: 89 | CL5: 90 | CM5: 91 | CN5: 92 | CO5: 93 | CP5: 94 | CQ5: 95 | CR5: 96 | CS5: 97 | CT5: 98 | CU5: 99 | CV5: 100 | CW5: 101 | CX5: 102 | CY5: 103 | CZ5: 104 | DA5: 105 | DB5: 106 | DC5: 107 | DD5: 108 | DE5: 109 | DF5: 110 | DG5: 111 | DH5: 112 | DI5: 113 | DJ5: 114 | DK5: 115 | DL5: 116 | DM5: 117 | DN5: 118 | DO5: 119 | DP5: 120 | DQ5: 121 | DR5: 122 | DS5: 123 | DT5: 124 | DU5: 125 | DV5: 126 | DW5: 127 | DX5: 128 | DY5: 129 | DZ5: 130 | EA5: 131 | EB5: 132 | EC5: 133 | ED5: 134 | EE5: 135 | EF5: 136 | EG5: 137 | EH5: 138 | EI5: 139 | EJ5: 140 | EK5: 141 | EL5: 142 | EM5: 143 | EN5: 144 | EO5: 145
D6: ING. IND. MECANICA | I6: ING. IND. ELECTRONICA | N6: ING. ELECTRICA EN CONTRL. | S6: ING. IND. QUIMICA | V6: INGENIERIA ELECTRONICA | AA6: INGENIERIA ELECTRICA | AF6: INGENIERIA INDUSTRIAL | AK6: INGENIERIA MECANICA | AP6: LICENCIATURA EN INFORMATICA | AU6: LICENCIATURA EN CONTAD. | AZ6: INGENIERIA EN SISTEMAS COMPUTACIONALES | BE6: INGENIERIA QUIMICA | BJ6: INGENIERIA MECATRONICA | BO6: ING. EN GESTION EMPRESARIAL | BU6: INGENIERIA EN LOGISTICA | CA6: CONTADOR PUBLICO | CG6: INGENIERIA ELECTRICA | CM6: INGENIERIA ELECTRONICA | CS6: ING EN ENERGIAS RENOVABLES | CY6: ING EN SISTEMAS COMPUTACIONALES | DE6: INGENIERIA INDUSTRIAL | DK6: INGENIERIA EN INFORMATICA | DQ6: INGENIERIA MECANICA | DW6: INGENIERIA MECATRONICA | EC6: INGENIERIA QUIMICA | EL6: TOTALES
B7: N I | C7: RI | D7: DE | E7: EG | F7: Total | G7: N I | H7: RI | I7: DE | J7: EG | K7: Total | L7: N I | M7: RI | N7: DE | O7: EG | P7: Total | Q7: N I | R7: RI | S7: DE | T7: EG | U7: Total | V7: N I | W7: RI | X7: DE | Y7: EG | Z7: Total | AA7: N I | AB7: RI | AC7: DE | AD7: EG | AE7: Total | AF7: N I | AG7: RI | AH7: DE | AI7: EG | AJ7: Total | AK7: N I | AL7: RI | AM7: DE | AN7: EG | AO7: Total | AP7: N I | AQ7: RI | AR7: DE | AS7: EG | AT7: Total | AU7: N I | AV7: RI | AW7: DE | AX7: EG | AY7: Total | AZ7: N I | BA7: RI | BB7: DE | BC7: EG | BD7: Total | BE7: N I | BF7: RI | BG7: DE | BH7: EG | BI7: Total | BJ7: N I | BK7: RI | BL7: DE | BM7: EG | BN7: Total | BO7: N I | BP7: RI | BQ7: EQ | BR7: DE | BS7: EG | BT7: Total | BU7: N I | BV7: RI | BW7: EQ | BX7: DE | BY7: EG | BZ7: Total | CA7: N I | CB7: RI | CC7: EQ | CD7: DE | CE7: EG | CF7: Total | CG7: N I | CH7: RI | CI7: EQ | CJ7: DE | CK7: EG | CL7: Total | CM7: N I | CN7: RI | CO7: EQ | CP7: DE | CQ7: EG | CR7: Total | CS7: N I | CT7: RI | CU7: EQ | CV7: DE | CW7: EG | CX7: Total | CY7: N I | CZ7: RI | DA7: EQ | DB7: DE | DC7: EG | DD7: Total | DE7: N I | DF7: RI | DG7: EQ | DH7: DE | DI7: EG | DJ7: Total | DK7: N I | DL7: RI | DM7: EQ | DN7: DE | DO7: EG | DP7: Total | DQ7: N I | DR7: RI | DS7: EQ | DT7: DE | DU7: EG | DV7: Total | DW7: N I | DX7: RI | DY7: EQ | DZ7: DE | EA7: EG | EB7: Total | EC7: N I | ED7: RI | EE7: EQ | EF7: DE | EG7: EG | EH7: Total | EI7: N I | EJ7: RI | EK7: EQ | EL7: DE | EM7: EG | EN7: Total
A8: Oct-Dic 1981 | B8: 146 | C8: 0 | D8: 0 | E8: 0 | F8: =SUM(B8+C8) -> 146 | G8: 98 | H8: 0 | I8: 0 | J8: 0 | K8: =SUM(G8+H8) -> 98 | L8: 102 | M8: 0 | N8: 0 | O8: 0 | P8: =SUM(L8+M8) -> 102 | EI8: 346 | EJ8: =SUM(C8+H8+M8+R8+W8+AB8+AG8+AL8+AQ8+AV8+BA8+BF8) -> 0 | EK8: =SUM(D8+I8+N8+S8+X8+AC8+AH8+AM8+AR8+AW8+BB8+BG8) -> 0 | EL8: 0 | EM8: =SUM(E8+J8+O8+T8+Y8+AD8+AI8+AN8+AS8+AX8+BC8+BH8) -> 0 | EN8: =SUM(EI8+EJ8) -> 346
A9: Feb-Jun 1982 | B9: 81 | C9: 65 | D9: =SUM(F8-C9-E8) -> 81 | E9: 0 | F9: =SUM(B9+C9) -> 146 | G9: 71 | H9: 63 | I9: =SUM(K8-H9-J8) -> 35 | J9: 0 | K9: =SUM(G9+H9) -> 134 | L9: 74 | M9: 48 | N9: =SUM(P8-M9-O8) -> 54 | O9: 0 | P9: =SUM(L9+M9) -> 122 | EI9: =SUM(B9+G9+L9+Q9+V9+AA9+AF9+AK9+AP9+AU9+AZ9+BE9) -> 226 | EJ9: =SUM(C9+H9+M9+R9+W9+AB9+AG9+AL9+AQ9+AV9+BA9+BF9+BK9) -> 176 | EK9: =SUM(D9+I9+N9+S9+X9+AC9+AH9+AM9+AR9+AW9+BB9+BG9) -> 170 | EL9: =SUM(EN8-EJ9-EM8) -> 170 | EM9: =SUM(E9+J9+O9+T9+Y9+AD9+AI9+AN9+AS9+AX9+BC9+BH9) -> 0 | EN9: =SUM(EI9+EJ9) -> 402
A10: Ago-Dic 1982 | B10: 140 | C10: 94 | D10: =SUM(F9-C10-E9) -> 52 | E10: 0 | F10: =SUM(B10+C10) -> 234 | G10: 103 | H10: 87 | I10: =SUM(K9-H10-J9) -> 47 | J10: 0 | K10: =SUM(G10+H10) -> 190 | L10: 77 | M10: 87 | N10: =SUM(P9-M10-O9) -> 35 | O10: 0 | P10: =SUM(L10+M10) -> 164 | Q10: 101 | R10: 0 | S10: =SUM(U9-R10-T9) -> 0 | T10: 0 | U10: =SUM(Q10+R10) -> 101 | EI10: =SUM(B10+G10+L10+Q10+V10+AA10+AF10+AK10+AP10+AU10+AZ10+BE10+BJ10) -> 421 | EJ10: =SUM(C10+H10+M10+R10+W10+AB10+AG10+AL10+AQ10+AV10+BA10+BF10+BK10) -> 268 | EK10: =SUM(D10+I10+N10+S10+X10+AC10+AH10+AM10+AR10+AW10+BB10+BG10) -> 134 | EL10: =SUM(EN9-EJ10-EM9) -> 134 | EM10: =SUM(E10+J10+O10+T10+Y10+AD10+AI10+AN10+AS10+AX10+BC10+BH10) -> 0 | EN10: =SUM(EI10+EJ10) -> 689
A11: Feb-Jun 1983 | B11: 63 | C11: 159 | D11: =SUM(F10-C11-E10) -> 75 | E11: 0 | F11: =SUM(B11+C11) -> 222 | G11: 59 | H11: 154 | I11: =SUM(K10-H11-J10) -> 36 | J11: 0 | K11: =SUM(G11+H11) -> 213 | L11: 38 | M11: 131 | N11: =SUM(P10-M11-O10) -> 33 | O11: 0 | P11: =SUM(L11+M11) -> 169 | Q11: 44 | R11: 84 | S11: =SUM(U10-R11-T10) -> 17 | T11: 0 | U11: =SUM(Q11+R11) -> 128 | EI11: =SUM(B11+G11+L11+Q11+V11+AA11+AF11+AK11+AP11+AU11+AZ11+BE11+BJ11) -> 204 | EJ11: =SUM(C11+H11+M11+R11+W11+AB11+AG11+AL11+AQ11+AV11+BA11+BF11+BK11) -> 528 | EK11: =SUM(D11+I11+N11+S11+X11+AC11+AH11+AM11+AR11+AW11+BB11+BG11) -> 161 | EL11: =SUM(EN10-EJ11-EM10) -> 161 | EM11: =SUM(E11+J11+O11+T11+Y11+AD11+AI11+AN11+AS11+AX11+BC11+BH11) -> 0 | EN11: =SUM(EI11+EJ11) -> 732
A12: Ago-Dic 1983 | B12: 32 | C12: 154 | D12: =SUM(F11-C12-E11) -> 68 | E12: 0 | F12: =SUM(B12+C12) -> 186 | G12: 51 | H12: 152 | I12: =SUM(K11-H12-J11) -> 61 | J12: 0 | K12: =SUM(G12+H12) -> 203 | L12: 28 | M12: 125 | N12: =SUM(P11-M12-O11) -> 44 | O12: 0 | P12: =SUM(L12+M12) -> 153 | Q12: 0 | R12: 95 | S12: =SUM(U11-R12-T11) -> 33 | T12: 0 | U12: =SUM(Q12+R12) -> 95 | EI12: =SUM(B12+G12+L12+Q12+V12+AA12+AF12+AK12+AP12+AU12+AZ12+BE12+BJ12) -> 111 | EJ12: =SUM(C12+H12+M12+R12+W12+AB12+AG12+AL12+AQ12+AV12+BA12+BF12+BK12) -> 526 | EK12: =SUM(D12+I12+N12+S12+X12+AC12+AH12+AM12+AR12+AW12+BB12+BG12) -> 206 | EL12: =SUM(EN11-EJ12-EM11) -> 206 | EM12: =SUM(E12+J12+O12+T12+Y12+AD12+AI12+AN12+AS12+AX12+BC12+BH12) -> 0 | EN12: =SUM(EI12+EJ12) -> 637
A13: Feb-Jun 1984 | B13: 31 | C13: 149 | D13: =SUM(F12-C13-E12) -> 37 | E13: 0 | F13: =SUM(B13+C13) -> 180 | G13: 42 | H13: 184 | I13: =SUM(K12-H13-J12) -> 19 | J13: 0 | K13: =SUM(G13+H13) -> 226 | L13: 24 | M13: 134 | N13: =SUM(P12-M13-O12) -> 19 | O13: 0 | P13: =SUM(L13+M13) -> 158 | Q13: 0 | R13: 86 | S13: =SUM(U12-R13-T12) -> 9 | T13: 0 | U13: =SUM(Q13+R13) -> 86 | EI13: =SUM(B13+G13+L13+Q13+V13+AA13+AF13+AK13+AP13+AU13+AZ13+BE13+BJ13) -> 97 | EJ13: =SUM(C13+H13+M13+R13+W13+AB13+AG13+AL13+AQ13+AV13+BA13+BF13+BK13) -> 553 | EK13: =SUM(D13+I13+N13+S13+X13+AC13+AH13+AM13+AR13+AW13+BB13+BG13) -> 84 | EL13: =SUM(EN12-EJ13-EM12) -> 84 | EM13: =SUM(E13+J13+O13+T13+Y13+AD13+AI13+AN13+AS13+AX13+BC13+BH13) -> 0 | EN13: =SUM(EI13+EJ13) -> 650
A14: Ago-Dic 1984 | B14: 56 | C14: 142 | D14: =SUM(F13-C14-E13) -> 38 | E14: 0 | F14: =SUM(B14+C14) -> 198 | G14: 94 | H14: 198 | I14: =SUM(K13-H14-J13) -> 28 | J14: 0 | K14: =SUM(G14+H14) -> 292 | L14: 34 | M14: 139 | N14: =SUM(P13-M14-O13) -> 19 | O14: 0 | P14: =SUM(L14+M14) -> 173 | Q14: 0 | R14: 68 | S14: =SUM(U13-R14-T13) -> 18 | T14: 0 | U14: =SUM(Q14+R14) -> 68 | EI14: =SUM(B14+G14+L14+Q14+V14+AA14+AF14+AK14+AP14+AU14+AZ14+BE14+BJ14) -> 184 | EJ14: =SUM(C14+H14+M14+R14+W14+AB14+AG14+AL14+AQ14+AV14+BA14+BF14+BK14) -> 547 | EK14: =SUM(D14+I14+N14+S14+X14+AC14+AH14+AM14+AR14+AW14+BB14+BG14) -> 103 | EL14: =SUM(EN13-EJ14-EM13) -> 103 | EM14: =SUM(E14+J14+O14+T14+Y14+AD14+AI14+AN14+AS14+AX14+BC14+BH14+BM14) -> 0 | EN14: =SUM(EI14+EJ14) -> 731
A15: Feb-Jun 1985 | B15: 14 | C15: 179 | D15: =SUM(F14-C15-E14) -> 19 | E15: 4 | F15: =SUM(B15+C15) -> 193 | G15: 16 | H15: 266 | I15: =SUM(K14-H15-J14) -> 26 | J15: 3 | K15: =SUM(G15+H15) -> 282 | L15: 16 | M15: 151 | N15: =SUM(P14-M15-O14) -> 22 | O15: 0 | P15: =SUM(L15+M15) -> 167 | Q15: 0 | R15: 63 | S15: =SUM(U14-R15-T14) -> 5 | T15: 0 | U15: =SUM(Q15+R15) -> 63 | EI15: =SUM(B15+G15+L15+Q15+V15+AA15+AF15+AK15+AP15+AU15+AZ15+BE15+BJ15) -> 46 | EJ15: =SUM(C15+H15+M15+R15+W15+AB15+AG15+AL15+AQ15+AV15+BA15+BF15+BK15) -> 659 | EK15: =SUM(D15+I15+N15+S15+X15+AC15+AH15+AM15+AR15+AW15+BB15+BG15) -> 72 | EL15: =SUM(EN14-EJ15-EM14) -> 72 | EM15: =SUM(E15+J15+O15+T15+Y15+AD15+AI15+AN15+AS15+AX15+BC15+BH15+BM15) -> 7 | EN15: =SUM(EI15+EJ15) -> 705
A16: Ago-Dic 1985 | B16: 35 | C16: 168 | D16: =SUM(F15-C16-E15) -> 21 | E16: 4 | F16: =SUM(B16+C16) -> 203 | G16: 96 | H16: 248 | I16: =SUM(K15-H16-J15) -> 31 | J16: 5 | K16: =SUM(G16+H16) -> 344 | L16: 25 | M16: 164 | N16: =SUM(P15-M16-O15) -> 3 | O16: 12 | P16: =SUM(L16+M16) -> 189 | Q16: 0 | R16: 64 | S16: =SUM(U15-R16-T15) -> -1 | T16: 0 | U16: =SUM(Q16+R16) -> 64 | EI16: =SUM(B16+G16+L16+Q16+V16+AA16+AF16+AK16+AP16+AU16+AZ16+BE16+BJ16) -> 156 | EJ16: =SUM(C16+H16+M16+R16+W16+AB16+AG16+AL16+AQ16+AV16+BA16+BF16+BK16) -> 644 | EK16: =SUM(D16+I16+N16+S16+X16+AC16+AH16+AM16+AR16+AW16+BB16+BG16) -> 54 | EL16: =SUM(EN15-EJ16-EM15) -> 54 | EM16: =SUM(E16+J16+O16+T16+Y16+AD16+AI16+AN16+AS16+AX16+BC16+BH16+BM16) -> 21 | EN16: =SUM(EI16+EJ16) -> 800
A17: Feb-Jun 1986 | B17: 0 | C17: 187 | D17: =SUM(F16-C17-E16) -> 12 | E17: 7 | F17: =SUM(B17+C17) -> 187 | G17: 51 | H17: 272 | I17: =SUM(K16-H17-J16) -> 67 | J17: 8 | K17: =SUM(G17+H17) -> 323 | L17: 0 | M17: 149 | N17: =SUM(P16-M17-O16) -> 28 | O17: 7 | P17: =SUM(L17+M17) -> 149 | Q17: 0 | R17: 50 | S17: =SUM(U16-R17-T16) -> 14 | T17: 2 | U17: =SUM(Q17+R17) -> 50 | EI17: =SUM(B17+G17+L17+Q17+V17+AA17+AF17+AK17+AP17+AU17+AZ17+BE17+BJ17) -> 51 | EJ17: =SUM(C17+H17+M17+R17+W17+AB17+AG17+AL17+AQ17+AV17+BA17+BF17+BK17) -> 658 | EK17: =SUM(D17+I17+N17+S17+X17+AC17+AH17+AM17+AR17+AW17+BB17+BG17) -> 121 | EL17: =SUM(EN16-EJ17-EM16) -> 121 | EM17: =SUM(E17+J17+O17+T17+Y17+AD17+AI17+AN17+AS17+AX17+BC17+BH17+BM17) -> 24 | EN17: =SUM(EI17+EJ17) -> 709
A18: Ago-Dic 1986 | B18: 37 | C18: 166 | D18: =SUM(F17-C18-E17) -> 14 | E18: 11 | F18: =SUM(B18+C18) -> 203 | G18: 2 | H18: 293 | I18: =SUM(K17-H18-J17) -> 22 | J18: 20 | K18: =SUM(G18+H18) -> 295 | L18: 23 | M18: 129 | N18: =SUM(P17-M18-O17) -> 13 | O18: 31 | P18: =SUM(L18+M18) -> 152 | Q18: 0 | R18: 51 | S18: =SUM(U17-R18-T17) -> -3 | T18: 10 | U18: =SUM(Q18+R18) -> 51 | V18: 105 | W18: 0 | X18: =SUM(Z17-W18-Y17) -> 0 | Y18: 0 | Z18: =SUM(V18+W18) -> 105 | EI18: =SUM(B18+G18+L18+Q18+V18+AA18+AF18+AK18+AP18+AU18+AZ18+BE18+BJ18) -> 167 | EJ18: =SUM(C18+H18+M18+R18+W18+AB18+AG18+AL18+AQ18+AV18+BA18+BF18+BK18) -> 639 | EK18: =SUM(D18+I18+N18+S18+X18+AC18+AH18+AM18+AR18+AW18+BB18+BG18) -> 46 | EL18: =SUM(EN17-EJ18-EM17) -> 46 | EM18: =SUM(E18+J18+O18+T18+Y18+AD18+AI18+AN18+AS18+AX18+BC18+BH18+BM18) -> 72 | EN18: =SUM(EI18+EJ18) -> 806
A19: Feb-Jun 1987 | B19: 9 | C19: 183 | D19: =SUM(F18-C19-E18) -> 9 | E19: 26 | F19: =SUM(B19+C19) -> 192 | G19: 0 | H19: 251 | I19: =SUM(K18-H19-J18) -> 24 | J19: 27 | K19: =SUM(G19+H19) -> 251 | L19: 6 | M19: 114 | N19: =SUM(P18-M19-O18) -> 7 | O19: 17 | P19: =SUM(L19+M19) -> 120 | Q19: 0 | R19: 39 | S19: =SUM(U18-R19-T18) -> 2 | T19: 18 | U19: =SUM(Q19+R19) -> 39 | V19: 25 | W19: 80 | X19: =SUM(Z18-W19-Y18) -> 25 | Y19: 0 | Z19: =SUM(V19+W19) -> 105 | AA19: 6 | AB19: 0 | AC19: =SUM(AE18-AB19-AD18) -> 0 | AD19: 0 | AE19: =SUM(AA19+AB19) -> 6 | EI19: =SUM(B19+G19+L19+Q19+V19+AA19+AF19+AK19+AP19+AU19+AZ19+BE19+BJ19) -> 46 | EJ19: =SUM(C19+H19+M19+R19+W19+AB19+AG19+AL19+AQ19+AV19+BA19+BF19+BK19) -> 667 | EK19: =SUM(D19+I19+N19+S19+X19+AC19+AH19+AM19+AR19+AW19+BB19+BG19) -> 67 | EL19: =SUM(EN18-EJ19-EM18) -> 67 | EM19: =SUM(E19+J19+O19+T19+Y19+AD19+AI19+AN19+AS19+AX19+BC19+BH19+BM19) -> 88 | EN19: =SUM(EI19+EJ19) -> 713
A20: Ago-Dic 1987 | B20: 0 | C20: 132 | D20: =SUM(F19-C20-E19) -> 34 | E20: 11 | F20: =SUM(B20+C20) -> 132 | G20: 0 | H20: 212 | I20: =SUM(K19-H20-J19) -> 12 | J20: 30 | K20: =SUM(G20+H20) -> 212 | L20: 0 | M20: 91 | N20: =SUM(P19-M20-O19) -> 12 | O20: 18 | P20: =SUM(L20+M20) -> 91 | Q20: 0 | R20: 19 | S20: =SUM(U19-R20-T19) -> 2 | T20: 9 | U20: =SUM(Q20+R20) -> 19 | V20: 105 | W20: 96 | X20: =SUM(Z19-W20-Y19) -> 9 | Y20: 0 | Z20: =SUM(V20+W20) -> 201 | AA20: 24 | AB20: 2 | AC20: =SUM(AE19-AB20-AD19) -> 4 | AD20: 0 | AE20: =SUM(AA20+AB20) -> 26 | AF20: 17 | AG20: 0 | AH20: =SUM(AJ19-AG20-AI19) -> 0 | AI20: 0 | AJ20: =SUM(AF20+AG20) -> 17 | AK20: 45 | AL20: 0 | AM20: =SUM(AO19-AL20-AN19) -> 0 | AN20: 0 | AO20: =SUM(AK20+AL20) -> 45 | AP20: 63 | AQ20: 0 | AR20: =SUM(AT19-AQ20-AS19) -> 0 | AS20: 0 | AT20: =SUM(AP20+AQ20) -> 63 | EI20: =SUM(B20+G20+L20+Q20+V20+AA20+AF20+AK20+AP20+AU20+AZ20+BE20+BJ20) -> 254 | EJ20: =SUM(C20+H20+M20+R20+W20+AB20+AG20+AL20+AQ20+AV20+BA20+BF20+BK20) -> 552 | EK20: =SUM(D20+I20+N20+S20+X20+AC20+AH20+AM20+AR20+AW20+BB20+BG20) -> 73 | EL20: =SUM(EN19-EJ20-EM19) -> 73 | EM20: =SUM(E20+J20+O20+T20+Y20+AD20+AI20+AN20+AS20+AX20+BC20+BH20+BM20) -> 68 | EN20: =SUM(EI20+EJ20) -> 806
A21: Feb-Jun 1988 | B21: 0 | C21: 107 | D21: =SUM(F20-C21-E20) -> 14 | E21: 17 | F21: =SUM(B21+C21) -> 107 | G21: 0 | H21: 163 | I21: =SUM(K20-H21-J20) -> 19 | J21: 20 | K21: =SUM(G21+H21) -> 163 | L21: 0 | M21: 58 | N21: =SUM(P20-M21-O20) -> 15 | O21: 5 | P21: =SUM(L21+M21) -> 58 | Q21: 0 | R21: 11 | S21: =SUM(U20-R21-T20) -> -1 | T21: 3 | U21: =SUM(Q21+R21) -> 11 | V21: 26 | W21: 148 | X21: =SUM(Z20-W21-Y20) -> 53 | Y21: 0 | Z21: =SUM(V21+W21) -> 174 | AA21: 0 | AB21: 21 | AC21: =SUM(AE20-AB21-AD20) -> 5 | AD21: 0 | AE21: =SUM(AA21+AB21) -> 21 | AF21: 10 | AG21: 8 | AH21: =SUM(AJ20-AG21-AI20) -> 9 | AI21: 0 | AJ21: =SUM(AF21+AG21) -> 18 | AK21: 1 | AL21: 28 | AM21: =SUM(AO20-AL21-AN20) -> 17 | AN21: 0 | AO21: =SUM(AK21+AL21) -> 29 | AP21: 34 | AQ21: 46 | AR21: =SUM(AT20-AQ21-AS20) -> 17 | AS21: 0 | AT21: =SUM(AP21+AQ21) -> 80 | EI21: =SUM(B21+G21+L21+Q21+V21+AA21+AF21+AK21+AP21+AU21+AZ21+BE21+BJ21) -> 71 | EJ21: =SUM(C21+H21+M21+R21+W21+AB21+AG21+AL21+AQ21+AV21+BA21+BF21+BK21) -> 590 | EK21: =SUM(D21+I21+N21+S21+X21+AC21+AH21+AM21+AR21+AW21+BB21+BG21) -> 148 | EL21: =SUM(EN20-EJ21-EM20) -> 148 | EM21: =SUM(E21+J21+O21+T21+Y21+AD21+AI21+AN21+AS21+AX21+BC21+BH21+BM21) -> 45 | EN21: =SUM(EI21+EJ21) -> 661
A22: Ago-Dic 1988 | B22: 0 | C22: 81 | D22: =SUM(F21-C22-E21) -> 9 | E22: 15 | F22: =SUM(B22+C22) -> 81 | G22: 0 | H22: 133 | I22: =SUM(K21-H22-J21) -> 10 | J22: 26 | K22: =SUM(G22+H22) -> 133 | L22: 0 | M22: 45 | N22: =SUM(P21-M22-O21) -> 8 | O22: 2 | P22: =SUM(L22+M22) -> 45 | Q22: 0 | R22: 4 | S22: =SUM(U21-R22-T21) -> 4 | T22: 0 | U22: =SUM(Q22+R22) -> 4 | V22: 110 | W22: 148 | X22: =SUM(Z21-W22-Y21) -> 26 | Y22: 0 | Z22: =SUM(V22+W22) -> 258 | AA22: 30 | AB22: 15 | AC22: =SUM(AE21-AB22-AD21) -> 6 | AD22: 0 | AE22: =SUM(AA22+AB22) -> 45 | AF22: 60 | AG22: 12 | AH22: =SUM(AJ21-AG22-AI21) -> 6 | AI22: 0 | AJ22: =SUM(AF22+AG22) -> 72 | AK22: 30 | AL22: 23 | AM22: =SUM(AO21-AL22-AN21) -> 6 | AN22: 0 | AO22: =SUM(AK22+AL22) -> 53 | AP22: 95 | AQ22: 72 | AR22: =SUM(AT21-AQ22-AS21) -> 8 | AS22: 0 | AT22: =SUM(AP22+AQ22) -> 167 | EI22: =SUM(B22+G22+L22+Q22+V22+AA22+AF22+AK22+AP22+AU22+AZ22+BE22+BJ22) -> 325 | EJ22: =SUM(C22+H22+M22+R22+W22+AB22+AG22+AL22+AQ22+AV22+BA22+BF22+BK22) -> 533 | EK22: =SUM(D22+I22+N22+S22+X22+AC22+AH22+AM22+AR22+AW22+BB22+BG22) -> 83 | EL22: =SUM(EN21-EJ22-EM21) -> 83 | EM22: =SUM(E22+J22+O22+T22+Y22+AD22+AI22+AN22+AS22+AX22+BC22+BH22+BM22) -> 43 | EN22: =SUM(EI22+EJ22) -> 858
A23: Feb-Jun 1989 | B23: 0 | C23: 62 | D23: =SUM(F22-C23-E22) -> 4 | E23: 6 | F23: =SUM(B23+C23) -> 62 | G23: 0 | H23: 91 | I23: =SUM(K22-H23-J22) -> 16 | J23: 30 | K23: =SUM(G23+H23) -> 91 | L23: 0 | M23: 41 | N23: =SUM(P22-M23-O22) -> 2 | O23: 7 | P23: =SUM(L23+M23) -> 41 | Q23: 0 | R23: 1 | S23: =SUM(U22-R23-T22) -> 3 | T23: 0 | U23: =SUM(Q23+R23) -> 1 | V23: 27 | W23: 214 | X23: =SUM(Z22-W23-Y22) -> 44 | Y23: 0 | Z23: =SUM(V23+W23) -> 241 | AA23: 0 | AB23: 25 | AC23: =SUM(AE22-AB23-AD22) -> 20 | AD23: 0 | AE23: =SUM(AA23+AB23) -> 25 | AF23: 11 | AG23: 60 | AH23: =SUM(AJ22-AG23-AI22) -> 12 | AI23: 0 | AJ23: =SUM(AF23+AG23) -> 71 | AK23: 0 | AL23: 41 | AM23: =SUM(AO22-AL23-AN22) -> 12 | AN23: 0 | AO23: =SUM(AK23+AL23) -> 41 | AP23: 36 | AQ23: 143 | AR23: =SUM(AT22-AQ23-AS22) -> 24 | AS23: 0 | AT23: =SUM(AP23+AQ23) -> 179 | EI23: =SUM(B23+G23+L23+Q23+V23+AA23+AF23+AK23+AP23+AU23+AZ23+BE23+BJ23) -> 74 | EJ23: =SUM(C23+H23+M23+R23+W23+AB23+AG23+AL23+AQ23+AV23+BA23+BF23+BK23) -> 678 | EK23: =SUM(D23+I23+N23+S23+X23+AC23+AH23+AM23+AR23+AW23+BB23+BG23) -> 137 | EL23: =SUM(EN22-EJ23-EM22) -> 137 | EM23: =SUM(E23+J23+O23+T23+Y23+AD23+AI23+AN23+AS23+AX23+BC23+BH23+BM23) -> 43 | EN23: =SUM(EI23+EJ23) -> 752
A24: Ago-Dic 1989 | B24: 0 | C24: 50 | D24: =SUM(F23-C24-E23) -> 6 | E24: 12 | F24: =SUM(B24+C24) -> 50 | G24: 0 | H24: 66 | I24: =SUM(K23-H24-J23) -> -5 | J24: 19 | K24: =SUM(G24+H24) -> 66 | L24: 0 | M24: 36 | N24: =SUM(P23-M24-O23) -> -2 | O24: 5 | P24: =SUM(L24+M24) -> 36 | Q24: 0 | R24: 0 | S24: =SUM(U23-R24-T23) -> 1 | T24: 1 | U24: 0 | V24: 120 | W24: 207 | X24: =SUM(Z23-W24-Y23) -> 34 | Y24: 0 | Z24: =SUM(V24+W24) -> 327 | AA24: 24 | AB24: 18 | AC24: =SUM(AE23-AB24-AD23) -> 7 | AD24: 0 | AE24: =SUM(AA24+AB24) -> 42 | AF24: 81 | AG24: 55 | AH24: =SUM(AJ23-AG24-AI23) -> 16 | AI24: 0 | AJ24: =SUM(AF24+AG24) -> 136 | AK24: 40 | AL24: 37 | AM24: =SUM(AO23-AL24-AN23) -> 4 | AN24: 0 | AO24: =SUM(AK24+AL24) -> 77 | AP24: 148 | AQ24: 155 | AR24: =SUM(AT23-AQ24-AS23) -> 24 | AS24: 0 | AT24: =SUM(AP24+AQ24) -> 303 | EI24: =SUM(B24+G24+L24+Q24+V24+AA24+AF24+AK24+AP24+AU24+AZ24+BE24+BJ24) -> 413 | EJ24: =SUM(C24+H24+M24+R24+W24+AB24+AG24+AL24+AQ24+AV24+BA24+BF24+BK24) -> 624 | EK24: =SUM(D24+I24+N24+S24+X24+AC24+AH24+AM24+AR24+AW24+BB24+BG24) -> 85 | EL24: =SUM(EN23-EJ24-EM23) -> 85 | EM24: =SUM(E24+J24+O24+T24+Y24+AD24+AI24+AN24+AS24+AX24+BC24+BH24+BM24) -> 37 | EN24: =SUM(EI24+EJ24) -> 1037
A25: Feb-Jun 1990 | B25: 0 | C25: 40 | D25: =SUM(F24-C25-E24) -> -2 | E25: 14 | F25: =SUM(B25+C25) -> 40 | G25: 0 | H25: 44 | I25: =SUM(K24-H25-J24) -> 3 | J25: 17 | K25: =SUM(G25+H25) -> 44 | L25: 0 | M25: 27 | N25: =SUM(P24-M25-O24) -> 4 | O25: 3 | P25: =SUM(L25+M25) -> 27 | Q25: 0 | R25: 0 | S25: =SUM(U24-R25-T24) -> -1 | T25: 0 | U25: 0 | V25: 20 | W25: 263 | X25: =SUM(Z24-W25-Y24) -> 64 | Y25: 0 | Z25: =SUM(V25+W25) -> 283 | AA25: 1 | AB25: 33 | AC25: =SUM(AE24-AB25-AD24) -> 9 | AD25: 0 | AE25: =SUM(AA25+AB25) -> 34 | AF25: 17 | AG25: 112 | AH25: =SUM(AJ24-AG25-AI24) -> 24 | AI25: 0 | AJ25: =SUM(AF25+AG25) -> 129 | AK25: 3 | AL25: 56 | AM25: =SUM(AO24-AL25-AN24) -> 21 | AN25: 0 | AO25: =SUM(AK25+AL25) -> 59 | AP25: 39 | AQ25: 243 | AR25: =SUM(AT24-AQ25-AS24) -> 60 | AS25: 0 | AT25: =SUM(AP25+AQ25) -> 282 | EI25: =SUM(B25+G25+L25+Q25+V25+AA25+AF25+AK25+AP25+AU25+AZ25+BE25+BJ25) -> 80 | EJ25: =SUM(C25+H25+M25+R25+W25+AB25+AG25+AL25+AQ25+AV25+BA25+BF25+BK25) -> 818 | EK25: =SUM(D25+I25+N25+S25+X25+AC25+AH25+AM25+AR25+AW25+BB25+BG25) -> 182 | EL25: =SUM(EN24-EJ25-EM24) -> 182 | EM25: =SUM(E25+J25+O25+T25+Y25+AD25+AI25+AN25+AS25+AX25+BC25+BH25+BM25) -> 34 | EN25: =SUM(EI25+EJ25) -> 898
A26: Ago-Dic 1990 | B26: 0 | C26: 25 | D26: =SUM(F25-C26-E25) -> 1 | E26: 13 | F26: =SUM(B26+C26) -> 25 | G26: 0 | H26: 22 | I26: =SUM(K25-H26-J25) -> 5 | J26: 6 | K26: =SUM(G26+H26) -> 22 | L26: 0 | M26: 22 | N26: =SUM(P25-M26-O25) -> 2 | O26: 9 | P26: =SUM(L26+M26) -> 22 | V26: 69 | W26: 244 | X26: =SUM(Z25-W26-Y25) -> 39 | Y26: 0 | Z26: =SUM(V26+W26) -> 313 | AA26: 26 | AB26: 29 | AC26: =SUM(AE25-AB26-AD25) -> 5 | AD26: 0 | AE26: =SUM(AA26+AB26) -> 55 | AF26: 49 | AG26: 118 | AH26: =SUM(AJ25-AG26-AI25) -> 11 | AI26: 0 | AJ26: =SUM(AF26+AG26) -> 167 | AK26: 14 | AL26: 53 | AM26: =SUM(AO25-AL26-AN25) -> 6 | AN26: 0 | AO26: =SUM(AK26+AL26) -> 67 | AP26: 111 | AQ26: 260 | AR26: =SUM(AT25-AQ26-AS25) -> 22 | AS26: 0 | AT26: =SUM(AP26+AQ26) -> 371 | EI26: =SUM(B26+G26+L26+Q26+V26+AA26+AF26+AK26+AP26+AU26+AZ26+BE26+BJ26) -> 269 | EJ26: =SUM(C26+H26+M26+R26+W26+AB26+AG26+AL26+AQ26+AV26+BA26+BF26+BK26) -> 773 | EL26: =SUM(EN25-EJ26-EM25) -> 91 | EM26: =SUM(E26+J26+O26+T26+Y26+AD26+AI26+AN26+AS26+AX26+BC26+BH26+BM26) -> 28 | EN26: =SUM(EI26+EJ26) -> 1042
A27: Feb-Jun 1991 | B27: 0 | C27: 10 | D27: =SUM(F26-C27-E26) -> 2 | E27: 3 | F27: =SUM(B27+C27) -> 10 | G27: 0 | H27: 11 | I27: =SUM(K26-H27-J26) -> 5 | J27: 4 | K27: =SUM(G27+H27) -> 11 | L27: 0 | M27: 8 | N27: =SUM(P26-M27-O26) -> 5 | O27: 11 | P27: =SUM(L27+M27) -> 8 | V27: 0 | W27: 265 | X27: =SUM(Z26-W27-Y26) -> 48 | Y27: 12 | Z27: =SUM(V27+W27) -> 265 | AA27: 0 | AB27: 46 | AC27: =SUM(AE26-AB27-AD26) -> 9 | AD27: 0 | AE27: =SUM(AA27+AB27) -> 46 | AF27: 1 | AG27: 140 | AH27: =SUM(AJ26-AG27-AI26) -> 27 | AI27: 1 | AJ27: =SUM(AF27+AG27) -> 141 | AK27: 1 | AL27: 65 | AM27: =SUM(AO26-AL27-AN26) -> 2 | AN27: 0 | AO27: =SUM(AK27+AL27) -> 66 | AP27: 0 | AQ27: 328 | AR27: =SUM(AT26-AQ27-AS26) -> 43 | AS27: 1 | AT27: =SUM(AP27+AQ27) -> 328 | EI27: =SUM(B27+G27+L27+Q27+V27+AA27+AF27+AK27+AP27+AU27+AZ27+BE27+BJ27) -> 2 | EJ27: =SUM(C27+H27+M27+R27+W27+AB27+AG27+AL27+AQ27+AV27+BA27+BF27+BK27) -> 873 | EL27: =SUM(EN26-EJ27-EM26) -> 141 | EM27: =SUM(E27+J27+O27+T27+Y27+AD27+AI27+AN27+AS27+AX27+BC27+BH27+BM27) -> 32 | EN27: =SUM(EI27+EJ27) -> 875
A28: Ago-Dic 1991 | B28: 0 | C28: 6 | D28: =SUM(F27-C28-E27) -> 1 | E28: 2 | F28: =SUM(B28+C28) -> 6 | G28: 0 | H28: 6 | I28: =SUM(K27-H28-J27) -> 1 | J28: 3 | K28: =SUM(G28+H28) -> 6 | L28: 0 | M28: 0 | N28: =SUM(P27-M28-O27) -> -3 | O28: 0 | P28: =SUM(L28+M28) -> 0 | V28: 64 | W28: 224 | X28: =SUM(Z27-W28-Y27) -> 29 | Y28: 19 | Z28: =SUM(V28+W28) -> 288 | AA28: 38 | AB28: 48 | AC28: =SUM(AE27-AB28-AD27) -> -2 | AD28: 1 | AE28: =SUM(AA28+AB28) -> 86 | AF28: 59 | AG28: 128 | AH28: =SUM(AJ27-AG28-AI27) -> 12 | AI28: 6 | AJ28: =SUM(AF28+AG28) -> 187 | AK28: 45 | AL28: 62 | AM28: =SUM(AO27-AL28-AN27) -> 4 | AN28: 13 | AO28: =SUM(AK28+AL28) -> 107 | AP28: 106 | AQ28: 306 | AR28: =SUM(AT27-AQ28-AS27) -> 21 | AS28: 20 | AT28: =SUM(AP28+AQ28) -> 412 | EI28: =SUM(B28+G28+L28+Q28+V28+AA28+AF28+AK28+AP28+AU28+AZ28+BE28+BJ28) -> 312 | EJ28: =SUM(C28+H28+M28+R28+W28+AB28+AG28+AL28+AQ28+AV28+BA28+BF28+BK28) -> 780 | EL28: =SUM(EN27-EJ28-EM27) -> 63 | EM28: =SUM(E28+J28+O28+T28+Y28+AD28+AI28+AN28+AS28+AX28+BC28+BH28+BM28) -> 64 | EN28: =SUM(EI28+EJ28) -> 1092
A29: Feb-Jun 1992 | B29: 0 | C29: 3 | D29: =SUM(F28-C29-E28) -> 1 | E29: 0 | F29: =SUM(B29+C29) -> 3 | G29: 0 | H29: 3 | I29: 0 | J29: 3 | K29: =SUM(G29+H29) -> 3 | L29: 0 | M29: 1 | N29: =SUM(P28-M29-O28) -> -1 | O29: 1 | P29: =SUM(L29+M29) -> 1 | V29: 21 | W29: 233 | X29: =SUM(Z28-W29-Y28) -> 36 | Y29: 17 | Z29: =SUM(V29+W29) -> 254 | AA29: 0 | AB29: 70 | AC29: =SUM(AE28-AB29-AD28) -> 15 | AD29: 8 | AE29: =SUM(AA29+AB29) -> 70 | AF29: 43 | AG29: 158 | AH29: =SUM(AJ28-AG29-AI28) -> 23 | AI29: 8 | AJ29: =SUM(AF29+AG29) -> 201 | AK29: 0 | AL29: 75 | AM29: =SUM(AO28-AL29-AN28) -> 19 | AN29: 6 | AO29: =SUM(AK29+AL29) -> 75 | AP29: 45 | AQ29: 350 | AR29: =SUM(AT28-AQ29-AS28) -> 42 | AS29: 20 | AT29: =SUM(AP29+AQ29) -> 395 | EI29: =SUM(B29+G29+L29+Q29+V29+AA29+AF29+AK29+AP29+AU29+AZ29+BE29+BJ29) -> 109 | EJ29: =SUM(C29+H29+M29+R29+W29+AB29+AG29+AL29+AQ29+AV29+BA29+BF29+BK29) -> 893 | EL29: =SUM(EN28-EJ29-EM28) -> 135 | EM29: =SUM(E29+J29+O29+T29+Y29+AD29+AI29+AN29+AS29+AX29+BC29+BH29+BM29) -> 63 | EN29: =SUM(EI29+EJ29) -> 1002
A30: Ago-Dic 1992 | B30: 0 | C30: 0 | D30: =SUM(F29-C30-E29) -> 3 | E30: 0 | F30: 0 | G30: 0 | H30: 0 | I30: 0 | J30: 0 | K30: 0 | L30: 0 | M30: 0 | N30: 0 | O30: 0 | P30: 0 | V30: 80 | W30: 229 | X30: =SUM(Z29-W30-Y29) -> 8 | Y30: 15 | Z30: =SUM(V30+W30) -> 309 | AA30: 50 | AB30: 66 | AC30: =SUM(AE29-AB30-AD29) -> -4 | AD30: 5 | AE30: =SUM(AA30+AB30) -> 116 | AF30: 108 | AG30: 178 | AH30: =SUM(AJ29-AG30-AI29) -> 15 | AI30: 1 | AJ30: =SUM(AF30+AG30) -> 286 | AK30: 57 | AL30: 63 | AM30: =SUM(AO29-AL30-AN29) -> 6 | AN30: 1 | AO30: =SUM(AK30+AL30) -> 120 | AP30: 127 | AQ30: 327 | AR30: =SUM(AT29-AQ30-AS29) -> 48 | AS30: 20 | AT30: =SUM(AP30+AQ30) -> 454 | EI30: =SUM(B30+G30+L30+Q30+V30+AA30+AF30+AK30+AP30+AU30+AZ30+BE30+BJ30) -> 422 | EJ30: =SUM(C30+H30+M30+R30+W30+AB30+AG30+AL30+AQ30+AV30+BA30+BF30+BK30) -> 863 | EL30: =SUM(EN29-EJ30-EM29) -> 76 | EM30: =SUM(E30+J30+O30+T30+Y30+AD30+AI30+AN30+AS30+AX30+BC30+BH30+BM30) -> 42 | EN30: =SUM(EI30+EJ30) -> 1285
A31: Feb-Jun 1993 | V31: 5 | W31: 233 | X31: =SUM(Z30-W31-Y30) -> 61 | Y31: 27 | Z31: =SUM(V31+W31) -> 238 | AA31: 15 | AB31: 79 | AC31: =SUM(AE30-AB31-AD30) -> 32 | AD31: 5 | AE31: =SUM(AA31+AB31) -> 94 | AF31: 35 | AG31: 242 | AH31: =SUM(AJ30-AG31-AI30) -> 43 | AI31: 10 | AJ31: =SUM(AF31+AG31) -> 277 | AK31: 20 | AL31: 92 | AM31: =SUM(AO30-AL31-AN30) -> 27 | AN31: 3 | AO31: =SUM(AK31+AL31) -> 112 | AP31: 43 | AQ31: 323 | AR31: =SUM(AT30-AQ31-AS30) -> 111 | AS31: 29 | AT31: =SUM(AP31+AQ31) -> 366 | EI31: =SUM(B31+G31+L31+Q31+V31+AA31+AF31+AK31+AP31+AU31+AZ31+BE31+BJ31) -> 118 | EJ31: =SUM(C31+H31+M31+R31+W31+AB31+AG31+AL31+AQ31+AV31+BA31+BF31+BK31) -> 969 | EL31: =SUM(EN30-EJ31-EM30) -> 274 | EM31: =SUM(E31+J31+O31+T31+Y31+AD31+AI31+AN31+AS31+AX31+BC31+BH31+BM31) -> 74 | EN31: =SUM(EI31+EJ31) -> 1087
A32: Ago-Dic 1993 | V32: 42 | W32: 184 | X32: =SUM(Z31-W32-Y31) -> 27 | Y32: 19 | Z32: =SUM(V32+W32) -> 226 | AA32: 49 | AB32: 66 | AC32: =SUM(AE31-AB32-AD31) -> 23 | AD32: 1 | AE32: =SUM(AA32+AB32) -> 115 | AF32: 135 | AG32: 235 | AH32: =SUM(AJ31-AG32-AI31) -> 32 | AI32: 7 | AJ32: =SUM(AF32+AG32) -> 370 | AK32: 62 | AL32: 81 | AM32: =SUM(AO31-AL32-AN31) -> 28 | AN32: 7 | AO32: =SUM(AK32+AL32) -> 143 | AP32: 133 | AQ32: 282 | AR32: =SUM(AT31-AQ32-AS31) -> 55 | AS32: 47 | AT32: =SUM(AP32+AQ32) -> 415 | EI32: =SUM(B32+G32+L32+Q32+V32+AA32+AF32+AK32+AP32+AU32+AZ32+BE32+BJ32) -> 421 | EJ32: =SUM(C32+H32+M32+R32+W32+AB32+AG32+AL32+AQ32+AV32+BA32+BF32+BK32) -> 848 | EL32: =SUM(EN31-EJ32-EM31) -> 165 | EM32: =SUM(E32+J32+O32+T32+Y32+AD32+AI32+AN32+AS32+AX32+BC32+BH32+BM32) -> 81 | EN32: =SUM(EI32+EJ32) -> 1269
A33: Feb-Jun 1994 | V33: 34 | W33: 169 | X33: =SUM(Z32-W33-Y32) -> 38 | Y33: 18 | Z33: =SUM(V33+W33) -> 203 | AA33: 0 | AB33: 93 | AC33: =SUM(AE32-AB33-AD32) -> 21 | AD33: 9 | AE33: =SUM(AA33+AB33) -> 93 | AF33: 53 | AG33: 298 | AH33: =SUM(AJ32-AG33-AI32) -> 65 | AI33: 29 | AJ33: =SUM(AF33+AG33) -> 351 | AK33: 0 | AL33: 118 | AM33: =SUM(AO32-AL33-AN32) -> 18 | AN33: 5 | AO33: =SUM(AK33+AL33) -> 118 | AP33: 47 | AQ33: 292 | AR33: =SUM(AT32-AQ33-AS32) -> 76 | AS33: 27 | AT33: =SUM(AP33+AQ33) -> 339 | AU33: 89 | AV33: 0 | AW33: =SUM(AY32-AV33-AX32) -> 0 | AX33: 0 | AY33: =SUM(AU33+AV33) -> 89 | EI33: =SUM(B33+G33+L33+Q33+V33+AA33+AF33+AK33+AP33+AU33+AZ33+BE33+BJ33) -> 223 | EJ33: =SUM(C33+H33+M33+R33+W33+AB33+AG33+AL33+AQ33+AV33+BA33+BF33+BK33) -> 970 | EL33: =SUM(EN32-EJ33-EM32) -> 218 | EM33: =SUM(E33+J33+O33+T33+Y33+AD33+AI33+AN33+AS33+AX33+BC33+BH33+BM33) -> 88 | EN33: =SUM(EI33+EJ33) -> 1193
A34: Ago-Dic 1994 | V34: 88 | W34: 159 | X34: =SUM(Z33-W34-Y33) -> 26 | Y34: 19 | Z34: =SUM(V34+W34) -> 247 | AA34: 52 | AB34: 74 | AC34: =SUM(AE33-AB34-AD33) -> 10 | AD34: 5 | AE34: =SUM(AA34+AB34) -> 126 | AF34: 138 | AG34: 308 | AH34: =SUM(AJ33-AG34-AI33) -> 14 | AI34: 21 | AJ34: =SUM(AF34+AG34) -> 446 | AK34: 85 | AL34: 100 | AM34: =SUM(AO33-AL34-AN33) -> 13 | AN34: 1 | AO34: =SUM(AK34+AL34) -> 185 | AP34: 140 | AQ34: 283 | AR34: =SUM(AT33-AQ34-AS33) -> 29 | AS34: 29 | AT34: =SUM(AP34+AQ34) -> 423 | AU34: 150 | AV34: 86 | AW34: =SUM(AY33-AV34-AX33) -> 3 | AX34: 0 | AY34: =SUM(AU34+AV34) -> 236 | AZ34: 89 | BA34: 0 | BB34: =SUM(BD33-BA34-BC33) -> 0 | BC34: 0 | BD34: =SUM(AZ34+BA34) -> 89 | BE34: 70 | BF34: 0 | BG34: =SUM(BI33-BF34-BH33) -> 0 | BH34: 0 | BI34: =SUM(BE34+BF34) -> 70 | EI34: =SUM(B34+G34+L34+Q34+V34+AA34+AF34+AK34+AP34+AU34+AZ34+BE34+BJ34) -> 812 | EJ34: =SUM(C34+H34+M34+R34+W34+AB34+AG34+AL34+AQ34+AV34+BA34+BF34+BK34) -> 1010 | EL34: =SUM(EN33-EJ34-EM33) -> 95 | EM34: =SUM(E34+J34+O34+T34+Y34+AD34+AI34+AN34+AS34+AX34+BC34+BH34+BM34) -> 75 | EN34: =SUM(EI34+EJ34) -> 1822
A35: Feb-Jun 1995 | V35: 26 | W35: 170 | X35: =SUM(Z34-W35-Y34) -> 58 | Y35: 18 | Z35: =SUM(V35+W35) -> 196 | AA35: 13 | AB35: 94 | AC35: =SUM(AE34-AB35-AD34) -> 27 | AD35: 4 | AE35: =SUM(AA35+AB35) -> 107 | AF35: 95 | AG35: 395 | AH35: =SUM(AJ34-AG35-AI34) -> 30 | AI35: 3 | AJ35: =SUM(AF35+AG35) -> 490 | AK35: 20 | AL35: 139 | AM35: =SUM(AO34-AL35-AN34) -> 45 | AN35: 3 | AO35: =SUM(AK35+AL35) -> 159 | AP35: 48 | AQ35: 352 | AR35: =SUM(AT34-AQ35-AS34) -> 42 | AS35: 9 | AT35: =SUM(AP35+AQ35) -> 400 | AU35: 101 | AV35: 209 | AW35: =SUM(AY34-AV35-AX34) -> 27 | AX35: 0 | AY35: =SUM(AU35+AV35) -> 310 | AZ35: 50 | BA35: 53 | BB35: =SUM(BD34-BA35-BC34) -> 36 | BC35: 0 | BD35: =SUM(AZ35+BA35) -> 103 | BE35: 53 | BF35: 56 | BG35: =SUM(BI34-BF35-BH34) -> 14 | BH35: 0 | BI35: =SUM(BE35+BF35) -> 109 | EI35: =SUM(B35+G35+L35+Q35+V35+AA35+AF35+AK35+AP35+AU35+AZ35+BE35+BJ35) -> 406 | EJ35: =SUM(C35+H35+M35+R35+W35+AB35+AG35+AL35+AQ35+AV35+BA35+BF35+BK35) -> 1468 | EL35: =SUM(EN34-EJ35-EM34) -> 279 | EM35: =SUM(E35+J35+O35+T35+Y35+AD35+AI35+AN35+AS35+AX35+BC35+BH35+BM35) -> 37 | EN35: =SUM(EI35+EJ35) -> 1874
A36: Ago-Dic 1995 | V36: 91 | W36: 169 | X36: =SUM(Z35-W36-Y35) -> 9 | Y36: 24 | Z36: =SUM(V36+W36) -> 260 | AA36: 43 | AB36: 91 | AC36: =SUM(AE35-AB36-AD35) -> 12 | AD36: 4 | AE36: =SUM(AA36+AB36) -> 134 | AF36: 132 | AG36: 449 | AH36: =SUM(AJ35-AG36-AI35) -> 38 | AI36: 18 | AJ36: =SUM(AF36+AG36) -> 581 | AK36: 98 | AL36: 136 | AM36: =SUM(AO35-AL36-AN35) -> 20 | AN36: 5 | AO36: =SUM(AK36+AL36) -> 234 | AP36: 136 | AQ36: 351 | AR36: =SUM(AT35-AQ36-AS35) -> 40 | AS36: 0 | AT36: =SUM(AP36+AQ36) -> 487 | AU36: 92 | AV36: 286 | AW36: =SUM(AY35-AV36-AX35) -> 24 | AX36: 0 | AY36: =SUM(AU36+AV36) -> 378 | AZ36: 88 | BA36: 81 | BB36: =SUM(BD35-BA36-BC35) -> 22 | BC36: 0 | BD36: =SUM(AZ36+BA36) -> 169 | BE36: 41 | BF36: 89 | BG36: =SUM(BI35-BF36-BH35) -> 20 | BH36: 0 | BI36: =SUM(BE36+BF36) -> 130 | EI36: =SUM(B36+G36+L36+Q36+V36+AA36+AF36+AK36+AP36+AU36+AZ36+BE36+BJ36) -> 721 | EJ36: =SUM(C36+H36+M36+R36+W36+AB36+AG36+AL36+AQ36+AV36+BA36+BF36+BK36) -> 1652 | EL36: =SUM(EN35-EJ36-EM35) -> 185 | EM36: =SUM(E36+J36+O36+T36+Y36+AD36+AI36+AN36+AS36+AX36+BC36+BH36+BM36) -> 51 | EN36: =SUM(EI36+EJ36) -> 2373
A37: Feb-Jun 1996 | V37: 7 | W37: 207 | X37: =SUM(Z36-W37-Y36) -> 29 | Y37: 14 | Z37: =SUM(V37+W37) -> 214 | AA37: 0 | AB37: 101 | AC37: =SUM(AE36-AB37-AD36) -> 29 | AD37: 6 | AE37: =SUM(AA37+AB37) -> 101 | AF37: 97 | AG37: 537 | AH37: =SUM(AJ36-AG37-AI36) -> 26 | AI37: 14 | AJ37: =SUM(AF37+AG37) -> 634 | AK37: 47 | AL37: 202 | AM37: =SUM(AO36-AL37-AN36) -> 27 | AN37: 12 | AO37: =SUM(AK37+AL37) -> 249 | AP37: 49 | AQ37: 383 | AR37: =SUM(AT36-AQ37-AS36) -> 104 | AS37: 17 | AT37: =SUM(AP37+AQ37) -> 432 | AU37: 48 | AV37: 358 | AW37: =SUM(AY36-AV37-AX36) -> 20 | AX37: 0 | AY37: =SUM(AU37+AV37) -> 406 | AZ37: 50 | BA37: 153 | BB37: =SUM(BD36-BA37-BC36) -> 16 | BC37: 0 | BD37: =SUM(AZ37+BA37) -> 203 | BE37: 0 | BF37: 103 | BG37: =SUM(BI36-BF37-BH36) -> 27 | BH37: 0 | BI37: =SUM(BE37+BF37) -> 103 | EI37: =SUM(B37+G37+L37+Q37+V37+AA37+AF37+AK37+AP37+AU37+AZ37+BE37+BJ37) -> 298 | EJ37: =SUM(C37+H37+M37+R37+W37+AB37+AG37+AL37+AQ37+AV37+BA37+BF37+BK37) -> 2044 | EL37: =SUM(EN36-EJ37-EM36) -> 278 | EM37: =SUM(E37+J37+O37+T37+Y37+AD37+AI37+AN37+AS37+AX37+BC37+BH37+BM37) -> 63 | EN37: =SUM(EI37+EJ37) -> 2342
A38: Ago-Dic 1996 | V38: 98 | W38: 179 | X38: =SUM(Z37-W38-Y37) -> 21 | Y38: 14 | Z38: =SUM(V38+W38) -> 277 | AA38: 74 | AB38: 83 | AC38: =SUM(AE37-AB38-AD37) -> 12 | AD38: 8 | AE38: =SUM(AA38+AB38) -> 157 | AF38: 97 | AG38: 571 | AH38: =SUM(AJ37-AG38-AI37) -> 49 | AI38: 50 | AJ38: =SUM(AF38+AG38) -> 668 | AK38: 92 | AL38: 194 | AM38: =SUM(AO37-AL38-AN37) -> 43 | AN38: 5 | AO38: =SUM(AK38+AL38) -> 286 | AP38: 85 | AQ38: 354 | AR38: =SUM(AT37-AQ38-AS37) -> 61 | AS38: 21 | AT38: =SUM(AP38+AQ38) -> 439 | AU38: 93 | AV38: 388 | AW38: =SUM(AY37-AV38-AX37) -> 18 | AX38: 0 | AY38: =SUM(AU38+AV38) -> 481 | AZ38: 91 | BA38: 163 | BB38: =SUM(BD37-BA38-BC37) -> 40 | BC38: 0 | BD38: =SUM(AZ38+BA38) -> 254 | BE38: 43 | BF38: 88 | BG38: =SUM(BI37-BF38-BH37) -> 15 | BH38: 0 | BI38: =SUM(BE38+BF38) -> 131 | EI38: =SUM(B38+G38+L38+Q38+V38+AA38+AF38+AK38+AP38+AU38+AZ38+BE38+BJ38) -> 673 | EJ38: =SUM(C38+H38+M38+R38+W38+AB38+AG38+AL38+AQ38+AV38+BA38+BF38+BK38) -> 2020 | EL38: =SUM(EN37-EJ38-EM37) -> 259 | EM38: =SUM(E38+J38+O38+T38+Y38+AD38+AI38+AN38+AS38+AX38+BC38+BH38+BM38) -> 98 | EN38: =SUM(EI38+EJ38) -> 2693
A39: Feb-Jun 1997 | V39: 42 | W39: 228 | X39: =SUM(Z38-W39-Y38) -> 35 | Y39: 6 | Z39: =SUM(V39+W39) -> 270 | AA39: 26 | AB39: 118 | AC39: =SUM(AE38-AB39-AD38) -> 31 | AD39: 0 | AE39: =SUM(AA39+AB39) -> 144 | AF39: 102 | AG39: 575 | AH39: =SUM(AJ38-AG39-AI38) -> 43 | AI39: 15 | AJ39: =SUM(AF39+AG39) -> 677 | AK39: 46 | AL39: 237 | AM39: =SUM(AO38-AL39-AN38) -> 44 | AN39: 7 | AO39: =SUM(AK39+AL39) -> 283 | AP39: 43 | AQ39: 362 | AR39: =SUM(AT38-AQ39-AS38) -> 56 | AS39: 14 | AT39: =SUM(AP39+AQ39) -> 405 | AU39: 46 | AV39: 458 | AW39: =SUM(AY38-AV39-AX38) -> 23 | AX39: 0 | AY39: =SUM(AU39+AV39) -> 504 | AZ39: 42 | BA39: 200 | BB39: =SUM(BD38-BA39-BC38) -> 54 | BC39: 0 | BD39: =SUM(AZ39+BA39) -> 242 | BE39: 27 | BF39: 104 | BG39: =SUM(BI38-BF39-BH38) -> 27 | BH39: 0 | BI39: =SUM(BE39+BF39) -> 131 | EI39: =SUM(B39+G39+L39+Q39+V39+AA39+AF39+AK39+AP39+AU39+AZ39+BE39+BJ39) -> 374 | EJ39: =SUM(C39+H39+M39+R39+W39+AB39+AG39+AL39+AQ39+AV39+BA39+BF39+BK39) -> 2282 | EL39: =SUM(EN38-EJ39-EM38) -> 313 | EM39: =SUM(E39+J39+O39+T39+Y39+AD39+AI39+AN39+AS39+AX39+BC39+BH39+BM39) -> 42 | EN39: =SUM(EI39+EJ39) -> 2656
A40: Ago-Dic 1997 | V40: 78 | W40: 236 | X40: =SUM(Z39-W40-Y39) -> 28 | Y40: 13 | Z40: =SUM(V40+W40) -> 314 | AA40: 38 | AB40: 117 | AC40: =SUM(AE39-AB40-AD39) -> 27 | AD40: 11 | AE40: =SUM(AA40+AB40) -> 155 | AF40: 126 | AG40: 651 | AH40: =SUM(AJ39-AG40-AI39) -> 11 | AI40: 54 | AJ40: =SUM(AF40+AG40) -> 777 | AK40: 81 | AL40: 230 | AM40: =SUM(AO39-AL40-AN39) -> 46 | AN40: 10 | AO40: =SUM(AK40+AL40) -> 311 | AP40: 45 | AQ40: 343 | AR40: =SUM(AT39-AQ40-AS39) -> 48 | AS40: 15 | AT40: =SUM(AP40+AQ40) -> 388 | AU40: 72 | AV40: 481 | AW40: =SUM(AY39-AV40-AX39) -> 23 | AX40: 0 | AY40: =SUM(AU40+AV40) -> 553 | AZ40: 82 | BA40: 199 | BB40: =SUM(BD39-BA40-BC39) -> 43 | BC40: 0 | BD40: =SUM(AZ40+BA40) -> 281 | BE40: 36 | BF40: 118 | BG40: =SUM(BI39-BF40-BH39) -> 13 | BH40: 0 | BI40: =SUM(BE40+BF40) -> 154 | EI40: =SUM(B40+G40+L40+Q40+V40+AA40+AF40+AK40+AP40+AU40+AZ40+BE40+BJ40) -> 558 | EJ40: =SUM(C40+H40+M40+R40+W40+AB40+AG40+AL40+AQ40+AV40+BA40+BF40+BK40) -> 2375 | EL40: =SUM(EN39-EJ40-EM39) -> 239 | EM40: =SUM(E40+J40+O40+T40+Y40+AD40+AI40+AN40+AS40+AX40+BC40+BH40+BM40) -> 103 | EN40: =SUM(EI40+EJ40) -> 2933
A41: Feb-Jun 1998 | V41: 47 | W41: 261 | X41: =SUM(Z40-W41-Y40) -> 40 | Y41: 9 | Z41: =SUM(V41+W41) -> 308 | AA41: 41 | AB41: 126 | AC41: =SUM(AE40-AB41-AD40) -> 18 | AD41: 3 | AE41: =SUM(AA41+AB41) -> 167 | AF41: 89 | AG41: 696 | AH41: =SUM(AJ40-AG41-AI40) -> 27 | AI41: 36 | AJ41: =SUM(AF41+AG41) -> 785 | AK41: 44 | AL41: 239 | AM41: =SUM(AO40-AL41-AN40) -> 62 | AN41: 10 | AO41: =SUM(AK41+AL41) -> 283 | AP41: 38 | AQ41: 347 | AR41: =SUM(AT40-AQ41-AS40) -> 26 | AS41: 29 | AT41: =SUM(AP41+AQ41) -> 385 | AU41: 0 | AV41: 529 | AW41: =SUM(AY40-AV41-AX40) -> 24 | AX41: 45 | AY41: =SUM(AU41+AV41) -> 529 | AZ41: 42 | BA41: 258 | BB41: =SUM(BD40-BA41-BC40) -> 23 | BC41: 0 | BD41: =SUM(AZ41+BA41) -> 300 | BE41: 42 | BF41: 132 | BG41: =SUM(BI40-BF41-BH40) -> 22 | BH41: 0 | BI41: =SUM(BE41+BF41) -> 174 | EI41: =SUM(B41+G41+L41+Q41+V41+AA41+AF41+AK41+AP41+AU41+AZ41+BE41+BJ41) -> 343 | EJ41: =SUM(C41+H41+M41+R41+W41+AB41+AG41+AL41+AQ41+AV41+BA41+BF41+BK41) -> 2588 | EL41: =SUM(EN40-EJ41-EM40) -> 242 | EM41: =SUM(E41+J41+O41+T41+Y41+AD41+AI41+AN41+AS41+AX41+BC41+BH41+BM41) -> 132 | EN41: =SUM(EI41+EJ41) -> 2931
A42: Ago-Dic 1998 | V42: 79 | W42: 245 | X42: =SUM(Z41-W42-Y41) -> 54 | Y42: 11 | Z42: =SUM(V42+W42) -> 324 | AA42: 42 | AB42: 115 | AC42: =SUM(AE41-AB42-AD41) -> 49 | AD42: 7 | AE42: =SUM(AA42+AB42) -> 157 | AF42: 126 | AG42: 689 | AH42: =SUM(AJ41-AG42-AI41) -> 60 | AI42: 47 | AJ42: =SUM(AF42+AG42) -> 815 | AK42: 77 | AL42: 245 | AM42: =SUM(AO41-AL42-AN41) -> 28 | AN42: 14 | AO42: =SUM(AK42+AL42) -> 322 | AP42: 42 | AQ42: 299 | AR42: =SUM(AT41-AQ42-AS41) -> 57 | AS42: 26 | AT42: =SUM(AP42+AQ42) -> 341 | AU42: 78 | AV42: 472 | AW42: =SUM(AY41-AV42-AX41) -> 12 | AX42: 68 | AY42: =SUM(AU42+AV42) -> 550 | AZ42: 83 | BA42: 235 | BB42: =SUM(BD41-BA42-BC41) -> 65 | BC42: 0 | BD42: =SUM(AZ42+BA42) -> 318 | BE42: 40 | BF42: 140 | BG42: =SUM(BI41-BF42-BH41) -> 34 | BH42: 7 | BI42: =SUM(BE42+BF42) -> 180 | EI42: =SUM(B42+G42+L42+Q42+V42+AA42+AF42+AK42+AP42+AU42+AZ42+BE42+BJ42) -> 567 | EJ42: =SUM(C42+H42+M42+R42+W42+AB42+AG42+AL42+AQ42+AV42+BA42+BF42+BK42) -> 2440 | EL42: =SUM(EN41-EJ42-EM41) -> 359 | EM42: =SUM(E42+J42+O42+T42+Y42+AD42+AI42+AN42+AS42+AX42+BC42+BH42+BM42) -> 180 | EN42: =SUM(EI42+EJ42) -> 3007
A43: Feb-Jun 1999 | V43: 42 | W43: 284 | X43: =SUM(Z42-W43-Y42) -> 29 | Y43: 8 | Z43: =SUM(V43+W43) -> 326 | AA43: 45 | AB43: 123 | AC43: =SUM(AE42-AB43-AD42) -> 27 | AD43: 10 | AE43: =SUM(AA43+AB43) -> 168 | AF43: 79 | AG43: 729 | AH43: =SUM(AJ42-AG43-AI42) -> 39 | AI43: 49 | AJ43: =SUM(AF43+AG43) -> 808 | AK43: 41 | AL43: 257 | AM43: =SUM(AO42-AL43-AN42) -> 51 | AN43: 6 | AO43: =SUM(AK43+AL43) -> 298 | AP43: 44 | AQ43: 269 | AR43: =SUM(AT42-AQ43-AS42) -> 46 | AS43: 15 | AT43: =SUM(AP43+AQ43) -> 313 | AU43: 0 | AV43: 430 | AW43: =SUM(AY42-AV43-AX42) -> 52 | AX43: 74 | AY43: =SUM(AU43+AV43) -> 430 | AZ43: 43 | BA43: 268 | BB43: =SUM(BD42-BA43-BC42) -> 50 | BC43: 4 | BD43: =SUM(AZ43+BA43) -> 311 | BE43: 40 | BF43: 155 | BG43: =SUM(BI42-BF43-BH42) -> 18 | BH43: 15 | BI43: =SUM(BE43+BF43) -> 195 | EI43: =SUM(B43+G43+L43+Q43+V43+AA43+AF43+AK43+AP43+AU43+AZ43+BE43+BJ43) -> 334 | EJ43: =SUM(C43+H43+M43+R43+W43+AB43+AG43+AL43+AQ43+AV43+BA43+BF43+BK43) -> 2515 | EL43: =SUM(EN42-EJ43-EM42) -> 312 | EM43: =SUM(E43+J43+O43+T43+Y43+AD43+AI43+AN43+AS43+AX43+BC43+BH43+BM43) -> 181 | EN43: =SUM(EI43+EJ43) -> 2849
A44: Ago-Dic 1999 | V44: 83 | W44: 271 | X44: =SUM(Z43-W44-Y43) -> 47 | Y44: 10 | Z44: =SUM(V44+W44) -> 354 | AA44: 41 | AB44: 134 | AC44: =SUM(AE43-AB44-AD43) -> 24 | AD44: 5 | AE44: =SUM(AA44+AB44) -> 175 | AF44: 130 | AG44: 703 | AH44: =SUM(AJ43-AG44-AI43) -> 56 | AI44: 30 | AJ44: =SUM(AF44+AG44) -> 833 | AK44: 81 | AL44: 247 | AM44: =SUM(AO43-AL44-AN43) -> 45 | AN44: 10 | AO44: =SUM(AK44+AL44) -> 328 | AP44: 73 | AQ44: 256 | AR44: =SUM(AT43-AQ44-AS43) -> 42 | AS44: 15 | AT44: =SUM(AP44+AQ44) -> 329 | AU44: 87 | AV44: 351 | AW44: =SUM(AY43-AV44-AX43) -> 5 | AX44: 30 | AY44: =SUM(AU44+AV44) -> 438 | AZ44: 85 | BA44: 272 | BB44: =SUM(BD43-BA44-BC43) -> 35 | BC44: 10 | BD44: =SUM(AZ44+BA44) -> 357 | BE44: 82 | BF44: 160 | BG44: =SUM(BI43-BF44-BH43) -> 20 | BH44: 10 | BI44: =SUM(BE44+BF44) -> 242 | EI44: =SUM(B44+G44+L44+Q44+V44+AA44+AF44+AK44+AP44+AU44+AZ44+BE44+BJ44) -> 662 | EJ44: =SUM(C44+H44+M44+R44+W44+AB44+AG44+AL44+AQ44+AV44+BA44+BF44+BK44) -> 2394 | EL44: =SUM(EN43-EJ44-EM43) -> 274 | EM44: =SUM(E44+J44+O44+T44+Y44+AD44+AI44+AN44+AS44+AX44+BC44+BH44+BM44) -> 120 | EN44: =SUM(EI44+EJ44) -> 3056
A45: Feb-Jun 2000 | V45: 49 | W45: 322 | X45: =SUM(Z44-W45-Y44) -> 22 | Y45: 23 | Z45: =SUM(V45+W45) -> 371 | AA45: 44 | AB45: 138 | AC45: =SUM(AE44-AB45-AD44) -> 32 | AD45: 2 | AE45: =SUM(AA45+AB45) -> 182 | AF45: 92 | AG45: 738 | AH45: =SUM(AJ44-AG45-AI44) -> 65 | AI45: 37 | AJ45: =SUM(AF45+AG45) -> 830 | AK45: 48 | AL45: 293 | AM45: =SUM(AO44-AL45-AN44) -> 25 | AN45: 27 | AO45: =SUM(AK45+AL45) -> 341 | AP45: 42 | AQ45: 283 | AR45: =SUM(AT44-AQ45-AS44) -> 31 | AS45: 25 | AT45: =SUM(AP45+AQ45) -> 325 | AU45: 43 | AV45: 356 | AW45: =SUM(AY44-AV45-AX44) -> 52 | AX45: 36 | AY45: =SUM(AU45+AV45) -> 399 | AZ45: 47 | BA45: 308 | BB45: =SUM(BD44-BA45-BC44) -> 39 | BC45: 26 | BD45: =SUM(AZ45+BA45) -> 355 | BE45: 0 | BF45: 203 | BG45: =SUM(BI44-BF45-BH44) -> 29 | BH45: 15 | BI45: =SUM(BE45+BF45) -> 203 | EI45: =SUM(B45+G45+L45+Q45+V45+AA45+AF45+AK45+AP45+AU45+AZ45+BE45+BJ45) -> 365 | EJ45: =SUM(C45+H45+M45+R45+W45+AB45+AG45+AL45+AQ45+AV45+BA45+BF45+BK45) -> 2641 | EL45: =SUM(EN44-EJ45-EM44) -> 295 | EM45: =SUM(E45+J45+O45+T45+Y45+AD45+AI45+AN45+AS45+AX45+BC45+BH45+BM45) -> 191 | EN45: =SUM(EI45+EJ45) -> 3006
A46: Ago-Dic 2000 | V46: 83 | W46: 297 | X46: =SUM(Z45-W46-Y45) -> 51 | Y46: 14 | Z46: =SUM(V46+W46) -> 380 | AA46: 42 | AB46: =178-42 -> 136 | AC46: =SUM(AE45-AB46-AD45) -> 44 | AD46: 5 | AE46: =SUM(AA46+AB46) -> 178 | AF46: 135 | AG46: =883-135 -> 748 | AH46: =AJ45-AI45-AG46 -> 45 | AI46: 76 | AJ46: =SUM(AF46+AG46) -> 883 | AK46: 87 | AL46: =359-87 -> 272 | AM46: =SUM(AO45-AL46-AN45) -> 42 | AN46: 17 | AO46: =SUM(AK46+AL46) -> 359 | AP46: 50 | AQ46: =316-50 -> 266 | AR46: =AT45-AS45-AQ46 -> 34 | AS46: 30 | AT46: =SUM(AP46+AQ46) -> 316 | AU46: 82 | AV46: =421-82 -> 339 | AW46: =AY45-AX45-AV46 -> 24 | AX46: 55 | AY46: =SUM(AU46+AV46) -> 421 | AZ46: 81 | BA46: =365-81 -> 284 | BB46: =BD45-BC45-BA46 -> 45 | BC46: 14 | BD46: =SUM(AZ46+BA46) -> 365 | BE46: 50 | BF46: =224-50 -> 174 | BG46: =SUM(BI45-BF46-BH45) -> 14 | BH46: 18 | BI46: =SUM(BE46+BF46) -> 224 | EI46: =SUM(B46+G46+L46+Q46+V46+AA46+AF46+AK46+AP46+AU46+AZ46+BE46+BJ46) -> 610 | EJ46: =SUM(C46+H46+M46+R46+W46+AB46+AG46+AL46+AQ46+AV46+BA46+BF46+BK46) -> 2516 | EL46: =SUM(EN45-EJ46-EM45) -> 299 | EM46: =SUM(E46+J46+O46+T46+Y46+AD46+AI46+AN46+AS46+AX46+BC46+BH46+BM46) -> 229 | EN46: =SUM(EI46+EJ46) -> 3126
A47: Feb-Jun 2001 | V47: 43 | W47: 313 | X47: =SUM(Z46-W47-Y46) -> 53 | Y47: 20 | Z47: 356 | AA47: 0 | AB47: 131 | AC47: =SUM(AE46-AB47-AD46) -> 42 | AD47: 4 | AE47: =SUM(AA47+AB47) -> 131 | AF47: 79 | AG47: 765 | AH47: =AJ46-AI46-AG47 -> 42 | AI47: 68 | AJ47: =SUM(AF47+AG47) -> 844 | AK47: 59 | AL47: 298 | AM47: =SUM(AO46-AL47-AN46) -> 44 | AN47: 32 | AO47: =SUM(AK47+AL47) -> 357 | AP47: 0 | AQ47: 247 | AR47: =AT46-AS46-AQ47 -> 39 | AS47: 19 | AT47: =SUM(AP47+AQ47) -> 247 | AU47: 34 | AV47: 311 | AW47: =AY46-AX46-AV47 -> 55 | AX47: 25 | AY47: =SUM(AU47+AV47) -> 345 | AZ47: 45 | BA47: 288 | BB47: =BD46-BC46-BA47 -> 63 | BC47: 27 | BD47: =SUM(AZ47+BA47) -> 333 | BE47: 0 | BF47: 180 | BG47: =SUM(BI46-BF47-BH46) -> 26 | BH47: 8 | BI47: =SUM(BE47+BF47) -> 180 | EI47: =SUM(B47+G47+L47+Q47+V47+AA47+AF47+AK47+AP47+AU47+AZ47+BE47+BJ47) -> 260 | EJ47: =SUM(C47+H47+M47+R47+W47+AB47+AG47+AL47+AQ47+AV47+BA47+BF47+BK47) -> 2533 | EL47: =SUM(EN46-EJ47-EM46) -> 364 | EM47: =SUM(E47+J47+O47+T47+Y47+AD47+AI47+AN47+AS47+AX47+BC47+BH47+BM47) -> 203 | EN47: =SUM(EI47+EJ47) -> 2793
A48: Ago-Dic 2001 | V48: 89 | W48: 300 | X48: =SUM(Z47-W48-Y47) -> 36 | Y48: 21 | Z48: =SUM(V48+W48) -> 389 | AA48: 42 | AB48: 117 | AC48: =SUM(AE47-AB48-AD47) -> 10 | AD48: 3 | AE48: =SUM(AA48+AB48) -> 159 | AF48: 181 | AG48: 741 | AH48: =AJ47-AI47-AG48 -> 35 | AI48: 64 | AJ48: =SUM(AF48+AG48) -> 922 | AK48: 81 | AL48: 300 | AM48: =SUM(AO47-AL48-AN47) -> 25 | AN48: 27 | AO48: =SUM(AK48+AL48) -> 381 | AP48: 44 | AQ48: 199 | AR48: =AT47-AS47-AQ48 -> 29 | AS48: 14 | AT48: =SUM(AP48+AQ48) -> 243 | AU48: 92 | AV48: 289 | AW48: =AY47-AX47-AV48 -> 31 | AX48: 24 | AY48: =SUM(AU48+AV48) -> 381 | AZ48: 83 | BA48: 263 | BB48: =BD47-BC47-BA48 -> 43 | BC48: 15 | BD48: =SUM(AZ48+BA48) -> 346 | BE48: 40 | BF48: 152 | BG48: =SUM(BI47-BF48-BH47) -> 20 | BH48: 13 | BI48: =SUM(BE48+BF48) -> 192 | EI48: =SUM(B48+G48+L48+Q48+V48+AA48+AF48+AK48+AP48+AU48+AZ48+BE48+BJ48) -> 652 | EJ48: =SUM(C48+H48+M48+R48+W48+AB48+AG48+AL48+AQ48+AV48+BA48+BF48+BK48) -> 2361 | EL48: =SUM(EN47-EJ48-EM47) -> 229 | EM48: =SUM(E48+J48+O48+T48+Y48+AD48+AI48+AN48+AS48+AX48+BC48+BH48+BM48) -> 181 | EN48: =SUM(EI48+EJ48) -> 3013
A49: Feb-Jun 2002 | V49: 45 | W49: 282 | X49: =SUM(Z48-W49-Y48) -> 86 | Y49: 11 | Z49: =SUM(V49+W49) -> 327 | AA49: 44 | AB49: 110 | AC49: =SUM(AE48-AB49-AD48) -> 46 | AD49: 3 | AE49: =SUM(AA49+AB49) -> 154 | AF49: 100 | AG49: 768 | AH49: =SUM(AJ48-AG49-AI48) -> 90 | AI49: 62 | AJ49: =SUM(AF49+AG49) -> 868 | AK49: 51 | AL49: 301 | AM49: =SUM(AO48-AL49-AN48) -> 53 | AN49: 17 | AO49: =SUM(AK49+AL49) -> 352 | AP49: 54 | AQ49: 197 | AR49: =SUM(AT48-AQ49-AS48) -> 32 | AS49: 18 | AT49: =SUM(AP49+AQ49) -> 251 | AU49: 52 | AV49: 312 | AW49: =SUM(AY48-AV49-AX48) -> 45 | AX49: 33 | AY49: =SUM(AU49+AV49) -> 364 | AZ49: 50 | BA49: 278 | BB49: =SUM(BD48-BA49-BC48) -> 53 | BC49: 14 | BD49: =SUM(AZ49+BA49) -> 328 | BE49: 0 | BF49: 162 | BG49: =SUM(BI48-BF49-BH48) -> 17 | BH49: 13 | BI49: =SUM(BE49+BF49) -> 162 | EI49: =SUM(B49+G49+L49+Q49+V49+AA49+AF49+AK49+AP49+AU49+AZ49+BE49+BJ49) -> 396 | EJ49: =SUM(C49+H49+M49+R49+W49+AB49+AG49+AL49+AQ49+AV49+BA49+BF49+BK49) -> 2410 | EL49: =SUM(EN48-EJ49-EM48) -> 422 | EM49: =SUM(E49+J49+O49+T49+Y49+AD49+AI49+AN49+AS49+AX49+BC49+BH49+BM49) -> 171 | EN49: =SUM(EI49+EJ49) -> 2806
A50: Ago-Dic 2002 | V50: 92 | W50: 263 | X50: =SUM(Z49-W50-Y49) -> 53 | Y50: 14 | Z50: =SUM(V50+W50) -> 355 | AA50: 35 | AB50: 115 | AC50: =SUM(AE49-AB50-AD49) -> 36 | AD50: 9 | AE50: =SUM(AA50+AB50) -> 150 | AF50: 201 | AG50: 752 | AH50: =SUM(AJ49-AG50-AI49) -> 54 | AI50: 100 | AJ50: =SUM(AF50+AG50) -> 953 | AK50: 82 | AL50: 309 | AM50: =SUM(AO49-AL50-AN49) -> 26 | AN50: 18 | AO50: =SUM(AK50+AL50) -> 391 | AP50: 51 | AQ50: 201 | AR50: =SUM(AT49-AQ50-AS49) -> 32 | AS50: 25 | AT50: =SUM(AP50+AQ50) -> 252 | AU50: 107 | AV50: 298 | AW50: =SUM(AY49-AV50-AX49) -> 33 | AX50: 15 | AY50: =SUM(AU50+AV50) -> 405 | AZ50: 151 | BA50: 269 | BB50: =SUM(BD49-BA50-BC49) -> 45 | BC50: 13 | BD50: =SUM(AZ50+BA50) -> 420 | BE50: 58 | BF50: 132 | BG50: =SUM(BI49-BF50-BH49) -> 17 | BH50: 21 | BI50: =SUM(BE50+BF50) -> 190 | EI50: =SUM(B50+G50+L50+Q50+V50+AA50+AF50+AK50+AP50+AU50+AZ50+BE50+BJ50) -> 777 | EJ50: =SUM(C50+H50+M50+R50+W50+AB50+AG50+AL50+AQ50+AV50+BA50+BF50+BK50) -> 2339 | EL50: =SUM(EN49-EJ50-EM49) -> 296 | EM50: =SUM(E50+J50+O50+T50+Y50+AD50+AI50+AN50+AS50+AX50+BC50+BH50+BM50) -> 215 | EN50: =SUM(EI50+EJ50) -> 3116
A51: Feb-Jun 2003 | V51: 32 | W51: =+Z51-V51 -> 283 | X51: 58 | Y51: 12 | Z51: 315 | AA51: 24 | AB51: =+AE51-AA51 -> 119 | AC51: 22 | AD51: 12 | AE51: 143 | AF51: 1 | AG51: =+AJ51-AF51 -> 756 | AH51: 97 | AI51: 95 | AJ51: 757 | AK51: 45 | AL51: =+AO51-AK51 -> 317 | AM51: 56 | AN51: 24 | AO51: 362 | AP51: 0 | AQ51: =+AT51-AP51 -> 207 | AR51: 20 | AS51: 20 | AT51: 207 | AU51: 53 | AV51: =+AY51-AU51 -> 334 | AW51: 56 | AX51: 43 | AY51: 387 | AZ51: 50 | BA51: =+BD51-AZ51 -> 341 | BB51: 66 | BC51: 20 | BD51: 391 | BE51: 21 | BF51: =+BI51-BE51 -> 167 | BG51: 2 | BH51: 8 | BI51: 188 | EI51: =SUM(B51+G51+L51+Q51+V51+AA51+AF51+AK51+AP51+AU51+AZ51+BE51+BJ51) -> 226 | EJ51: =SUM(C51+H51+M51+R51+W51+AB51+AG51+AL51+AQ51+AV51+BA51+BF51+BK51) -> 2524 | EL51: =SUM(EN50-EJ51-EM50) -> 377 | EM51: =SUM(E51+J51+O51+T51+Y51+AD51+AI51+AN51+AS51+AX51+BC51+BH51+BM51) -> 234 | EN51: =SUM(EI51+EJ51) -> 2750
A52: Ago-Dic 2003 | V52: 90 | W52: 254 | X52: 49 | Y52: 13 | Z52: =SUM(V52+W52) -> 344 | AA52: 45 | AB52: 104 | AC52: 27 | AD52: 12 | AE52: =SUM(AA52+AB52) -> 149 | AF52: 166 | AG52: 657 | AH52: 5 | AI52: 72 | AJ52: =SUM(AF52+AG52) -> 823 | AK52: 80 | AL52: 304 | AM52: 34 | AN52: 14 | AO52: =SUM(AK52+AL52) -> 384 | AP52: 42 | AQ52: 172 | AR52: 15 | AS52: 11 | AT52: =SUM(AP52+AQ52) -> 214 | AU52: 138 | AV52: 340 | AW52: 4 | AX52: 39 | AY52: =SUM(AU52+AV52) -> 478 | AZ52: 124 | BA52: 295 | BB52: 76 | BC52: 14 | BD52: =SUM(AZ52+BA52) -> 419 | BE52: 44 | BF52: 158 | BG52: 22 | BH52: 14 | BI52: =SUM(BE52+BF52) -> 202 | EI52: =SUM(B52+G52+L52+Q52+V52+AA52+AF52+AK52+AP52+AU52+AZ52+BE52+BJ52) -> 729 | EJ52: =SUM(C52+H52+M52+R52+W52+AB52+AG52+AL52+AQ52+AV52+BA52+BF52+BK52) -> 2284 | EL52: =SUM(EN51-EJ52-EM51) -> 232 | EM52: =SUM(E52+J52+O52+T52+Y52+AD52+AI52+AN52+AS52+AX52+BC52+BH52+BM52) -> 189 | EN52: =SUM(EI52+EJ52) -> 3013
A53: Feb-Jun 2004 | V53: 5 | W53: 272 | X53: 59 | Y53: 19 | Z53: =SUM(V53+W53) -> 277 | AA53: 0 | AB53: 111 | AC53: 26 | AD53: 10 | AE53: =SUM(AA53+AB53) -> 111 | AF53: 19 | AG53: 655 | AH53: 96 | AI53: 51 | AJ53: =SUM(AF53+AG53) -> 674 | AK53: 24 | AL53: 318 | AM53: 52 | AN53: 35 | AO53: =SUM(AK53+AL53) -> 342 | AP53: 0 | AQ53: 179 | AR53: 24 | AS53: 14 | AT53: =SUM(AP53+AQ53) -> 179 | AU53: 12 | AV53: 346 | AW53: 93 | AX53: 16 | AY53: =SUM(AU53+AV53) -> 358 | AZ53: 38 | BA53: 342 | BB53: 63 | BC53: 23 | BD53: =SUM(AZ53+BA53) -> 380 | BE53: 10 | BF53: 171 | BG53: 17 | BH53: 20 | BI53: =SUM(BE53+BF53) -> 181 | EI53: =SUM(B53+G53+L53+Q53+V53+AA53+AF53+AK53+AP53+AU53+AZ53+BE53+BJ53) -> 108 | EJ53: =SUM(C53+H53+M53+R53+W53+AB53+AG53+AL53+AQ53+AV53+BA53+BF53+BK53) -> 2394 | EL53: =SUM(EN52-EJ53-EM52) -> 430 | EM53: =SUM(E53+J53+O53+T53+Y53+AD53+AI53+AN53+AS53+AX53+BC53+BH53+BM53) -> 188 | EN53: =SUM(EI53+EJ53) -> 2502
A54: Ago-Dic 2004 | V54: 83 | W54: 246 | X54: 12 | Y54: 18 | Z54: 329 | AA54: 42 | AB54: 97 | AC54: 4 | AD54: 3 | AE54: 139 | AF54: 94 | AG54: 618 | AH54: 5 | AI54: 89 | AJ54: 712 | AK54: 53 | AL54: 295 | AM54: 12 | AN54: 36 | AO54: =SUM(AK54+AL54) -> 348 | AP54: 49 | AQ54: 160 | AR54: 5 | AS54: 14 | AT54: =SUM(AP54+AQ54) -> 209 | AU54: 86 | AV54: 325 | AW54: 17 | AX54: 42 | AY54: =SUM(AU54+AV54) -> 411 | AZ54: 100 | BA54: 308 | BB54: 49 | BC54: 21 | BD54: =SUM(AZ54+BA54) -> 408 | BE54: 84 | BF54: 147 | BG54: 14 | BH54: 25 | BI54: =SUM(BE54+BF54) -> 231 | BJ54: 92 | BK54: 0 | BL54: 0 | BM54: 0 | BN54: =SUM(BJ54+BK54) -> 92 | EI54: =SUM(B54+G54+L54+Q54+V54+AA54+AF54+AK54+AP54+AU54+AZ54+BE54+BJ54) -> 683 | EJ54: =SUM(C54+H54+M54+R54+W54+AB54+AG54+AL54+AQ54+AV54+BA54+BF54+BK54) -> 2196 | EL54: =SUM(EN53-EJ54-EM53) -> 118 | EM54: =SUM(E54+J54+O54+T54+Y54+AD54+AI54+AN54+AS54+AX54+BC54+BH54+BM54) -> 248 | EN54: =SUM(EI54+EJ54) -> 2879
A55: Feb-Jun 2005 | V55: 0 | W55: 260 | X55: 51 | Y55: 21 | Z55: =SUM(V55+W55) -> 260 | AA55: 0 | AB55: 122 | AC55: 14 | AD55: 7 | AE55: =SUM(AA55+AB55) -> 122 | AF55: 0 | AG55: 583 | AH55: 40 | AI55: 59 | AJ55: =SUM(AF55+AG55) -> 583 | AK55: 0 | AL55: 283 | AM55: 29 | AN55: 19 | AO55: =SUM(AK55+AL55) -> 283 | AP55: 0 | AQ55: 166 | AR55: 29 | AS55: 13 | AT55: =SUM(AP55+AQ55) -> 166 | AU55: 0 | AV55: 329 | AW55: 40 | AX55: 25 | AY55: =SUM(AU55+AV55) -> 329 | AZ55: 0 | BA55: 303 | BB55: 84 | BC55: 20 | BD55: =SUM(AZ55+BA55) -> 303 | BE55: 0 | BF55: 189 | BG55: 17 | BH55: 10 | BI55: =SUM(BE55+BF55) -> 189 | BJ55: 0 | BK55: 84 | BL55: =BN54-BK55 -> 8 | BM55: 0 | BN55: =SUM(BJ55+BK55) -> 84 | EI55: =SUM(B55+G55+L55+Q55+V55+AA55+AF55+AK55+AP55+AU55+AZ55+BE55+BJ55) -> 0 | EJ55: =SUM(C55+H55+M55+R55+W55+AB55+AG55+AL55+AQ55+AV55+BA55+BF55+BK55) -> 2319 | EL55: =SUM(EN54-EJ55-EM54) -> 312 | EM55: =SUM(E55+J55+O55+T55+Y55+AD55+AI55+AN55+AS55+AX55+BC55+BH55+BM55) -> 174 | EN55: =SUM(EI55+EJ55) -> 2319
A56: Ago-Dic 2005 | V56: 67 | W56: 219 | X56: 20 | Y56: 37 | Z56: =SUM(V56+W56) -> 286 | AA56: 42 | AB56: 108 | AC56: 7 | AD56: 5 | AE56: =SUM(AA56+AB56) -> 150 | AF56: 179 | AG56: 472 | AH56: 52 | AI56: 94 | AJ56: =SUM(AF56+AG56) -> 651 | AK56: 50 | AL56: 251 | AM56: 13 | AN56: 30 | AO56: =SUM(AK56+AL56) -> 301 | AP56: 45 | AQ56: 136 | AR56: 17 | AS56: 15 | AT56: =SUM(AP56+AQ56) -> 181 | AU56: 86 | AV56: 283 | AW56: 21 | AX56: 48 | AY56: =SUM(AU56+AV56) -> 369 | AZ56: 131 | BA56: 248 | BB56: 35 | BC56: 34 | BD56: =SUM(AZ56+BA56) -> 379 | BE56: 68 | BF56: 162 | BG56: 17 | BH56: 19 | BI56: =SUM(BE56+BF56) -> 230 | BJ56: 213 | BK56: 79 | BL56: 5 | BM56: 0 | BN56: =SUM(BJ56+BK56) -> 292 | EI56: =SUM(B56+G56+L56+Q56+V56+AA56+AF56+AK56+AP56+AU56+AZ56+BE56+BJ56) -> 881 | EJ56: =SUM(C56+H56+M56+R56+W56+AB56+AG56+AL56+AQ56+AV56+BA56+BF56+BK56) -> 1958 | EL56: =SUM(EN55-EJ56-EM55) -> 187 | EM56: =SUM(E56+J56+O56+T56+Y56+AD56+AI56+AN56+AS56+AX56+BC56+BH56+BM56) -> 282 | EN56: =SUM(EI56+EJ56) -> 2839
A57: Feb-Jun 2006 | V57: 0 | W57: 235 | X57: 14 | Y57: 19 | Z57: =SUM(V57+W57) -> 235 | AA57: 0 | AB57: 135 | AC57: 10 | AD57: 7 | AE57: =SUM(AA57+AB57) -> 135 | AF57: 0 | AG57: 533 | AH57: 24 | AI57: 62 | AJ57: =SUM(AF57+AG57) -> 533 | AK57: 0 | AL57: 253 | AM57: 18 | AN57: 20 | AO57: =SUM(AK57+AL57) -> 253 | AP57: 0 | AQ57: 158 | AR57: 8 | AS57: 9 | AT57: =SUM(AP57+AQ57) -> 158 | AU57: 0 | AV57: 296 | AW57: 25 | AX57: 22 | AY57: =SUM(AU57+AV57) -> 296 | AZ57: 0 | BA57: 297 | BB57: 48 | BC57: 17 | BD57: =SUM(AZ57+BA57) -> 297 | BE57: 0 | BF57: 195 | BG57: 16 | BH57: 8 | BI57: =SUM(BE57+BF57) -> 195 | BJ57: 0 | BK57: 258 | BL57: =BN56-BM56-BK57 -> 34 | BM57: 0 | BN57: =SUM(BJ57+BK57) -> 258 | EI57: =SUM(B57+G57+L57+Q57+V57+AA57+AF57+AK57+AP57+AU57+AZ57+BE57+BJ57) -> 0 | EJ57: =SUM(C57+H57+M57+R57+W57+AB57+AG57+AL57+AQ57+AV57+BA57+BF57+BK57) -> 2360 | EL57: =SUM(EN56-EJ57-EM56) -> 197 | EM57: =SUM(E57+J57+O57+T57+Y57+AD57+AI57+AN57+AS57+AX57+BC57+BH57+BM57) -> 164 | EN57: =SUM(EI57+EJ57) -> 2360
A58: Ago-Dic 2006 | V58: 47 | W58: 201 | X58: 15 | Y58: 25 | Z58: =SUM(V58+W58) -> 248 | AA58: 44 | AB58: 111 | AC58: 17 | AD58: 14 | AE58: =SUM(AA58+AB58) -> 155 | AF58: 136 | AG58: 459 | AH58: 12 | AI58: 73 | AJ58: =SUM(AF58+AG58) -> 595 | AK58: 45 | AL58: 226 | AM58: 7 | AN58: 27 | AO58: =SUM(AK58+AL58) -> 271 | AP58: 45 | AQ58: 139 | AR58: 10 | AS58: 9 | AT58: =SUM(AP58+AQ58) -> 184 | AU58: 81 | AV58: 261 | AW58: 13 | AX58: 45 | AY58: =SUM(AU58+AV58) -> 342 | AZ58: 126 | BA58: =+BD57-BC57-BB58 -> 240 | BB58: 40 | BC58: 26 | BD58: =SUM(AZ58+BA58) -> 366 | BE58: 50 | BF58: 178 | BG58: 9 | BH58: 22 | BI58: =SUM(BE58+BF58) -> 228 | BJ58: 181 | BK58: 241 | BL58: =BN57-BM57-BK58 -> 17 | BM58: 0 | BN58: =SUM(BJ58+BK58) -> 422 | EI58: =SUM(B58+G58+L58+Q58+V58+AA58+AF58+AK58+AP58+AU58+AZ58+BE58+BJ58) -> 755 | EJ58: =SUM(C58+H58+M58+R58+W58+AB58+AG58+AL58+AQ58+AV58+BA58+BF58+BK58) -> 2056 | EL58: =SUM(EN57-EJ58-EM57) -> 140 | EM58: =SUM(E58+J58+O58+T58+Y58+AD58+AI58+AN58+AS58+AX58+BC58+BH58+BM58) -> 241 | EN58: =SUM(EI58+EJ58) -> 2811
A59: Feb-Jun 2007 | V59: 0 | W59: 213 | X59: 10 | Y59: 22 | Z59: =SUM(V59+W59) -> 213 | AA59: 0 | AB59: 127 | AC59: 14 | AD59: 9 | AE59: =SUM(AA59+AB59) -> 127 | AF59: 0 | AG59: 485 | AH59: 37 | AI59: 58 | AJ59: =SUM(AF59+AG59) -> 485 | AK59: 39 | AL59: 228 | AM59: 16 | AN59: 21 | AO59: =SUM(AK59+AL59) -> 267 | AP59: 0 | AQ59: 152 | AR59: 23 | AS59: 11 | AT59: =SUM(AP59+AQ59) -> 152 | AU59: 0 | AV59: 272 | AW59: 25 | AX59: 29 | AY59: =SUM(AU59+AV59) -> 272 | AZ59: 0 | BA59: 273 | BB59: 67 | BC59: 24 | BD59: 273 | BE59: 19 | BF59: 190 | BG59: 16 | BH59: 23 | BI59: =SUM(BE59+BF59) -> 209 | BJ59: 0 | BK59: 387 | BL59: 35 | BM59: 0 | BN59: =SUM(BJ59+BK59) -> 387 | EI59: =SUM(B59+G59+L59+Q59+V59+AA59+AF59+AK59+AP59+AU59+AZ59+BE59+BJ59) -> 58 | EJ59: =SUM(C59+H59+M59+R59+W59+AB59+AG59+AL59+AQ59+AV59+BA59+BF59+BK59) -> 2327 | EL59: =SUM(EN58-EM58-EJ59) -> 243 | EM59: =SUM(E59+J59+O59+T59+Y59+AD59+AI59+AN59+AS59+AX59+BC59+BH59+BM59) -> 197 | EN59: =SUM(EI59+EJ59) -> 2385
A60: Ago-Dic 2007 | V60: 36 | W60: 173 | X60: 18 | Y60: 21 | Z60: =SUM(V60+W60) -> 209 | AA60: 39 | AB60: 100 | AC60: 18 | AD60: 17 | AE60: =SUM(AA60+AB60) -> 139 | AF60: 142 | AG60: 400 | AH60: 27 | AI60: 48 | AJ60: =SUM(AF60+AG60) -> 542 | AK60: 82 | AL60: 229 | AM60: 17 | AN60: 34 | AO60: =SUM(AK60+AL60) -> 311 | AP60: 45 | AQ60: 131 | AR60: 10 | AS60: 22 | AT60: =SUM(AP60+AQ60) -> 176 | AU60: 81 | AV60: 235 | AW60: 8 | AX60: 35 | AY60: =SUM(AU60+AV60) -> 316 | AZ60: 123 | BA60: 208 | BB60: 41 | BC60: 26 | BD60: 331 | BE60: 46 | BF60: 160 | BG60: 26 | BH60: 21 | BI60: =SUM(BE60+BF60) -> 206 | BJ60: 134 | BK60: 366 | BL60: 21 | BM60: 0 | BN60: =SUM(BJ60+BK60) -> 500 | EI60: =SUM(B60+G60+L60+Q60+V60+AA60+AF60+AK60+AP60+AU60+AZ60+BE60+BJ60) -> 728 | EJ60: =SUM(C60+H60+M60+R60+W60+AB60+AG60+AL60+AQ60+AV60+BA60+BF60+BK60) -> 2002 | EL60: =SUM(EN59-EM59-EJ60) -> 186 | EM60: =SUM(E60+J60+O60+T60+Y60+AD60+AI60+AN60+AS60+AX60+BC60+BH60+BM60) -> 224 | EN60: =SUM(EI60+EJ60) -> 2730
A61: Feb-Jun 2008 | V61: 0 | W61: 179 | X61: 9 | Y61: 10 | Z61: =SUM(V61+W61) -> 179 | AA61: 0 | AB61: 121 | AC61: 1 | AD61: 7 | AE61: =SUM(AA61+AB61) -> 121 | AF61: 0 | AG61: 464 | AH61: 30 | AI61: 24 | AJ61: =SUM(AF61+AG61) -> 464 | AK61: 0 | AL61: 250 | AM61: 27 | AN61: 42 | AO61: =SUM(AK61+AL61) -> 250 | AP61: 0 | AQ61: 135 | AR61: 19 | AS61: 21 | AT61: =SUM(AP61+AQ61) -> 135 | AU61: 0 | AV61: 251 | AW61: 30 | AX61: 23 | AY61: =SUM(AU61+AV61) -> 251 | AZ61: 0 | BA61: 272 | BB61: 33 | BC61: 38 | BD61: 272 | BE61: 0 | BF61: 165 | BG61: 20 | BH61: 13 | BI61: =SUM(BE61+BF61) -> 165 | BJ61: 0 | BK61: 475 | BL61: 25 | BM61: 9 | BN61: =SUM(BJ61+BK61) -> 475 | EI61: =SUM(B61+G61+L61+Q61+V61+AA61+AF61+AK61+AP61+AU61+AZ61+BE61+BJ61) -> 0 | EJ61: =SUM(C61+H61+M61+R61+W61+AB61+AG61+AL61+AQ61+AV61+BA61+BF61+BK61) -> 2312 | EL61: =SUM(EN60-EM60-EJ61) -> 194 | EM61: =SUM(E61+J61+O61+T61+Y61+AD61+AI61+AN61+AS61+AX61+BC61+BH61+BM61) -> 187 | EN61: =SUM(EI61+EJ61) -> 2312
A62: Ago-Dic 2008 | V62: 39 | W62: 144 | X62: 25 | Y62: 23 | Z62: 183 | AA62: 36 | AB62: 115 | AC62: -1 | AD62: 17 | AE62: 151 | AF62: 197 | AG62: 407 | AH62: 33 | AI62: 36 | AJ62: 604 | AK62: 77 | AL62: 168 | AM62: 40 | AN62: 23 | AO62: 245 | AP62: 65 | AQ62: 105 | AR62: 9 | AS62: 6 | AT62: 170 | AU62: 62 | AV62: 211 | AW62: 17 | AX62: 30 | AY62: 273 | AZ62: 114 | BA62: 194 | BB62: 40 | BC62: 23 | BD62: 308 | BE62: 69 | BF62: 138 | BG62: 14 | BH62: 29 | BI62: 207 | BJ62: 120 | BK62: 428 | BL62: 38 | BM62: 24 | BN62: 548 | EI62: =SUM(B62+G62+L62+Q62+V62+AA62+AF62+AK62+AP62+AU62+AZ62+BE62+BJ62) -> 779 | EJ62: =SUM(C62+H62+M62+R62+W62+AB62+AG62+AL62+AQ62+AV62+BA62+BF62+BK62) -> 1910 | EL62: 215 | EM62: =SUM(E62+J62+O62+T62+Y62+AD62+AI62+AN62+AS62+AX62+BC62+BH62+BM62) -> 211 | EN62: =SUM(EI62+EJ62) -> 2689
A63: Feb-Jun 2009 | V63: 0 | W63: 133 | X63: 27 | Y63: 14 | Z63: 133 | AA63: 0 | AB63: 124 | AC63: 10 | AD63: 3 | AE63: 124 | AF63: 33 | AG63: 519 | AH63: 49 | AI63: 33 | AJ63: 552 | AK63: 22 | AL63: 191 | AM63: 31 | AN63: 18 | AO63: 213 | AP63: 0 | AQ63: 146 | AR63: 18 | AS63: 6 | AT63: 146 | AU63: 19 | AV63: 212 | AW63: 31 | AX63: 6 | AY63: 231 | AZ63: 22 | BA63: 236 | BB63: 49 | BC63: 7 | BD63: 258 | BE63: 0 | BF63: 158 | BG63: 20 | BH63: 4 | BI63: 158 | BJ63: 18 | BK63: 464 | BL63: 60 | BM63: 12 | BN63: 482 | EI63: =SUM(B63+G63+L63+Q63+V63+AA63+AF63+AK63+AP63+AU63+AZ63+BE63+BJ63) -> 114 | EJ63: =SUM(C63+H63+M63+R63+W63+AB63+AG63+AL63+AQ63+AV63+BA63+BF63+BK63) -> 2183 | EL63: =SUM(EN62-EM62-EJ63) -> 295 | EM63: =SUM(E63+J63+O63+T63+Y63+AD63+AI63+AN63+AS63+AX63+BC63+BH63+BM63) -> 103 | EN63: =SUM(EI63+EJ63) -> 2297
A64: Ago-Dic 2009 | V64: 38 | W64: 116 | X64: 3 | Y64: 14 | Z64: 154 | AA64: 46 | AB64: 118 | AC64: 3 | AD64: 3 | AE64: 164 | AF64: 156 | AG64: 467 | AH64: 52 | AI64: 39 | AJ64: 623 | AK64: 79 | AL64: 178 | AM64: 17 | AN64: 26 | AO64: 257 | AP64: 41 | AQ64: 129 | AR64: 11 | AS64: 22 | AT64: 170 | AU64: 46 | AV64: 206 | AW64: 19 | AX64: 34 | AY64: 252 | AZ64: 127 | BA64: 212 | BB64: 39 | BC64: 24 | BD64: 339 | BE64: 77 | BF64: 149 | BG64: 5 | BH64: 6 | BI64: 226 | BJ64: 114 | BK64: 430 | BL64: 40 | BM64: 38 | BN64: 544 | EI64: =SUM(B64+G64+L64+Q64+V64+AA64+AF64+AK64+AP64+AU64+AZ64+BE64+BJ64) -> 724 | EJ64: =SUM(C64+H64+M64+R64+W64+AB64+AG64+AL64+AQ64+AV64+BA64+BF64+BK64) -> 2005 | EL64: =SUM(EN63-EM63-EJ64) -> 189 | EM64: =SUM(E64+J64+O64+T64+Y64+AD64+AI64+AN64+AS64+AX64+BC64+BH64+BM64) -> 206 | EN64: =SUM(EI64+EJ64) -> 2729
A65: Feb-Jun 2010 | V65: 0 | W65: 120 | X65: 20 | Y65: 10 | Z65: 120 | AA65: 0 | AB65: 154 | AC65: 7 | AD65: 14 | AE65: 154 | AF65: 0 | AG65: 526 | AH65: 58 | AI65: 37 | AJ65: 526 | AK65: 0 | AL65: 210 | AM65: 21 | AN65: 3 | AO65: 210 | AP65: 0 | AQ65: 134 | AR65: 14 | AS65: 5 | AT65: 134 | AU65: 0 | AV65: 186 | AW65: 32 | AX65: 15 | AY65: 186 | AZ65: 0 | BA65: 224 | BB65: 91 | BC65: 17 | BD65: 224 | BE65: 0 | BF65: 176 | BG65: 44 | BH65: 12 | BI65: 176 | BJ65: 0 | BK65: 454 | BL65: 52 | BM65: 60 | BN65: 454 | BO65: 16 | BS65: 0 | BT65: 16 | BU65: 8 | BY65: 0 | BZ65: 8 | CA65: 17 | CE65: 0 | CF65: 17 | CG65: 11 | CK65: 0 | CL65: 11 | CM65: 9 | CR65: 9 | CS65: 0 | CW65: 0 | CX65: 0 | CY65: 23 | DC65: 0 | DD65: 23 | DE65: 31 | DI65: 0 | DJ65: 31 | DK65: 0 | DO65: 0 | DP65: 0 | DQ65: 11 | DU65: 0 | DV65: 11 | DW65: 25 | EA65: 0 | EB65: 25 | EC65: 17 | EG65: 0 | EH65: 17 | EI65: =SUM(B65+G65+L65+Q65+V65+AA65+AF65+AK65+AP65+AU65+AZ65+BE65+BJ65+BO65+BU65+CA65+CG65+CM65+CS65+CY65+DE65+DK65+DQ65+DW65+EC65) -> 168 | EJ65: =SUM(C65+H65+M65+R65+W65+AB65+AG65+AL65+AQ65+AV65+BA65+BF65+BK65+BP65+BV65+CB65+CH65+CN65+CT65+CZ65+DF65+DL65+DR65+DX65+ED65) -> 2184 | EL65: =SUM(D65+I65+N65+S65+X65+AC65+AH65+AM65+AR65+AW65+BB65+BG65+BL65+BR65+BX65+CD65+CJ65+CP65+CV65+DB65+DH65+DN65+DT65+DZ65+EF65) -> 339 | EM65: =SUM(E65+J65+O65+T65+Y65+AD65+AI65+AN65+AS65+AX65+BC65+BH65+BM65+BS65+BY65+CE65+CK65+CQ65+CW65+DC65+DI65+DO65+DU65+EA65+EG65) -> 173 | EN65: =SUM(F65+K65+P65+U65+Z65+AE65+AJ65+AO65+AT65+AY65+BD65+BI65+BN65+BT65+BZ65+CF65+CL65+CR65+CX65+DD65+DJ65+DP65+DV65+EB65+EH65) -> 2352
A66: Ago-Dic 2010 | V66: 0 | W66: 99 | X66: 11 | Y66: 9 | Z66: 99 | AA66: 0 | AB66: 131 | AC66: 9 | AD66: 18 | AE66: 131 | AF66: 0 | AG66: 439 | AH66: 50 | AI66: 36 | AJ66: 439 | AK66: 0 | AL66: 184 | AM66: 23 | AN66: 9 | AO66: 184 | AP66: 0 | AQ66: 122 | AR66: 7 | AS66: 7 | AT66: 122 | AU66: 0 | AV66: 156 | AW66: 15 | AX66: 33 | AY66: 156 | AZ66: 0 | BA66: 181 | BB66: 26 | BC66: 18 | BD66: 181 | BE66: 0 | BF66: 150 | BG66: 14 | BH66: 21 | BI66: 150 | BJ66: 0 | BK66: 359 | BL66: 35 | BM66: 30 | BN66: 359 | BO66: 30 | BP66: 13 | BR66: 3 | BS66: 0 | BT66: 43 | BU66: 19 | BV66: 1 | BX66: 7 | BY66: 0 | BZ66: 20 | CA66: 31 | CB66: 7 | CD66: 10 | CE66: 0 | CF66: 38 | CG66: 36 | CH66: 6 | CJ66: 5 | CK66: 0 | CL66: 42 | CM66: 32 | CN66: 5 | CP66: 4 | CQ66: 0 | CR66: 37 | CS66: 11 | CT66: 0 | CV66: 0 | CW66: 0 | CX66: 11 | CY66: 85 | CZ66: 16 | DB66: 7 | DC66: 0 | DD66: 101 | DE66: 116 | DF66: 22 | DH66: 9 | DI66: 0 | DJ66: 138 | DK66: 20 | DL66: 0 | DN66: 0 | DO66: 0 | DP66: 20 | DQ66: 59 | DR66: 11 | DT66: 0 | DU66: 0 | DV66: 70 | DW66: 118 | DX66: 18 | DZ66: 7 | EA66: 0 | EB66: 136 | EC66: 43 | ED66: 15 | EF66: 2 | EG66: 0 | EH66: 58 | EI66: =SUM(B66+G66+L66+Q66+V66+AA66+AF66+AK66+AP66+AU66+AZ66+BE66+BJ66+BO66+BU66+CA66+CG66+CM66+CS66+CY66+DE66+DK66+DQ66+DW66+EC66) -> 600 | EJ66: =SUM(C66+H66+M66+R66+W66+AB66+AG66+AL66+AQ66+AV66+BA66+BF66+BK66+BP66+BV66+CB66+CH66+CN66+CT66+CZ66+DF66+DL66+DR66+DX66+ED66) -> 1935 | EL66: =SUM(D66+I66+N66+S66+X66+AC66+AH66+AM66+AR66+AW66+BB66+BG66+BL66+BR66+BX66+CD66+CJ66+CP66+CV66+DB66+DH66+DN66+DT66+DZ66+EF66) -> 244 | EM66: =SUM(E66+J66+O66+T66+Y66+AD66+AI66+AN66+AS66+AX66+BC66+BH66+BM66+BS66+BY66+CE66+CK66+CQ66+CW66+DC66+DI66+DO66+DU66+EA66+EG66) -> 181 | EN66: =SUM(F66+K66+P66+U66+Z66+AE66+AJ66+AO66+AT66+AY66+BD66+BI66+BN66+BT66+BZ66+CF66+CL66+CR66+CX66+DD66+DJ66+DP66+DV66+EB66+EH66) -> 2535 | EO66: 2´10
A67: Feb-Jun 2011 | V67: 0 | W67: 77 | X67: 13 | Y67: 12 | Z67: 77 | AA67: 0 | AB67: 116 | AC67: -3 | AD67: 9 | AE67: 116 | AF67: 0 | AG67: 380 | AH67: 23 | AI67: 38 | AJ67: 380 | AK67: 0 | AL67: 165 | AM67: 10 | AN67: 21 | AO67: 165 | AP67: 0 | AQ67: 113 | AR67: 2 | AS67: 10 | AT67: 113 | AU67: 0 | AV67: 120 | AW67: 3 | AX67: 8 | AY67: 120 | AZ67: 0 | BA67: 151 | BB67: 12 | BC67: 17 | BD67: 151 | BE67: 0 | BF67: 124 | BG67: 5 | BH67: 15 | BI67: 124 | BJ67: 0 | BK67: 301 | BL67: 28 | BM67: 47 | BN67: 301 | BO67: 10 | BP67: 39 | BR67: 4 | BS67: 0 | BT67: 49 | BU67: 9 | BV67: 19 | BX67: 1 | BY67: 0 | BZ67: 28 | CA67: 21 | CB67: 32 | CD67: 6 | CE67: 0 | CF67: 53 | CG67: 16 | CH67: 38 | CJ67: 4 | CK67: 0 | CL67: 54 | CM67: 1 | CN67: 33 | CP67: 4 | CQ67: 0 | CR67: 34 | CS67: 12 | CT67: 11 | CV67: 0 | CW67: 0 | CX67: 23 | CY67: 40 | CZ67: 77 | DB67: 24 | DC67: 0 | DD67: 117 | DE67: 63 | DF67: 123 | DH67: 15 | DI67: 0 | DJ67: 186 | DK67: 7 | DL67: 14 | DN67: 6 | DO67: 0 | DP67: 21 | DQ67: 28 | DR67: 58 | DT67: 12 | DU67: 0 | DV67: 86 | DW67: 48 | DX67: 120 | DZ67: 16 | EA67: 0 | EB67: 168 | EC67: 15 | ED67: 49 | EF67: 9 | EG67: 0 | EH67: 64 | EI67: =SUM(B67+G67+L67+Q67+V67+AA67+AF67+AK67+AP67+AU67+AZ67+BE67+BJ67+BO67+BU67+CA67+CG67+CM67+CS67+CY67+DE67+DK67+DQ67+DW67+EC67) -> 270 | EJ67: =SUM(C67+H67+M67+R67+W67+AB67+AG67+AL67+AQ67+AV67+BA67+BF67+BK67+BP67+BV67+CB67+CH67+CN67+CT67+CZ67+DF67+DL67+DR67+DX67+ED67) -> 2160 | EL67: =SUM(D67+I67+N67+S67+X67+AC67+AH67+AM67+AR67+AW67+BB67+BG67+BL67+BR67+BX67+CD67+CJ67+CP67+CV67+DB67+DH67+DN67+DT67+DZ67+EF67) -> 194 | EM67: =SUM(E67+J67+O67+T67+Y67+AD67+AI67+AN67+AS67+AX67+BC67+BH67+BM67+BS67+BY67+CE67+CK67+CQ67+CW67+DC67+DI67+DO67+DU67+EA67+EG67) -> 177 | EN67: =SUM(F67+K67+P67+U67+Z67+AE67+AJ67+AO67+AT67+AY67+BD67+BI67+BN67+BT67+BZ67+CF67+CL67+CR67+CX67+DD67+DJ67+DP67+DV67+EB67+EH67) -> 2430 | EO67: 1´11
A68: Ago-Dic 2011 | V68: 0 | W68: 65 | X68: 0 | Y68: 6 | Z68: 65 | AA68: 0 | AB68: 94 | AC68: 13 | AD68: 12 | AE68: 94 | AF68: 0 | AG68: 319 | AH68: 23 | AI68: 49 | AJ68: 319 | AK68: 0 | AL68: 125 | AM68: 19 | AN68: 20 | AO68: 125 | AP68: 0 | AQ68: 92 | AR68: 11 | AS68: 7 | AT68: 92 | AU68: 0 | AV68: 103 | AW68: 9 | AX68: 26 | AY68: 103 | AZ68: 0 | BA68: 131 | BB68: 3 | BC68: 16 | BD68: 131 | BE68: 0 | BF68: 107 | BG68: 2 | BH68: 13 | BI68: 107 | BJ68: 0 | BK68: 248 | BL68: 6 | BM68: 31 | BN68: 248 | BO68: 55 | BP68: 45 | BR68: 4 | BS68: 0 | BT68: 100 | BU68: 26 | BV68: 24 | BX68: 4 | BY68: 0 | BZ68: 50 | CA68: 56 | CB68: 38 | CD68: 15 | CE68: 0 | CF68: 94 | CG68: 44 | CH68: 44 | CJ68: 10 | CK68: 0 | CL68: 88 | CM68: 42 | CN68: 32 | CP68: 2 | CQ68: 0 | CR68: 74 | CS68: 34 | CT68: 19 | CV68: 4 | CW68: 0 | CX68: 53 | CY68: 111 | CZ68: 87 | DB68: 30 | DC68: 0 | DD68: 198 | DE68: 195 | DF68: 185 | DH68: 1 | DI68: 0 | DJ68: 380 | DK68: 36 | DL68: 18 | DN68: 3 | DO68: 0 | DP68: 54 | DQ68: 93 | DR68: 68 | DT68: 18 | DU68: 0 | DV68: 161 | DW68: 164 | DX68: 150 | DZ68: 18 | EA68: 0 | EB68: 314 | EC68: 66 | ED68: 46 | EF68: 18 | EG68: 0 | EH68: 112 | EI68: =SUM(B68+G68+L68+Q68+V68+AA68+AF68+AK68+AP68+AU68+AZ68+BE68+BJ68+BO68+BU68+CA68+CG68+CM68+CS68+CY68+DE68+DK68+DQ68+DW68+EC68) -> 922 | EJ68: =SUM(C68+H68+M68+R68+W68+AB68+AG68+AL68+AQ68+AV68+BA68+BF68+BK68+BP68+BV68+CB68+CH68+CN68+CT68+CZ68+DF68+DL68+DR68+DX68+ED68) -> 2040 | EL68: =SUM(D68+I68+N68+S68+X68+AC68+AH68+AM68+AR68+AW68+BB68+BG68+BL68+BR68+BX68+CD68+CJ68+CP68+CV68+DB68+DH68+DN68+DT68+DZ68+EF68) -> 213 | EM68: =SUM(E68+J68+O68+T68+Y68+AD68+AI68+AN68+AS68+AX68+BC68+BH68+BM68+BS68+BY68+CE68+CK68+CQ68+CW68+DC68+DI68+DO68+DU68+EA68+EG68) -> 180 | EN68: =SUM(F68+K68+P68+U68+Z68+AE68+AJ68+AO68+AT68+AY68+BD68+BI68+BN68+BT68+BZ68+CF68+CL68+CR68+CX68+DD68+DJ68+DP68+DV68+EB68+EH68) -> 2962 | EO68: 2´11
A69: Feb-Jun 2012 | V69: 0 | W69: 48 | X69: 11 | Y69: 7 | Z69: 48 | AA69: 0 | AB69: 80 | AC69: 2 | AD69: 4 | AE69: 80 | AF69: 0 | AG69: 257 | AH69: 13 | AI69: 34 | AJ69: 257 | AK69: 0 | AL69: 104 | AM69: 1 | AN69: 14 | AO69: 104 | AP69: 0 | AQ69: 80 | AR69: 5 | AS69: 6 | AT69: 80 | AU69: 0 | AV69: 72 | AW69: 5 | AX69: 13 | AY69: 72 | AZ69: 0 | BA69: 108 | BB69: 7 | BC69: 14 | BD69: 108 | BE69: 0 | BF69: 92 | BG69: 2 | BH69: 10 | BI69: 92 | BJ69: 0 | BK69: 198 | BL69: 19 | BM69: 23 | BN69: 198 | BO69: 0 | BP69: 88 | BR69: 12 | BS69: 0 | BT69: 88 | BU69: 0 | BV69: 32 | BX69: 18 | BY69: 0 | BZ69: 32 | CA69: 20 | CB69: 73 | CD69: 21 | CE69: 0 | CF69: 93 | CG69: 1 | CH69: 78 | CJ69: 10 | CK69: 0 | CL69: 79 | CM69: 0 | CN69: 65 | CP69: 9 | CQ69: 0 | CR69: 65 | CS69: 0 | CT69: 43 | CV69: 10 | CW69: 0 | CX69: 43 | CY69: 31 | CZ69: 163 | DB69: 35 | DC69: 0 | DD69: 194 | DE69: 61 | DF69: 337 | DH69: 43 | DI69: 0 | DJ69: 398 | DK69: 0 | DL69: 40 | DN69: 14 | DO69: 0 | DP69: 40 | DQ69: 0 | DR69: 147 | DT69: 14 | DU69: 0 | DV69: 147 | DW69: 41 | DX69: 278 | DZ69: 36 | EA69: 0 | EB69: 319 | EC69: 0 | ED69: 83 | EF69: 29 | EG69: 0 | EH69: 83 | EI69: =SUM(B69+G69+L69+Q69+V69+AA69+AF69+AK69+AP69+AU69+AZ69+BE69+BJ69+BO69+BU69+CA69+CG69+CM69+CS69+CY69+DE69+DK69+DQ69+DW69+EC69) -> 154 | EJ69: =SUM(C69+H69+M69+R69+W69+AB69+AG69+AL69+AQ69+AV69+BA69+BF69+BK69+BP69+BV69+CB69+CH69+CN69+CT69+CZ69+DF69+DL69+DR69+DX69+ED69) -> 2466 | EL69: =SUM(D69+I69+N69+S69+X69+AC69+AH69+AM69+AR69+AW69+BB69+BG69+BL69+BR69+BX69+CD69+CJ69+CP69+CV69+DB69+DH69+DN69+DT69+DZ69+EF69) -> 316 | EM69: =SUM(E69+J69+O69+T69+Y69+AD69+AI69+AN69+AS69+AX69+BC69+BH69+BM69+BS69+BY69+CE69+CK69+CQ69+CW69+DC69+DI69+DO69+DU69+EA69+EG69) -> 125 | EN69: =SUM(F69+K69+P69+U69+Z69+AE69+AJ69+AO69+AT69+AY69+BD69+BI69+BN69+BT69+BZ69+CF69+CL69+CR69+CX69+DD69+DJ69+DP69+DV69+EB69+EH69) -> 2620 | EO69: 1´12 | EP69: Feb-Jun 2012
A70: Ago-Dic 2012 | V70: 0 | W70: =Z70-V70 -> 44 | X70: -3 | Y70: 6 | Z70: =5+39 -> 44 | AA70: 0 | AB70: 62 | AC70: 4 | AD70: 4 | AE70: =AA70+AB70 -> 62 | AF70: 0 | AG70: =AJ70-AF70 -> 205 | AH70: =AJ69-AI69-AG70 -> 18 | AI70: 42 | AJ70: =71+134 -> 205 | AK70: 0 | AL70: =AO70-AK70 -> 90 | AM70: =AO69-AN69-AL70 -> 0 | AN70: 15 | AO70: =8+82 -> 90 | AP70: 0 | AQ70: =AT70-AP70 -> 68 | AR70: =AT69-AS69-AQ70 -> 6 | AS70: 8 | AT70: =27+41 -> 68 | AU70: 0 | AV70: =AY70-AU70 -> 57 | AW70: =AY69-AX69-AV70 -> 2 | AX70: 15 | AY70: =31+26 -> 57 | AZ70: 0 | BA70: =BD70-AZ70 -> 94 | BB70: =BD69-BC69-BA70 -> 0 | BC70: 11 | BD70: =19+75 -> 94 | BE70: 0 | BF70: =BI70-BE70 -> 79 | BG70: =BI69-BH69-BF70 -> 3 | BH70: 13 | BI70: =42+37 -> 79 | BJ70: 0 | BK70: =BN70-BJ70 -> 158 | BL70: =BN69-BM69-BK70 -> 17 | BM70: 24 | BN70: =9+149 -> 158 | BO70: 51 | BP70: 88 | BR70: 0 | BS70: 0 | BT70: =80+60 -> 140 | BU70: 43 | BV70: =BZ70-BU70 -> 31 | BX70: =BZ69-BY69-BV70 -> 1 | BY70: 0 | BZ70: =35+39 -> 74 | CA70: 70 | CB70: =CF70-CA70 -> 80 | CD70: =CF69-CE69-CB70 -> 13 | CE70: 0 | CF70: =96+54 -> 150 | CG70: 50 | CH70: =CL70-CG70 -> 70 | CJ70: =CL69-CK69-CH70 -> 9 | CK70: 0 | CL70: =6+114 -> 120 | CM70: 46 | CN70: =CR70-CM70 -> 64 | CP70: =CR69-CQ69-CN70 -> 1 | CQ70: 0 | CR70: =17+93 -> 110 | CS70: 47 | CT70: =CX70-CS70 -> 42 | CV70: =CX69-CW69-CT70 -> 1 | CW70: 0 | CX70: =21+68 -> 89 | CY70: 90 | CZ70: =DD70-CY70 -> 159 | DB70: =DD69-DC69-CZ70 -> 35 | DC70: 0 | DD70: =49+200 -> 249 | DE70: 125 | DF70: =DJ70-DE70 -> 361 | DH70: =DJ69-DI69-DF70 -> 37 | DI70: 0 | DJ70: =164+322 -> 486 | DK70: 23 | DL70: =DP70-DK70 -> 34 | DN70: =DP69-DO69-DL70 -> 6 | DO70: 0 | DP70: =18+39 -> 57 | DQ70: 82 | DR70: =DV70-DQ70 -> 127 | DT70: =DV69-DU69-DR70 -> 20 | DU70: 0 | DV70: =8+201 -> 209 | DW70: 133 | DX70: =EB70-DW70 -> 288 | DZ70: =EB69-EA69-DX70 -> 31 | EA70: 0 | EB70: =41+380 -> 421 | EC70: 67 | ED70: =EH70-EC70 -> 71 | EF70: =EH69-EG69-ED70 -> 12 | EG70: 0 | EH70: =70+68 -> 138 | EI70: =SUM(B70+G70+L70+Q70+V70+AA70+AF70+AK70+AP70+AU70+AZ70+BE70+BJ70+BO70+BU70+CA70+CG70+CM70+CS70+CY70+DE70+DK70+DQ70+DW70+EC70) -> 827 | EJ70: =SUM(C70+H70+M70+R70+W70+AB70+AG70+AL70+AQ70+AV70+BA70+BF70+BK70+BP70+BV70+CB70+CH70+CN70+CT70+CZ70+DF70+DL70+DR70+DX70+ED70) -> 2272 | EL70: =SUM(D70+I70+N70+S70+X70+AC70+AH70+AM70+AR70+AW70+BB70+BG70+BL70+BR70+BX70+CD70+CJ70+CP70+CV70+DB70+DH70+DN70+DT70+DZ70+EF70) -> 213 | EM70: =SUM(E70+J70+O70+T70+Y70+AD70+AI70+AN70+AS70+AX70+BC70+BH70+BM70+BS70+BY70+CE70+CK70+CQ70+CW70+DC70+DI70+DO70+DU70+EA70+EG70) -> 138 | EN70: =SUM(F70+K70+P70+U70+Z70+AE70+AJ70+AO70+AT70+AY70+BD70+BI70+BN70+BT70+BZ70+CF70+CL70+CR70+CX70+DD70+DJ70+DP70+DV70+EB70+EH70) -> 3100 | EO70: 2´12 | EP70: Ago-Dic 2012
A71: Feb-Jun 2013 | V71: 0 | W71: 37 | X71: =Z70-Y70-W71 -> 1 | Y71: 12 | Z71: 37 | AA71: 0 | AB71: 62 | AC71: =AE70-AD70-AB71 -> -4 | AD71: 15 | AE71: =AA71+AB71 -> 62 | AF71: 0 | AG71: 157 | AH71: =AJ70-AI70-AG71 -> 6 | AI71: 45 | AJ71: =AG71+AF71 -> 157 | AK71: 0 | AL71: 62 | AM71: =AO70-AN70-AL71 -> 13 | AN71: 16 | AO71: =AL71+AK71 -> 62 | AP71: 0 | AQ71: 52 | AR71: =AT70-AS70-AQ71 -> 8 | AS71: 14 | AT71: =AQ71+AP71 -> 52 | AU71: 0 | AV71: 40 | AW71: =AY70-AX70-AV71 -> 2 | AX71: 9 | AY71: =AV71+AU71 -> 40 | AZ71: 0 | BA71: 82 | BB71: =BD70-BC70-BA71 -> 1 | BC71: 15 | BD71: =AZ71+BA71 -> 82 | BE71: 0 | BF71: 63 | BG71: =BI70-BH70-BF71 -> 3 | BH71: 23 | BI71: =BE71+BF71 -> 63 | BJ71: 0 | BK71: 125 | BL71: =BN70-BM70-BK71 -> 9 | BM71: 21 | BN71: =BJ71+BK71 -> 125 | BO71: 9 | BP71: 138 | BR71: =BT70-BS70-BP71 -> 2 | BS71: 0 | BT71: =BO71+BP71 -> 147 | BU71: 8 | BV71: 62 | BX71: =BZ70-BY70-BV71 -> 12 | BY71: 0 | BZ71: =BU71+BV71 -> 70 | CA71: 22 | CB71: 119 | CD71: =CF70-CE70-CB71 -> 31 | CE71: 0 | CF71: =CA71+CB71 -> 141 | CG71: 13 | CH71: 108 | CJ71: =CL70-CK70-CH71 -> 12 | CK71: 0 | CL71: =CG71+CH71 -> 121 | CM71: 3 | CN71: 92 | CP71: =CR70-CQ70-CN71 -> 18 | CQ71: 0 | CR71: =CM71+CN71 -> 95 | CS71: 14 | CT71: 80 | CV71: =CX70-CW70-CT71 -> 9 | CW71: 0 | CX71: =CS71+CT71 -> 94 | CY71: 23 | CZ71: 196 | DB71: =DD70-DC70-CZ71 -> 53 | DC71: 0 | DD71: =CY71+CZ71 -> 219 | DE71: 79 | DF71: 437 | DH71: =DJ70-DI70-DF71 -> 49 | DI71: 0 | DJ71: =DE71+DF71 -> 516 | DK71: 0 | DL71: 46 | DN71: =DP70-DO70-DL71 -> 11 | DO71: 0 | DP71: =DK71+DL71 -> 46 | DQ71: 21 | DR71: 168 | DT71: =DV70-DU70-DR71 -> 41 | DU71: 0 | DV71: =DR71+DQ71 -> 189 | DW71: 42 | DX71: 372 | DZ71: =EB70-EA70-DX71 -> 49 | EA71: 0 | EB71: =DW71+DX71 -> 414 | EC71: 12 | ED71: 127 | EF71: =EH70-EG70-ED71 -> 11 | EG71: 0 | EH71: =ED71+EC71 -> 139 | EI71: =SUM(B71+G71+L71+Q71+V71+AA71+AF71+AK71+AP71+AU71+AZ71+BE71+BJ71+BO71+BU71+CA71+CG71+CM71+CS71+CY71+DE71+DK71+DQ71+DW71+EC71) -> 246 | EJ71: =SUM(C71+H71+M71+R71+W71+AB71+AG71+AL71+AQ71+AV71+BA71+BF71+BK71+BP71+BV71+CB71+CH71+CN71+CT71+CZ71+DF71+DL71+DR71+DX71+ED71) -> 2625 | EL71: =SUM(D71+I71+N71+S71+X71+AC71+AH71+AM71+AR71+AW71+BB71+BG71+BL71+BR71+BX71+CD71+CJ71+CP71+CV71+DB71+DH71+DN71+DT71+DZ71+EF71) -> 337 | EM71: =SUM(E71+J71+O71+T71+Y71+AD71+AI71+AN71+AS71+AX71+BC71+BH71+BM71+BS71+BY71+CE71+CK71+CQ71+CW71+DC71+DI71+DO71+DU71+EA71+EG71) -> 170 | EN71: =SUM(F71+K71+P71+U71+Z71+AE71+AJ71+AO71+AT71+AY71+BD71+BI71+BN71+BT71+BZ71+CF71+CL71+CR71+CX71+DD71+DJ71+DP71+DV71+EB71+EH71) -> 2871 | EO71: 1´13 | EP71: Feb-Jun 2013
A72: Ago-Dic 2013 | V72: 0 | W72: 25 | X72: =Z71-Y71-W72 -> 0 | Y72: 10 | Z72: =V72+W72 -> 25 | AA72: 0 | AB72: 48 | AC72: =AE71-AD71-AB72 -> -1 | AD72: 22 | AE72: =AA72+AB72 -> 48 | AF72: 0 | AG72: 116 | AH72: =AJ71-AI71-AG72 -> -4 | AI72: 37 | AJ72: =AF72+AG72 -> 116 | AK72: 0 | AL72: 53 | AM72: =AO71-AN71-AL72 -> -7 | AN72: 22 | AO72: =AK72+AL72 -> 53 | AP72: 0 | AQ72: 44 | AR72: =AT71-AS71-AQ72 -> -6 | AS72: 7 | AT72: =AP72+AQ72 -> 44 | AU72: 0 | AV72: 31 | AW72: =AY71-AX71-AV72 -> 0 | AX72: 13 | AY72: =AU72+AV72 -> 31 | AZ72: 0 | BA72: 62 | BB72: =BD71-BC71-BA72 -> 5 | BC72: 30 | BD72: =AZ72+BA72 -> 62 | BE72: 0 | BF72: 45 | BG72: =BI71-BH71-BF72 -> -5 | BH72: 29 | BI72: =BE72+BF72 -> 45 | BJ72: 0 | BK72: 99 | BL72: =BN71-BM71-BK72 -> 5 | BM72: 40 | BN72: =BJ72+BK72 -> 99 | BO72: 42 | BP72: 137 | BR72: =BT71-BS71-BP72 -> 10 | BS72: 0 | BT72: =BO72+BP72 -> 179 | BU72: 61 | BV72: 68 | BX72: =BZ71-BY71-BV72 -> 2 | BY72: 0 | BZ72: =BU72+BV72 -> 129 | CA72: 48 | CB72: 129 | CD72: =CF71-CE71-CB72 -> 12 | CE72: 0 | CF72: =CA72+CB72 -> 177 | CG72: 49 | CH72: 115 | CJ72: =CL71-CK71-CH72 -> 6 | CK72: 0 | CL72: =CG72+CH72 -> 164 | CM72: 41 | CN72: 84 | CP72: =CR71-CQ71-CN72 -> 11 | CQ72: 0 | CR72: =CM72+CN72 -> 125 | CS72: 69 | CT72: 81 | CV72: =CX71-CW71-CT72 -> 13 | CW72: 0 | CX72: =CS72+CT72 -> 150 | CY72: 80 | CZ72: 195 | DB72: =DD71-DC71-CZ72 -> 24 | DC72: 0 | DD72: =CY72+CZ72 -> 275 | DE72: 121 | DF72: 472 | DH72: =DJ71-DI71-DF72 -> 44 | DI72: 0 | DJ72: =DE72+DF72 -> 593 | DK72: 0 | DL72: 39 | DN72: =DP71-DO71-DL72 -> 7 | DO72: 0 | DP72: =DK72+DL72 -> 39 | DQ72: 76 | DR72: 169 | DT72: =DV71-DU71-DR72 -> 20 | DU72: 0 | DV72: =DQ72+DR72 -> 245 | DW72: 89 | DX72: 373 | DZ72: =EB71-EA71-DX72 -> 41 | EA72: 0 | EB72: =DW72+DX72 -> 462 | EC72: 43 | ED72: 129 | EF72: =EH71-EG71-ED72 -> 10 | EG72: 0 | EH72: =EC72+ED72 -> 172 | EI72: =SUM(B72+G72+L72+Q72+V72+AA72+AF72+AK72+AP72+AU72+AZ72+BE72+BJ72+BO72+BU72+CA72+CG72+CM72+CS72+CY72+DE72+DK72+DQ72+DW72+EC72) -> 719 | EJ72: =SUM(C72+H72+M72+R72+W72+AB72+AG72+AL72+AQ72+AV72+BA72+BF72+BK72+BP72+BV72+CB72+CH72+CN72+CT72+CZ72+DF72+DL72+DR72+DX72+ED72) -> 2514 | EL72: =EN71-EM71-EJ72 -> 187 | EM72: =SUM(E72+J72+O72+T72+Y72+AD72+AI72+AN72+AS72+AX72+BC72+BH72+BM72+BS72+BY72+CE72+CK72+CQ72+CW72+DC72+DI72+DO72+DU72+EA72+EG72) -> 210 | EN72: =SUM(F72+K72+P72+U72+Z72+AE72+AJ72+AO72+AT72+AY72+BD72+BI72+BN72+BT72+BZ72+CF72+CL72+CR72+CX72+DD72+DJ72+DP72+DV72+EB72+EH72) -> 3233 | EO72: 213 | EP72: Ago-Dic 2013
A73: Feb-Jun 2014 | V73: 0 | W73: 17 | X73: -2 | Y73: 7 | Z73: =V73+W73 -> 17 | AA73: 0 | AB73: 29 | AC73: -3 | AD73: 8 | AE73: =AA73+AB73 -> 29 | AF73: 0 | AG73: 76 | AH73: 3 | AI73: 30 | AJ73: =AF73+AG73 -> 76 | AK73: 0 | AL73: 29 | AM73: =AO72-AN72-AL73 -> 2 | AN73: 13 | AO73: =AK73+AL73 -> 29 | AP73: 0 | AQ73: 37 | AR73: 0 | AS73: 16 | AT73: =AP73+AQ73 -> 37 | AU73: 0 | AV73: 12 | AW73: 6 | AX73: 0 | AY73: =AU73+AV73 -> 12 | AZ73: 0 | BA73: 34 | BB73: -2 | BC73: 25 | BD73: =AZ73+BA73 -> 34 | BE73: 0 | BF73: 11 | BG73: 5 | BH73: 5 | BI73: =BE73+BF73 -> 11 | BJ73: 0 | BK73: 50 | BL73: 9 | BM73: 21 | BN73: =BJ73+BK73 -> 50 | BO73: 26 | BP73: 165 | BR73: 14 | BS73: 9 | BT73: =BO73+BP73 -> 191 | BU73: 0 | BV73: 117 | BX73: =BZ72-BY72-BV73 -> 12 | BY73: 0 | BZ73: =BU73+BV73 -> 117 | CA73: 0 | CB73: 155 | CD73: 22 | CE73: 1 | CF73: =CA73+CB73 -> 155 | CH73: 150 | CJ73: 14 | CK73: 0 | CL73: =CG73+CH73 -> 150 | CM73: 1 | CN73: 110 | CP73: =CR72-CQ72-CN73 -> 15 | CQ73: 0 | CR73: =CM73+CN73 -> 111 | CS73: 33 | CT73: 120 | CV73: =CX72-CW72-CT73 -> 30 | CW73: 0 | CX73: =CS73+CT73 -> 153 | CY73: 25 | CZ73: 223 | DB73: =DD72-DC72-CZ73 -> 52 | DC73: 3 | DD73: =CY73+CZ73 -> 248 | DE73: 74 | DF73: 547 | DH73: =DJ72-DI72-DF73 -> 46 | DI73: 0 | DJ73: =DE73+DF73 -> 621 | DK73: 0 | DL73: 42 | DN73: -3 | DO73: 0 | DP73: =DK73+DL73 -> 42 | DQ73: 0 | DR73: 229 | DT73: =DV72-DU72-DR73 -> 16 | DU73: 1 | DV73: =DQ73+DR73 -> 229 | DW73: 40 | DX73: 438 | DZ73: 24 | EA73: 0 | EB73: =DW73+DX73 -> 478 | EC73: 0 | ED73: 152 | EF73: 20 | EG73: 4 | EH73: =EC73+ED73 -> 152 | EI73: =SUM(B73+G73+L73+Q73+V73+AA73+AF73+AK73+AP73+AU73+AZ73+BE73+BJ73+BO73+BU73+CA73+CG73+CM73+CS73+CY73+DE73+DK73+DQ73+DW73+EC73) -> 199 | EJ73: =SUM(C73+H73+M73+R73+W73+AB73+AG73+AL73+AQ73+AV73+BA73+BF73+BK73+BP73+BV73+CB73+CH73+CN73+CT73+CZ73+DF73+DL73+DR73+DX73+ED73) -> 2743 | EL73: =SUM(D73+I73+N73+S73+X73+AC73+AH73+AM73+AR73+AW73+BB73+BG73+BL73+BR73+BX73+CD73+CJ73+CP73+CV73+DB73+DH73+DN73+DT73+DZ73+EF73) -> 280 | EM73: =SUM(E73+J73+O73+T73+Y73+AD73+AI73+AN73+AS73+AX73+BC73+BH73+BM73+BS73+BY73+CE73+CK73+CQ73+CW73+DC73+DI73+DO73+DU73+EA73+EG73) -> 143 | EN73: =SUM(F73+K73+P73+U73+Z73+AE73+AJ73+AO73+AT73+AY73+BD73+BI73+BN73+BT73+BZ73+CF73+CL73+CR73+CX73+DD73+DJ73+DP73+DV73+EB73+EH73) -> 2942 | EO73: 1´14 | EP73: Feb-Jun 2014
A74: Ago-Dic 2014 | V74: 0 | W74: 8 | X74: 2 | Y74: 4 | Z74: =V74+W74 -> 8 | AA74: 0 | AB74: 17 | AC74: 4 | AD74: 4 | AE74: =AA74+AB74 -> 17 | AF74: 0 | AG74: 27 | AH74: =AJ73-AI73-AG74 -> 19 | AI74: 7 | AJ74: =AF74+AG74 -> 27 | AK74: 0 | AL74: 14 | AM74: =AO73-AN73-AL74 -> 2 | AN74: 8 | AO74: =AK74+AL74 -> 14 | AP74: 0 | AQ74: 24 | AR74: =AT73-AS73-AQ74 -> -3 | AS74: 9 | AT74: =AP74+AQ74 -> 24 | AU74: 0 | AV74: 10 | AW74: =AY73-AX73-AV74 -> 2 | AX74: 6 | AY74: =AU74+AV74 -> 10 | AZ74: 0 | BA74: 10 | BB74: -1 | BC74: 7 | BD74: =AZ74+BA74 -> 10 | BE74: 0 | BF74: 7 | BG74: =BI73-BH73-BF74 -> -1 | BH74: 4 | BI74: =BE74+BF74 -> 7 | BJ74: 0 | BK74: 29 | BL74: 0 | BM74: 10 | BN74: =BJ74+BK74 -> 29 | BO74: 39 | BP74: 170 | BR74: 12 | BS74: 14 | BT74: =BO74+BP74 -> 209 | BU74: 40 | BV74: 105 | BX74: 10 | BY74: 0 | BZ74: =BU74+BV74 -> 145 | CA74: 65 | CB74: 152 | CD74: 2 | CE74: 11 | CF74: =CA74+CB74 -> 217 | CG74: 41 | CH74: 152 | CJ74: 10 | CK74: 0 | CL74: =CG74+CH74 -> 193 | CM74: 41 | CN74: 95 | CP74: =CR73-CQ73-CN74 -> 16 | CQ74: 0 | CR74: =CM74+CN74 -> 136 | CS74: 38 | CT74: 126 | CV74: =CX73-CW73-CT74 -> 27 | CW74: 2 | CX74: =CS74+CT74 -> 164 | CY74: 88 | CZ74: 217 | DB74: =DD73-DC73-CZ74 -> 28 | DC74: 12 | DD74: =CY74+CZ74 -> 305 | DE74: 140 | DF74: 569 | DH74: 42 | DI74: 16 | DJ74: =DE74+DF74 -> 709 | DK74: 0 | DL74: 39 | DN74: 5 | DO74: 2 | DP74: =DK74+DL74 -> 39 | DQ74: 104 | DR74: 213 | DT74: =DV73-DU73-DR74 -> 15 | DU74: 12 | DV74: =DQ74+DR74 -> 317 | DW74: 114 | DX74: 433 | DZ74: 35 | EA74: 8 | EB74: =DW74+DX74 -> 547 | EC74: 50 | ED74: 140 | EF74: 10 | EG74: 6 | EH74: =EC74+ED74 -> 190 | EI74: =SUM(B74+G74+L74+Q74+V74+AA74+AF74+AK74+AP74+AU74+AZ74+BE74+BJ74+BO74+BU74+CA74+CG74+CM74+CS74+CY74+DE74+DK74+DQ74+DW74+EC74) -> 760 | EJ74: =EN74-EI74 -> 2557 | EL74: =SUM(D74+I74+N74+S74+X74+AC74+AH74+AM74+AR74+AW74+BB74+BG74+BL74+BR74+BX74+CD74+CJ74+CP74+CV74+DB74+DH74+DN74+DT74+DZ74+EF74) -> 236 | EM74: =SUM(E74+J74+O74+T74+Y74+AD74+AI74+AN74+AS74+AX74+BC74+BH74+BM74+BS74+BY74+CE74+CK74+CQ74+CW74+DC74+DI74+DO74+DU74+EA74+EG74) -> 142 | EN74: =SUM(F74+K74+P74+U74+Z74+AE74+AJ74+AO74+AT74+AY74+BD74+BI74+BN74+BT74+BZ74+CF74+CL74+CR74+CX74+DD74+DJ74+DP74+DV74+EB74+EH74) -> 3317 | EO74: 2´14 | EP74: Ago-Dic 2014
A75: Feb-Jun 2015 | V75: 0 | W75: 3 | X75: =Z74-Y74-W75 -> 1 | Y75: 3 | Z75: =V75+W75 -> 3 | AA75: 0 | AB75: 8 | AC75: =AE74-AD74-AB75 -> 5 | AD75: 2 | AE75: =AA75+AB75 -> 8 | AF75: 0 | AG75: 18 | AH75: =AJ74-AI74-AG75 -> 2 | AI75: 7 | AJ75: =AF75+AG75 -> 18 | AK75: 0 | AL75: 6 | AM75: =AO74-AN74-AL75 -> 0 | AN75: 1 | AO75: =AK75+AL75 -> 6 | AP75: 0 | AQ75: 10 | AR75: =AT74-AS74-AQ75 -> 5 | AS75: 5 | AT75: =AP75+AQ75 -> 10 | AU75: 0 | AV75: 6 | AW75: =AY74-AX74-AV75 -> -2 | AX75: 3 | AY75: =AU75+AV75 -> 6 | AZ75: 0 | BA75: 0 | BB75: =BD74-BC74-BA75 -> 3 | BC75: 0 | BD75: =AZ75+BA75 -> 0 | BE75: 0 | BF75: 2 | BG75: =BI74-BH74-BF75 -> 1 | BH75: 0 | BI75: =BE75+BF75 -> 2 | BJ75: 0 | BK75: 17 | BL75: =BN74-BM74-BK75 -> 2 | BM75: 10 | BN75: =BJ75+BK75 -> 17 | BO75: 30 | BP75: 187 | BR75: =BT74-BS74-BP75 -> 8 | BS75: 3 | BT75: =BO75+BP75 -> 217 | BU75: 13 | BV75: 143 | BX75: =BZ74-BY74-BV75 -> 2 | BY75: 6 | BZ75: =BU75+BV75 -> 156 | CA75: 14 | CB75: 181 | CD75: =CF74-CE74-CB75 -> 25 | CE75: 6 | CF75: =CA75+CB75 -> 195 | CG75: 0 | CH75: 177 | CJ75: =CL74-CK74-CH75 -> 16 | CK75: 5 | CL75: =CG75+CH75 -> 177 | CM75: 14 | CN75: 118 | CP75: =CR74-CQ74-CN75 -> 18 | CQ75: 6 | CR75: =CM75+CN75 -> 132 | CS75: 23 | CT75: 152 | CV75: =CX74-CW74-CT75 -> 10 | CW75: 0 | CX75: =CS75+CT75 -> 175 | CY75: 27 | CZ75: 269 | DB75: =DD74-DC74-CZ75 -> 24 | DC75: 10 | DD75: =CY75+CZ75 -> 296 | DE75: 120 | DF75: 642 | DH75: =DJ74-DI74-DF75 -> 51 | DI75: 34 | DJ75: =DE75+DF75 -> 762 | DK75: 0 | DL75: 36 | DN75: =DP74-DO74-DL75 -> 1 | DO75: 0 | DP75: =DK75+DL75 -> 36 | DQ75: 45 | DR75: 276 | DT75: =DV74-DU74-DR75 -> 29 | DU75: 5 | DV75: =DQ75+DR75 -> 321 | DW75: 41 | DX75: 514 | DZ75: =EB74-EA74-DX75 -> 25 | EA75: 13 | EB75: =DW75+DX75 -> 555 | EC75: 23 | ED75: 167 | EF75: =EH74-EG74-ED75 -> 17 | EG75: 6 | EH75: =EC75+ED75 -> 190 | EI75: =SUM(B75+G75+L75+Q75+V75+AA75+AF75+AK75+AP75+AU75+AZ75+BE75+BJ75+BO75+BU75+CA75+CG75+CM75+CS75+CY75+DE75+DK75+DQ75+DW75+EC75) -> 350 | EJ75: =EN75-EI75 -> 2932 | EL75: =SUM(D75+I75+N75+S75+X75+AC75+AH75+AM75+AR75+AW75+BB75+BG75+BL75+BR75+BX75+CD75+CJ75+CP75+CV75+DB75+DH75+DN75+DT75+DZ75+EF75) -> 243 | EM75: =SUM(E75+J75+O75+T75+Y75+AD75+AI75+AN75+AS75+AX75+BC75+BH75+BM75+BS75+BY75+CE75+CK75+CQ75+CW75+DC75+DI75+DO75+DU75+EA75+EG75) -> 125 | EN75: =SUM(F75+K75+P75+U75+Z75+AE75+AJ75+AO75+AT75+AY75+BD75+BI75+BN75+BT75+BZ75+CF75+CL75+CR75+CX75+DD75+DJ75+DP75+DV75+EB75+EH75) -> 3282 | EO75: 1´15 | EP75: Feb-Jun 2015
A76: Ago-Dic 2015 | V76: 0 | W76: 3 | X76: =Z75-Y75-W76 -> -3 | Y76: 2 | Z76: =V76+W76 -> 3 | AA76: 0 | AB76: 9 | AC76: =AE75-AD75-AB76 -> -3 | AD76: 3 | AE76: =AA76+AB76 -> 9 | AF76: 0 | AG76: 17 | AH76: =AJ75-AI75-AG76 -> -6 | AI76: 7 | AJ76: =AF76+AG76 -> 17 | AK76: 0 | AL76: 4 | AM76: =AO75-AN75-AL76 -> 1 | AN76: 2 | AO76: =AK76+AL76 -> 4 | AP76: 0 | AQ76: 4 | AR76: =AT75-AS75-AQ76 -> 1 | AS76: 1 | AT76: =AP76+AQ76 -> 4 | AU76: 0 | AV76: 1 | AW76: =AY75-AX75-AV76 -> 2 | AX76: 0 | AY76: =AU76+AV76 -> 1 | AZ76: 0 | BA76: 1 | BB76: =BD75-BC75-BA76 -> -1 | BC76: 0 | BD76: =AZ76+BA76 -> 1 | BE76: 0 | BF76: 2 | BG76: =BI75-BH75-BF76 -> 0 | BH76: 1 | BI76: =BE76+BF76 -> 2 | BJ76: 0 | BK76: 11 | BL76: =BN75-BM75-BK76 -> -4 | BM76: 6 | BN76: =BJ76+BK76 -> 11 | BO76: 43 | BP76: 196 | BQ76: 1 | BR76: =BT75-BS75-BP76 -> 18 | BS76: 21 | BT76: =BO76+BP76+BQ76 -> 240 | BU76: 33 | BV76: 133 | BW76: 0 | BX76: =BZ75-BY75-BV76 -> 17 | BY76: 7 | BZ76: =BU76+BV76+BW76 -> 166 | CA76: 36 | CB76: 172 | CC76: 0 | CD76: =CF75-CE75-CB76 -> 17 | CE76: 2 | CF76: =CA76+CB76+CC76 -> 208 | CG76: 35 | CH76: 173 | CI76: 3 | CJ76: =CL75-CK75-CH76 -> -1 | CK76: 6 | CL76: =CG76+CH76+CI76 -> 211 | CM76: 35 | CN76: 115 | CO76: 1 | CP76: =CR75-CQ75-CN76 -> 11 | CQ76: 5 | CR76: =CM76+CN76+CO76 -> 151 | CS76: 37 | CT76: 161 | CU76: 2 | CV76: =CX75-CW75-CT76 -> 14 | CW76: 5 | CX76: =CS76+CT76+CU76 -> 200 | CY76: 94 | CZ76: 231 | DA76: 2 | DB76: =DD75-DC75-CZ76 -> 55 | DC76: 16 | DD76: =CY76+CZ76+DA76 -> 327 | DE76: 145 | DF76: 666 | DG76: 7 | DH76: =DJ75-DI75-DF76 -> 62 | DI76: 29 | DJ76: =DE76+DF76+DG76 -> 818 | DK76: 0 | DL76: 34 | DM76: 0 | DN76: =DP75-DO75-DL76 -> 2 | DO76: 4 | DP76: =DK76+DL76+DM76 -> 34 | DQ76: 111 | DR76: 287 | DS76: 3 | DT76: =DV75-DU75-DR76 -> 29 | DU76: 1 | DV76: =DQ76+DR76+DS76 -> 401 | DW76: 108 | DX76: 510 | DY76: 5 | DZ76: =EB75-EA75-DX76 -> 32 | EA76: 33 | EB76: =DW76+DX76+DY76 -> 623 | EC76: 37 | ED76: 160 | EE76: 2 | EF76: =EH75-EG75-ED76 -> 24 | EG76: 18 | EH76: =EC76+ED76+EE76 -> 199 | EI76: =SUM(B76+G76+L76+Q76+V76+AA76+AF76+AK76+AP76+AU76+AZ76+BE76+BJ76+BO76+BU76+CA76+CG76+CM76+CS76+CY76+DE76+DK76+DQ76+DW76+EC76) -> 714 | EJ76: =SUM(C76+H76+M76+R76+W76+AB76+AG76+AL76+AQ76+AV76+BA76+BF76+BK76+BP76+BV76+CB76+CH76+CN76+CT76+CZ76+DF76+DL76+DR76+DX76+ED76) -> 2890 | EK76: =SUM(BQ76+BW76+CC76+CI76+CO76+CU76+DA76+DG76+DM76+DS76+DY76+EE76) -> 26 | EL76: =SUM(D76+I76+N76+S76+X76+AC76+AH76+AM76+AR76+AW76+BB76+BG76+BL76+BR76+BX76+CD76+CJ76+CP76+CV76+DB76+DH76+DN76+DT76+DZ76+EF76) -> 267 | EM76: =SUM(E76+J76+O76+T76+Y76+AD76+AI76+AN76+AS76+AX76+BC76+BH76+BM76+BS76+BY76+CE76+CK76+CQ76+CW76+DC76+DI76+DO76+DU76+EA76+EG76) -> 169 | EN76: =SUM(F76+K76+P76+U76+Z76+AE76+AJ76+AO76+AT76+AY76+BD76+BI76+BN76+BT76+BZ76+CF76+CL76+CR76+CX76+DD76+DJ76+DP76+DV76+EB76+EH76) -> 3630 | EO76: 2´15 | EP76: Ago-Dic 2015
A77: Feb-Jun 2016 | V77: 0 | W77: 0 | X77: =Z76-Y76-W77 -> 1 | Y77: 0 | Z77: =V77+W77 -> 0 | AA77: 0 | AB77: 5 | AC77: =AE76-AD76-AB77 -> 1 | AD77: 6 | AE77: =AA77+AB77 -> 5 | AF77: 0 | AG77: 7 | AH77: =AJ76-AI76-AG77 -> 3 | AI77: 7 | AJ77: =AF77+AG77 -> 7 | AK77: 0 | AL77: 1 | AM77: =AO76-AN76-AL77 -> 1 | AN77: 1 | AO77: =AK77+AL77 -> 1 | AP77: 0 | AQ77: 1 | AR77: =AT76-AS76-AQ77 -> 2 | AS77: 1 | AT77: =AP77+AQ77 -> 1 | AU77: 0 | AV77: 1 | AW77: =AY76-AX76-AV77 -> 0 | AX77: 1 | AY77: =AU77+AV77 -> 1 | AZ77: 0 | BA77: 0 | BB77: =BD76-BC76-BA77 -> 1 | BC77: 0 | BD77: =AZ77+BA77 -> 0 | BE77: 0 | BF77: 2 | BG77: =BI76-BH76-BF77 -> -1 | BH77: 2 | BI77: =BE77+BF77 -> 2 | BJ77: 0 | BK77: 5 | BL77: =BN76-BM76-BK77 -> 0 | BM77: 6 | BN77: =BJ77+BK77 -> 5 | BO77: 23 | BP77: =227-23-2 -> 202 | BQ77: 2 | BR77: =BT76-BS76-BP77 -> 17 | BS77: 25 | BT77: =BO77+BP77+BQ77 -> 227 | BU77: 23 | BV77: =169-23 -> 146 | BW77: 0 | BX77: =BZ76-BY76-BV77 -> 13 | BY77: 8 | BZ77: =BU77+BV77+BW77 -> 169 | CA77: 15 | CB77: =198-15-1 -> 182 | CC77: 1 | CD77: =CF76-CE76-CB77 -> 24 | CE77: 12 | CF77: =CA77+CB77+CC77 -> 198 | CG77: 14 | CH77: =216-5-14-2 -> 195 | CI77: 2 | CJ77: =CL76-CK76-CH77 -> 10 | CK77: 26 | CL77: =CG77+CH77+CI77 -> 211 | CM77: 7 | CN77: =140-7 -> 133 | CP77: =CR76-CQ76-CN77 -> 13 | CQ77: 15 | CR77: =CM77+CN77+CO77 -> 140 | CS77: 27 | CT77: =204-27 -> 177 | CU77: 0 | CV77: =CX76-CW76-CT77 -> 18 | CW77: 8 | CX77: =CS77+CT77 -> 204 | CY77: 24 | CZ77: =299-5-24 -> 270 | DA77: 5 | DB77: =DD76-DC76-CZ77 -> 41 | DC77: 23 | DD77: =CY77+CZ77+DA77 -> 299 | DE77: 118 | DF77: =884-118-3-7 -> 756 | DG77: 3 | DH77: =DJ76-DI76-DF77 -> 33 | DI77: 30 | DJ77: =DE77+DF77+DG77 -> 877 | DK77: 0 | DL77: 30 | DM77: 0 | DN77: =DP76-DO76-DL77 -> 0 | DO77: 5 | DP77: =DK77+DL77+DM77 -> 30 | DQ77: 41 | DR77: =409-1-41-6 -> 361 | DS77: 6 | DT77: =DV76-DU76-DR77 -> 39 | DU77: 25 | DV77: =DQ77+DR77+DS77 -> 408 | DW77: 39 | DX77: =595-39-2-5 -> 549 | DY77: 2 | DZ77: =EB76-EA76-DX77 -> 41 | EA77: 42 | EB77: =DW77+DX77+DY77 -> 590 | EC77: 37 | ED77: =206-37-2-2 -> 165 | EE77: 2 | EF77: =EH76-EG76-ED77 -> 16 | EG77: 10 | EH77: =EC77+ED77+EE77 -> 204 | EI77: =SUM(B77+G77+L77+Q77+V77+AA77+AF77+AK77+AP77+AU77+AZ77+BE77+BJ77+BO77+BU77+CA77+CG77+CM77+CS77+CY77+DE77+DK77+DQ77+DW77+EC77) -> 368 | EJ77: =+ED77+DX77+DR77+DL77+DF77+CZ77+CT77+CN77+CH77+CB77+BV77+BP77+BK77+BF77+BA77+AV77+AQ77+AL77+AG77+AB77+W77 -> 3188 | EK77: =SUM(BQ77+BW77+CC77+CI77+CO77+CU77+DA77+DG77+DM77+DS77+DY77+EE77) -> 23 | EL77: =SUM(D77+I77+N77+S77+X77+AC77+AH77+AM77+AR77+AW77+BB77+BG77+BL77+BR77+BX77+CD77+CJ77+CP77+CV77+DB77+DH77+DN77+DT77+DZ77+EF77) -> 273 | EM77: =SUM(E77+J77+O77+T77+Y77+AD77+AI77+AN77+AS77+AX77+BC77+BH77+BM77+BS77+BY77+CE77+CK77+CQ77+CW77+DC77+DI77+DO77+DU77+EA77+EG77) -> 253 | EN77: =SUM(F77+K77+P77+U77+Z77+AE77+AJ77+AO77+AT77+AY77+BD77+BI77+BN77+BT77+BZ77+CF77+CL77+CR77+CX77+DD77+DJ77+DP77+DV77+EB77+EH77) -> 3579 | EO77: 1´16 | EP77: Feb-Jun 2016
A78: Ago-Dic 2016 | V78: 0 | W78: 0 | X78: =Z77-Y77-W78 -> 0 | Y78: 0 | Z78: =V78+W78 -> 0 | AA78: 0 | AB78: =AE77-AD77 -> -1 | AC78: =AE77-AD77-AB78 -> 0 | AD78: 0 | AE78: =AA78+AB78 -> -1 | AF78: 0 | AG78: =AJ77-AI77 -> 0 | AH78: =AJ77-AI77-AG78 -> 0 | AI78: 0 | AJ78: =AF78+AG78 -> 0 | AK78: 0 | AL78: =AO77-AN77 -> 0 | AM78: =AO77-AN77-AL78 -> 0 | AN78: 0 | AO78: =AK78+AL78 -> 0 | AP78: 0 | AQ78: =AT77-AS77 -> 0 | AR78: =AT77-AS77-AQ78 -> 0 | AS78: 0 | AT78: =AP78+AQ78 -> 0 | AU78: 0 | AV78: =AY77-AX77 -> 0 | AW78: =AY77-AX77-AV78 -> 0 | AX78: 0 | AY78: =AU78+AV78 -> 0 | AZ78: 0 | BA78: =BD77-BC77 -> 0 | BB78: =BD77-BC77-BA78 -> 0 | BC78: 0 | BD78: =AZ78+BA78 -> 0 | BE78: 0 | BF78: =BI77-BH77 -> 0 | BG78: =BI77-BH77-BF78 -> 0 | BH78: 0 | BI78: =BE78+BF78 -> 0 | BJ78: 0 | BK78: =BN77-BM77 -> -1 | BL78: =BN77-BM77-BK78 -> 0 | BM78: 0 | BN78: =BJ78+BK78 -> -1 | BO78: 35 | BP78: =BT77-BS77-BR78 -> 187 | BR78: 15 | BS78: 15 | BT78: =BO78+BP78+BQ78 -> 222 | BU78: 35 | BV78: =-BX78-BY77+BZ77 -> 156 | BX78: 5 | BY78: 5 | BZ78: =BU78+BV78+BW78 -> 191 | CA78: 70 | CB78: =-CD78-CE77+CF77 -> 171 | CD78: 15 | CE78: 10 | CF78: =CA78+CB78+CC78 -> 241 | CG78: 50 | CH78: =CL77-CK77-CJ78 -> 170 | CJ78: 15 | CK78: 20 | CL78: =CG78+CH78+CI78 -> 220 | CM78: 40 | CN78: =CR77-CQ77-CP78 -> 110 | CP78: 15 | CQ78: 15 | CR78: =CM78+CN78+CO78 -> 150 | CS78: 50 | CT78: =CX77-CW77-CV78 -> 186 | CV78: 10 | CW78: 15 | CX78: =CS78+CT78 -> 236 | CY78: 90 | CZ78: =DD77-DC77-DB78 -> 246 | DB78: 30 | DC78: 20 | DD78: =CY78+CZ78+DA78 -> 336 | DE78: 160 | DF78: =-DH78-DI77+DJ77 -> 817 | DH78: 30 | DI78: 40 | DJ78: =DE78+DF78+DG78 -> 977 | DK78: 0 | DL78: =-DN78-DO77+DP77 -> 19 | DN78: 6 | DO78: 10 | DP78: =DK78+DL78+DM78 -> 19 | DQ78: 80 | DR78: =DV77-DU77-DT78 -> 368 | DT78: 15 | DU78: 15 | DV78: =DQ78+DR78+DS78 -> 448 | DW78: 160 | DX78: =-DZ78-EA77+EB77 -> 513 | DZ78: 35 | EA78: 40 | EB78: =DW78+DX78+DY78 -> 673 | EC78: 70 | ED78: =-EF78-EG77+EH77 -> 174 | EF78: 20 | EG78: 15 | EH78: =EC78+ED78+EE78 -> 244 | EI78: =SUM(B78+G78+L78+Q78+V78+AA78+AF78+AK78+AP78+AU78+AZ78+BE78+BJ78+BO78+BU78+CA78+CG78+CM78+CS78+CY78+DE78+DK78+DQ78+DW78+EC78) -> 840 | EJ78: =EN78-EI78 -> 3115 | EK78: =SUM(BQ78+BW78+CC78+CI78+CO78+CU78+DA78+DG78+DM78+DS78+DY78+EE78) -> 0 | EL78: =SUM(D78+I78+N78+S78+X78+AC78+AH78+AM78+AR78+AW78+BB78+BG78+BL78+BR78+BX78+CD78+CJ78+CP78+CV78+DB78+DH78+DN78+DT78+DZ78+EF78) -> 211 | EM78: =SUM(E78+J78+O78+T78+Y78+AD78+AI78+AN78+AS78+AX78+BC78+BH78+BM78+BS78+BY78+CE78+CK78+CQ78+CW78+DC78+DI78+DO78+DU78+EA78+EG78) -> 220 | EN78: =SUM(F78+K78+P78+U78+Z78+AE78+AJ78+AO78+AT78+AY78+BD78+BI78+BN78+BT78+BZ78+CF78+CL78+CR78+CX78+DD78+DJ78+DP78+DV78+EB78+EH78) -> 3955 | EO78: 2´16 | EP78: Ago-Dic 2016
A79: Feb-Jun 2017 | BO79: 20 | BP79: =-BS78-BR79+BT78 -> 192 | BR79: 15 | BS79: 10 | BT79: =BO79+BP79+BQ79 -> 212 | BU79: 15 | BV79: =-BX79-BY78+BZ78 -> 171 | BX79: 15 | BY79: 10 | BZ79: =BU79+BV79+BW79 -> 186 | CA79: 35 | CB79: =-CD79-CE78+CF78 -> 206 | CD79: 25 | CE79: 20 | CF79: =CA79+CB79+CC79 -> 241 | CG79: 20 | CH79: =-CJ79-CK78+CL78 -> 180 | CJ79: 20 | CK79: 15 | CL79: =CG79+CH79+CI79 -> 200 | CM79: 15 | CN79: =CR78-CQ78-CP79 -> 120 | CP79: 15 | CQ79: 20 | CR79: =CM79+CN79+CO79 -> 135 | CS79: 15 | CT79: =CX78-CW78-CV79 -> 206 | CV79: 15 | CW79: 10 | CX79: =CS79+CT79 -> 221 | CY79: 25 | CZ79: =DD78-DC78-DB79 -> 286 | DB79: 30 | DC79: 15 | DD79: =CY79+CZ79+DA79 -> 311 | DE79: 80 | DF79: =DJ78-DI78-DH79 -> 907 | DH79: 30 | DI79: 40 | DJ79: =DE79+DF79+DG79 -> 987 | DK79: 0 | DL79: =-DN79-DO78+DP78 -> 8 | DN79: 1 | DO79: 7 | DP79: =DK79+DL79+DM79 -> 8 | DQ79: 20 | DR79: =DV78-DU78-DT79 -> 418 | DT79: 15 | DU79: 15 | DV79: =DQ79+DR79+DS79 -> 438 | DW79: 40 | DX79: =EB78-EA78-DZ79 -> 598 | DZ79: 35 | EA79: 40 | EB79: =DW79+DX79+DY79 -> 638 | EC79: 20 | ED79: =EH78-EG78-EF79 -> 209 | EF79: 20 | EG79: 15 | EH79: =EC79+ED79+EE79 -> 229 | EI79: =SUM(B79+G79+L79+Q79+V79+AA79+AF79+AK79+AP79+AU79+AZ79+BE79+BJ79+BO79+BU79+CA79+CG79+CM79+CS79+CY79+DE79+DK79+DQ79+DW79+EC79) -> 305 | EJ79: =EN79-EI79 -> 3501 | EK79: =SUM(BQ79+BW79+CC79+CI79+CO79+CU79+DA79+DG79+DM79+DS79+DY79+EE79) -> 0 | EL79: =SUM(D79+I79+N79+S79+X79+AC79+AH79+AM79+AR79+AW79+BB79+BG79+BL79+BR79+BX79+CD79+CJ79+CP79+CV79+DB79+DH79+DN79+DT79+DZ79+EF79) -> 236 | EM79: =SUM(E79+J79+O79+T79+Y79+AD79+AI79+AN79+AS79+AX79+BC79+BH79+BM79+BS79+BY79+CE79+CK79+CQ79+CW79+DC79+DI79+DO79+DU79+EA79+EG79) -> 217 | EN79: =SUM(F79+K79+P79+U79+Z79+AE79+AJ79+AO79+AT79+AY79+BD79+BI79+BN79+BT79+BZ79+CF79+CL79+CR79+CX79+DD79+DJ79+DP79+DV79+EB79+EH79) -> 3806 | EO79: 1´17 | EP79: Feb-Jun 2017
A80: Ago-Dic 2017 | BO80: 35 | BP80: =-BS79-BR80+BT79 -> 187 | BR80: 15 | BS80: 20 | BT80: =BO80+BP80+BQ80 -> 222 | BU80: 35 | BV80: =-BX80-BY79+BZ79 -> 171 | BX80: 5 | BY80: 5 | BZ80: =BU80+BV80+BW80 -> 206 | CA80: 70 | CB80: =-CD80-CE79+CF79 -> 206 | CD80: 15 | CE80: 20 | CF80: =CA80+CB80+CC80 -> 276 | CG80: 50 | CH80: =CL79-CK79-CJ80 -> 165 | CJ80: 20 | CK80: 20 | CL80: =CG80+CH80+CI80 -> 215 | CM80: 40 | CN80: =CR79-CQ79-CP80 -> 95 | CP80: 20 | CQ80: 15 | CR80: =CM80+CN80+CO80 -> 135 | CS80: 50 | CT80: =CX79-CW79-CV80 -> 201 | CV80: 10 | CW80: 8 | CX80: =CS80+CT80 -> 251 | CY80: 90 | CZ80: =DD79-DC79-DB80 -> 261 | DB80: 35 | DC80: 15 | DD80: =CY80+CZ80+DA80 -> 351 | DE80: 160 | DF80: =-DH80-DI79+DJ79 -> 912 | DH80: 35 | DI80: 30 | DJ80: =DE80+DF80+DG80 -> 1072 | DL80: =-DN80-DO79+DP79 -> 1 | DO80: 1 | DP80: =DK80+DL80+DM80 -> 1 | DQ80: 80 | DR80: =DV79-DU79-DT80 -> 388 | DT80: 35 | DU80: 20 | DV80: =DQ80+DR80+DS80 -> 468 | DW80: 160 | DX80: =-DZ80-EA79+EB79 -> 563 | DZ80: 35 | EA80: 30 | EB80: =DW80+DX80+DY80 -> 723 | EC80: 70 | ED80: =-EF80-EG79+EH79 -> 194 | EF80: 20 | EG80: 8 | EH80: =EC80+ED80+EE80 -> 264 | EI80: =SUM(B80+G80+L80+Q80+V80+AA80+AF80+AK80+AP80+AU80+AZ80+BE80+BJ80+BO80+BU80+CA80+CG80+CM80+CS80+CY80+DE80+DK80+DQ80+DW80+EC80) -> 840 | EJ80: =EN80-EI80 -> 3344 | EK80: =SUM(BQ80+BW80+CC80+CI80+CO80+CU80+DA80+DG80+DM80+DS80+DY80+EE80) -> 0 | EL80: =SUM(D80+I80+N80+S80+X80+AC80+AH80+AM80+AR80+AW80+BB80+BG80+BL80+BR80+BX80+CD80+CJ80+CP80+CV80+DB80+DH80+DN80+DT80+DZ80+EF80) -> 245 | EM80: =SUM(E80+J80+O80+T80+Y80+AD80+AI80+AN80+AS80+AX80+BC80+BH80+BM80+BS80+BY80+CE80+CK80+CQ80+CW80+DC80+DI80+DO80+DU80+EA80+EG80) -> 192 | EN80: =SUM(F80+K80+P80+U80+Z80+AE80+AJ80+AO80+AT80+AY80+BD80+BI80+BN80+BT80+BZ80+CF80+CL80+CR80+CX80+DD80+DJ80+DP80+DV80+EB80+EH80) -> 4184 | EO80: 2´17 | EP80: Ago-Dic 2017
A81: Feb-Jun 2018 | BO81: 20 | BP81: =-BS80-BR81+BT80 -> 187 | BR81: 15 | BS81: 10 | BT81: =BO81+BP81+BQ81 -> 207 | BU81: 15 | BV81: =-BX81-BY80+BZ80 -> 186 | BX81: 15 | BY81: 10 | BZ81: =BU81+BV81+BW81 -> 201 | CA81: 35 | CB81: =-CD81-CE80+CF80 -> 231 | CD81: 25 | CE81: 20 | CF81: =CA81+CB81+CC81 -> 266 | CG81: 20 | CH81: =CL80-CK80-CJ81 -> 175 | CJ81: 20 | CK81: 15 | CL81: =CG81+CH81+CI81 -> 195 | CM81: 20 | CN81: =CR80-CQ80-CP81 -> 110 | CP81: 10 | CQ81: 15 | CR81: =CM81+CN81+CO81 -> 130 | CS81: 15 | CT81: =CX80-CW80-CV81 -> 233 | CV81: 10 | CW81: 15 | CX81: =CS81+CT81 -> 248 | CY81: 25 | CZ81: =DD80-DC80-DB81 -> 306 | DB81: 30 | DC81: 15 | DD81: =CY81+CZ81+DA81 -> 331 | DE81: 80 | DF81: =-DH81-DI80+DJ80 -> 1012 | DH81: 30 | DI81: 45 | DJ81: =DE81+DF81+DG81 -> 1092 | DL81: =-DN81-DO80+DP80 -> 0 | DP81: =DK81+DL81+DM81 -> 0 | DQ81: 20 | DR81: =DV80-DU80-DT81 -> 433 | DT81: 15 | DU81: 15 | DV81: =DQ81+DR81+DS81 -> 453 | DW81: 40 | DX81: =-DZ81-EA80+EB80 -> 658 | DZ81: 35 | EA81: 40 | EB81: =DW81+DX81+DY81 -> 698 | EC81: 20 | ED81: =-EF81-EG80+EH80 -> 236 | EF81: 20 | EG81: 20 | EH81: =EC81+ED81+EE81 -> 256 | EI81: =SUM(B81+G81+L81+Q81+V81+AA81+AF81+AK81+AP81+AU81+AZ81+BE81+BJ81+BO81+BU81+CA81+CG81+CM81+CS81+CY81+DE81+DK81+DQ81+DW81+EC81) -> 310 | EJ81: =EN81-EI81 -> 3767 | EK81: =SUM(BQ81+BW81+CC81+CI81+CO81+CU81+DA81+DG81+DM81+DS81+DY81+EE81) -> 0 | EL81: =SUM(D81+I81+N81+S81+X81+AC81+AH81+AM81+AR81+AW81+BB81+BG81+BL81+BR81+BX81+CD81+CJ81+CP81+CV81+DB81+DH81+DN81+DT81+DZ81+EF81) -> 225 | EM81: =SUM(E81+J81+O81+T81+Y81+AD81+AI81+AN81+AS81+AX81+BC81+BH81+BM81+BS81+BY81+CE81+CK81+CQ81+CW81+DC81+DI81+DO81+DU81+EA81+EG81) -> 220 | EN81: =SUM(F81+K81+P81+U81+Z81+AE81+AJ81+AO81+AT81+AY81+BD81+BI81+BN81+BT81+BZ81+CF81+CL81+CR81+CX81+DD81+DJ81+DP81+DV81+EB81+EH81) -> 4077 | EO81: 1´18 | EP81: Feb-Jun 2018
A82: Ago-Dic 2018 | BO82: 35 | BP82: =-BS81-BR82+BT81 -> 182 | BR82: 15 | BS82: 15 | BT82: =BO82+BP82+BQ82 -> 217 | BU82: 35 | BV82: =-BX82-BY81+BZ81 -> 186 | BX82: 5 | BY82: 10 | BZ82: =BU82+BV82+BW82 -> 221 | CA82: 70 | CB82: =-CD82-CE81+CF81 -> 231 | CD82: 15 | CE82: 20 | CF82: =CA82+CB82+CC82 -> 301 | CG82: 50 | CH82: =CL81-CK81-CJ82 -> 160 | CJ82: 20 | CK82: 20 | CL82: =CG82+CH82+CI82 -> 210 | CM82: 40 | CN82: =CR81-CQ81-CP82 -> 105 | CP82: 10 | CQ82: 15 | CR82: =CM82+CN82+CO82 -> 145 | CS82: 50 | CT82: =CX81-CW81-CV82 -> 223 | CV82: 10 | CW82: 10 | CX82: =CS82+CT82 -> 273 | CY82: 90 | CZ82: =DD81-DC81-DB82 -> 286 | DB82: 30 | DC82: 20 | DD82: =CY82+CZ82+DA82 -> 376 | DE82: 160 | DF82: =-DH82-DI81+DJ81 -> 1017 | DH82: 30 | DI82: 50 | DJ82: =DE82+DF82+DG82 -> 1177 | DL82: =-DN82-DO81+DP81 -> 0 | DP82: =DK82+DL82+DM82 -> 0 | DQ82: 80 | DR82: =DV81-DU81-DT82 -> 423 | DT82: 15 | DU82: 20 | DV82: =DQ82+DR82+DS82 -> 503 | DW82: 160 | DX82: =-DZ82-EA81+EB81 -> 618 | DZ82: 40 | EA82: 40 | EB82: =DW82+DX82+DY82 -> 778 | EC82: 70 | ED82: =-EF82-EG81+EH81 -> 216 | EF82: 20 | EG82: 20 | EH82: =EC82+ED82+EE82 -> 286 | EI82: =SUM(B82+G82+L82+Q82+V82+AA82+AF82+AK82+AP82+AU82+AZ82+BE82+BJ82+BO82+BU82+CA82+CG82+CM82+CS82+CY82+DE82+DK82+DQ82+DW82+EC82) -> 840 | EJ82: =EN82-EI82 -> 3647 | EK82: =SUM(BQ82+BW82+CC82+CI82+CO82+CU82+DA82+DG82+DM82+DS82+DY82+EE82) -> 0 | EL82: =SUM(D82+I82+N82+S82+X82+AC82+AH82+AM82+AR82+AW82+BB82+BG82+BL82+BR82+BX82+CD82+CJ82+CP82+CV82+DB82+DH82+DN82+DT82+DZ82+EF82) -> 210 | EM82: =SUM(E82+J82+O82+T82+Y82+AD82+AI82+AN82+AS82+AX82+BC82+BH82+BM82+BS82+BY82+CE82+CK82+CQ82+CW82+DC82+DI82+DO82+DU82+EA82+EG82) -> 240 | EN82: =SUM(F82+K82+P82+U82+Z82+AE82+AJ82+AO82+AT82+AY82+BD82+BI82+BN82+BT82+BZ82+CF82+CL82+CR82+CX82+DD82+DJ82+DP82+DV82+EB82+EH82) -> 4487 | EO82: 2´18 | EP82: Ago-Dic 2018
A83: Feb-Jun 2019 | BO83: 20 | BP83: =-BS82-BR83+BT82 -> 187 | BR83: 15 | BS83: 10 | BT83: =BO83+BP83+BQ83 -> 207 | BU83: 15 | BV83: =-BX83-BY82+BZ82 -> 196 | BX83: 15 | BY83: 5 | BZ83: =BU83+BV83+BW83 -> 211 | CA83: 35 | CB83: =-CD83-CE82+CF82 -> 256 | CD83: 25 | CE83: 25 | CF83: =CA83+CB83+CC83 -> 291 | CG83: 20 | CH83: =CL82-CK82-CJ83 -> 170 | CJ83: 20 | CK83: 15 | CL83: =CG83+CH83+CI83 -> 190 | CM83: 20 | CN83: =CR82-CQ82-CP83 -> 120 | CP83: 10 | CQ83: 20 | CR83: =CM83+CN83+CO83 -> 140 | CS83: 15 | CT83: =CX82-CW82-CV83 -> 248 | CV83: 15 | CW83: 10 | CX83: =CS83+CT83 -> 263 | CY83: 25 | CZ83: =DD82-DC82-DB83 -> 326 | DB83: 30 | DC83: 20 | DD83: =CY83+CZ83+DA83 -> 351 | DE83: 80 | DF83: =-DH83-DI82+DJ82 -> 1092 | DH83: 35 | DI83: 50 | DJ83: =DE83+DF83+DG83 -> 1172 | DL83: =-DN83-DO82+DP82 -> 0 | DP83: =DK83+DL83+DM83 -> 0 | DQ83: 20 | DR83: =DV82-DU82-DT83 -> 453 | DT83: 30 | DU83: 15 | DV83: =DQ83+DR83+DS83 -> 473 | DW83: 40 | DX83: =-DZ83-EA82+EB82 -> 698 | DZ83: 40 | EA83: 30 | EB83: =DW83+DX83+DY83 -> 738 | EC83: 20 | ED83: =-EF83-EG82+EH82 -> 246 | EF83: 20 | EG83: 10 | EH83: =EC83+ED83+EE83 -> 266 | EI83: =SUM(B83+G83+L83+Q83+V83+AA83+AF83+AK83+AP83+AU83+AZ83+BE83+BJ83+BO83+BU83+CA83+CG83+CM83+CS83+CY83+DE83+DK83+DQ83+DW83+EC83) -> 310 | EJ83: =EN83-EI83 -> 3992 | EK83: =SUM(BQ83+BW83+CC83+CI83+CO83+CU83+DA83+DG83+DM83+DS83+DY83+EE83) -> 0 | EL83: =SUM(D83+I83+N83+S83+X83+AC83+AH83+AM83+AR83+AW83+BB83+BG83+BL83+BR83+BX83+CD83+CJ83+CP83+CV83+DB83+DH83+DN83+DT83+DZ83+EF83) -> 255 | EM83: =SUM(E83+J83+O83+T83+Y83+AD83+AI83+AN83+AS83+AX83+BC83+BH83+BM83+BS83+BY83+CE83+CK83+CQ83+CW83+DC83+DI83+DO83+DU83+EA83+EG83) -> 210 | EN83: =SUM(F83+K83+P83+U83+Z83+AE83+AJ83+AO83+AT83+AY83+BD83+BI83+BN83+BT83+BZ83+CF83+CL83+CR83+CX83+DD83+DJ83+DP83+DV83+EB83+EH83) -> 4302 | EO83: 1´19 | EP83: Feb-Jun 2019
A84: Ago-Dic 2019 | BO84: 35 | BP84: =-BS83-BR84+BT83 -> 182 | BR84: 15 | BS84: 15 | BT84: =BO84+BP84+BQ84 -> 217 | BU84: 35 | BV84: =-BX84-BY83+BZ83 -> 201 | BX84: 5 | BY84: 10 | BZ84: =BU84+BV84+BW84 -> 236 | CA84: 70 | CB84: =-CD84-CE83+CF83 -> 251 | CD84: 15 | CE84: 25 | CF84: =CA84+CB84+CC84 -> 321 | CG84: 50 | CH84: =CL83-CK83-CJ84 -> 155 | CJ84: 20 | CK84: 20 | CL84: =CG84+CH84+CI84 -> 205 | CM84: 40 | CN84: =CR83-CQ83-CP84 -> 110 | CP84: 10 | CQ84: 20 | CR84: =CM84+CN84+CO84 -> 150 | CS84: 50 | CT84: =CX83-CW83-CV84 -> 238 | CV84: 15 | CW84: 15 | CX84: =CS84+CT84 -> 288 | CY84: 90 | CZ84: =DD83-DC83-DB84 -> 301 | DB84: 30 | DC84: 20 | DD84: =CY84+CZ84+DA84 -> 391 | DE84: 160 | DF84: =-DH84-DI83+DJ83 -> 1092 | DH84: 30 | DI84: 50 | DJ84: =DE84+DF84+DG84 -> 1252 | DL84: =-DN84-DO83+DP83 -> 0 | DP84: =DK84+DL84+DM84 -> 0 | DQ84: 80 | DR84: =DV83-DU83-DT84 -> 423 | DT84: 35 | DU84: 20 | DV84: =DQ84+DR84+DS84 -> 503 | DW84: 160 | DX84: =-DZ84-EA83+EB83 -> 668 | DZ84: 40 | EA84: 40 | EB84: =DW84+DX84+DY84 -> 828 | EC84: 70 | ED84: =-EF84-EG83+EH83 -> 236 | EF84: 20 | EG84: 15 | EH84: =EC84+ED84+EE84 -> 306 | EI84: =SUM(B84+G84+L84+Q84+V84+AA84+AF84+AK84+AP84+AU84+AZ84+BE84+BJ84+BO84+BU84+CA84+CG84+CM84+CS84+CY84+DE84+DK84+DQ84+DW84+EC84) -> 840 | EJ84: =EN84-EI84 -> 3857 | EK84: =SUM(BQ84+BW84+CC84+CI84+CO84+CU84+DA84+DG84+DM84+DS84+DY84+EE84) -> 0 | EL84: =SUM(D84+I84+N84+S84+X84+AC84+AH84+AM84+AR84+AW84+BB84+BG84+BL84+BR84+BX84+CD84+CJ84+CP84+CV84+DB84+DH84+DN84+DT84+DZ84+EF84) -> 235 | EM84: =SUM(E84+J84+O84+T84+Y84+AD84+AI84+AN84+AS84+AX84+BC84+BH84+BM84+BS84+BY84+CE84+CK84+CQ84+CW84+DC84+DI84+DO84+DU84+EA84+EG84) -> 250 | EN84: =SUM(F84+K84+P84+U84+Z84+AE84+AJ84+AO84+AT84+AY84+BD84+BI84+BN84+BT84+BZ84+CF84+CL84+CR84+CX84+DD84+DJ84+DP84+DV84+EB84+EH84) -> 4697 | EO84: 2´19 | EP84: Ago-Dic 2019
A85: Feb-Jun 2020 | BO85: 20 | BP85: =-BS84-BR85+BT84 -> 187 | BR85: 15 | BS85: 10 | BT85: =BO85+BP85+BQ85 -> 207 | BU85: 15 | BV85: =-BX85-BY84+BZ84 -> 211 | BX85: 15 | BY85: 10 | BZ85: =BU85+BV85+BW85 -> 226 | CA85: 35 | CB85: =-CD85-CE84+CF84 -> 271 | CD85: 25 | CE85: 25 | CF85: =CA85+CB85+CC85 -> 306 | CG85: 20 | CH85: =CL84-CK84-CJ85 -> 165 | CJ85: 20 | CK85: 15 | CL85: =CG85+CH85+CI85 -> 185 | CM85: 20 | CN85: =CR84-CQ84-CP85 -> 115 | CP85: 15 | CQ85: 20 | CR85: =CM85+CN85+CO85 -> 135 | CS85: 15 | CT85: =CX84-CW84-CV85 -> 258 | CV85: 15 | CW85: 10 | CX85: =CS85+CT85 -> 273 | CY85: 25 | CZ85: =DD84-DC84-DB85 -> 341 | DB85: 30 | DC85: 20 | DD85: =CY85+CZ85+DA85 -> 366 | DE85: 80 | DF85: =-DH85-DI84+DJ84 -> 1167 | DH85: 35 | DI85: 50 | DJ85: =DE85+DF85+DG85 -> 1247 | DL85: =-DN85-DO84+DP84 -> 0 | DP85: =DK85+DL85+DM85 -> 0 | DQ85: 20 | DR85: =DV84-DU84-DT85 -> 453 | DT85: 30 | DU85: 15 | DV85: =DQ85+DR85+DS85 -> 473 | DW85: 40 | DX85: =-DZ85-EA84+EB84 -> 748 | DZ85: 40 | EA85: 30 | EB85: =DW85+DX85+DY85 -> 788 | EC85: 20 | ED85: =-EF85-EG84+EH84 -> 271 | EF85: 20 | EG85: 15 | EH85: =EC85+ED85+EE85 -> 291 | EI85: =SUM(B85+G85+L85+Q85+V85+AA85+AF85+AK85+AP85+AU85+AZ85+BE85+BJ85+BO85+BU85+CA85+CG85+CM85+CS85+CY85+DE85+DK85+DQ85+DW85+EC85) -> 310 | EJ85: =EN85-EI85 -> 4187 | EK85: =SUM(BQ85+BW85+CC85+CI85+CO85+CU85+DA85+DG85+DM85+DS85+DY85+EE85) -> 0 | EL85: =SUM(D85+I85+N85+S85+X85+AC85+AH85+AM85+AR85+AW85+BB85+BG85+BL85+BR85+BX85+CD85+CJ85+CP85+CV85+DB85+DH85+DN85+DT85+DZ85+EF85) -> 260 | EM85: =SUM(E85+J85+O85+T85+Y85+AD85+AI85+AN85+AS85+AX85+BC85+BH85+BM85+BS85+BY85+CE85+CK85+CQ85+CW85+DC85+DI85+DO85+DU85+EA85+EG85) -> 220 | EN85: =SUM(F85+K85+P85+U85+Z85+AE85+AJ85+AO85+AT85+AY85+BD85+BI85+BN85+BT85+BZ85+CF85+CL85+CR85+CX85+DD85+DJ85+DP85+DV85+EB85+EH85) -> 4497 | EO85: 1´20 | EP85: Feb-Jun 2020
A86: Ago-Dic 2020 | BO86: 35 | BP86: =-BS85-BR86+BT85 -> 182 | BR86: 15 | BS86: 15 | BT86: =BO86+BP86+BQ86 -> 217 | BU86: 35 | BV86: =-BX86-BY85+BZ85 -> 211 | BX86: 5 | BY86: 10 | BZ86: =BU86+BV86+BW86 -> 246 | CA86: 70 | CB86: =-CD86-CE85+CF85 -> 266 | CD86: 15 | CE86: 25 | CF86: =CA86+CB86+CC86 -> 336 | CG86: 50 | CH86: =CL85-CK85-CJ86 -> 150 | CJ86: 20 | CK86: 20 | CL86: =CG86+CH86+CI86 -> 200 | CM86: 40 | CN86: =CR85-CQ85-CP86 -> 105 | CP86: 10 | CQ86: 20 | CR86: =CM86+CN86+CO86 -> 145 | CS86: 50 | CT86: =CX85-CW85-CV86 -> 248 | CV86: 15 | CW86: 15 | CX86: =CS86+CT86 -> 298 | CY86: 90 | CZ86: =DD85-DC85-DB86 -> 316 | DB86: 30 | DC86: 20 | DD86: =CY86+CZ86+DA86 -> 406 | DE86: 160 | DF86: =-DH86-DI85+DJ85 -> 1167 | DH86: 30 | DI86: 50 | DJ86: =DE86+DF86+DG86 -> 1327 | DL86: =-DN86-DO85+DP85 -> 0 | DP86: =DK86+DL86+DM86 -> 0 | DQ86: 80 | DR86: =DV85-DU85-DT86 -> 423 | DT86: 35 | DU86: 20 | DV86: =DQ86+DR86+DS86 -> 503 | DW86: 160 | DX86: =-DZ86-EA85+EB85 -> 718 | DZ86: 40 | EA86: 40 | EB86: =DW86+DX86+DY86 -> 878 | EC86: 70 | ED86: =-EF86-EG85+EH85 -> 256 | EF86: 20 | EG86: 15 | EH86: =EC86+ED86+EE86 -> 326 | EI86: =SUM(B86+G86+L86+Q86+V86+AA86+AF86+AK86+AP86+AU86+AZ86+BE86+BJ86+BO86+BU86+CA86+CG86+CM86+CS86+CY86+DE86+DK86+DQ86+DW86+EC86) -> 840 | EJ86: =EN86-EI86 -> 4042 | EK86: =SUM(BQ86+BW86+CC86+CI86+CO86+CU86+DA86+DG86+DM86+DS86+DY86+EE86) -> 0 | EL86: =SUM(D86+I86+N86+S86+X86+AC86+AH86+AM86+AR86+AW86+BB86+BG86+BL86+BR86+BX86+CD86+CJ86+CP86+CV86+DB86+DH86+DN86+DT86+DZ86+EF86) -> 235 | EM86: =SUM(E86+J86+O86+T86+Y86+AD86+AI86+AN86+AS86+AX86+BC86+BH86+BM86+BS86+BY86+CE86+CK86+CQ86+CW86+DC86+DI86+DO86+DU86+EA86+EG86) -> 250 | EN86: =SUM(F86+K86+P86+U86+Z86+AE86+AJ86+AO86+AT86+AY86+BD86+BI86+BN86+BT86+BZ86+CF86+CL86+CR86+CX86+DD86+DJ86+DP86+DV86+EB86+EH86) -> 4882 | EO86: 2´20 | EP86: Ago-Dic 2020
A87: Feb-Jun 2021 | BO87: 20 | BP87: =-BS86-BR87+BT86 -> 187 | BR87: 15 | BS87: 10 | BT87: =BO87+BP87+BQ87 -> 207 | BU87: 15 | BV87: =-BX87-BY86+BZ86 -> 221 | BX87: 15 | BY87: 10 | BZ87: =BU87+BV87+BW87 -> 236 | CA87: 35 | CB87: =-CD87-CE86+CF86 -> 286 | CD87: 25 | CE87: 25 | CF87: =CA87+CB87+CC87 -> 321 | CG87: 20 | CH87: =CL86-CK86-CJ87 -> 160 | CJ87: 20 | CK87: 15 | CL87: =CG87+CH87+CI87 -> 180 | CM87: 20 | CN87: =CR86-CQ86-CP87 -> 115 | CP87: 10 | CQ87: 20 | CR87: =CM87+CN87+CO87 -> 135 | CS87: 15 | CT87: =CX86-CW86-CV87 -> 268 | CV87: 15 | CW87: 10 | CX87: =CS87+CT87 -> 283 | CY87: 25 | CZ87: =DD86-DC86-DB87 -> 356 | DB87: 30 | DC87: 20 | DD87: =CY87+CZ87+DA87 -> 381 | DE87: 80 | DF87: =-DH87-DI86+DJ86 -> 1242 | DH87: 35 | DI87: 50 | DJ87: =DE87+DF87+DG87 -> 1322 | DL87: =-DN87-DO86+DP86 -> 0 | DP87: =DK87+DL87+DM87 -> 0 | DQ87: 20 | DR87: =DV86-DU86-DT87 -> 453 | DT87: 30 | DU87: 15 | DV87: =DQ87+DR87+DS87 -> 473 | DW87: 40 | DX87: =-DZ87-EA86+EB86 -> 798 | DZ87: 40 | EA87: 30 | EB87: =DW87+DX87+DY87 -> 838 | EC87: 20 | ED87: =-EF87-EG86+EH86 -> 291 | EF87: 20 | EG87: 15 | EH87: =EC87+ED87+EE87 -> 311 | EI87: =SUM(B87+G87+L87+Q87+V87+AA87+AF87+AK87+AP87+AU87+AZ87+BE87+BJ87+BO87+BU87+CA87+CG87+CM87+CS87+CY87+DE87+DK87+DQ87+DW87+EC87) -> 310 | EJ87: =EN87-EI87 -> 4377 | EK87: =SUM(BQ87+BW87+CC87+CI87+CO87+CU87+DA87+DG87+DM87+DS87+DY87+EE87) -> 0 | EL87: =SUM(D87+I87+N87+S87+X87+AC87+AH87+AM87+AR87+AW87+BB87+BG87+BL87+BR87+BX87+CD87+CJ87+CP87+CV87+DB87+DH87+DN87+DT87+DZ87+EF87) -> 255 | EM87: =SUM(E87+J87+O87+T87+Y87+AD87+AI87+AN87+AS87+AX87+BC87+BH87+BM87+BS87+BY87+CE87+CK87+CQ87+CW87+DC87+DI87+DO87+DU87+EA87+EG87) -> 220 | EN87: =SUM(F87+K87+P87+U87+Z87+AE87+AJ87+AO87+AT87+AY87+BD87+BI87+BN87+BT87+BZ87+CF87+CL87+CR87+CX87+DD87+DJ87+DP87+DV87+EB87+EH87) -> 4687 | EO87: 1´21 | EP87: Feb-Jun 2021
A88: Ago-Dic 2021 | BO88: 35 | BP88: =-BS87-BR88+BT87 -> 182 | BR88: 15 | BS88: 15 | BT88: =BO88+BP88+BQ88 -> 217 | BU88: 35 | BV88: =-BX88-BY87+BZ87 -> 221 | BX88: 5 | BY88: 10 | BZ88: =BU88+BV88+BW88 -> 256 | CA88: 70 | CB88: =-CD88-CE87+CF87 -> 281 | CD88: 15 | CE88: 30 | CF88: =CA88+CB88+CC88 -> 351 | CG88: 50 | CH88: =CL87-CK87-CJ88 -> 145 | CJ88: 20 | CK88: 20 | CL88: =CG88+CH88+CI88 -> 195 | CM88: 40 | CN88: =CR87-CQ87-CP88 -> 105 | CP88: 10 | CQ88: 20 | CR88: =CM88+CN88+CO88 -> 145 | CS88: 50 | CT88: =CX87-CW87-CV88 -> 258 | CV88: 15 | CW88: 15 | CX88: =CS88+CT88 -> 308 | CY88: 90 | CZ88: =DD87-DC87-DB88 -> 331 | DB88: 30 | DC88: 20 | DD88: =CY88+CZ88+DA88 -> 421 | DE88: 160 | DF88: =-DH88-DI87+DJ87 -> 1242 | DH88: 30 | DI88: 60 | DJ88: =DE88+DF88+DG88 -> 1402 | DL88: =-DN88-DO87+DP87 -> 0 | DP88: =DK88+DL88+DM88 -> 0 | DQ88: 80 | DR88: =DV87-DU87-DT88 -> 423 | DT88: 35 | DU88: 20 | DV88: =DQ88+DR88+DS88 -> 503 | DW88: 160 | DX88: =-DZ88-EA87+EB87 -> 768 | DZ88: 40 | EA88: 40 | EB88: =DW88+DX88+DY88 -> 928 | EC88: 70 | ED88: =-EF88-EG87+EH87 -> 276 | EF88: 20 | EG88: 15 | EH88: =EC88+ED88+EE88 -> 346 | EI88: =SUM(B88+G88+L88+Q88+V88+AA88+AF88+AK88+AP88+AU88+AZ88+BE88+BJ88+BO88+BU88+CA88+CG88+CM88+CS88+CY88+DE88+DK88+DQ88+DW88+EC88) -> 840 | EJ88: =EN88-EI88 -> 4232 | EK88: =SUM(BQ88+BW88+CC88+CI88+CO88+CU88+DA88+DG88+DM88+DS88+DY88+EE88) -> 0 | EL88: =SUM(D88+I88+N88+S88+X88+AC88+AH88+AM88+AR88+AW88+BB88+BG88+BL88+BR88+BX88+CD88+CJ88+CP88+CV88+DB88+DH88+DN88+DT88+DZ88+EF88) -> 235 | EM88: =SUM(E88+J88+O88+T88+Y88+AD88+AI88+AN88+AS88+AX88+BC88+BH88+BM88+BS88+BY88+CE88+CK88+CQ88+CW88+DC88+DI88+DO88+DU88+EA88+EG88) -> 265 | EN88: =SUM(F88+K88+P88+U88+Z88+AE88+AJ88+AO88+AT88+AY88+BD88+BI88+BN88+BT88+BZ88+CF88+CL88+CR88+CX88+DD88+DJ88+DP88+DV88+EB88+EH88) -> 5072 | EO88: 2´21 | EP88: Ago-Dic 2021
A89: Feb-Jun 2022 | BO89: 20 | BP89: =-BS88-BR89+BT88 -> 187 | BR89: 15 | BS89: 10 | BT89: =BO89+BP89+BQ89 -> 207 | BU89: 15 | BV89: =-BX89-BY88+BZ88 -> 231 | BX89: 15 | BY89: 10 | BZ89: =BU89+BV89+BW89 -> 246 | CA89: 35 | CB89: =-CD89-CE88+CF88 -> 296 | CD89: 25 | CE89: 30 | CF89: =CA89+CB89+CC89 -> 331 | CG89: 20 | CH89: =CL88-CK88-CJ89 -> 155 | CJ89: 20 | CK89: 15 | CL89: =CG89+CH89+CI89 -> 175 | CM89: 20 | CN89: =CR88-CQ88-CP89 -> 115 | CP89: 10 | CQ89: 20 | CR89: =CM89+CN89+CO89 -> 135 | CS89: 15 | CT89: =CX88-CW88-CV89 -> 278 | CV89: 15 | CW89: 10 | CX89: =CS89+CT89 -> 293 | CY89: 25 | CZ89: =DD88-DC88-DB89 -> 371 | DB89: 30 | DC89: 20 | DD89: =CY89+CZ89+DA89 -> 396 | DE89: 80 | DF89: =-DH89-DI88+DJ88 -> 1307 | DH89: 35 | DI89: 60 | DJ89: =DE89+DF89+DG89 -> 1387 | DL89: =-DN89-DO88+DP88 -> 0 | DP89: =DK89+DL89+DM89 -> 0 | DQ89: 20 | DR89: =DV88-DU88-DT89 -> 453 | DT89: 30 | DU89: 15 | DV89: =DQ89+DR89+DS89 -> 473 | DW89: 40 | DX89: =-DZ89-EA88+EB88 -> 848 | DZ89: 40 | EA89: 30 | EB89: =DW89+DX89+DY89 -> 888 | EC89: 20 | ED89: =-EF89-EG88+EH88 -> 311 | EF89: 20 | EG89: 15 | EH89: =EC89+ED89+EE89 -> 331 | EI89: =SUM(B89+G89+L89+Q89+V89+AA89+AF89+AK89+AP89+AU89+AZ89+BE89+BJ89+BO89+BU89+CA89+CG89+CM89+CS89+CY89+DE89+DK89+DQ89+DW89+EC89) -> 310 | EJ89: =EN89-EI89 -> 4552 | EK89: =SUM(BQ89+BW89+CC89+CI89+CO89+CU89+DA89+DG89+DM89+DS89+DY89+EE89) -> 0 | EL89: =SUM(D89+I89+N89+S89+X89+AC89+AH89+AM89+AR89+AW89+BB89+BG89+BL89+BR89+BX89+CD89+CJ89+CP89+CV89+DB89+DH89+DN89+DT89+DZ89+EF89) -> 255 | EM89: =SUM(E89+J89+O89+T89+Y89+AD89+AI89+AN89+AS89+AX89+BC89+BH89+BM89+BS89+BY89+CE89+CK89+CQ89+CW89+DC89+DI89+DO89+DU89+EA89+EG89) -> 235 | EN89: =SUM(F89+K89+P89+U89+Z89+AE89+AJ89+AO89+AT89+AY89+BD89+BI89+BN89+BT89+BZ89+CF89+CL89+CR89+CX89+DD89+DJ89+DP89+DV89+EB89+EH89) -> 4862 | EO89: 1´22 | EP89: Feb-Jun 2022
A90: Ago-Dic 2022 | BO90: 35 | BP90: =-BS89-BR90+BT89 -> 182 | BR90: 15 | BS90: 15 | BT90: =BO90+BP90+BQ90 -> 217 | BU90: 35 | BV90: =-BX90-BY89+BZ89 -> 231 | BX90: 5 | BY90: 10 | BZ90: =BU90+BV90+BW90 -> 266 | CA90: 70 | CB90: =-CD90-CE89+CF89 -> 286 | CD90: 15 | CE90: 30 | CF90: =CA90+CB90+CC90 -> 356 | CG90: 50 | CH90: =CL89-CK89-CJ90 -> 140 | CJ90: 20 | CK90: 20 | CL90: =CG90+CH90+CI90 -> 190 | CM90: 40 | CN90: =CR89-CQ89-CP90 -> 105 | CP90: 10 | CQ90: 20 | CR90: =CM90+CN90+CO90 -> 145 | CS90: 50 | CT90: =CX89-CW89-CV90 -> 268 | CV90: 15 | CW90: 15 | CX90: =CS90+CT90 -> 318 | CY90: 90 | CZ90: =DD89-DC89-DB90 -> 346 | DB90: 30 | DC90: 20 | DD90: =CY90+CZ90+DA90 -> 436 | DE90: 160 | DF90: =-DH90-DI89+DJ89 -> 1297 | DH90: 30 | DI90: 60 | DJ90: =DE90+DF90+DG90 -> 1457 | DL90: =-DN90-DO89+DP89 -> 0 | DP90: =DK90+DL90+DM90 -> 0 | DQ90: 80 | DR90: =DV89-DU89-DT90 -> 423 | DT90: 35 | DU90: 20 | DV90: =DQ90+DR90+DS90 -> 503 | DW90: 160 | DX90: =-DZ90-EA89+EB89 -> 818 | DZ90: 40 | EA90: 40 | EB90: =DW90+DX90+DY90 -> 978 | EC90: 70 | ED90: =-EF90-EG89+EH89 -> 296 | EF90: 20 | EG90: 15 | EH90: =EC90+ED90+EE90 -> 366 | EI90: =SUM(B90+G90+L90+Q90+V90+AA90+AF90+AK90+AP90+AU90+AZ90+BE90+BJ90+BO90+BU90+CA90+CG90+CM90+CS90+CY90+DE90+DK90+DQ90+DW90+EC90) -> 840 | EJ90: =EN90-EI90 -> 4392 | EK90: =SUM(BQ90+BW90+CC90+CI90+CO90+CU90+DA90+DG90+DM90+DS90+DY90+EE90) -> 0 | EL90: =SUM(D90+I90+N90+S90+X90+AC90+AH90+AM90+AR90+AW90+BB90+BG90+BL90+BR90+BX90+CD90+CJ90+CP90+CV90+DB90+DH90+DN90+DT90+DZ90+EF90) -> 235 | EM90: =SUM(E90+J90+O90+T90+Y90+AD90+AI90+AN90+AS90+AX90+BC90+BH90+BM90+BS90+BY90+CE90+CK90+CQ90+CW90+DC90+DI90+DO90+DU90+EA90+EG90) -> 265 | EN90: =SUM(F90+K90+P90+U90+Z90+AE90+AJ90+AO90+AT90+AY90+BD90+BI90+BN90+BT90+BZ90+CF90+CL90+CR90+CX90+DD90+DJ90+DP90+DV90+EB90+EH90) -> 5232 | EO90: 2´22 | EP90: Ago-Dic 2022
A91: Feb-Jun 2023 | BO91: 20 | BP91: =-BS90-BR91+BT90 -> 187 | BR91: 15 | BS91: 10 | BT91: =BO91+BP91+BQ91 -> 207 | BU91: 15 | BV91: =-BX91-BY90+BZ90 -> 241 | BX91: 15 | BY91: 10 | BZ91: =BU91+BV91+BW91 -> 256 | CA91: 35 | CB91: =-CD91-CE90+CF90 -> 301 | CD91: 25 | CE91: 30 | CF91: =CA91+CB91+CC91 -> 336 | CG91: 20 | CH91: =CL90-CK90-CJ91 -> 150 | CJ91: 20 | CK91: 15 | CL91: =CG91+CH91+CI91 -> 170 | CM91: 20 | CN91: =CR90-CQ90-CP91 -> 115 | CP91: 10 | CQ91: 20 | CR91: =CM91+CN91+CO91 -> 135 | CS91: 15 | CT91: =CX90-CW90-CV91 -> 288 | CV91: 15 | CW91: 10 | CX91: =CS91+CT91 -> 303 | CY91: 25 | CZ91: =DD90-DC90-DB91 -> 386 | DB91: 30 | DC91: 20 | DD91: =CY91+CZ91+DA91 -> 411 | DE91: 80 | DF91: =-DH91-DI90+DJ90 -> 1362 | DH91: 35 | DI91: 60 | DJ91: =DE91+DF91+DG91 -> 1442 | DL91: =-DN91-DO90+DP90 -> 0 | DP91: =DK91+DL91+DM91 -> 0 | DQ91: 20 | DR91: =DV90-DU90-DT91 -> 453 | DT91: 30 | DU91: 15 | DV91: =DQ91+DR91+DS91 -> 473 | DW91: 40 | DX91: =-DZ91-EA90+EB90 -> 898 | DZ91: 40 | EA91: 30 | EB91: =DW91+DX91+DY91 -> 938 | EC91: 20 | ED91: =-EF91-EG90+EH90 -> 331 | EF91: 20 | EG91: 15 | EH91: =EC91+ED91+EE91 -> 351 | EI91: =SUM(B91+G91+L91+Q91+V91+AA91+AF91+AK91+AP91+AU91+AZ91+BE91+BJ91+BO91+BU91+CA91+CG91+CM91+CS91+CY91+DE91+DK91+DQ91+DW91+EC91) -> 310 | EJ91: =EN91-EI91 -> 4712 | EK91: =SUM(BQ91+BW91+CC91+CI91+CO91+CU91+DA91+DG91+DM91+DS91+DY91+EE91) -> 0 | EL91: =SUM(D91+I91+N91+S91+X91+AC91+AH91+AM91+AR91+AW91+BB91+BG91+BL91+BR91+BX91+CD91+CJ91+CP91+CV91+DB91+DH91+DN91+DT91+DZ91+EF91) -> 255 | EM91: =SUM(E91+J91+O91+T91+Y91+AD91+AI91+AN91+AS91+AX91+BC91+BH91+BM91+BS91+BY91+CE91+CK91+CQ91+CW91+DC91+DI91+DO91+DU91+EA91+EG91) -> 235 | EN91: =SUM(F91+K91+P91+U91+Z91+AE91+AJ91+AO91+AT91+AY91+BD91+BI91+BN91+BT91+BZ91+CF91+CL91+CR91+CX91+DD91+DJ91+DP91+DV91+EB91+EH91) -> 5022 | EO91: 1´23 | EP91: Feb-Jun 2023
A92: Ago-Dic 2023 | BO92: 35 | BP92: =-BS91-BR92+BT91 -> 182 | BR92: 15 | BS92: 15 | BT92: =BO92+BP92+BQ92 -> 217 | BU92: 35 | BV92: =-BX92-BY91+BZ91 -> 241 | BX92: 5 | BY92: 10 | BZ92: =BU92+BV92+BW92 -> 276 | CA92: 70 | CB92: =-CD92-CE91+CF91 -> 291 | CD92: 15 | CE92: 35 | CF92: =CA92+CB92+CC92 -> 361 | CG92: 50 | CH92: =CL91-CK91-CJ92 -> 135 | CJ92: 20 | CK92: 20 | CL92: =CG92+CH92+CI92 -> 185 | CM92: 40 | CN92: =CR91-CQ91-CP92 -> 105 | CP92: 10 | CQ92: 20 | CR92: =CM92+CN92+CO92 -> 145 | CS92: 50 | CT92: =CX91-CW91-CV92 -> 278 | CV92: 15 | CW92: 15 | CX92: =CS92+CT92 -> 328 | CY92: 90 | CZ92: =DD91-DC91-DB92 -> 361 | DB92: 30 | DC92: 20 | DD92: =CY92+CZ92+DA92 -> 451 | DE92: 160 | DF92: =-DH92-DI91+DJ91 -> 1352 | DH92: 30 | DI92: 60 | DJ92: =DE92+DF92+DG92 -> 1512 | DL92: =-DN92-DO91+DP91 -> 0 | DP92: =DK92+DL92+DM92 -> 0 | DQ92: 80 | DR92: =DV91-DU91-DT92 -> 423 | DT92: 35 | DU92: 20 | DV92: =DQ92+DR92+DS92 -> 503 | DW92: 160 | DX92: =-DZ92-EA91+EB91 -> 868 | DZ92: 40 | EA92: 40 | EB92: =DW92+DX92+DY92 -> 1028 | EC92: 70 | ED92: =-EF92-EG91+EH91 -> 316 | EF92: 20 | EG92: 15 | EH92: =EC92+ED92+EE92 -> 386 | EI92: =SUM(B92+G92+L92+Q92+V92+AA92+AF92+AK92+AP92+AU92+AZ92+BE92+BJ92+BO92+BU92+CA92+CG92+CM92+CS92+CY92+DE92+DK92+DQ92+DW92+EC92) -> 840 | EJ92: =EN92-EI92 -> 4552 | EK92: =SUM(BQ92+BW92+CC92+CI92+CO92+CU92+DA92+DG92+DM92+DS92+DY92+EE92) -> 0 | EL92: =SUM(D92+I92+N92+S92+X92+AC92+AH92+AM92+AR92+AW92+BB92+BG92+BL92+BR92+BX92+CD92+CJ92+CP92+CV92+DB92+DH92+DN92+DT92+DZ92+EF92) -> 235 | EM92: =SUM(E92+J92+O92+T92+Y92+AD92+AI92+AN92+AS92+AX92+BC92+BH92+BM92+BS92+BY92+CE92+CK92+CQ92+CW92+DC92+DI92+DO92+DU92+EA92+EG92) -> 270 | EN92: =SUM(F92+K92+P92+U92+Z92+AE92+AJ92+AO92+AT92+AY92+BD92+BI92+BN92+BT92+BZ92+CF92+CL92+CR92+CX92+DD92+DJ92+DP92+DV92+EB92+EH92) -> 5392 | EO92: 2´23 | EP92: Ago-Dic 2023
... A96: Ago-Dic 2025 | BO96: 35 | BP96: =-BS95-BR96+BT95 -> 182 | BR96: 15 | BS96: 15 | BT96: =BO96+BP96+BQ96 -> 217 | BU96: 35 | BV96: =-BX96-BY95+BZ95 -> 261 | BX96: 5 | BY96: 10 | BZ96: =BU96+BV96+BW96 -> 296 | CA96: 70 | CB96: =-CD96-CE95+CF95 -> 281 | CD96: 15 | CE96: 35 | CF96: =CA96+CB96+CC96 -> 351 | CG96: 50 | CH96: =CL95-CK95-CJ96 -> 125 | CJ96: 20 | CK96: 20 | CL96: =CG96+CH96+CI96 -> 175 | CM96: 40 | CN96: =CR95-CQ95-CP96 -> 105 | CP96: 10 | CQ96: 20 | CR96: =CM96+CN96+CO96 -> 145 | CS96: 50 | CT96: =CX95-CW95-CV96 -> 298 | CV96: 15 | CW96: 15 | CX96: =CS96+CT96 -> 348 | CY96: 90 | CZ96: =DD95-DC95-DB96 -> 391 | DB96: 30 | DC96: 20 | DD96: =CY96+CZ96+DA96 -> 481 | DE96: 160 | DF96: =-DH96-DI95+DJ95 -> 1462 | DH96: 30 | DI96: 60 | DJ96: =DE96+DF96+DG96 -> 1622 | DL96: =-DN96-DO95+DP95 -> 0 | DP96: =DK96+DL96+DM96 -> 0 | DQ96: 80 | DR96: =DV95-DU95-DT96 -> 423 | DT96: 35 | DU96: 20 | DV96: =DQ96+DR96+DS96 -> 503 | DW96: 160 | DX96: =-DZ96-EA95+EB95 -> 968 | DZ96: 40 | EA96: 40 | EB96: =DW96+DX96+DY96 -> 1128 | EC96: 70 | ED96: =-EF96-EG95+EH95 -> 356 | EF96: 20 | EG96: 15 | EH96: =EC96+ED96+EE96 -> 426 | EI96: =SUM(B96+G96+L96+Q96+V96+AA96+AF96+AK96+AP96+AU96+AZ96+BE96+BJ96+BO96+BU96+CA96+CG96+CM96+CS96+CY96+DE96+DK96+DQ96+DW96+EC96) -> 840 | EJ96: =EN96-EI96 -> 4852 | EK96: =SUM(BQ96+BW96+CC96+CI96+CO96+CU96+DA96+DG96+DM96+DS96+DY96+EE96) -> 0 | EL96: =SUM(D96+I96+N96+S96+X96+AC96+AH96+AM96+AR96+AW96+BB96+BG96+BL96+BR96+BX96+CD96+CJ96+CP96+CV96+DB96+DH96+DN96+DT96+DZ96+EF96) -> 235 | EM96: =SUM(E96+J96+O96+T96+Y96+AD96+AI96+AN96+AS96+AX96+BC96+BH96+BM96+BS96+BY96+CE96+CK96+CQ96+CW96+DC96+DI96+DO96+DU96+EA96+EG96) -> 270 | EN96: =SUM(F96+K96+P96+U96+Z96+AE96+AJ96+AO96+AT96+AY96+BD96+BI96+BN96+BT96+BZ96+CF96+CL96+CR96+CX96+DD96+DJ96+DP96+DV96+EB96+EH96) -> 5692 | EO96: 2´25 | EP96: Ago-Dic 2025
A97: Desc x carr | W97: =X71/(Z70-Y70) -> 0.026315789 | AB97: =AC71/(AE70-AD70) -> -0.068965517 | AG97: =AH71/(AJ70-AI70) -> 0.036809816 | AL97: =AM71/(AO70-AN70) -> 0.17333333 | AQ97: =AR71/(AT70-AS70) -> 0.13333333 | AV97: =AW71/(AY70-AX70) -> 0.047619048 | BA97: =BB71/(BD70-BC70) -> 0.012048193 | BF97: =BG71/(BI70-BH70) -> 0.045454545 | BK97: =BL71/(BN70-BM70) -> 0.067164179 | BP97: =BR71/(BT70-BS70) -> 0.014285714 | BV97: =BX71/(BZ70-BY70) -> 0.16216216 | CB97: =CD71/(CF70-CE70) -> 0.20666667 | CH97: =CJ71/(CL70-CK70) -> 0.1 | CN97: =CP71/(CR70-CQ70) -> 0.16363636 | CT97: =CV71/(CX70-CW70) -> 0.1011236 | CZ97: =DB71/(DD70-DC70) -> 0.21285141 | DF97: =DH71/(DJ70-DI70) -> 0.10082305 | DL97: =DN71/(DP70-DO70) -> 0.19298246 | DP97: =DK97+DL97+DM97 -> 0.19298246 | DR97: =DT71/(DV70-DU70) -> 0.19617225 | DX97: =DZ71/(EB70-EA70) -> 0.11638955 | ED97: =EF71/(EH70-EG70) -> 0.079710145 | EJ97: =EL71/(EN70-EM70) -> 0.11377448 | EN97: =EJ61+EL61+EM60-EN60 -> 0
A98: AGO-DIC 2012 | DP98: =DK98+DL98+DM98 -> 0
Z99: =W63+X63+Y62-Z62 -> 0 | AC99: DE (Deserción) calculada en base al promedio de los 4 semestres anteriores | DP99: =DK99+DL99+DM99 -> 0
A100: 0 | Z100: =W64+X64+Y63-Z63 -> 0 | AC100: RI (ReIngreso) calculado de la diferencia del TOTAL del sem. Anterior - EG - DE calculada | CE100: =CF72-CD73-CB73 -> 0 | DP100: =DK100+DL100+DM100 -> 0
Z101: =W65+X65+Y64-Z64 -> 0 | DP101: =DK101+DL101+DM101 -> 0
Z102: =W66+X66+Y65-Z65 -> 0 | AB102: Nota: - Las cantidades que se encuentran subrayadas son datos estimados y establecidos como constante | DP102: =DK102+DL102+DM102 -> 0
Z103: =W67+X67+Y66-Z66 -> 0 | AB103: - Las cantidades del nuevo ingreso es la oferta que se ha venido manejando hasta el momento | DP103: =DK103+DL103+DM103 -> 0
DP104: =DK104+DL104+DM104 -> 0
...

Sheet ESTADISTICAS
N1: INSTITUTO TECNOLOGICO DE MEXICALI
N2: PROYECCION DE LA POBLACION ESCOLAR
C4: ESTADISTICA DE CARRERAS ACTUALES Y LIQUIDACION DE FEB-JUN 09 A AGO-DIC 15 Y PROYECCION A AGO-DIC 2018
B6: PERIODO | C6: LIC. EN INFORMÁTICA | D6: LIC. EN CONTADURÍA | E6: ING. ELECTRÓNICA | F6: ING. ELÉCTRICA | G6: ING. INDUSTRIAL | H6: ING. MECÁNICA | I6: ING. EN SISTEMAS COMPUTACIONALES | J6: ING. QUÍMICA | K6: ING. MECATRÓNICA | L6: POBLACIÓN TOTAL | M6: ING. ELECTRÓNICA | N6: ING. ELÉCTRICA | O6: ING. INDUSTRIAL | P6: ING. MECÁNICA | Q6: ING. EN SISTEMAS COMPUTACIONALES | R6: ING. QUÍMICA | S6: ING. MECATRÓNICA | T6: ING. EN LOGÍSTICA | U6: ING EN ENERGÍAS RENOVABLES | V6: CONTADOR PÚBLICO | W6: ING. EN GESTIÓN EMPRESARIAL | X6: ING. EN INFORMÁTICA | Y6: POBLACIÓN TOTAL | Z6: POB. TOTAL EN LIQ | AA6: TOTALES
A7: 2 | B7: Feb-Jun 2002 | C7: 251 | D7: 364 | E7: 327 | F7: 154 | G7: 868 | H7: 352 | I7: 328 | J7: 162 | L7: =SUM(C7:K7) -> 2806 | Y7: =SUM(M7:X7) -> 0 | AA7: 2806 | AB7: =+B7 -> Feb-Jun 2002 | AC7: =+A7 -> 2
A8: 3 | B8: Ago-Dic 2002 | C8: 252 | D8: 405 | E8: 355 | F8: 150 | G8: 953 | H8: 391 | I8: 420 | J8: 190 | L8: =SUM(C8:K8) -> 3116 | Y8: =SUM(M8:X8) -> 0 | AA8: 3116 | AB8: =+B8 -> Ago-Dic 2002 | AC8: =+A8 -> 3
A9: 4 | B9: Feb-Jun 2003 | C9: 207 | D9: 387 | E9: 315 | F9: 143 | G9: 757 | H9: 362 | I9: 391 | J9: 188 | L9: =SUM(C9:K9) -> 2750 | Y9: =SUM(M9:X9) -> 0 | AA9: 2750 | AB9: =+B9 -> Feb-Jun 2003 | AC9: =+A9 -> 4
A10: 5 | B10: Ago-Dic 2003 | C10: 214 | D10: 478 | E10: 344 | F10: 149 | G10: 823 | H10: 384 | I10: 419 | J10: 202 | L10: =SUM(C10:K10) -> 3013 | Y10: =SUM(M10:X10) -> 0 | AA10: 3013 | AB10: =+B10 -> Ago-Dic 2003 | AC10: =+A10 -> 5
A11: 6 | B11: Feb-Jun 2004 | C11: 179 | D11: 358 | E11: 277 | F11: 111 | G11: 674 | H11: 342 | I11: 380 | J11: 181 | L11: =SUM(C11:K11) -> 2502 | Y11: =SUM(M11:X11) -> 0 | AA11: 2502 | AB11: =+B11 -> Feb-Jun 2004 | AC11: =+A11 -> 6
A12: 7 | B12: Ago-Dic 2004 | C12: 209 | D12: 411 | E12: 329 | F12: 139 | G12: 712 | H12: 348 | I12: 408 | J12: 231 | K12: 92 | L12: =SUM(C12:K12) -> 2879 | Y12: =SUM(M12:X12) -> 0 | AA12: 2879 | AB12: =+B12 -> Ago-Dic 2004 | AC12: =+A12 -> 7
A13: 8 | B13: Feb-Jun 2005 | C13: 166 | D13: 329 | E13: 260 | F13: 122 | G13: 583 | H13: 283 | I13: 303 | J13: 189 | K13: 84 | L13: =SUM(C13:K13) -> 2319 | Y13: =SUM(M13:X13) -> 0 | AA13: 2319 | AB13: =+B13 -> Feb-Jun 2005 | AC13: =+A13 -> 8
A14: 9 | B14: Ago-Dic 2005 | C14: 181 | D14: 369 | E14: 286 | F14: 150 | G14: 651 | H14: 301 | I14: 379 | J14: 230 | K14: 292 | L14: =SUM(C14:K14) -> 2839 | Y14: =SUM(M14:X14) -> 0 | AA14: 2839 | AB14: =+B14 -> Ago-Dic 2005 | AC14: =+A14 -> 9
A15: 10 | B15: Feb-Jun 2006 | C15: 158 | D15: 296 | E15: 235 | F15: 135 | G15: 533 | H15: 253 | I15: 297 | J15: 195 | K15: 258 | L15: =SUM(C15:K15) -> 2360 | Y15: =SUM(M15:X15) -> 0 | AA15: 2360 | AB15: =+B15 -> Feb-Jun 2006 | AC15: =+A15 -> 10
A16: 11 | B16: Ago-Dic 2006 | C16: 184 | D16: 342 | E16: 248 | F16: 155 | G16: 595 | H16: 271 | I16: 366 | J16: 228 | K16: 422 | L16: =SUM(C16:K16) -> 2811 | Y16: =SUM(M16:X16) -> 0 | AA16: 2811 | AB16: =+B16 -> Ago-Dic 2006 | AC16: =+A16 -> 11
A17: 12 | B17: Feb-Jun 2007 | C17: 152 | D17: 272 | E17: 213 | F17: 127 | G17: 485 | H17: 267 | I17: 273 | J17: 209 | K17: 387 | L17: =SUM(C17:K17) -> 2385 | Y17: =SUM(M17:X17) -> 0 | AA17: 2385 | AB17: =+B17 -> Feb-Jun 2007 | AC17: =+A17 -> 12
A18: 13 | B18: Ago-Dic 2007 | C18: 176 | D18: 316 | E18: 209 | F18: 139 | G18: 542 | H18: 311 | I18: 331 | J18: 206 | K18: 500 | L18: =SUM(C18:K18) -> 2730 | Y18: =SUM(M18:X18) -> 0 | AA18: 2730 | AB18: =+B18 -> Ago-Dic 2007 | AC18: =+A18 -> 13
A19: 14 | B19: Feb-Jun 2008 | C19: 135 | D19: 251 | E19: 179 | F19: 121 | G19: 464 | H19: 250 | I19: 272 | J19: 165 | K19: 475 | L19: =SUM(C19:K19) -> 2312 | Y19: =SUM(M19:X19) -> 0 | AA19: 2312 | AB19: =+B19 -> Feb-Jun 2008 | AC19: =+A19 -> 14
A20: 15 | B20: Ago-Dic 2008 | C20: 170 | D20: 273 | E20: 183 | F20: 151 | G20: 604 | H20: 245 | I20: 308 | J20: 207 | K20: 548 | L20: =SUM(C20:K20) -> 2689 | Y20: =SUM(M20:X20) -> 0 | AA20: 2689 | AB20: =+B20 -> Ago-Dic 2008 | AC20: =+A20 -> 15
A21: 16 | B21: Feb-Jun 2009 | C21: 146 | D21: 231 | E21: 133 | F21: 124 | G21: 552 | H21: 213 | I21: 258 | J21: 158 | K21: 482 | L21: =SUM(C21:K21) -> 2297 | Y21: =SUM(M21:X21) -> 0 | AA21: 2297 | AB21: =+B21 -> Feb-Jun 2009 | AC21: =+A21 -> 16
A22: 17 | B22: Ago-Dic 2009 | C22: 170 | D22: 252 | E22: 154 | F22: 164 | G22: 623 | H22: 257 | I22: 339 | J22: 226 | K22: 544 | L22: =SUM(C22:K22) -> 2729 | Y22: =SUM(M22:X22) -> 0 | AA22: 2729 | AB22: =+B22 -> Ago-Dic 2009 | AC22: =+A22 -> 17
A23: 18 | B23: Feb-Jun 2010 | C23: 134 | D23: 186 | E23: 120 | F23: 154 | G23: 526 | H23: 210 | I23: 224 | J23: 176 | K23: 454 | L23: =SUM(C23:K23) -> 2184 | M23: 9 | N23: 11 | O23: 31 | P23: 11 | Q23: 23 | R23: 17 | S23: 25 | T23: 8 | U23: 0 | V23: 17 | W23: 16 | X23: 0 | Y23: =SUM(M23:X23) -> 168 | Z23: =+L23 -> 2184 | AA23: 2352 | AB23: =+B23 -> Feb-Jun 2010 | AC23: =+A23 -> 18
A24: 19 | B24: Ago-Dic 2010 | C24: 122 | D24: 156 | E24: 99 | F24: 131 | G24: 439 | H24: 184 | I24: 181 | J24: 150 | K24: 359 | L24: =SUM(C24:K24) -> 1821 | M24: 37 | N24: 42 | O24: 138 | P24: 70 | Q24: 101 | R24: 58 | S24: 136 | T24: 20 | U24: 11 | V24: 38 | W24: 43 | X24: 20 | Y24: =SUM(M24:X24) -> 714 | Z24: =+L24 -> 1821 | AA24: 2535 | AB24: =+B24 -> Ago-Dic 2010 | AC24: =+A24 -> 19
A25: 20 | B25: Feb-Jun 2011 | C25: 113 | D25: 120 | E25: 77 | F25: 116 | G25: 380 | H25: 165 | I25: 151 | J25: 124 | K25: 301 | L25: =SUM(C25:K25) -> 1547 | M25: 34 | N25: 54 | O25: 186 | P25: 86 | Q25: 117 | R25: 64 | S25: 168 | T25: 28 | U25: 23 | V25: 53 | W25: 49 | X25: 21 | Y25: =SUM(M25:X25) -> 883 | Z25: =+L25 -> 1547 | AA25: 2430 | AB25: =+B25 -> Feb-Jun 2011 | AC25: =+A25 -> 20
A26: 21 | B26: Ago-Dic 2011 | C26: 92 | D26: 103 | E26: 65 | F26: 94 | G26: 319 | H26: 125 | I26: 131 | J26: 107 | K26: 248 | L26: =SUM(C26:K26) -> 1284 | M26: 74 | N26: 88 | O26: 380 | P26: 161 | Q26: 198 | R26: 112 | S26: 314 | T26: 50 | U26: 53 | V26: 94 | W26: 100 | X26: 54 | Y26: =SUM(M26:X26) -> 1678 | Z26: =+L26 -> 1284 | AA26: 2962 | AB26: =+B26 -> Ago-Dic 2011 | AC26: =+A26 -> 21
A27: 22 | B27: Feb-Jun 2012 | C27: 80 | D27: 72 | E27: 48 | F27: 80 | G27: 257 | H27: 104 | I27: 108 | J27: 92 | K27: 198 | L27: =SUM(C27:K27) -> 1039 | M27: 65 | N27: 79 | O27: 398 | P27: 147 | Q27: 194 | R27: 83 | S27: 319 | T27: 32 | U27: 43 | V27: 93 | W27: 88 | X27: 40 | Y27: =SUM(M27:X27) -> 1581 | Z27: =+L27 -> 1039 | AA27: 2620 | AB27: =+B27 -> Feb-Jun 2012 | AC27: =+A27 -> 22
A28: 23 | B28: Ago-Dic 2012 | C28: 68 | D28: 57 | E28: 44 | F28: 62 | G28: 205 | H28: 90 | I28: 94 | J28: 79 | K28: 158 | L28: =SUM(C28:K28) -> 857 | M28: 110 | N28: 120 | O28: 486 | P28: 209 | Q28: 249 | R28: 138 | S28: 421 | T28: 74 | U28: 89 | V28: 150 | W28: 140 | X28: 57 | Y28: =SUM(M28:X28) -> 2243 | Z28: =+L28 -> 857 | AA28: 3110 | AB28: =+B28 -> Ago-Dic 2012 | AC28: =+A28 -> 23
A29: 24 | B29: Feb-Jun 2013 | C29: 52 | D29: 40 | E29: 37 | F29: 62 | G29: 157 | H29: 62 | I29: 82 | J29: 63 | K29: 125 | L29: =SUM(C29:K29) -> 680 | M29: 95 | N29: 121 | O29: 516 | P29: 189 | Q29: 219 | R29: 139 | S29: 414 | T29: 70 | U29: 94 | V29: 141 | W29: 147 | X29: 46 | Y29: =SUM(M29:X29) -> 2191 | Z29: =+L29 -> 680 | AA29: 2881 | AB29: =+B29 -> Feb-Jun 2013 | AC29: =+A29 -> 24
A30: 25 | B30: Ago-Dic 2013 | C30: =+EST_ITM!AT72 -> 44 | D30: =+EST_ITM!AY72 -> 31 | E30: =+EST_ITM!Z72 -> 25 | F30: =+EST_ITM!AE72 -> 48 | G30: =+EST_ITM!AJ72 -> 116 | H30: =+EST_ITM!AO72 -> 53 | I30: =+EST_ITM!BD72 -> 62 | J30: =+EST_ITM!BI72 -> 45 | K30: =+EST_ITM!BN72 -> 99 | L30: =SUM(C30:K30) -> 523 | M30: =+EST_ITM!CR72 -> 125 | N30: =+EST_ITM!CL72 -> 164 | O30: =+EST_ITM!DJ72 -> 593 | P30: =+EST_ITM!DV72 -> 245 | Q30: =+EST_ITM!DD72 -> 275 | R30: =+EST_ITM!EH72 -> 172 | S30: =+EST_ITM!EB72 -> 462 | T30: =+EST_ITM!BZ72 -> 129 | U30: =+EST_ITM!CX72 -> 150 | V30: =+EST_ITM!CF72 -> 177 | W30: =+EST_ITM!BT72 -> 179 | X30: =+EST_ITM!DP72 -> 39 | Y30: =SUM(M30:X30) -> 2710 | Z30: =+L30 -> 523 | AA30: =+L30+Y30 -> 3233 | AB30: =+B30 -> Ago-Dic 2013 | AC30: =+A30 -> 25
A31: 26 | B31: Feb-Jun 2014 | C31: =+EST_ITM!AT73 -> 37 | D31: =+EST_ITM!AY73 -> 12 | E31: =+EST_ITM!Z73 -> 17 | F31: =+EST_ITM!AE73 -> 29 | G31: =+EST_ITM!AJ73 -> 76 | H31: =+EST_ITM!AO73 -> 29 | I31: =+EST_ITM!BD73 -> 34 | J31: =+EST_ITM!BI73 -> 11 | K31: =+EST_ITM!BN73 -> 50 | L31: =SUM(C31:K31) -> 295 | M31: =+EST_ITM!CR73 -> 111 | N31: =+EST_ITM!CL73 -> 150 | O31: =+EST_ITM!DJ73 -> 621 | P31: =+EST_ITM!DV73 -> 229 | Q31: =+EST_ITM!DD73 -> 248 | R31: =+EST_ITM!EH73 -> 152 | S31: =+EST_ITM!EB73 -> 478 | T31: =+EST_ITM!BZ73 -> 117 | U31: =+EST_ITM!CX73 -> 153 | V31: =+EST_ITM!CF73 -> 155 | W31: =+EST_ITM!BT73 -> 191 | X31: =+EST_ITM!DP73 -> 42 | Y31: =SUM(M31:X31) -> 2647 | Z31: =+L31 -> 295 | AA31: =+L31+Y31 -> 2942 | AB31: =+B31 -> Feb-Jun 2014 | AC31: =+A31 -> 26
A32: 27 | B32: Ago-Dic 2014 | C32: =+EST_ITM!AT74 -> 24 | D32: =+EST_ITM!AY74 -> 10 | E32: =+EST_ITM!Z74 -> 8 | F32: =+EST_ITM!AE74 -> 17 | G32: =+EST_ITM!AJ74 -> 27 | H32: =+EST_ITM!AO74 -> 14 | I32: =+EST_ITM!BD74 -> 10 | J32: =+EST_ITM!BI74 -> 7 | K32: =+EST_ITM!BN74 -> 29 | L32: =SUM(C32:K32) -> 146 | M32: =+EST_ITM!CR74 -> 136 | N32: =+EST_ITM!CL74 -> 193 | O32: =+EST_ITM!DJ74 -> 709 | P32: =+EST_ITM!DV74 -> 317 | Q32: =+EST_ITM!DD74 -> 305 | R32: =+EST_ITM!EH74 -> 190 | S32: =+EST_ITM!EB74 -> 547 | T32: =+EST_ITM!BZ74 -> 145 | U32: =+EST_ITM!CX74 -> 164 | V32: =+EST_ITM!CF74 -> 217 | W32: =+EST_ITM!BT74 -> 209 | X32: =+EST_ITM!DP74 -> 39 | Y32: =SUM(M32:X32) -> 3171 | Z32: =+L32 -> 146 | AA32: =+L32+Y32 -> 3317 | AB32: =+B32 -> Ago-Dic 2014 | AC32: =+A32 -> 27
A33: 28 | B33: Feb-Jun 2015 | C33: =+EST_ITM!AT75 -> 10 | D33: =+EST_ITM!AY75 -> 6 | E33: =+EST_ITM!Z75 -> 3 | F33: =+EST_ITM!AE75 -> 8 | G33: =+EST_ITM!AJ75 -> 18 | H33: =+EST_ITM!AO75 -> 6 | I33: =+EST_ITM!BD75 -> 0 | J33: =+EST_ITM!BI75 -> 2 | K33: =+EST_ITM!BN75 -> 17 | L33: =SUM(C33:K33) -> 70 | M33: =+EST_ITM!CR75 -> 132 | N33: =+EST_ITM!CL75 -> 177 | O33: =+EST_ITM!DJ75 -> 762 | P33: =+EST_ITM!DV75 -> 321 | Q33: =+EST_ITM!DD75 -> 296 | R33: =+EST_ITM!EH75 -> 190 | S33: =+EST_ITM!EB75 -> 555 | T33: =+EST_ITM!BZ75 -> 156 | U33: =+EST_ITM!CX75 -> 175 | V33: =+EST_ITM!CF75 -> 195 | W33: =+EST_ITM!BT75 -> 217 | X33: =+EST_ITM!DP75 -> 36 | Y33: =SUM(M33:X33) -> 3212 | Z33: =+L33 -> 70 | AA33: =+L33+Y33 -> 3282 | AB33: =+B33 -> Feb-Jun 2015 | AC33: =+A33 -> 28
A34: 29 | B34: Ago-Dic 2015 | C34: =+EST_ITM!AT76 -> 4 | D34: =+EST_ITM!AY76 -> 1 | E34: =+EST_ITM!Z76 -> 3 | F34: =+EST_ITM!AE76 -> 9 | G34: =+EST_ITM!AJ76 -> 17 | H34: =+EST_ITM!AO76 -> 4 | I34: =+EST_ITM!BD76 -> 1 | J34: =+EST_ITM!BI76 -> 2 | K34: =+EST_ITM!BN76 -> 11 | L34: =SUM(C34:K34) -> 52 | M34: =+EST_ITM!CR76 -> 151 | N34: =+EST_ITM!CL76 -> 211 | O34: =+EST_ITM!DJ76 -> 818 | P34: =+EST_ITM!DV76 -> 401 | Q34: =+EST_ITM!DD76 -> 327 | R34: =+EST_ITM!EH76 -> 199 | S34: =+EST_ITM!EB76 -> 623 | T34: =+EST_ITM!BZ76 -> 166 | U34: =+EST_ITM!CX76 -> 200 | V34: =+EST_ITM!CF76 -> 208 | W34: =+EST_ITM!BT76 -> 240 | X34: =+EST_ITM!DP76 -> 34 | Y34: =SUM(M34:X34) -> 3578 | Z34: =+L34 -> 52 | AA34: =+L34+Y34 -> 3630 | AB34: =+B34 -> Ago-Dic 2015 | AC34: =+A34 -> 29
A35: 30 | B35: Feb-Jun 2016 | C35: =+EST_ITM!AT77 -> 1 | D35: =+EST_ITM!AY77 -> 1 | E35: =+EST_ITM!Z77 -> 0 | F35: =+EST_ITM!AE77 -> 5 | G35: =+EST_ITM!AJ77 -> 7 | H35: =+EST_ITM!AO77 -> 1 | I35: =+EST_ITM!BD77 -> 0 | J35: =+EST_ITM!BI77 -> 2 | K35: =+EST_ITM!BN77 -> 5 | L35: =SUM(C35:K35) -> 22 | M35: =+EST_ITM!CR77 -> 140 | N35: =+EST_ITM!CL77 -> 211 | O35: =+EST_ITM!DJ77 -> 877 | P35: =+EST_ITM!DV77 -> 408 | Q35: =+EST_ITM!DD77 -> 299 | R35: =+EST_ITM!EH77 -> 204 | S35: =+EST_ITM!EB77 -> 590 | T35: =+EST_ITM!BZ77 -> 169 | U35: =+EST_ITM!CX77 -> 204 | V35: =+EST_ITM!CF77 -> 198 | W35: =+EST_ITM!BT77 -> 227 | X35: =+EST_ITM!DP77 -> 30 | Y35: =SUM(M35:X35) -> 3557 | Z35: =+L35 -> 22 | AA35: =+L35+Y35 -> 3579 | AB35: =+B35 -> Feb-Jun 2016 | AC35: =+A35 -> 30
A36: 31 | B36: Ago-Dic 2016 | C36: =+EST_ITM!AT78 -> 0 | D36: =+EST_ITM!AY78 -> 0 | E36: =+EST_ITM!Z78 -> 0 | F36: =+EST_ITM!AE78 -> -1 | G36: =+EST_ITM!AJ78 -> 0 | H36: =+EST_ITM!AO78 -> 0 | I36: =+EST_ITM!BD78 -> 0 | J36: =+EST_ITM!BI78 -> 0 | K36: =+EST_ITM!BN78 -> -1 | L36: =SUM(C36:K36) -> -2 | M36: =+EST_ITM!CR78 -> 150 | N36: =+EST_ITM!CL78 -> 220 | O36: =+EST_ITM!DJ78 -> 977 | P36: =+EST_ITM!DV78 -> 448 | Q36: =+EST_ITM!DD78 -> 336 | R36: =+EST_ITM!EH78 -> 244 | S36: =+EST_ITM!EB78 -> 673 | T36: =+EST_ITM!BZ78 -> 191 | U36: =+EST_ITM!CX78 -> 236 | V36: =+EST_ITM!CF78 -> 241 | W36: =+EST_ITM!BT78 -> 222 | X36: =+EST_ITM!DP78 -> 19 | Y36: =SUM(M36:X36) -> 3957 | Z36: =+L36 -> -2 | AA36: =+L36+Y36 -> 3955 | AB36: =+B36 -> Ago-Dic 2016 | AC36: =+A36 -> 31
A37: 32 | B37: Feb-Jun 2017 | C37: =+EST_ITM!AT79 -> 0 | D37: =+EST_ITM!AY79 -> 0 | E37: =+EST_ITM!Z79 -> 0 | F37: =+EST_ITM!AE79 -> 0 | G37: =+EST_ITM!AJ79 -> 0 | H37: =+EST_ITM!AO79 -> 0 | I37: =+EST_ITM!BD79 -> 0 | J37: =+EST_ITM!BI79 -> 0 | K37: =+EST_ITM!BN79 -> 0 | L37: =SUM(C37:K37) -> 0 | M37: =+EST_ITM!CR79 -> 135 | N37: =+EST_ITM!CL79 -> 200 | O37: =+EST_ITM!DJ79 -> 987 | P37: =+EST_ITM!DV79 -> 438 | Q37: =+EST_ITM!DD79 -> 311 | R37: =+EST_ITM!EH79 -> 229 | S37: =+EST_ITM!EB79 -> 638 | T37: =+EST_ITM!BZ79 -> 186 | U37: =+EST_ITM!CX79 -> 221 | V37: =+EST_ITM!CF79 -> 241 | W37: =+EST_ITM!BT79 -> 212 | X37: =+EST_ITM!DP79 -> 8 | Y37: =SUM(M37:X37) -> 3806 | Z37: =+L37 -> 0 | AA37: =+L37+Y37 -> 3806 | AB37: =+B37 -> Feb-Jun 2017 | AC37: =+A37 -> 32
A38: 33 | B38: Ago-Dic 2017 | C38: =+EST_ITM!AT80 -> 0 | D38: =+EST_ITM!AY80 -> 0 | E38: =+EST_ITM!Z80 -> 0 | F38: =+EST_ITM!AE80 -> 0 | G38: =+EST_ITM!AJ80 -> 0 | H38: =+EST_ITM!AO80 -> 0 | I38: =+EST_ITM!BD80 -> 0 | J38: =+EST_ITM!BI80 -> 0 | K38: =+EST_ITM!BN80 -> 0 | L38: =SUM(C38:K38) -> 0 | M38: =+EST_ITM!CR80 -> 135 | N38: =+EST_ITM!CL80 -> 215 | O38: =+EST_ITM!DJ80 -> 1072 | P38: =+EST_ITM!DV80 -> 468 | Q38: =+EST_ITM!DD80 -> 351 | R38: =+EST_ITM!EH80 -> 264 | S38: =+EST_ITM!EB80 -> 723 | T38: =+EST_ITM!BZ80 -> 206 | U38: =+EST_ITM!CX80 -> 251 | V38: =+EST_ITM!CF80 -> 276 | W38: =+EST_ITM!BT80 -> 222 | X38: =+EST_ITM!DP80 -> 1 | Y38: =SUM(M38:X38) -> 4184 | Z38: =+L38 -> 0 | AA38: =+L38+Y38 -> 4184 | AB38: =+B38 -> Ago-Dic 2017 | AC38: =+A38 -> 33
A39: 34 | B39: Feb-Jun 2018 | C39: =+EST_ITM!AT81 -> 0 | D39: =+EST_ITM!AY81 -> 0 | E39: =+EST_ITM!Z81 -> 0 | F39: =+EST_ITM!AE81 -> 0 | G39: =+EST_ITM!AJ81 -> 0 | H39: =+EST_ITM!AO81 -> 0 | I39: =+EST_ITM!BD81 -> 0 | J39: =+EST_ITM!BI81 -> 0 | K39: =+EST_ITM!BN81 -> 0 | L39: =SUM(C39:K39) -> 0 | M39: =+EST_ITM!CR81 -> 130 | N39: =+EST_ITM!CL81 -> 195 | O39: =+EST_ITM!DJ81 -> 1092 | P39: =+EST_ITM!DV81 -> 453 | Q39: =+EST_ITM!DD81 -> 331 | R39: =+EST_ITM!EH81 -> 256 | S39: =+EST_ITM!EB81 -> 698 | T39: =+EST_ITM!BZ81 -> 201 | U39: =+EST_ITM!CX81 -> 248 | V39: =+EST_ITM!CF81 -> 266 | W39: =+EST_ITM!BT81 -> 207 | X39: =+EST_ITM!DP81 -> 0 | Y39: =SUM(M39:X39) -> 4077 | Z39: =+L39 -> 0 | AA39: =+L39+Y39 -> 4077 | AB39: =+B39 -> Feb-Jun 2018 | AC39: =+A39 -> 34
A40: 35 | B40: Ago-Dic 2018 | C40: =+EST_ITM!AT82 -> 0 | D40: =+EST_ITM!AY82 -> 0 | E40: =+EST_ITM!Z82 -> 0 | F40: =+EST_ITM!AE82 -> 0 | G40: =+EST_ITM!AJ82 -> 0 | H40: =+EST_ITM!AO82 -> 0 | I40: =+EST_ITM!BD82 -> 0 | J40: =+EST_ITM!BI82 -> 0 | K40: =+EST_ITM!BN82 -> 0 | L40: =SUM(C40:K40) -> 0 | M40: =+EST_ITM!CR82 -> 145 | N40: =+EST_ITM!CL82 -> 210 | O40: =+EST_ITM!DJ82 -> 1177 | P40: =+EST_ITM!DV82 -> 503 | Q40: =+EST_ITM!DD82 -> 376 | R40: =+EST_ITM!EH82 -> 286 | S40: =+EST_ITM!EB82 -> 778 | T40: =+EST_ITM!BZ82 -> 221 | U40: =+EST_ITM!CX82 -> 273 | V40: =+EST_ITM!CF82 -> 301 | W40: =+EST_ITM!BT82 -> 217 | X40: =+EST_ITM!DP82 -> 0 | Y40: =SUM(M40:X40) -> 4487 | Z40: =+L40 -> 0 | AA40: =+L40+Y40 -> 4487 | AB40: =+B40 -> Ago-Dic 2018 | AC40: =+A40 -> 35
A41: 36 | B41: Feb-Jun 2019 | C41: =+EST_ITM!AT83 -> 0 | D41: =+EST_ITM!AY83 -> 0 | E41: =+EST_ITM!Z83 -> 0 | F41: =+EST_ITM!AE83 -> 0 | G41: =+EST_ITM!AJ83 -> 0 | H41: =+EST_ITM!AO83 -> 0 | I41: =+EST_ITM!BD83 -> 0 | J41: =+EST_ITM!BI83 -> 0 | K41: =+EST_ITM!BN83 -> 0 | L41: =SUM(C41:K41) -> 0 | M41: =+EST_ITM!CR83 -> 140 | N41: =+EST_ITM!CL83 -> 190 | O41: =+EST_ITM!DJ83 -> 1172 | P41: =+EST_ITM!DV83 -> 473 | Q41: =+EST_ITM!DD83 -> 351 | R41: =+EST_ITM!EH83 -> 266 | S41: =+EST_ITM!EB83 -> 738 | T41: =+EST_ITM!BZ83 -> 211 | U41: =+EST_ITM!CX83 -> 263 | V41: =+EST_ITM!CF83 -> 291 | W41: =+EST_ITM!BT83 -> 207 | X41: =+EST_ITM!DP83 -> 0 | Y41: =SUM(M41:X41) -> 4302 | Z41: =+L41 -> 0 | AA41: =+L41+Y41 -> 4302 | AB41: =+B41 -> Feb-Jun 2019 | AC41: =+A41 -> 36
... A53: 48 | B53: Feb-Jun 2025 | C53: =+EST_ITM!AT95 -> 0 | D53: =+EST_ITM!AY95 -> 0 | E53: =+EST_ITM!Z95 -> 0 | F53: =+EST_ITM!AE95 -> 0 | G53: =+EST_ITM!AJ95 -> 0 | H53: =+EST_ITM!AO95 -> 0 | I53: =+EST_ITM!BD95 -> 0 | J53: =+EST_ITM!BI95 -> 0 | K53: =+EST_ITM!BN95 -> 0 | L53: =SUM(C53:K53) -> 0 | M53: =+EST_ITM!CR95 -> 135 | N53: =+EST_ITM!CL95 -> 160 | O53: =+EST_ITM!DJ95 -> 1552 | P53: =+EST_ITM!DV95 -> 473 | Q53: =+EST_ITM!DD95 -> 441 | R53: =+EST_ITM!EH95 -> 391 | S53: =+EST_ITM!EB95 -> 1038 | T53: =+EST_ITM!BZ95 -> 276 | U53: =+EST_ITM!CX95 -> 323 | V53: =+EST_ITM!CF95 -> 331 | W53: =+EST_ITM!BT95 -> 207 | X53: =+EST_ITM!DP95 -> 0 | Y53: =SUM(M53:X53) -> 5327 | Z53: =+L53 -> 0 | AA53: =+L53+Y53 -> 5327 | AB53: =+B53 -> Feb-Jun 2025 | AC53: =+A53 -> 48
A54: 49 | B54: Ago-Dic 2025 | Z54: =+L54 -> 0
B55: Feb-Jun 2026 | Z55: =+L55 -> 0
B56: Ago-Dic 2026 | Z56: =+L56 -> 0
B57: Feb-Jun 2027 | Z57: =+L57 -> 0
B58: Ago-Dic 2027 | Z58: =+L58 -> 0
B59: Feb-Jun 2028 | Z59: =+L59 -> 0
B60: Ago-Dic 2028 | Z60: =+L60 -> 0
B61: Feb-Jun 2029 | Z61: =+L61 -> 0
B62: Ago-Dic 2029 | Z62: =+L62 -> 0
B63: Feb-Jun 2030 | Z63: =+L63 -> 0
B64: Ago-Dic 2030 | Z64: =+L64 -> 0
B65: Feb-Jun 2031 | Z65: =+L65 -> 0
B66: Ago-Dic 2031 | Z66: =+L66 -> 0
... B71: Feb-Jun 2034 | Z71: =+L71 -> 0

Sheet Crec x Carrera
A2: GRAFICAS DE CRECIMIENTO
A3: POR
A4: CARRERA | B4: ING. QUÍMICA
B5: seleccionar para elegir carrera | G5: =+B4 -> ING. QUÍMICA | Z5: ING. ELECTRÓNICA
Z6: ING. ELÉCTRICA
A7: =ESTADISTICAS!B23 -> Feb-Jun 2010 | B7: =+HLOOKUP($B$4,BDEST,ESTADISTICAS!A23,FALSE) -> 17 | Z7: ING. INDUSTRIAL
A8: =+IF(B8>0,ESTADISTICAS!B24," ") -> Ago-Dic 2010 | B8: =+HLOOKUP($B$4,BDEST,ESTADISTICAS!A24,FALSE) -> 58 | Z8: ING. MECÁNICA
A9: =+IF(B9>0,ESTADISTICAS!B25," ") -> Feb-Jun 2011 | B9: =+HLOOKUP($B$4,BDEST,ESTADISTICAS!A25,FALSE) -> 64 | Z9: ING. EN SISTEMAS COMPUTACIONALES
A10: =+IF(B10>0,ESTADISTICAS!B26," ") -> Ago-Dic 2011 | B10: =+HLOOKUP($B$4,BDEST,ESTADISTICAS!A26,FALSE) -> 112 | Z10: ING. QUÍMICA
A11: =+IF(B11>0,ESTADISTICAS!B27," ") -> Feb-Jun 2012 | B11: =+HLOOKUP($B$4,BDEST,ESTADISTICAS!A27,FALSE) -> 83 | Z11: ING. MECATRÓNICA
A12: =+IF(B12>0,ESTADISTICAS!B28," ") -> Ago-Dic 2012 | B12: =+HLOOKUP($B$4,BDEST,ESTADISTICAS!A28,FALSE) -> 138 | Z12: ING. EN LOGÍSTICA
A13: =+IF(B13>0,ESTADISTICAS!B29," ") -> Feb-Jun 2013 | B13: =+HLOOKUP($B$4,BDEST,ESTADISTICAS!A29,FALSE) -> 139 | Z13: ING EN ENERGÍAS RENOVABLES
A14: =+IF(B14>0,ESTADISTICAS!B30," ") -> Ago-Dic 2013 | B14: =+HLOOKUP($B$4,BDEST,ESTADISTICAS!A30,FALSE) -> 172 | Z14: CONTADOR PÚBLICO
A15: =+IF(B15>0,ESTADISTICAS!B31," ") -> Feb-Jun 2014 | B15: =+HLOOKUP($B$4,BDEST,ESTADISTICAS!A31,FALSE) -> 152 | Z15: ING. EN GESTIÓN EMPRESARIAL
A16: =+IF(B16>0,ESTADISTICAS!B32," ") -> Ago-Dic 2014 | B16: =+HLOOKUP($B$4,BDEST,ESTADISTICAS!A32,FALSE) -> 190 | Z16: ING. EN INFORMÁTICA
A17: =+IF(B17>0,ESTADISTICAS!B33," ") -> Feb-Jun 2015 | B17: =+HLOOKUP($B$4,BDEST,ESTADISTICAS!A33,FALSE) -> 190 | Z17: POBLACIÓN TOTAL
A18: =+IF(B18>0,ESTADISTICAS!B34," ") -> Ago-Dic 2015 | B18: =+HLOOKUP($B$4,BDEST,ESTADISTICAS!A34,FALSE) -> 199
A19: =+IF(B19>0,ESTADISTICAS!B35," ") -> Feb-Jun 2016 | B19: =+HLOOKUP($B$4,BDEST,ESTADISTICAS!A35,FALSE) -> 204
A20: =+IF(B20>0,ESTADISTICAS!B36," ") -> Ago-Dic 2016 | B20: =+HLOOKUP($B$4,BDEST,ESTADISTICAS!A36,FALSE) -> 244
A21: =+IF(B21>0,ESTADISTICAS!B37," ") -> Feb-Jun 2017 | B21: =+HLOOKUP($B$4,BDEST,ESTADISTICAS!A37,FALSE) -> 229
A22: =+IF(B22>0,ESTADISTICAS!B38," ") -> Ago-Dic 2017 | B22: =+HLOOKUP($B$4,BDEST,ESTADISTICAS!A38,FALSE) -> 264
A23: =+IF(B23>0,ESTADISTICAS!B39," ") -> Feb-Jun 2018 | B23: =+HLOOKUP($B$4,BDEST,ESTADISTICAS!A39,FALSE) -> 256
A24: =+IF(B24>0,ESTADISTICAS!B40," ") -> Ago-Dic 2018 | B24: =+HLOOKUP($B$4,BDEST,ESTADISTICAS!A40,FALSE) -> 286
A25: =+IF(B25>0,ESTADISTICAS!B41," ") -> Feb-Jun 2019 | B25: =+HLOOKUP($B$4,BDEST,ESTADISTICAS!A41,FALSE) -> 266
A26: =+IF(B26>0,ESTADISTICAS!B42," ") -> Ago-Dic 2019 | B26: =+HLOOKUP($B$4,BDEST,ESTADISTICAS!A42,FALSE) -> 306
A27: =+IF(B27>0,ESTADISTICAS!B43," ") -> Feb-Jun 2020 | B27: =+HLOOKUP($B$4,BDEST,ESTADISTICAS!A43,FALSE) -> 291
A28: =+IF(B28>0,ESTADISTICAS!B44," ") -> Ago-Dic 2020 | B28: =+HLOOKUP($B$4,BDEST,ESTADISTICAS!A44,FALSE) -> 326
A29: =+IF(B29>0,ESTADISTICAS!B45," ") -> Feb-Jun 2021 | B29: =+HLOOKUP($B$4,BDEST,ESTADISTICAS!A45,FALSE) -> 311
... A37: =+IF(B37>0,ESTADISTICAS!B53," ") -> Feb-Jun 2025 | B37: =+HLOOKUP($B$4,BDEST,ESTADISTICAS!A53,FALSE) -> 391

Sheet Crec x Depto
E1: Para elegir departamento
E2: poner cursor nombre de depto.
G3: DEPARTAMENTO | K3: DE CS.ECONÓMICO ADMINISTRATIVAS | Z3: DE INDUSTRIAL | AA3: ING. INDUSTRIAL | AB3: ING. EN LOGÍSTICA
S4: Período | T4: =+VLOOKUP($K$3,bddeptos,2,FALSE) -> CONTADOR PÚBLICO | U4: =+VLOOKUP($K$3,bddeptos,3,FALSE) -> ING. EN GESTIÓN EMPRESARIAL | V4: =IF(VLOOKUP($K$3,bddeptos,4,FALSE)=0," ",VLOOKUP($K$3,bddeptos,4,FALSE)) | Z4: DE ELÉCTRICA ELECTRÓNICA | AA4: ING. ELECTRÓNICA | AB4: ING. ELÉCTRICA | AC4: ING EN ENERGÍAS RENOVABLES
S5: =ESTADISTICAS!B23 -> Feb-Jun 2010 | T5: =+HLOOKUP($T$4,BDEST,ESTADISTICAS!A23,FALSE) -> 17 | U5: =+HLOOKUP($U$4,BDEST,ESTADISTICAS!A23,FALSE) -> 16 | V5: =+IF($V$4=" "," ",HLOOKUP($V$4,BDEST,ESTADISTICAS!A23,FALSE)) | Z5: METALMECÁNICA | AA5: ING. MECÁNICA | AB5: ING. MECATRÓNICA
S6: =+IF(T6>0,ESTADISTICAS!B24," ") -> Ago-Dic 2010 | T6: =+HLOOKUP($T$4,BDEST,ESTADISTICAS!A24,FALSE) -> 38 | U6: =+HLOOKUP($U$4,BDEST,ESTADISTICAS!A24,FALSE) -> 43 | V6: =+IF($V$4=" "," ",HLOOKUP($V$4,BDEST,ESTADISTICAS!A24,FALSE)) | Z6: DE QUÍMICA | AA6: ING. QUÍMICA
S7: =+IF(T7>0,ESTADISTICAS!B25," ") -> Feb-Jun 2011 | T7: =+HLOOKUP($T$4,BDEST,ESTADISTICAS!A25,FALSE) -> 53 | U7: =+HLOOKUP($U$4,BDEST,ESTADISTICAS!A25,FALSE) -> 49 | V7: =+IF($V$4=" "," ",HLOOKUP($V$4,BDEST,ESTADISTICAS!A25,FALSE)) | Z7: DE SISTEMAS COMPUTACIONALES | AA7: ING. EN SISTEMAS COMPUTACIONALES | AB7: ING. EN INFORMÁTICA
S8: =+IF(T8>0,ESTADISTICAS!B26," ") -> Ago-Dic 2011 | T8: =+HLOOKUP($T$4,BDEST,ESTADISTICAS!A26,FALSE) -> 94 | U8: =+HLOOKUP($U$4,BDEST,ESTADISTICAS!A26,FALSE) -> 100 | V8: =+IF($V$4=" "," ",HLOOKUP($V$4,BDEST,ESTADISTICAS!A26,FALSE)) | Z8: DE CS.ECONÓMICO ADMINISTRATIVAS | AA8: CONTADOR PÚBLICO | AB8: ING. EN GESTIÓN EMPRESARIAL
S9: =+IF(T9>0,ESTADISTICAS!B27," ") -> Feb-Jun 2012 | T9: =+HLOOKUP($T$4,BDEST,ESTADISTICAS!A27,FALSE) -> 93 | U9: =+HLOOKUP($U$4,BDEST,ESTADISTICAS!A27,FALSE) -> 88 | V9: =+IF($V$4=" "," ",HLOOKUP($V$4,BDEST,ESTADISTICAS!A27,FALSE))
S10: =+IF(T10>0,ESTADISTICAS!B28," ") -> Ago-Dic 2012 | T10: =+HLOOKUP($T$4,BDEST,ESTADISTICAS!A28,FALSE) -> 150 | U10: =+HLOOKUP($U$4,BDEST,ESTADISTICAS!A28,FALSE) -> 140 | V10: =+IF($V$4=" "," ",HLOOKUP($V$4,BDEST,ESTADISTICAS!A28,FALSE))
S11: =+IF(T11>0,ESTADISTICAS!B29," ") -> Feb-Jun 2013 | T11: =+HLOOKUP($T$4,BDEST,ESTADISTICAS!A29,FALSE) -> 141 | U11: =+HLOOKUP($U$4,BDEST,ESTADISTICAS!A29,FALSE) -> 147 | V11: =+IF($V$4=" "," ",HLOOKUP($V$4,BDEST,ESTADISTICAS!A29,FALSE))
S12: =+IF(T12>0,ESTADISTICAS!B30," ") -> Ago-Dic 2013 | T12: =+HLOOKUP($T$4,BDEST,ESTADISTICAS!A30,FALSE) -> 177 | U12: =+HLOOKUP($U$4,BDEST,ESTADISTICAS!A30,FALSE) -> 179 | V12: =+IF($V$4=" "," ",HLOOKUP($V$4,BDEST,ESTADISTICAS!A30,FALSE))
S13: =+IF(T13>0,ESTADISTICAS!B31," ") -> Feb-Jun 2014 | T13: =+HLOOKUP($T$4,BDEST,ESTADISTICAS!A31,FALSE) -> 155 | U13: =+HLOOKUP($U$4,BDEST,ESTADISTICAS!A31,FALSE) -> 191 | V13: =+IF($V$4=" "," ",HLOOKUP($V$4,BDEST,ESTADISTICAS!A31,FALSE))
S14: =+IF(T14>0,ESTADISTICAS!B32," ") -> Ago-Dic 2014 | T14: =+HLOOKUP($T$4,BDEST,ESTADISTICAS!A32,FALSE) -> 217 | U14: =+HLOOKUP($U$4,BDEST,ESTADISTICAS!A32,FALSE) -> 209 | V14: =+IF($V$4=" "," ",HLOOKUP($V$4,BDEST,ESTADISTICAS!A32,FALSE))
S15: =+IF(T15>0,ESTADISTICAS!B33," ") -> Feb-Jun 2015 | T15: =+HLOOKUP($T$4,BDEST,ESTADISTICAS!A33,FALSE) -> 195 | U15: =+HLOOKUP($U$4,BDEST,ESTADISTICAS!A33,FALSE) -> 217 | V15: =+IF($V$4=" "," ",HLOOKUP($V$4,BDEST,ESTADISTICAS!A33,FALSE))
S16: =+IF(T16>0,ESTADISTICAS!B34," ") -> Ago-Dic 2015 | T16: =+HLOOKUP($T$4,BDEST,ESTADISTICAS!A34,FALSE) -> 208 | U16: =+HLOOKUP($U$4,BDEST,ESTADISTICAS!A34,FALSE) -> 240 | V16: =+IF($V$4=" "," ",HLOOKUP($V$4,BDEST,ESTADISTICAS!A34,FALSE))
S17: =+IF(T17>0,ESTADISTICAS!B35," ") -> Feb-Jun 2016 | T17: =+HLOOKUP($T$4,BDEST,ESTADISTICAS!A35,FALSE) -> 198 | U17: =+HLOOKUP($U$4,BDEST,ESTADISTICAS!A35,FALSE) -> 227 | V17: =+IF($V$4=" "," ",HLOOKUP($V$4,BDEST,ESTADISTICAS!A35,FALSE))
S18: =+IF(T18>0,ESTADISTICAS!B36," ") -> Ago-Dic 2016 | T18: =+HLOOKUP($T$4,BDEST,ESTADISTICAS!A36,FALSE) -> 241 | U18: =+HLOOKUP($U$4,BDEST,ESTADISTICAS!A36,FALSE) -> 222 | V18: =+IF($V$4=" "," ",HLOOKUP($V$4,BDEST,ESTADISTICAS!A36,FALSE))
S19: =+IF(T19>0,ESTADISTICAS!B37," ") -> Feb-Jun 2017 | T19: =+HLOOKUP($T$4,BDEST,ESTADISTICAS!A37,FALSE) -> 241 | U19: =+HLOOKUP($U$4,BDEST,ESTADISTICAS!A37,FALSE) -> 212 | V19: =+IF($V$4=" "," ",HLOOKUP($V$4,BDEST,ESTADISTICAS!A37,FALSE))
S20: =+IF(T20>0,ESTADISTICAS!B38," ") -> Ago-Dic 2017 | T20: =+HLOOKUP($T$4,BDEST,ESTADISTICAS!A38,FALSE) -> 276 | U20: =+HLOOKUP($U$4,BDEST,ESTADISTICAS!A38,FALSE) -> 222 | V20: =+IF($V$4=" "," ",HLOOKUP($V$4,BDEST,ESTADISTICAS!A38,FALSE))
... S34: =+IF(T34>0,ESTADISTICAS!B52," ") -> Ago-Dic 2024 | T34: =+HLOOKUP($T$4,BDEST,ESTADISTICAS!A52,FALSE) -> 356 | U34: =+HLOOKUP($U$4,BDEST,ESTADISTICAS!A52,FALSE) -> 217 | V34: =+IF($V$4=" "," ",HLOOKUP($V$4,BDEST,ESTADISTICAS!A52,FALSE))
L35: Histórico a Feb-Jun 2015 Proyectado a Feb-Jun al 2025 | S35: =+IF(T35>0,ESTADISTICAS!B53," ") -> Feb-Jun 2025 | T35: =+HLOOKUP($T$4,BDEST,ESTADISTICAS!A53,FALSE) -> 331 | U35: =+HLOOKUP($U$4,BDEST,ESTADISTICAS!A53,FALSE) -> 207 | V35: =+IF($V$4=" "," ",HLOOKUP($V$4,BDEST,ESTADISTICAS!A53,FALSE))
O39: =NOW() -> 42465.477

Sheet Plan en Liq
A2: GRAFICAS DE CRECIMIENTO
A3: POR
A4: CARRERA | B4: ING. EN SISTEMAS COMPUTACIONALES
B5: seleccionar para elegir carrera | D5: =+B4 -> ING. EN SISTEMAS COMPUTACIONALES | Z5: LIC. EN INFORMÁTICA
Z6: LIC. EN CONTADURÍA
A7: =+ESTADISTICAS!B7 -> Feb-Jun 2002 | B7: =+HLOOKUP($B$4,DBESTLIQ,ESTADISTICAS!A7,FALSE) -> 328 | D7: (Plan en Liquidación) | Z7: ING. ELECTRÓNICA
A8: =+ESTADISTICAS!B8 -> Ago-Dic 2002 | B8: =+HLOOKUP($B$4,DBESTLIQ,ESTADISTICAS!A8,FALSE) -> 420 | Z8: ING. ELÉCTRICA
A9: =+ESTADISTICAS!B9 -> Feb-Jun 2003 | B9: =+HLOOKUP($B$4,DBESTLIQ,ESTADISTICAS!A9,FALSE) -> 391 | Z9: ING. INDUSTRIAL
A10: =+ESTADISTICAS!B10 -> Ago-Dic 2003 | B10: =+HLOOKUP($B$4,DBESTLIQ,ESTADISTICAS!A10,FALSE) -> 419 | Z10: ING. MECÁNICA
A11: =+ESTADISTICAS!B11 -> Feb-Jun 2004 | B11: =+HLOOKUP($B$4,DBESTLIQ,ESTADISTICAS!A11,FALSE) -> 380 | Z11: ING. EN SISTEMAS COMPUTACIONALES
A12: =+ESTADISTICAS!B12 -> Ago-Dic 2004 | B12: =+HLOOKUP($B$4,DBESTLIQ,ESTADISTICAS!A12,FALSE) -> 408 | Z12: ING. QUÍMICA
A13: =+ESTADISTICAS!B13 -> Feb-Jun 2005 | B13: =+HLOOKUP($B$4,DBESTLIQ,ESTADISTICAS!A13,FALSE) -> 303 | Z13: ING. MECATRÓNICA
A14: =+ESTADISTICAS!B14 -> Ago-Dic 2005 | B14: =+HLOOKUP($B$4,DBESTLIQ,ESTADISTICAS!A14,FALSE) -> 379 | Z14: POBLACIÓN TOTAL
A15: =+ESTADISTICAS!B15 -> Feb-Jun 2006 | B15: =+HLOOKUP($B$4,DBESTLIQ,ESTADISTICAS!A15,FALSE) -> 297
A16: =+ESTADISTICAS!B16 -> Ago-Dic 2006 | B16: =+HLOOKUP($B$4,DBESTLIQ,ESTADISTICAS!A16,FALSE) -> 366
A17: =+ESTADISTICAS!B17 -> Feb-Jun 2007 | B17: =+HLOOKUP($B$4,DBESTLIQ,ESTADISTICAS!A17,FALSE) -> 273
A18: =+ESTADISTICAS!B18 -> Ago-Dic 2007 | B18: =+HLOOKUP($B$4,DBESTLIQ,ESTADISTICAS!A18,FALSE) -> 331
A19: =+ESTADISTICAS!B19 -> Feb-Jun 2008 | B19: =+HLOOKUP($B$4,DBESTLIQ,ESTADISTICAS!A19,FALSE) -> 272
A20: =+ESTADISTICAS!B20 -> Ago-Dic 2008 | B20: =+HLOOKUP($B$4,DBESTLIQ,ESTADISTICAS!A20,FALSE) -> 308
A21: =+ESTADISTICAS!B21 -> Feb-Jun 2009 | B21: =+HLOOKUP($B$4,DBESTLIQ,ESTADISTICAS!A21,FALSE) -> 258
A22: =+ESTADISTICAS!B22 -> Ago-Dic 2009 | B22: =+HLOOKUP($B$4,DBESTLIQ,ESTADISTICAS!A22,FALSE) -> 339
A23: =+ESTADISTICAS!B23 -> Feb-Jun 2010 | B23: =+HLOOKUP($B$4,DBESTLIQ,ESTADISTICAS!A23,FALSE) -> 224
A24: =+ESTADISTICAS!B24 -> Ago-Dic 2010 | B24: =+HLOOKUP($B$4,DBESTLIQ,ESTADISTICAS!A24,FALSE) -> 181
A25: =+ESTADISTICAS!B25 -> Feb-Jun 2011 | B25: =+HLOOKUP($B$4,DBESTLIQ,ESTADISTICAS!A25,FALSE) -> 151
A26: =+ESTADISTICAS!B26 -> Ago-Dic 2011 | B26: =+HLOOKUP($B$4,DBESTLIQ,ESTADISTICAS!A26,FALSE) -> 131
... A35: =+ESTADISTICAS!B35 -> Feb-Jun 2016 | B35: =+HLOOKUP($B$4,DBESTLIQ,ESTADISTICAS!A35,FALSE) -> 0
K38: =NOW() -> 42465.477

Sheet crecxcarreras
E2: GRAFICAS DE CRECIMIENTO POR CARRERA
A3: No. Período
A4: =+VLOOKUP(B4,periodos2,2,FALSE) -> 29 | B4: Ago-Dic 2015
G5: =+B4 -> Ago-Dic 2015 | Z5: ING. ELECTRONICA
Z6: ING. ELECTRICA
A7: =ESTADISTICAS!M6 -> ING. ELECTRÓNICA | B7: =+HLOOKUP(A7,BDEST,A4,FALSE) -> 151 | Z7: ING. INDUSTRIAL
A8: =+ESTADISTICAS!N$6 -> ING. ELÉCTRICA | B8: =+HLOOKUP(A8,BDEST,A4,FALSE) -> 211 | Z8: ING. MECANICA
A9: =+ESTADISTICAS!O$6 -> ING. INDUSTRIAL | B9: =+HLOOKUP(A9,BDEST,A4,FALSE) -> 818 | Z9: ING. EN SISTEMAS COMPUTACIONALES
A10: =+ESTADISTICAS!P$6 -> ING. MECÁNICA | B10: =+HLOOKUP(A10,BDEST,$A$4,FALSE) -> 401 | Z10: ING. QUIMICA
A11: =+ESTADISTICAS!Q$6 -> ING. EN SISTEMAS COMPUTACIONALES | B11: =+HLOOKUP(A11,BDEST,$A$4,FALSE) -> 327 | Z11: ING. MECATRONICA
A12: =+ESTADISTICAS!R$6 -> ING. QUÍMICA | B12: =+HLOOKUP(A12,BDEST,$A$4,FALSE) -> 199 | Z12: ING. EN LOGISTICA
A13: =+ESTADISTICAS!S$6 -> ING. MECATRÓNICA | B13: =+HLOOKUP(A13,BDEST,$A$4,FALSE) -> 623 | Z13: ING EN ENERGIAS RENOVABLES
A14: =+ESTADISTICAS!T$6 -> ING. EN LOGÍSTICA | B14: =+HLOOKUP(A14,BDEST,$A$4,FALSE) -> 166 | Z14: CONTADOR PÚBLICO
A15: =+ESTADISTICAS!U$6 -> ING EN ENERGÍAS RENOVABLES | B15: =+HLOOKUP(A15,BDEST,$A$4,FALSE) -> 200 | Z15: ING. EN GESTION EMPRESARIAL
A16: =+ESTADISTICAS!V$6 -> CONTADOR PÚBLICO | B16: =+HLOOKUP(A16,BDEST,$A$4,FALSE) -> 208 | Z16: ING. EN INFORMATICA
A17: =+ESTADISTICAS!W$6 -> ING. EN GESTIÓN EMPRESARIAL | B17: =+HLOOKUP(A17,BDEST,$A$4,FALSE) -> 240 | Z17: POBLACIÓN TOTAL
A18: =+ESTADISTICAS!X$6 -> ING. EN INFORMÁTICA | B18: =+HLOOKUP(A18,BDEST,$A$4,FALSE) -> 34
A19: POBLACION PLANES VIGENTES | B19: =SUM(B7:B18) -> 3578
A20: POB. TOTAL EN LIQ | B20: =+HLOOKUP(A20,BDEST,$A$4,FALSE) -> 52
A21: POBLACION TOTAL | B21: =+B19+B20 -> 3630

Sheet GposProy
B2: Población esperada por semestre
A3: PERÍODO | B3: ING. EN GESTION EMPRESARIAL | C3: INGENIERIA EN LOGISTICA | D3: CONTADOR PUBLICO | E3: INGENIERIA ELECTRICA | F3: INGENIERIA ELECTRONICA | G3: ING EN ENERGIAS RENOVABLES | H3: ING EN SISTEMAS COMPUTACIONALES | I3: INGENIERIA INDUSTRIAL | J3: INGENIERIA EN INFORMATICA | K3: INGENIERIA MECANICA | L3: INGENIERIA MECATRONICA | M3: INGENIERIA QUIMICA
A4: Ago-Dic 2015 | B4: =+EST_ITM!BO76 -> 43 | C4: =+EST_ITM!BU76 -> 33 | D4: =+EST_ITM!CA76 -> 36 | E4: =+EST_ITM!CG76 -> 35 | F4: =+EST_ITM!CM76 -> 35 | G4: =+EST_ITM!CS76 -> 37 | H4: =+EST_ITM!CY76 -> 94 | I4: =+EST_ITM!DE76 -> 145 | J4: =+EST_ITM!DK76 -> 0 | K4: =+EST_ITM!DQ76 -> 111 | L4: =+EST_ITM!DW76 -> 108 | M4: =+EST_ITM!EC76 -> 37
A5: Feb-Jun 2016 | B5: =+EST_ITM!BO77 -> 23 | C5: =+EST_ITM!BU77 -> 23 | D5: =+EST_ITM!CA77 -> 15 | E5: =+EST_ITM!CG77 -> 14 | F5: =+EST_ITM!CM77 -> 7 | G5: =+EST_ITM!CS77 -> 27 | H5: =+EST_ITM!CY77 -> 24 | I5: =+EST_ITM!DE77 -> 118 | J5: =+EST_ITM!DK77 -> 0 | K5: =+EST_ITM!DQ77 -> 41 | L5: =+EST_ITM!DW77 -> 39 | M5: =+EST_ITM!EC77 -> 37
A6: Ago-Dic 2016 | B6: =+EST_ITM!BO78 -> 35 | C6: =+EST_ITM!BU78 -> 35 | D6: =+EST_ITM!CA78 -> 70 | E6: =+EST_ITM!CG78 -> 50 | F6: =+EST_ITM!CM78 -> 40 | G6: =+EST_ITM!CS78 -> 50 | H6: =+EST_ITM!CY78 -> 90 | I6: =+EST_ITM!DE78 -> 160 | J6: =+EST_ITM!DK78 -> 0 | K6: =+EST_ITM!DQ78 -> 80 | L6: =+EST_ITM!DW78 -> 160 | M6: =+EST_ITM!EC78 -> 70
A7: Feb-Jun 2017 | B7: =+EST_ITM!BO79 -> 20 | C7: =+EST_ITM!BU79 -> 15 | D7: =+EST_ITM!CA79 -> 35 | E7: =+EST_ITM!CG79 -> 20 | F7: =+EST_ITM!CM79 -> 15 | G7: =+EST_ITM!CS79 -> 15 | H7: =+EST_ITM!CY79 -> 25 | I7: =+EST_ITM!DE79 -> 80 | J7: =+EST_ITM!DK79 -> 0 | K7: =+EST_ITM!DQ79 -> 20 | L7: =+EST_ITM!DW79 -> 40 | M7: =+EST_ITM!EC79 -> 20
A8: Ago-Dic 2017 | B8: =+EST_ITM!BO80 -> 35 | C8: =+EST_ITM!BU80 -> 35 | D8: =+EST_ITM!CA80 -> 70 | E8: =+EST_ITM!CG80 -> 50 | F8: =+EST_ITM!CM80 -> 40 | G8: =+EST_ITM!CS80 -> 50 | H8: =+EST_ITM!CY80 -> 90 | I8: =+EST_ITM!DE80 -> 160 | J8: =+EST_ITM!DK80 -> 0 | K8: =+EST_ITM!DQ80 -> 80 | L8: =+EST_ITM!DW80 -> 160 | M8: =+EST_ITM!EC80 -> 70
A9: Feb-Jun 2018 | B9: =+EST_ITM!BO81 -> 20 | C9: =+EST_ITM!BU81 -> 15 | D9: =+EST_ITM!CA81 -> 35 | E9: =+EST_ITM!CG81 -> 20 | F9: =+EST_ITM!CM81 -> 20 | G9: =+EST_ITM!CS81 -> 15 | H9: =+EST_ITM!CY81 -> 25 | I9: =+EST_ITM!DE81 -> 80 | J9: =+EST_ITM!DK81 -> 0 | K9: =+EST_ITM!DQ81 -> 20 | L9: =+EST_ITM!DW81 -> 40 | M9: =+EST_ITM!EC81 -> 20
A10: Ago-Dic 2018 | B10: =+EST_ITM!BO82 -> 35 | C10: =+EST_ITM!BU82 -> 35 | D10: =+EST_ITM!CA82 -> 70 | E10: =+EST_ITM!CG82 -> 50 | F10: =+EST_ITM!CM82 -> 40 | G10: =+EST_ITM!CS82 -> 50 | H10: =+EST_ITM!CY82 -> 90 | I10: =+EST_ITM!DE82 -> 160 | J10: =+EST_ITM!DK82 -> 0 | K10: =+EST_ITM!DQ82 -> 80 | L10: =+EST_ITM!DW82 -> 160 | M10: =+EST_ITM!EC82 -> 70
A11: Feb-Jun 2019 | B11: =+EST_ITM!BO83 -> 20 | C11: =+EST_ITM!BU83 -> 15 | D11: =+EST_ITM!CA83 -> 35 | E11: =+EST_ITM!CG83 -> 20 | F11: =+EST_ITM!CM83 -> 20 | G11: =+EST_ITM!CS83 -> 15 | H11: =+EST_ITM!CY83 -> 25 | I11: =+EST_ITM!DE83 -> 80 | J11: =+EST_ITM!DK83 -> 0 | K11: =+EST_ITM!DQ83 -> 20 | L11: =+EST_ITM!DW83 -> 40 | M11: =+EST_ITM!EC83 -> 20
A12: Ago-Dic 2019 | B12: =+EST_ITM!BO84 -> 35 | C12: =+EST_ITM!BU84 -> 35 | D12: =+EST_ITM!CA84 -> 70 | E12: =+EST_ITM!CG84 -> 50 | F12: =+EST_ITM!CM84 -> 40 | G12: =+EST_ITM!CS84 -> 50 | H12: =+EST_ITM!CY84 -> 90 | I12: =+EST_ITM!DE84 -> 160 | J12: =+EST_ITM!DK84 -> 0 | K12: =+EST_ITM!DQ84 -> 80 | L12: =+EST_ITM!DW84 -> 160 | M12: =+EST_ITM!EC84 -> 70
A13: Feb-Jun 2020 | B13: =+EST_ITM!BO85 -> 20 | C13: =+EST_ITM!BU85 -> 15 | D13: =+EST_ITM!CA85 -> 35 | E13: =+EST_ITM!CG85 -> 20 | F13: =+EST_ITM!CM85 -> 20 | G13: =+EST_ITM!CS85 -> 15 | H13: =+EST_ITM!CY85 -> 25 | I13: =+EST_ITM!DE85 -> 80 | J13: =+EST_ITM!DK85 -> 0 | K13: =+EST_ITM!DQ85 -> 20 | L13: =+EST_ITM!DW85 -> 40 | M13: =+EST_ITM!EC85 -> 20
A14: Ago-Dic 2020 | B14: =+EST_ITM!BO86 -> 35 | C14: =+EST_ITM!BU86 -> 35 | D14: =+EST_ITM!CA86 -> 70 | E14: =+EST_ITM!CG86 -> 50 | F14: =+EST_ITM!CM86 -> 40 | G14: =+EST_ITM!CS86 -> 50 | H14: =+EST_ITM!CY86 -> 90 | I14: =+EST_ITM!DE86 -> 160 | J14: =+EST_ITM!DK86 -> 0 | K14: =+EST_ITM!DQ86 -> 80 | L14: =+EST_ITM!DW86 -> 160 | M14: =+EST_ITM!EC86 -> 70
A15: Feb-Jun 2021 | B15: =+EST_ITM!BO87 -> 20 | C15: =+EST_ITM!BU87 -> 15 | D15: =+EST_ITM!CA87 -> 35 | E15: =+EST_ITM!CG87 -> 20 | F15: =+EST_ITM!CM87 -> 20 | G15: =+EST_ITM!CS87 -> 15 | H15: =+EST_ITM!CY87 -> 25 | I15: =+EST_ITM!DE87 -> 80 | J15: =+EST_ITM!DK87 -> 0 | K15: =+EST_ITM!DQ87 -> 20 | L15: =+EST_ITM!DW87 -> 40 | M15: =+EST_ITM!EC87 -> 20
... A24: Ago-Dic 2025 | B24: =+EST_ITM!BO96 -> 35 | C24: =+EST_ITM!BU96 -> 35 | D24: =+EST_ITM!CA96 -> 70 | E24: =+EST_ITM!CG96 -> 50 | F24: =+EST_ITM!CM96 -> 40 | G24: =+EST_ITM!CS96 -> 50 | H24: =+EST_ITM!CY96 -> 90 | I24: =+EST_ITM!DE96 -> 160 | J24: =+EST_ITM!DK96 -> 0 | K24: =+EST_ITM!DQ96 -> 80 | L24: =+EST_ITM!DW96 -> 160 | M24: =+EST_ITM!EC96 -> 70
B27: Grupos a abrir por semestre (Proyectado)
A28: PERÍODO | B28: ING. EN GESTION EMPRESARIAL | C28: INGENIERIA EN LOGISTICA | D28: CONTADOR PUBLICO | E28: INGENIERIA ELECTRICA | F28: INGENIERIA ELECTRONICA | G28: ING EN ENERGIAS RENOVABLES | H28: ING EN SISTEMAS COMPUTACIONALES | I28: INGENIERIA INDUSTRIAL | J28: INGENIERIA EN INFORMATICA | K28: INGENIERIA MECANICA | L28: INGENIERIA MECATRONICA | M28: INGENIERIA QUIMICA
A29: Ago-Dic 2015 | B29: =+IF(B4<=40,1,IF(AND(B4>40,B4<=80),2,IF(AND(B4>80,B4<=120),3,4))) -> 2 | C29: =+IF(C4<=40,1,IF(AND(C4>40,C4<=80),2,IF(AND(C4>80,C4<=120),3,4))) -> 1 | D29: =+IF(D4<=40,1,IF(AND(D4>40,D4<=80),2,IF(AND(D4>80,D4<=120),3,4))) -> 1 | E29: =+IF(E4<=40,1,IF(AND(E4>40,E4<=80),2,IF(AND(E4>80,E4<=120),3,4))) -> 1 | F29: =+IF(F4<=40,1,IF(AND(F4>40,F4<=80),2,IF(AND(F4>80,F4<=120),3,4))) -> 1 | G29: =+IF(G4<=40,1,IF(AND(G4>40,G4<=80),2,IF(AND(G4>80,G4<=120),3,4))) -> 1 | H29: =+IF(H4<=40,1,IF(AND(H4>40,H4<=80),2,IF(AND(H4>80,H4<=120),3,4))) -> 3 | I29: =+IF(I4<=40,1,IF(AND(I4>40,I4<=80),2,IF(AND(I4>80,I4<=120),3,4))) -> 4 | ... M29: =+IF(M4<=40,1,IF(AND(M4>40,M4<=80),2,IF(AND(M4>80,M4<=120),3,4))) -> 1
A30: Feb-Jun 2016 | B30: =+IF(B5<=40,1,IF(AND(B5>40,B5<=80),2,IF(AND(B5>80,B5<=120),3,4))) -> 1 | C30: =+IF(C5<=40,1,IF(AND(C5>40,C5<=80),2,IF(AND(C5>80,C5<=120),3,4))) -> 1 | D30: =+IF(D5<=40,1,IF(AND(D5>40,D5<=80),2,IF(AND(D5>80,D5<=120),3,4))) -> 1 | E30: =+IF(E5<=40,1,IF(AND(E5>40,E5<=80),2,IF(AND(E5>80,E5<=120),3,4))) -> 1 | F30: =+IF(F5<=40,1,IF(AND(F5>40,F5<=80),2,IF(AND(F5>80,F5<=120),3,4))) -> 1 | G30: =+IF(G5<=40,1,IF(AND(G5>40,G5<=80),2,IF(AND(G5>80,G5<=120),3,4))) -> 1 | H30: =+IF(H5<=40,1,IF(AND(H5>40,H5<=80),2,IF(AND(H5>80,H5<=120),3,4))) -> 1 | I30: =+IF(I5<=40,1,IF(AND(I5>40,I5<=80),2,IF(AND(I5>80,I5<=120),3,4))) -> 3 | ... M30: =+IF(M5<=40,1,IF(AND(M5>40,M5<=80),2,IF(AND(M5>80,M5<=120),3,4))) -> 1
A31: Ago-Dic 2016 | B31: =+IF(B6<=40,1,IF(AND(B6>40,B6<=80),2,IF(AND(B6>80,B6<=120),3,4))) -> 1 | C31: =+IF(C6<=40,1,IF(AND(C6>40,C6<=80),2,IF(AND(C6>80,C6<=120),3,4))) -> 1 | D31: =+IF(D6<=40,1,IF(AND(D6>40,D6<=80),2,IF(AND(D6>80,D6<=120),3,4))) -> 2 | E31: =+IF(E6<=40,1,IF(AND(E6>40,E6<=80),2,IF(AND(E6>80,E6<=120),3,4))) -> 2 | F31: =+IF(F6<=40,1,IF(AND(F6>40,F6<=80),2,IF(AND(F6>80,F6<=120),3,4))) -> 1 | G31: =+IF(G6<=40,1,IF(AND(G6>40,G6<=80),2,IF(AND(G6>80,G6<=120),3,4))) -> 2 | H31: =+IF(H6<=40,1,IF(AND(H6>40,H6<=80),2,IF(AND(H6>80,H6<=120),3,4))) -> 3 | I31: =+IF(I6<=40,1,IF(AND(I6>40,I6<=80),2,IF(AND(I6>80,I6<=120),3,4))) -> 4 | ... M31: =+IF(M6<=40,1,IF(AND(M6>40,M6<=80),2,IF(AND(M6>80,M6<=120),3,4))) -> 2
A32: Feb-Jun 2017 | B32: =+IF(B7<=40,1,IF(AND(B7>40,B7<=80),2,IF(AND(B7>80,B7<=120),3,4))) -> 1 | C32: =+IF(C7<=40,1,IF(AND(C7>40,C7<=80),2,IF(AND(C7>80,C7<=120),3,4))) -> 1 | D32: =+IF(D7<=40,1,IF(AND(D7>40,D7<=80),2,IF(AND(D7>80,D7<=120),3,4))) -> 1 | E32: =+IF(E7<=40,1,IF(AND(E7>40,E7<=80),2,IF(AND(E7>80,E7<=120),3,4))) -> 1 | F32: =+IF(F7<=40,1,IF(AND(F7>40,F7<=80),2,IF(AND(F7>80,F7<=120),3,4))) -> 1 | G32: =+IF(G7<=40,1,IF(AND(G7>40,G7<=80),2,IF(AND(G7>80,G7<=120),3,4))) -> 1 | H32: =+IF(H7<=40,1,IF(AND(H7>40,H7<=80),2,IF(AND(H7>80,H7<=120),3,4))) -> 1 | I32: =+IF(I7<=40,1,IF(AND(I7>40,I7<=80),2,IF(AND(I7>80,I7<=120),3,4))) -> 2 | ... M32: =+IF(M7<=40,1,IF(AND(M7>40,M7<=80),2,IF(AND(M7>80,M7<=120),3,4))) -> 1
A33: Ago-Dic 2017 | B33: =+IF(B8<=40,1,IF(AND(B8>40,B8<=80),2,IF(AND(B8>80,B8<=120),3,4))) -> 1 | C33: =+IF(C8<=40,1,IF(AND(C8>40,C8<=80),2,IF(AND(C8>80,C8<=120),3,4))) -> 1 | D33: =+IF(D8<=40,1,IF(AND(D8>40,D8<=80),2,IF(AND(D8>80,D8<=120),3,4))) -> 2 | E33: =+IF(E8<=40,1,IF(AND(E8>40,E8<=80),2,IF(AND(E8>80,E8<=120),3,4))) -> 2 | F33: =+IF(F8<=40,1,IF(AND(F8>40,F8<=80),2,IF(AND(F8>80,F8<=120),3,4))) -> 1 | G33: =+IF(G8<=40,1,IF(AND(G8>40,G8<=80),2,IF(AND(G8>80,G8<=120),3,4))) -> 2 | H33: =+IF(H8<=40,1,IF(AND(H8>40,H8<=80),2,IF(AND(H8>80,H8<=120),3,4))) -> 3 | I33: =+IF(I8<=40,1,IF(AND(I8>40,I8<=80),2,IF(AND(I8>80,I8<=120),3,4))) -> 4 | ... M33: =+IF(M8<=40,1,IF(AND(M8>40,M8<=80),2,IF(AND(M8>80,M8<=120),3,4))) -> 2
A34: Feb-Jun 2018 | B34: =+IF(B9<=40,1,IF(AND(B9>40,B9<=80),2,IF(AND(B9>80,B9<=120),3,4))) -> 1 | C34: =+IF(C9<=40,1,IF(AND(C9>40,C9<=80),2,IF(AND(C9>80,C9<=120),3,4))) -> 1 | D34: =+IF(D9<=40,1,IF(AND(D9>40,D9<=80),2,IF(AND(D9>80,D9<=120),3,4))) -> 1 | E34: =+IF(E9<=40,1,IF(AND(E9>40,E9<=80),2,IF(AND(E9>80,E9<=120),3,4))) -> 1 | F34: =+IF(F9<=40,1,IF(AND(F9>40,F9<=80),2,IF(AND(F9>80,F9<=120),3,4))) -> 1 | G34: =+IF(G9<=40,1,IF(AND(G9>40,G9<=80),2,IF(AND(G9>80,G9<=120),3,4))) -> 1 | H34: =+IF(H9<=40,1,IF(AND(H9>40,H9<=80),2,IF(AND(H9>80,H9<=120),3,4))) -> 1 | I34: =+IF(I9<=40,1,IF(AND(I9>40,I9<=80),2,IF(AND(I9>80,I9<=120),3,4))) -> 2 | ... M34: =+IF(M9<=40,1,IF(AND(M9>40,M9<=80),2,IF(AND(M9>80,M9<=120),3,4))) -> 1
A35: Ago-Dic 2018 | B35: =+IF(B10<=40,1,IF(AND(B10>40,B10<=80),2,IF(AND(B10>80,B10<=120),3,4))) -> 1 | C35: =+IF(C10<=40,1,IF(AND(C10>40,C10<=80),2,IF(AND(C10>80,C10<=120),3,4))) -> 1 | D35: =+IF(D10<=40,1,IF(AND(D10>40,D10<=80),2,IF(AND(D10>80,D10<=120),3,4))) -> 2 | E35: =+IF(E10<=40,1,IF(AND(E10>40,E10<=80),2,IF(AND(E10>80,E10<=120),3,4))) -> 2 | F35: =+IF(F10<=40,1,IF(AND(F10>40,F10<=80),2,IF(AND(F10>80,F10<=120),3,4))) -> 1 | G35: =+IF(G10<=40,1,IF(AND(G10>40,G10<=80),2,IF(AND(G10>80,G10<=120),3,4))) -> 2 | H35: =+IF(H10<=40,1,IF(AND(H10>40,H10<=80),2,IF(AND(H10>80,H10<=120),3,4))) -> 3 | I35: =+IF(I10<=40,1,IF(AND(I10>40,I10<=80),2,IF(AND(I10>80,I10<=120),3,4))) -> 4 | ... M35: =+IF(M10<=40,1,IF(AND(M10>40,M10<=80),2,IF(AND(M10>80,M10<=120),3,4))) -> 2
A36: Feb-Jun 2019 | B36: =+IF(B11<=40,1,IF(AND(B11>40,B11<=80),2,IF(AND(B11>80,B11<=120),3,4))) -> 1 | C36: =+IF(C11<=40,1,IF(AND(C11>40,C11<=80),2,IF(AND(C11>80,C11<=120),3,4))) -> 1 | D36: =+IF(D11<=40,1,IF(AND(D11>40,D11<=80),2,IF(AND(D11>80,D11<=120),3,4))) -> 1 | E36: =+IF(E11<=40,1,IF(AND(E11>40,E11<=80),2,IF(AND(E11>80,E11<=120),3,4))) -> 1 | F36: =+IF(F11<=40,1,IF(AND(F11>40,F11<=80),2,IF(AND(F11>80,F11<=120),3,4))) -> 1 | G36: =+IF(G11<=40,1,IF(AND(G11>40,G11<=80),2,IF(AND(G11>80,G11<=120),3,4))) -> 1 | H36: =+IF(H11<=40,1,IF(AND(H11>40,H11<=80),2,IF(AND(H11>80,H11<=120),3,4))) -> 1 | I36: =+IF(I11<=40,1,IF(AND(I11>40,I11<=80),2,IF(AND(I11>80,I11<=120),3,4))) -> 2 | ... M36: =+IF(M11<=40,1,IF(AND(M11>40,M11<=80),2,IF(AND(M11>80,M11<=120),3,4))) -> 1
A37: Ago-Dic 2019 | B37: =+IF(B12<=40,1,IF(AND(B12>40,B12<=80),2,IF(AND(B12>80,B12<=120),3,4))) -> 1 | C37: =+IF(C12<=40,1,IF(AND(C12>40,C12<=80),2,IF(AND(C12>80,C12<=120),3,4))) -> 1 | D37: =+IF(D12<=40,1,IF(AND(D12>40,D12<=80),2,IF(AND(D12>80,D12<=120),3,4))) -> 2 | E37: =+IF(E12<=40,1,IF(AND(E12>40,E12<=80),2,IF(AND(E12>80,E12<=120),3,4))) -> 2 | F37: =+IF(F12<=40,1,IF(AND(F12>40,F12<=80),2,IF(AND(F12>80,F12<=120),3,4))) -> 1 | G37: =+IF(G12<=40,1,IF(AND(G12>40,G12<=80),2,IF(AND(G12>80,G12<=120),3,4))) -> 2 | H37: =+IF(H12<=40,1,IF(AND(H12>40,H12<=80),2,IF(AND(H12>80,H12<=120),3,4))) -> 3 | I37: =+IF(I12<=40,1,IF(AND(I12>40,I12<=80),2,IF(AND(I12>80,I12<=120),3,4))) -> 4 | ... M37: =+IF(M12<=40,1,IF(AND(M12>40,M12<=80),2,IF(AND(M12>80,M12<=120),3,4))) -> 2
A38: Feb-Jun 2020 | B38: =+IF(B13<=40,1,IF(AND(B13>40,B13<=80),2,IF(AND(B13>80,B13<=120),3,4))) -> 1 | C38: =+IF(C13<=40,1,IF(AND(C13>40,C13<=80),2,IF(AND(C13>80,C13<=120),3,4))) -> 1 | D38: =+IF(D13<=40,1,IF(AND(D13>40,D13<=80),2,IF(AND(D13>80,D13<=120),3,4))) -> 1 | E38: =+IF(E13<=40,1,IF(AND(E13>40,E13<=80),2,IF(AND(E13>80,E13<=120),3,4))) -> 1 | F38: =+IF(F13<=40,1,IF(AND(F13>40,F13<=80),2,IF(AND(F13>80,F13<=120),3,4))) -> 1 | G38: =+IF(G13<=40,1,IF(AND(G13>40,G13<=80),2,IF(AND(G13>80,G13<=120),3,4))) -> 1 | H38: =+IF(H13<=40,1,IF(AND(H13>40,H13<=80),2,IF(AND(H13>80,H13<=120),3,4))) -> 1 | I38: =+IF(I13<=40,1,IF(AND(I13>40,I13<=80),2,IF(AND(I13>80,I13<=120),3,4))) -> 2 | ... M38: =+IF(M13<=40,1,IF(AND(M13>40,M13<=80),2,IF(AND(M13>80,M13<=120),3,4))) -> 1
A39: Ago-Dic 2020 | B39: =+IF(B14<=40,1,IF(AND(B14>40,B14<=80),2,IF(AND(B14>80,B14<=120),3,4))) -> 1 | C39: =+IF(C14<=40,1,IF(AND(C14>40,C14<=80),2,IF(AND(C14>80,C14<=120),3,4))) -> 1 | D39: =+IF(D14<=40,1,IF(AND(D14>40,D14<=80),2,IF(AND(D14>80,D14<=120),3,4))) -> 2 | E39: =+IF(E14<=40,1,IF(AND(E14>40,E14<=80),2,IF(AND(E14>80,E14<=120),3,4))) -> 2 | F39: =+IF(F14<=40,1,IF(AND(F14>40,F14<=80),2,IF(AND(F14>80,F14<=120),3,4))) -> 1 | G39: =+IF(G14<=40,1,IF(AND(G14>40,G14<=80),2,IF(AND(G14>80,G14<=120),3,4))) -> 2 | H39: =+IF(H14<=40,1,IF(AND(H14>40,H14<=80),2,IF(AND(H14>80,H14<=120),3,4))) -> 3 | I39: =+IF(I14<=40,1,IF(AND(I14>40,I14<=80),2,IF(AND(I14>80,I14<=120),3,4))) -> 4 | ... M39: =+IF(M14<=40,1,IF(AND(M14>40,M14<=80),2,IF(AND(M14>80,M14<=120),3,4))) -> 2
A40: Feb-Jun 2021 | B40: =+IF(B15<=40,1,IF(AND(B15>40,B15<=80),2,IF(AND(B15>80,B15<=120),3,4))) -> 1 | C40: =+IF(C15<=40,1,IF(AND(C15>40,C15<=80),2,IF(AND(C15>80,C15<=120),3,4))) -> 1 | D40: =+IF(D15<=40,1,IF(AND(D15>40,D15<=80),2,IF(AND(D15>80,D15<=120),3,4))) -> 1 | E40: =+IF(E15<=40,1,IF(AND(E15>40,E15<=80),2,IF(AND(E15>80,E15<=120),3,4))) -> 1 | F40: =+IF(F15<=40,1,IF(AND(F15>40,F15<=80),2,IF(AND(F15>80,F15<=120),3,4))) -> 1 | G40: =+IF(G15<=40,1,IF(AND(G15>40,G15<=80),2,IF(AND(G15>80,G15<=120),3,4))) -> 1 | H40: =+IF(H15<=40,1,IF(AND(H15>40,H15<=80),2,IF(AND(H15>80,H15<=120),3,4))) -> 1 | I40: =+IF(I15<=40,1,IF(AND(I15>40,I15<=80),2,IF(AND(I15>80,I15<=120),3,4))) -> 2 | ... M40: =+IF(M15<=40,1,IF(AND(M15>40,M15<=80),2,IF(AND(M15>80,M15<=120),3,4))) -> 1
... A49: Ago-Dic 2025 | B49: =+IF(B24<=40,1,IF(AND(B24>40,B24<=80),2,IF(AND(B24>80,B24<=120),3,4))) -> 1 | C49: =+IF(C24<=40,1,IF(AND(C24>40,C24<=80),2,IF(AND(C24>80,C24<=120),3,4))) -> 1 | D49: =+IF(D24<=40,1,IF(AND(D24>40,D24<=80),2,IF(AND(D24>80,D24<=120),3,4))) -> 2 | E49: =+IF(E24<=40,1,IF(AND(E24>40,E24<=80),2,IF(AND(E24>80,E24<=120),3,4))) -> 2 | F49: =+IF(F24<=40,1,IF(AND(F24>40,F24<=80),2,IF(AND(F24>80,F24<=120),3,4))) -> 1 | G49: =+IF(G24<=40,1,IF(AND(G24>40,G24<=80),2,IF(AND(G24>80,G24<=120),3,4))) -> 2 | H49: =+IF(H24<=40,1,IF(AND(H24>40,H24<=80),2,IF(AND(H24>80,H24<=120),3,4))) -> 3 | I49: =+IF(I24<=40,1,IF(AND(I24>40,I24<=80),2,IF(AND(I24>80,I24<=120),3,4))) -> 4 | ... M49: =+IF(M24<=40,1,IF(AND(M24>40,M24<=80),2,IF(AND(M24>80,M24<=120),3,4))) -> 2
