Workbook
Name bddeptos: 'Crec x Depto'!$Z$3:$AC$8
Name BDEST: ESTADISTICAS!$M$6:$AB$53
Name DBESTLIQ: ESTADISTICAS!$C$6:$L$40
Name MATEST: #REF!
Name MATPOB: EST_ITM!$A$5:$EZ$96
Name periodos: ESTADISTICAS!$A$6:$B$55
Name periodos2: ESTADISTICAS!$AD$6:$AE$53

Sheet EST_ITM
BO1: INSTITUTO TECNOLOGICO DE MEXICALI
BO2: PROYECCION DE LA POBLACION ESCOLAR
V4: PLANES EN LIQUIDACIÓN | BO4: ESTADISTICA DE CARRERAS ACTUALES Y LIQUIDACION A ENE-JUN 2015 Y PROYECCION A AGO-DIC 2018
A5: 1 | B5: 2 | C5: 3 | D5: 4 | E5: 5 | F5: 6 | G5: 7 | H5: 8 | I5: 9 | J5: 10 | K5: 11 | L5: 12 | M5: 13 | N5: 14 | O5: 15 | P5: 16 | Q5: 17 | R5: 18 | S5: 19 | T5: 20 | U5: 21 | V5: 22 | W5: 23 | X5: 24 | Y5: 25 | Z5: 26 | AA5: 27 | AB5: 28 | AC5: 29 | AD5: 30 | AE5: 31 | AF5: 32 | AG5: 33 | AH5: 34 | AI5: 35 | AJ5: 36 | AK5: 37 | AL5: 38 | AM5: 39 | AN5: 40 | AO5: 41 | AP5: 42 | AQ5: 43 | AR5: 44 | AS5: 45 | AT5: 46 | AU5: 47 | AV5: 48 | AW5: 49 | AX5: 50 | AY5: 51 | AZ5: 52 | BA5: 53 | BB5: 54 | BC5: 55 | BD5: 56 | BE5: 57 | BF5: 58 | BG5: 59 | BH5: 60 | BI5: 61 | BJ5: 62 | BK5: 63 | BL5: 64 | BM5: 65 | BN5: 66 | BO5: 67 | BP5: 68 | BQ5: 69 | BR5: 70 | BS5: 71 | BT5: 72 | BU5: 73 | BV5: 74 | BW5: 75 | BX5: 76 | BY5: 77 | BZ5: 78 | CA5: 79 | CB5: 80 | CC5: 81 | CD5: 82 | CE5: 83 | CF5: 84 | CG5: 85 | CH5: 86 | CI5: 87 | CJ5: 88 | CK5: 89 | CL5: 90 | CM5: 91 | CN5: 92 | CO5: 93 | CP5: 94 | CQ5: 95 | CR5: 96 | CS5: 97 | CT5: 98 | CU5: 99 | CV5: 100 | CW5: 101 | CX5: 102 | CY5: 103 | CZ5: 104 | DA5: 105 | DB5: 106 | DC5: 107 | DD5: 108 | DE5: 109 | DF5: 110 | DG5: 111 | DH5: 112 | DI5: 113 | DJ5: 114 | DK5: 115 | DL5: 116 | DM5: 117 | DN5: 118 | DO5: 119 | DP5: 120 | DQ5: 121 | DR5: 122 | DS5: 123 | DT5: 124 | DU5: 125 | DV5: 126 | DW5: 127 | DX5: 128 | DY5: 129 | DZ5: 130 | EA5: 131 | EB5: 132 | EC5: 133 | ED5: 134 | EE5: 135 | EF5: 136 | EG5: 137 | EH5: 138 | EU5: 139 | EV5: 140 | EW5: 141 | EX5: 142 | EY5: 143 | EZ5: 144 | FA5: 145
D6: ING. IND. MECANICA | I6: ING. IND. ELECTRONICA | N6: ING. ELECTRICA EN CONTRL. | S6: ING. IND. QUIMICA | V6: INGENIERIA ELECTRONICA | AA6: INGENIERIA ELECTRICA | AF6: INGENIERIA INDUSTRIAL | AK6: INGENIERIA MECANICA | AP6: LICENCIATURA EN INFORMATICA | AU6: LICENCIATURA EN CONTAD. | AZ6: INGENIERIA EN SISTEMAS COMPUTACIONALES | BE6: INGENIERIA QUIMICA | BJ6: INGENIERIA MECATRONICA | BO6: ING. EN GESTION EMPRESARIAL | BU6: INGENIERIA EN LOGISTICA | CA6: CONTADOR PUBLICO | CG6: INGENIERIA ELECTRICA | CM6: INGENIERIA ELECTRONICA | CS6: ING EN ENERGIAS RENOVABLES | CY6: ING EN SISTEMAS COMPUTACIONALES | DE6: INGENIERIA INDUSTRIAL | DK6: INGENIERIA EN INFORMATICA | DQ6: INGENIERIA MECANICA | DW6: INGENIERIA MECATRONICA | EC6: INGENIERIA QUIMICA | EI6: INGENIERIA EN MATERIALES | EO6: MAESTRIA ING.ELECTRONICA | EX6: TOTALES
B7: N I | C7: RI | D7: DE | E7: EG | F7: Total | G7: N I | H7: RI | I7: DE | J7: EG | K7: Total | L7: N I | M7: RI | N7: DE | O7: EG | P7: Total | Q7: N I | R7: RI | S7: DE | T7: EG | U7: Total | V7: N I | W7: RI | X7: DE | Y7: EG | Z7: Total | AA7: N I | AB7: RI | AC7: DE | AD7: EG | AE7: Total | AF7: N I | AG7: RI | AH7: DE | AI7: EG | AJ7: Total | AK7: N I | AL7: RI | AM7: DE | AN7: EG | AO7: Total | AP7: N I | AQ7: RI | AR7: DE | AS7: EG | AT7: Total | AU7: N I | AV7: RI | AW7: DE | AX7: EG | AY7: Total | AZ7: N I | BA7: RI | BB7: DE | BC7: EG | BD7: Total | BE7: N I | BF7: RI | BG7: DE | BH7: EG | BI7: Total | BJ7: N I | BK7: RI | BL7: DE | BM7: EG | BN7: Total | BO7: N I | BP7: RI | BQ7: EQ | BR7: DE | BS7: EG | BT7: Total | BU7: N I | BV7: RI | BW7: EQ | BX7: DE | BY7: EG | BZ7: Total | CA7: N I | CB7: RI | CC7: EQ | CD7: DE | CE7: EG | CF7: Total | CG7: N I | CH7: RI | CI7: EQ | CJ7: DE | CK7: EG | CL7: Total | CM7: N I | CN7: RI | CO7: EQ | CP7: DE | CQ7: EG | CR7: Total | CS7: N I | CT7: RI | CU7: EQ | CV7: DE | CW7: EG | CX7: Total | CY7: N I | CZ7: RI | DA7: EQ | DB7: DE | DC7: EG | DD7: Total | DE7: N I | DF7: RI | DG7: EQ | DH7: DE | DI7: EG | DJ7: Total | DK7: N I | DL7: RI | DM7: EQ | DN7: DE | DO7: EG | DP7: Total | DQ7: N I | DR7: RI | DS7: EQ | DT7: DE | DU7: EG | DV7: Total | DW7: N I | DX7: RI | DY7: EQ | DZ7: DE | EA7: EG | EB7: Total | EC7: N I | ED7: RI | EE7: EQ | EF7: DE | EG7: EG | EH7: Total | EI7: N I | EJ7: RI | EK7: EQ | EL7: DE | EM7: EG | EN7: Total | EO7: N I | EP7: RI | EQ7: EQ | ER7: DE | ES7: EG | ET7: Total | EU7: N I | EV7: RI | EW7: EQ | EX7: DE | EY7: EG | EZ7: Total
A8: Oct-Dic 1981 | B8: 146 | C8: 0 | D8: 0 | E8: 0 | F8: =SUM(B8+C8) -> 146 | G8: 98 | H8: 0 | I8: 0 | J8: 0 | K8: =SUM(G8+H8) -> 98 | L8: 102 | M8: 0 | N8: 0 | O8: 0 | P8: =SUM(L8+M8) -> 102 | EU8: 346 | EV8: =SUM(C8+H8+M8+R8+W8+AB8+AG8+AL8+AQ8+AV8+BA8+BF8) -> 0 | EW8: =SUM(D8+I8+N8+S8+X8+AC8+AH8+AM8+AR8+AW8+BB8+BG8) -> 0 | EX8: 0 | EY8: =SUM(E8+J8+O8+T8+Y8+AD8+AI8+AN8+AS8+AX8+BC8+BH8) -> 0 | EZ8: =SUM(EU8+EV8) -> 346
A9: Feb-Jun 1982 | B9: 81 | C9: 65 | D9: =SUM(F8-C9-E8) -> 81 | E9: 0 | F9: =SUM(B9+C9) -> 146 | G9: 71 | H9: 63 | I9: =SUM(K8-H9-J8) -> 35 | J9: 0 | K9: =SUM(G9+H9) -> 134 | L9: 74 | M9: 48 | N9: =SUM(P8-M9-O8) -> 54 | O9: 0 | P9: =SUM(L9+M9) -> 122 | EU9: =SUM(B9+G9+L9+Q9+V9+AA9+AF9+AK9+AP9+AU9+AZ9+BE9) -> 226 | EV9: =SUM(C9+H9+M9+R9+W9+AB9+AG9+AL9+AQ9+AV9+BA9+BF9+BK9) -> 176 | EW9: =SUM(D9+I9+N9+S9+X9+AC9+AH9+AM9+AR9+AW9+BB9+BG9) -> 170 | EX9: =SUM(EZ8-EV9-EY8) -> 170 | EY9: =SUM(E9+J9+O9+T9+Y9+AD9+AI9+AN9+AS9+AX9+BC9+BH9) -> 0 | EZ9: =SUM(EU9+EV9) -> 402
A10: Ago-Dic 1982 | B10: 140 | C10: 94 | D10: =SUM(F9-C10-E9) -> 52 | E10: 0 | F10: =SUM(B10+C10) -> 234 | G10: 103 | H10: 87 | I10: =SUM(K9-H10-J9) -> 47 | J10: 0 | K10: =SUM(G10+H10) -> 190 | L10: 77 | M10: 87 | N10: =SUM(P9-M10-O9) -> 35 | O10: 0 | P10: =SUM(L10+M10) -> 164 | Q10: 101 | R10: 0 | S10: =SUM(U9-R10-T9) -> 0 | T10: 0 | U10: =SUM(Q10+R10) -> 101 | EU10: =SUM(B10+G10+L10+Q10+V10+AA10+AF10+AK10+AP10+AU10+AZ10+BE10+BJ10) -> 421 | EV10: =SUM(C10+H10+M10+R10+W10+AB10+AG10+AL10+AQ10+AV10+BA10+BF10+BK10) -> 268 | EW10: =SUM(D10+I10+N10+S10+X10+AC10+AH10+AM10+AR10+AW10+BB10+BG10) -> 134 | EX10: =SUM(EZ9-EV10-EY9) -> 134 | EY10: =SUM(E10+J10+O10+T10+Y10+AD10+AI10+AN10+AS10+AX10+BC10+BH10) -> 0 | EZ10: =SUM(EU10+EV10) -> 689
A11: Feb-Jun 1983 | B11: 63 | C11: 159 | D11: =SUM(F10-C11-E10) -> 75 | E11: 0 | F11: =SUM(B11+C11) -> 222 | G11: 59 | H11: 154 | I11: =SUM(K10-H11-J10) -> 36 | J11: 0 | K11: =SUM(G11+H11) -> 213 | L11: 38 | M11: 131 | N11: =SUM(P10-M11-O10) -> 33 | O11: 0 | P11: =SUM(L11+M11) -> 169 | Q11: 44 | R11: 84 | S11: =SUM(U10-R11-T10) -> 17 | T11: 0 | U11: =SUM(Q11+R11) -> 128 | EU11: =SUM(B11+G11+L11+Q11+V11+AA11+AF11+AK11+AP11+AU11+AZ11+BE11+BJ11) -> 204 | EV11: =SUM(C11+H11+M11+R11+W11+AB11+AG11+AL11+AQ11+AV11+BA11+BF11+BK11) -> 528 | EW11: =SUM(D11+I11+N11+S11+X11+AC11+AH11+AM11+AR11+AW11+BB11+BG11) -> 161 | EX11: =SUM(EZ10-EV11-EY10) -> 161 | EY11: =SUM(E11+J11+O11+T11+Y11+AD11+AI11+AN11+AS11+AX11+BC11+BH11) -> 0 | EZ11: =SUM(EU11+EV11) -> 732
A12: Ago-Dic 1983 | B12: 32 | C12: 154 | D12: =SUM(F11-C12-E11) -> 68 | E12: 0 | F12: =SUM(B12+C12) -> 186 | G12: 51 | H12: 152 | I12: =SUM(K11-H12-J11) -> 61 | J12: 0 | K12: =SUM(G12+H12) -> 203 | L12: 28 | M12: 125 | N12: =SUM(P11-M12-O11) -> 44 | O12: 0 | P12: =SUM(L12+M12) -> 153 | Q12: 0 | R12: 95 | S12: =SUM(U11-R12-T11) -> 33 | T12: 0 | U12: =SUM(Q12+R12) -> 95 | EU12: =SUM(B12+G12+L12+Q12+V12+AA12+AF12+AK12+AP12+AU12+AZ12+BE12+BJ12) -> 111 | EV12: =SUM(C12+H12+M12+R12+W12+AB12+AG12+AL12+AQ12+AV12+BA12+BF12+BK12) -> 526 | EW12: =SUM(D12+I12+N12+S12+X12+AC12+AH12+AM12+AR12+AW12+BB12+BG12) -> 206 | EX12: =SUM(EZ11-EV12-EY11) -> 206 | EY12: =SUM(E12+J12+O12+T12+Y12+AD12+AI12+AN12+AS12+AX12+BC12+BH12) -> 0 | EZ12: =SUM(EU12+EV12) -> 637
A13: Feb-Jun 1984 | B13: 31 | C13: 149 | D13: =SUM(F12-C13-E12) -> 37 | E13: 0 | F13: =SUM(B13+C13) -> 180 | G13: 42 | H13: 184 | I13: =SUM(K12-H13-J12) -> 19 | J13: 0 | K13: =SUM(G13+H13) -> 226 | L13: 24 | M13: 134 | N13: =SUM(P12-M13-O12) -> 19 | O13: 0 | P13: =SUM(L13+M13) -> 158 | Q13: 0 | R13: 86 | S13: =SUM(U12-R13-T12) -> 9 | T13: 0 | U13: =SUM(Q13+R13) -> 86 | EU13: =SUM(B13+G13+L13+Q13+V13+AA13+AF13+AK13+AP13+AU13+AZ13+BE13+BJ13) -> 97 | EV13: =SUM(C13+H13+M13+R13+W13+AB13+AG13+AL13+AQ13+AV13+BA13+BF13+BK13) -> 553 | EW13: =SUM(D13+I13+N13+S13+X13+AC13+AH13+AM13+AR13+AW13+BB13+BG13) -> 84 | EX13: =SUM(EZ12-EV13-EY12) -> 84 | EY13: =SUM(E13+J13+O13+T13+Y13+AD13+AI13+AN13+AS13+AX13+BC13+BH13) -> 0 | EZ13: =SUM(EU13+EV13) -> 650
A14: Ago-Dic 1984 | B14: 56 | C14: 142 | D14: =SUM(F13-C14-E13) -> 38 | E14: 0 | F14: =SUM(B14+C14) -> 198 | G14: 94 | H14: 198 | I14: =SUM(K13-H14-J13) -> 28 | J14: 0 | K14: =SUM(G14+H14) -> 292 | L14: 34 | M14: 139 | N14: =SUM(P13-M14-O13) -> 19 | O14: 0 | P14: =SUM(L14+M14) -> 173 | Q14: 0 | R14: 68 | S14: =SUM(U13-R14-T13) -> 18 | T14: 0 | U14: =SUM(Q14+R14) -> 68 | EU14: =SUM(B14+G14+L14+Q14+V14+AA14+AF14+AK14+AP14+AU14+AZ14+BE14+BJ14) -> 184 | EV14: =SUM(C14+H14+M14+R14+W14+AB14+AG14+AL14+AQ14+AV14+BA14+BF14+BK14) -> 547 | EW14: =SUM(D14+I14+N14+S14+X14+AC14+AH14+AM14+AR14+AW14+BB14+BG14) -> 103 | EX14: =SUM(EZ13-EV14-EY13) -> 103 | EY14: =SUM(E14+J14+O14+T14+Y14+AD14+AI14+AN14+AS14+AX14+BC14+BH14+BM14) -> 0 | EZ14: =SUM(EU14+EV14) -> 731
A15: Feb-Jun 1985 | B15: 14 | C15: 179 | D15: =SUM(F14-C15-E14) -> 19 | E15: 4 | F15: =SUM(B15+C15) -> 193 | G15: 16 | H15: 266 | I15: =SUM(K14-H15-J14) -> 26 | J15: 3 | K15: =SUM(G15+H15) -> 282 | L15: 16 | M15: 151 | N15: =SUM(P14-M15-O14) -> 22 | O15: 0 | P15: =SUM(L15+M15) -> 167 | Q15: 0 | R15: 63 | S15: =SUM(U14-R15-T14) -> 5 | T15: 0 | U15: =SUM(Q15+R15) -> 63 | EU15: =SUM(B15+G15+L15+Q15+V15+AA15+AF15+AK15+AP15+AU15+AZ15+BE15+BJ15) -> 46 | EV15: =SUM(C15+H15+M15+R15+W15+AB15+AG15+AL15+AQ15+AV15+BA15+BF15+BK15) -> 659 | EW15: =SUM(D15+I15+N15+S15+X15+AC15+AH15+AM15+AR15+AW15+BB15+BG15) -> 72 | EX15: =SUM(EZ14-EV15-EY14) -> 72 | EY15: =SUM(E15+J15+O15+T15+Y15+AD15+AI15+AN15+AS15+AX15+BC15+BH15+BM15) -> 7 | EZ15: =SUM(EU15+EV15) -> 705
A16: Ago-Dic 1985 | B16: 35 | C16: 168 | D16: =SUM(F15-C16-E15) -> 21 | E16: 4 | F16: =SUM(B16+C16) -> 203 | G16: 96 | H16: 248 | I16: =SUM(K15-H16-J15) -> 31 | J16: 5 | K16: =SUM(G16+H16) -> 344 | L16: 25 | M16: 164 | N16: =SUM(P15-M16-O15) -> 3 | O16: 12 | P16: =SUM(L16+M16) -> 189 | Q16: 0 | R16: 64 | S16: =SUM(U15-R16-T15) -> -1 | T16: 0 | U16: =SUM(Q16+R16) -> 64 | EU16: =SUM(B16+G16+L16+Q16+V16+AA16+AF16+AK16+AP16+AU16+AZ16+BE16+BJ16) -> 156 | EV16: =SUM(C16+H16+M16+R16+W16+AB16+AG16+AL16+AQ16+AV16+BA16+BF16+BK16) -> 644 | EW16: =SUM(D16+I16+N16+S16+X16+AC16+AH16+AM16+AR16+AW16+BB16+BG16) -> 54 | EX16: =SUM(EZ15-EV16-EY15) -> 54 | EY16: =SUM(E16+J16+O16+T16+Y16+AD16+AI16+AN16+AS16+AX16+BC16+BH16+BM16) -> 21 | EZ16: =SUM(EU16+EV16) -> 800
A17: Feb-Jun 1986 | B17: 0 | C17: 187 | D17: =SUM(F16-C17-E16) -> 12 | E17: 7 | F17: =SUM(B17+C17) -> 187 | G17: 51 | H17: 272 | I17: =SUM(K16-H17-J16) -> 67 | J17: 8 | K17: =SUM(G17+H17) -> 323 | L17: 0 | M17: 149 | N17: =SUM(P16-M17-O16) -> 28 | O17: 7 | P17: =SUM(L17+M17) -> 149 | Q17: 0 | R17: 50 | S17: =SUM(U16-R17-T16) -> 14 | T17: 2 | U17: =SUM(Q17+R17) -> 50 | EU17: =SUM(B17+G17+L17+Q17+V17+AA17+AF17+AK17+AP17+AU17+AZ17+BE17+BJ17) -> 51 | EV17: =SUM(C17+H17+M17+R17+W17+AB17+AG17+AL17+AQ17+AV17+BA17+BF17+BK17) -> 658 | EW17: =SUM(D17+I17+N17+S17+X17+AC17+AH17+AM17+AR17+AW17+BB17+BG17) -> 121 | EX17: =SUM(EZ16-EV17-EY16) -> 121 | EY17: =SUM(E17+J17+O17+T17+Y17+AD17+AI17+AN17+AS17+AX17+BC17+BH17+BM17) -> 24 | EZ17: =SUM(EU17+EV17) -> 709
A18: Ago-Dic 1986 | B18: 37 | C18: 166 | D18: =SUM(F17-C18-E17) -> 14 | E18: 11 | F18: =SUM(B18+C18) -> 203 | G18: 2 | H18: 293 | I18: =SUM(K17-H18-J17) -> 22 | J18: 20 | K18: =SUM(G18+H18) -> 295 | L18: 23 | M18: 129 | N18: =SUM(P17-M18-O17) -> 13 | O18: 31 | P18: =SUM(L18+M18) -> 152 | Q18: 0 | R18: 51 | S18: =SUM(U17-R18-T17) -> -3 | T18: 10 | U18: =SUM(Q18+R18) -> 51 | V18: 105 | W18: 0 | X18: =SUM(Z17-W18-Y17) -> 0 | Y18: 0 | Z18: =SUM(V18+W18) -> 105 | EU18: =SUM(B18+G18+L18+Q18+V18+AA18+AF18+AK18+AP18+AU18+AZ18+BE18+BJ18) -> 167 | EV18: =SUM(C18+H18+M18+R18+W18+AB18+AG18+AL18+AQ18+AV18+BA18+BF18+BK18) -> 639 | EW18: =SUM(D18+I18+N18+S18+X18+AC18+AH18+AM18+AR18+AW18+BB18+BG18) -> 46 | EX18: =SUM(EZ17-EV18-EY17) -> 46 | EY18: =SUM(E18+J18+O18+T18+Y18+AD18+AI18+AN18+AS18+AX18+BC18+BH18+BM18) -> 72 | EZ18: =SUM(EU18+EV18) -> 806
A19: Feb-Jun 1987 | B19: 9 | C19: 183 | D19: =SUM(F18-C19-E18) -> 9 | E19: 26 | F19: =SUM(B19+C19) -> 192 | G19: 0 | H19: 251 | I19: =SUM(K18-H19-J18) -> 24 | J19: 27 | K19: =SUM(G19+H19) -> 251 | L19: 6 | M19: 114 | N19: =SUM(P18-M19-O18) -> 7 | O19: 17 | P19: =SUM(L19+M19) -> 120 | Q19: 0 | R19: 39 | S19: =SUM(U18-R19-T18) -> 2 | T19: 18 | U19: =SUM(Q19+R19) -> 39 | V19: 25 | W19: 80 | X19: =SUM(Z18-W19-Y18) -> 25 | Y19: 0 | Z19: =SUM(V19+W19) -> 105 | AA19: 6 | AB19: 0 | AC19: =SUM(AE18-AB19-AD18) -> 0 | AD19: 0 | AE19: =SUM(AA19+AB19) -> 6 | EU19: =SUM(B19+G19+L19+Q19+V19+AA19+AF19+AK19+AP19+AU19+AZ19+BE19+BJ19) -> 46 | EV19: =SUM(C19+H19+M19+R19+W19+AB19+AG19+AL19+AQ19+AV19+BA19+BF19+BK19) -> 667 | EW19: =SUM(D19+I19+N19+S19+X19+AC19+AH19+AM19+AR19+AW19+BB19+BG19) -> 67 | EX19: =SUM(EZ18-EV19-EY18) -> 67 | EY19: =SUM(E19+J19+O19+T19+Y19+AD19+AI19+AN19+AS19+AX19+BC19+BH19+BM19) -> 88 | EZ19: =SUM(EU19+EV19) -> 713
A20: Ago-Dic 1987 | B20: 0 | C20: 132 | D20: =SUM(F19-C20-E19) -> 34 | E20: 11 | F20: =SUM(B20+C20) -> 132 | G20: 0 | H20: 212 | I20: =SUM(K19-H20-J19) -> 12 | J20: 30 | K20: =SUM(G20+H20) -> 212 | L20: 0 | M20: 91 | N20: =SUM(P19-M20-O19) -> 12 | O20: 18 | P20: =SUM(L20+M20) -> 91 | Q20: 0 | R20: 19 | S20: =SUM(U19-R20-T19) -> 2 | T20: 9 | U20: =SUM(Q20+R20) -> 19 | V20: 105 | W20: 96 | X20: =SUM(Z19-W20-Y19) -> 9 | Y20: 0 | Z20: =SUM(V20+W20) -> 201 | AA20: 24 | AB20: 2 | AC20: =SUM(AE19-AB20-AD19) -> 4 | AD20: 0 | AE20: =SUM(AA20+AB20) -> 26 | AF20: 17 | AG20: 0 | AH20: =SUM(AJ19-AG20-AI19) -> 0 | AI20: 0 | AJ20: =SUM(AF20+AG20) -> 17 | AK20: 45 | AL20: 0 | AM20: =SUM(AO19-AL20-AN19) -> 0 | AN20: 0 | AO20: =SUM(AK20+AL20) -> 45 | AP20: 63 | AQ20: 0 | AR20: =SUM(AT19-AQ20-AS19) -> 0 | AS20: 0 | AT20: =SUM(AP20+AQ20) -> 63 | EU20: =SUM(B20+G20+L20+Q20+V20+AA20+AF20+AK20+AP20+AU20+AZ20+BE20+BJ20) -> 254 | EV20: =SUM(C20+H20+M20+R20+W20+AB20+AG20+AL20+AQ20+AV20+BA20+BF20+BK20) -> 552 | EW20: =SUM(D20+I20+N20+S20+X20+AC20+AH20+AM20+AR20+AW20+BB20+BG20) -> 73 | EX20: =SUM(EZ19-EV20-EY19) -> 73 | EY20: =SUM(E20+J20+O20+T20+Y20+AD20+AI20+AN20+AS20+AX20+BC20+BH20+BM20) -> 68 | EZ20: =SUM(EU20+EV20) -> 806
A21: Feb-Jun 1988 | B21: 0 | C21: 107 | D21: =SUM(F20-C21-E20) -> 14 | E21: 17 | F21: =SUM(B21+C21) -> 107 | G21: 0 | H21: 163 | I21: =SUM(K20-H21-J20) -> 19 | J21: 20 | K21: =SUM(G21+H21) -> 163 | L21: 0 | M21: 58 | N21: =SUM(P20-M21-O20) -> 15 | O21: 5 | P21: =SUM(L21+M21) -> 58 | Q21: 0 | R21: 11 | S21: =SUM(U20-R21-T20) -> -1 | T21: 3 | U21: =SUM(Q21+R21) -> 11 | V21: 26 | W21: 148 | X21: =SUM(Z20-W21-Y20) -> 53 | Y21: 0 | Z21: =SUM(V21+W21) -> 174 | AA21: 0 | AB21: 21 | AC21: =SUM(AE20-AB21-AD20) -> 5 | AD21: 0 | AE21: =SUM(AA21+AB21) -> 21 | AF21: 10 | AG21: 8 | AH21: =SUM(AJ20-AG21-AI20) -> 9 | AI21: 0 | AJ21: =SUM(AF21+AG21) -> 18 | AK21: 1 | AL21: 28 | AM21: =SUM(AO20-AL21-AN20) -> 17 | AN21: 0 | AO21: =SUM(AK21+AL21) -> 29 | AP21: 34 | AQ21: 46 | AR21: =SUM(AT20-AQ21-AS20) -> 17 | AS21: 0 | AT21: =SUM(AP21+AQ21) -> 80 | EU21: =SUM(B21+G21+L21+Q21+V21+AA21+AF21+AK21+AP21+AU21+AZ21+BE21+BJ21) -> 71 | EV21: =SUM(C21+H21+M21+R21+W21+AB21+AG21+AL21+AQ21+AV21+BA21+BF21+BK21) -> 590 | EW21: =SUM(D21+I21+N21+S21+X21+AC21+AH21+AM21+AR21+AW21+BB21+BG21) -> 148 | EX21: =SUM(EZ20-EV21-EY20) -> 148 | EY21: =SUM(E21+J21+O21+T21+Y21+AD21+AI21+AN21+AS21+AX21+BC21+BH21+BM21) -> 45 | EZ21: =SUM(EU21+EV21) -> 661
A22: Ago-Dic 1988 | B22: 0 | C22: 81 | D22: =SUM(F21-C22-E21) -> 9 | E22: 15 | F22: =SUM(B22+C22) -> 81 | G22: 0 | H22: 133 | I22: =SUM(K21-H22-J21) -> 10 | J22: 26 | K22: =SUM(G22+H22) -> 133 | L22: 0 | M22: 45 | N22: =SUM(P21-M22-O21) -> 8 | O22: 2 | P22: =SUM(L22+M22) -> 45 | Q22: 0 | R22: 4 | S22: =SUM(U21-R22-T21) -> 4 | T22: 0 | U22: =SUM(Q22+R22) -> 4 | V22: 110 | W22: 148 | X22: =SUM(Z21-W22-Y21) -> 26 | Y22: 0 | Z22: =SUM(V22+W22) -> 258 | AA22: 30 | AB22: 15 | AC22: =SUM(AE21-AB22-AD21) -> 6 | AD22: 0 | AE22: =SUM(AA22+AB22) -> 45 | AF22: 60 | AG22: 12 | AH22: =SUM(AJ21-AG22-AI21) -> 6 | AI22: 0 | AJ22: =SUM(AF22+AG22) -> 72 | AK22: 30 | AL22: 23 | AM22: =SUM(AO21-AL22-AN21) -> 6 | AN22: 0 | AO22: =SUM(AK22+AL22) -> 53 | AP22: 95 | AQ22: 72 | AR22: =SUM(AT21-AQ22-AS21) -> 8 | AS22: 0 | AT22: =SUM(AP22+AQ22) -> 167 | EU22: =SUM(B22+G22+L22+Q22+V22+AA22+AF22+AK22+AP22+AU22+AZ22+BE22+BJ22) -> 325 | EV22: =SUM(C22+H22+M22+R22+W22+AB22+AG22+AL22+AQ22+AV22+BA22+BF22+BK22) -> 533 | EW22: =SUM(D22+I22+N22+S22+X22+AC22+AH22+AM22+AR22+AW22+BB22+BG22) -> 83 | EX22: =SUM(EZ21-EV22-EY21) -> 83 | EY22: =SUM(E22+J22+O22+T22+Y22+AD22+AI22+AN22+AS22+AX22+BC22+BH22+BM22) -> 43 | EZ22: =SUM(EU22+EV22) -> 858
A23: Feb-Jun 1989 | B23: 0 | C23: 62 | D23: =SUM(F22-C23-E22) -> 4 | E23: 6 | F23: =SUM(B23+C23) -> 62 | G23: 0 | H23: 91 | I23: =SUM(K22-H23-J22) -> 16 | J23: 30 | K23: =SUM(G23+H23) -> 91 | L23: 0 | M23: 41 | N23: =SUM(P22-M23-O22) -> 2 | O23: 7 | P23: =SUM(L23+M23) -> 41 | Q23: 0 | R23: 1 | S23: =SUM(U22-R23-T22) -> 3 | T23: 0 | U23: =SUM(Q23+R23) -> 1 | V23: 27 | W23: 214 | X23: =SUM(Z22-W23-Y22) -> 44 | Y23: 0 | Z23: =SUM(V23+W23) -> 241 | AA23: 0 | AB23: 25 | AC23: =SUM(AE22-AB23-AD22) -> 20 | AD23: 0 | AE23: =SUM(AA23+AB23) -> 25 | AF23: 11 | AG23: 60 | AH23: =SUM(AJ22-AG23-AI22) -> 12 | AI23: 0 | AJ23: =SUM(AF23+AG23) -> 71 | AK23: 0 | AL23: 41 | AM23: =SUM(AO22-AL23-AN22) -> 12 | AN23: 0 | AO23: =SUM(AK23+AL23) -> 41 | AP23: 36 | AQ23: 143 | AR23: =SUM(AT22-AQ23-AS22) -> 24 | AS23: 0 | AT23: =SUM(AP23+AQ23) -> 179 | EU23: =SUM(B23+G23+L23+Q23+V23+AA23+AF23+AK23+AP23+AU23+AZ23+BE23+BJ23) -> 74 | EV23: =SUM(C23+H23+M23+R23+W23+AB23+AG23+AL23+AQ23+AV23+BA23+BF23+BK23) -> 678 | EW23: =SUM(D23+I23+N23+S23+X23+AC23+AH23+AM23+AR23+AW23+BB23+BG23) -> 137 | EX23: =SUM(EZ22-EV23-EY22) -> 137 | EY23: =SUM(E23+J23+O23+T23+Y23+AD23+AI23+AN23+AS23+AX23+BC23+BH23+BM23) -> 43 | EZ23: =SUM(EU23+EV23) -> 752
A24: Ago-Dic 1989 | B24: 0 | C24: 50 | D24: =SUM(F23-C24-E23) -> 6 | E24: 12 | F24: =SUM(B24+C24) -> 50 | G24: 0 | H24: 66 | I24: =SUM(K23-H24-J23) -> -5 | J24: 19 | K24: =SUM(G24+H24) -> 66 | L24: 0 | M24: 36 | N24: =SUM(P23-M24-O23) -> -2 | O24: 5 | P24: =SUM(L24+M24) -> 36 | Q24: 0 | R24: 0 | S24: =SUM(U23-R24-T23) -> 1 | T24: 1 | U24: 0 | V24: 120 | W24: 207 | X24: =SUM(Z23-W24-Y23) -> 34 | Y24: 0 | Z24: =SUM(V24+W24) -> 327 | AA24: 24 | AB24: 18 | AC24: =SUM(AE23-AB24-AD23) -> 7 | AD24: 0 | AE24: =SUM(AA24+AB24) -> 42 | AF24: 81 | AG24: 55 | AH24: =SUM(AJ23-AG24-AI23) -> 16 | AI24: 0 | AJ24: =SUM(AF24+AG24) -> 136 | AK24: 40 | AL24: 37 | AM24: =SUM(AO23-AL24-AN23) -> 4 | AN24: 0 | AO24: =SUM(AK24+AL24) -> 77 | AP24: 148 | AQ24: 155 | AR24: =SUM(AT23-AQ24-AS23) -> 24 | AS24: 0 | AT24: =SUM(AP24+AQ24) -> 303 | EU24: =SUM(B24+G24+L24+Q24+V24+AA24+AF24+AK24+AP24+AU24+AZ24+BE24+BJ24) -> 413 | EV24: =SUM(C24+H24+M24+R24+W24+AB24+AG24+AL24+AQ24+AV24+BA24+BF24+BK24) -> 624 | EW24: =SUM(D24+I24+N24+S24+X24+AC24+AH24+AM24+AR24+AW24+BB24+BG24) -> 85 | EX24: =SUM(EZ23-EV24-EY23) -> 85 | EY24: =SUM(E24+J24+O24+T24+Y24+AD24+AI24+AN24+AS24+AX24+BC24+BH24+BM24) -> 37 | EZ24: =SUM(EU24+EV24) -> 1037
A25: Feb-Jun 1990 | B25: 0 | C25: 40 | D25: =SUM(F24-C25-E24) -> -2 | E25: 14 | F25: =SUM(B25+C25) -> 40 | G25: 0 | H25: 44 | I25: =SUM(K24-H25-J24) -> 3 | J25: 17 | K25: =SUM(G25+H25) -> 44 | L25: 0 | M25: 27 | N25: =SUM(P24-M25-O24) -> 4 | O25: 3 | P25: =SUM(L25+M25) -> 27 | Q25: 0 | R25: 0 | S25: =SUM(U24-R25-T24) -> -1 | T25: 0 | U25: 0 | V25: 20 | W25: 263 | X25: =SUM(Z24-W25-Y24) -> 64 | Y25: 0 | Z25: =SUM(V25+W25) -> 283 | AA25: 1 | AB25: 33 | AC25: =SUM(AE24-AB25-AD24) -> 9 | AD25: 0 | AE25: =SUM(AA25+AB25) -> 34 | AF25: 17 | AG25: 112 | AH25: =SUM(AJ24-AG25-AI24) -> 24 | AI25: 0 | AJ25: =SUM(AF25+AG25) -> 129 | AK25: 3 | AL25: 56 | AM25: =SUM(AO24-AL25-AN24) -> 21 | AN25: 0 | AO25: =SUM(AK25+AL25) -> 59 | AP25: 39 | AQ25: 243 | AR25: =SUM(AT24-AQ25-AS24) -> 60 | AS25: 0 | AT25: =SUM(AP25+AQ25) -> 282 | EU25: =SUM(B25+G25+L25+Q25+V25+AA25+AF25+AK25+AP25+AU25+AZ25+BE25+BJ25) -> 80 | EV25: =SUM(C25+H25+M25+R25+W25+AB25+AG25+AL25+AQ25+AV25+BA25+BF25+BK25) -> 818 | EW25: =SUM(D25+I25+N25+S25+X25+AC25+AH25+AM25+AR25+AW25+BB25+BG25) -> 182 | EX25: =SUM(EZ24-EV25-EY24) -> 182 | EY25: =SUM(E25+J25+O25+T25+Y25+AD25+AI25+AN25+AS25+AX25+BC25+BH25+BM25) -> 34 | EZ25: =SUM(EU25+EV25) -> 898
A26: Ago-Dic 1990 | B26: 0 | C26: 25 | D26: =SUM(F25-C26-E25) -> 1 | E26: 13 | F26: =SUM(B26+C26) -> 25 | G26: 0 | H26: 22 | I26: =SUM(K25-H26-J25) -> 5 | J26: 6 | K26: =SUM(G26+H26) -> 22 | L26: 0 | M26: 22 | N26: =SUM(P25-M26-O25) -> 2 | O26: 9 | P26: =SUM(L26+M26) -> 22 | V26: 69 | W26: 244 | X26: =SUM(Z25-W26-Y25) -> 39 | Y26: 0 | Z26: =SUM(V26+W26) -> 313 | AA26: 26 | AB26: 29 | AC26: =SUM(AE25-AB26-AD25) -> 5 | AD26: 0 | AE26: =SUM(AA26+AB26) -> 55 | AF26: 49 | AG26: 118 | AH26: =SUM(AJ25-AG26-AI25) -> 11 | AI26: 0 | AJ26: =SUM(AF26+AG26) -> 167 | AK26: 14 | AL26: 53 | AM26: =SUM(AO25-AL26-AN25) -> 6 | AN26: 0 | AO26: =SUM(AK26+AL26) -> 67 | AP26: 111 | AQ26: 260 | AR26: =SUM(AT25-AQ26-AS25) -> 22 | AS26: 0 | AT26: =SUM(AP26+AQ26) -> 371 | EU26: =SUM(B26+G26+L26+Q26+V26+AA26+AF26+AK26+AP26+AU26+AZ26+BE26+BJ26) -> 269 | EV26: =SUM(C26+H26+M26+R26+W26+AB26+AG26+AL26+AQ26+AV26+BA26+BF26+BK26) -> 773 | EX26: =SUM(EZ25-EV26-EY25) -> 91 | EY26: =SUM(E26+J26+O26+T26+Y26+AD26+AI26+AN26+AS26+AX26+BC26+BH26+BM26) -> 28 | EZ26: =SUM(EU26+EV26) -> 1042
A27: Feb-Jun 1991 | B27: 0 | C27: 10 | D27: =SUM(F26-C27-E26) -> 2 | E27: 3 | F27: =SUM(B27+C27) -> 10 | G27: 0 | H27: 11 | I27: =SUM(K26-H27-J26) -> 5 | J27: 4 | K27: =SUM(G27+H27) -> 11 | L27: 0 | M27: 8 | N27: =SUM(P26-M27-O26) -> 5 | O27: 11 | P27: =SUM(L27+M27) -> 8 | V27: 0 | W27: 265 | X27: =SUM(Z26-W27-Y26) -> 48 | Y27: 12 | Z27: =SUM(V27+W27) -> 265 | AA27: 0 | AB27: 46 | AC27: =SUM(AE26-AB27-AD26) -> 9 | AD27: 0 | AE27: =SUM(AA27+AB27) -> 46 | AF27: 1 | AG27: 140 | AH27: =SUM(AJ26-AG27-AI26) -> 27 | AI27: 1 | AJ27: =SUM(AF27+AG27) -> 141 | AK27: 1 | AL27: 65 | AM27: =SUM(AO26-AL27-AN26) -> 2 | AN27: 0 | AO27: =SUM(AK27+AL27) -> 66 | AP27: 0 | AQ27: 328 | AR27: =SUM(AT26-AQ27-AS26) -> 43 | AS27: 1 | AT27: =SUM(AP27+AQ27) -> 328 | EU27: =SUM(B27+G27+L27+Q27+V27+AA27+AF27+AK27+AP27+AU27+AZ27+BE27+BJ27) -> 2 | EV27: =SUM(C27+H27+M27+R27+W27+AB27+AG27+AL27+AQ27+AV27+BA27+BF27+BK27) -> 873 | EX27: =SUM(EZ26-EV27-EY26) -> 141 | EY27: =SUM(E27+J27+O27+T27+Y27+AD27+AI27+AN27+AS27+AX27+BC27+BH27+BM27) -> 32 | EZ27: =SUM(EU27+EV27) -> 875
A28: Ago-Dic 1991 | B28: 0 | C28: 6 | D28: =SUM(F27-C28-E27) -> 1 | E28: 2 | F28: =SUM(B28+C28) -> 6 | G28: 0 | H28: 6 | I28: =SUM(K27-H28-J27) -> 1 | J28: 3 | K28: =SUM(G28+H28) -> 6 | L28: 0 | M28: 0 | N28: =SUM(P27-M28-O27) -> -3 | O28: 0 | P28: =SUM(L28+M28) -> 0 | V28: 64 | W28: 224 | X28: =SUM(Z27-W28-Y27) -> 29 | Y28: 19 | Z28: =SUM(V28+W28) -> 288 | AA28: 38 | AB28: 48 | AC28: =SUM(AE27-AB28-AD27) -> -2 | AD28: 1 | AE28: =SUM(AA28+AB28) -> 86 | AF28: 59 | AG28: 128 | AH28: =SUM(AJ27-AG28-AI27) -> 12 | AI28: 6 | AJ28: =SUM(AF28+AG28) -> 187 | AK28: 45 | AL28: 62 | AM28: =SUM(AO27-AL28-AN27) -> 4 | AN28: 13 | AO28: =SUM(AK28+AL28) -> 107 | AP28: 106 | AQ28: 306 | AR28: =SUM(AT27-AQ28-AS27) -> 21 | AS28: 20 | AT28: =SUM(AP28+AQ28) -> 412 | EU28: =SUM(B28+G28+L28+Q28+V28+AA28+AF28+AK28+AP28+AU28+AZ28+BE28+BJ28) -> 312 | EV28: =SUM(C28+H28+M28+R28+W28+AB28+AG28+AL28+AQ28+AV28+BA28+BF28+BK28) -> 780 | EX28: =SUM(EZ27-EV28-EY27) -> 63 | EY28: =SUM(E28+J28+O28+T28+Y28+AD28+AI28+AN28+AS28+AX28+BC28+BH28+BM28) -> 64 | EZ28: =SUM(EU28+EV28) -> 1092
A29: Feb-Jun 1992 | B29: 0 | C29: 3 | D29: =SUM(F28-C29-E28) -> 1 | E29: 0 | F29: =SUM(B29+C29) -> 3 | G29: 0 | H29: 3 | I29: 0 | J29: 3 | K29: =SUM(G29+H29) -> 3 | L29: 0 | M29: 1 | N29: =SUM(P28-M29-O28) -> -1 | O29: 1 | P29: =SUM(L29+M29) -> 1 | V29: 21 | W29: 233 | X29: =SUM(Z28-W29-Y28) -> 36 | Y29: 17 | Z29: =SUM(V29+W29) -> 254 | AA29: 0 | AB29: 70 | AC29: =SUM(AE28-AB29-AD28) -> 15 | AD29: 8 | AE29: =SUM(AA29+AB29) -> 70 | AF29: 43 | AG29: 158 | AH29: =SUM(AJ28-AG29-AI28) -> 23 | AI29: 8 | AJ29: =SUM(AF29+AG29) -> 201 | AK29: 0 | AL29: 75 | AM29: =SUM(AO28-AL29-AN28) -> 19 | AN29: 6 | AO29: =SUM(AK29+AL29) -> 75 | AP29: 45 | AQ29: 350 | AR29: =SUM(AT28-AQ29-AS28) -> 42 | AS29: 20 | AT29: =SUM(AP29+AQ29) -> 395 | EU29: =SUM(B29+G29+L29+Q29+V29+AA29+AF29+AK29+AP29+AU29+AZ29+BE29+BJ29) -> 109 | EV29: =SUM(C29+H29+M29+R29+W29+AB29+AG29+AL29+AQ29+AV29+BA29+BF29+BK29) -> 893 | EX29: =SUM(EZ28-EV29-EY28) -> 135 | EY29: =SUM(E29+J29+O29+T29+Y29+AD29+AI29+AN29+AS29+AX29+BC29+BH29+BM29) -> 63 | EZ29: =SUM(EU29+EV29) -> 1002
A30: Ago-Dic 1992 | B30: 0 | C30: 0 | D30: =SUM(F29-C30-E29) -> 3 | E30: 0 | F30: 0 | G30: 0 | H30: 0 | I30: 0 | J30: 0 | K30: 0 | L30: 0 | M30: 0 | N30: 0 | O30: 0 | P30: 0 | V30: 80 | W30: 229 | X30: =SUM(Z29-W30-Y29) -> 8 | Y30: 15 | Z30: =SUM(V30+W30) -> 309 | AA30: 50 | AB30: 66 | AC30: =SUM(AE29-AB30-AD29) -> -4 | AD30: 5 | AE30: =SUM(AA30+AB30) -> 116 | AF30: 108 | AG30: 178 | AH30: =SUM(AJ29-AG30-AI29) -> 15 | AI30: 1 | AJ30: =SUM(AF30+AG30) -> 286 | AK30: 57 | AL30: 63 | AM30: =SUM(AO29-AL30-AN29) -> 6 | AN30: 1 | AO30: =SUM(AK30+AL30) -> 120 | AP30: 127 | AQ30: 327 | AR30: =SUM(AT29-AQ30-AS29) -> 48 | AS30: 20 | AT30: =SUM(AP30+AQ30) -> 454 | EU30: =SUM(B30+G30+L30+Q30+V30+AA30+AF30+AK30+AP30+AU30+AZ30+BE30+BJ30) -> 422 | EV30: =SUM(C30+H30+M30+R30+W30+AB30+AG30+AL30+AQ30+AV30+BA30+BF30+BK30) -> 863 | EX30: =SUM(EZ29-EV30-EY29) -> 76 | EY30: =SUM(E30+J30+O30+T30+Y30+AD30+AI30+AN30+AS30+AX30+BC30+BH30+BM30) -> 42 | EZ30: =SUM(EU30+EV30) -> 1285
A31: Feb-Jun 1993 | V31: 5 | W31: 233 | X31: =SUM(Z30-W31-Y30) -> 61 | Y31: 27 | Z31: =SUM(V31+W31) -> 238 | AA31: 15 | AB31: 79 | AC31: =SUM(AE30-AB31-AD30) -> 32 | AD31: 5 | AE31: =SUM(AA31+AB31) -> 94 | AF31: 35 | AG31: 242 | AH31: =SUM(AJ30-AG31-AI30) -> 43 | AI31: 10 | AJ31: =SUM(AF31+AG31) -> 277 | AK31: 20 | AL31: 92 | AM31: =SUM(AO30-AL31-AN30) -> 27 | AN31: 3 | AO31: =SUM(AK31+AL31) -> 112 | AP31: 43 | AQ31: 323 | AR31: =SUM(AT30-AQ31-AS30) -> 111 | AS31: 29 | AT31: =SUM(AP31+AQ31) -> 366 | EU31: =SUM(B31+G31+L31+Q31+V31+AA31+AF31+AK31+AP31+AU31+AZ31+BE31+BJ31) -> 118 | EV31: =SUM(C31+H31+M31+R31+W31+AB31+AG31+AL31+AQ31+AV31+BA31+BF31+BK31) -> 969 | EX31: =SUM(EZ30-EV31-EY30) -> 274 | EY31: =SUM(E31+J31+O31+T31+Y31+AD31+AI31+AN31+AS31+AX31+BC31+BH31+BM31) -> 74 | EZ31: =SUM(EU31+EV31) -> 1087
A32: Ago-Dic 1993 | V32: 42 | W32: 184 | X32: =SUM(Z31-W32-Y31) -> 27 | Y32: 19 | Z32: =SUM(V32+W32) -> 226 | AA32: 49 | AB32: 66 | AC32: =SUM(AE31-AB32-AD31) -> 23 | AD32: 1 | AE32: =SUM(AA32+AB32) -> 115 | AF32: 135 | AG32: 235 | AH32: =SUM(AJ31-AG32-AI31) -> 32 | AI32: 7 | AJ32: =SUM(AF32+AG32) -> 370 | AK32: 62 | AL32: 81 | AM32: =SUM(AO31-AL32-AN31) -> 28 | AN32: 7 | AO32: =SUM(AK32+AL32) -> 143 | AP32: 133 | AQ32: 282 | AR32: =SUM(AT31-AQ32-AS31) -> 55 | AS32: 47 | AT32: =SUM(AP32+AQ32) -> 415 | EU32: =SUM(B32+G32+L32+Q32+V32+AA32+AF32+AK32+AP32+AU32+AZ32+BE32+BJ32) -> 421 | EV32: =SUM(C32+H32+M32+R32+W32+AB32+AG32+AL32+AQ32+AV32+BA32+BF32+BK32) -> 848 | EX32: =SUM(EZ31-EV32-EY31) -> 165 | EY32: =SUM(E32+J32+O32+T32+Y32+AD32+AI32+AN32+AS32+AX32+BC32+BH32+BM32) -> 81 | EZ32: =SUM(EU32+EV32) -> 1269
A33: Feb-Jun 1994 | V33: 34 | W33: 169 | X33: =SUM(Z32-W33-Y32) -> 38 | Y33: 18 | Z33: =SUM(V33+W33) -> 203 | AA33: 0 | AB33: 93 | AC33: =SUM(AE32-AB33-AD32) -> 21 | AD33: 9 | AE33: =SUM(AA33+AB33) -> 93 | AF33: 53 | AG33: 298 | AH33: =SUM(AJ32-AG33-AI32) -> 65 | AI33: 29 | AJ33: =SUM(AF33+AG33) -> 351 | AK33: 0 | AL33: 118 | AM33: =SUM(AO32-AL33-AN32) -> 18 | AN33: 5 | AO33: =SUM(AK33+AL33) -> 118 | AP33: 47 | AQ33: 292 | AR33: =SUM(AT32-AQ33-AS32) -> 76 | AS33: 27 | AT33: =SUM(AP33+AQ33) -> 339 | AU33: 89 | AV33: 0 | AW33: =SUM(AY32-AV33-AX32) -> 0 | AX33: 0 | AY33: =SUM(AU33+AV33) -> 89 | EU33: =SUM(B33+G33+L33+Q33+V33+AA33+AF33+AK33+AP33+AU33+AZ33+BE33+BJ33) -> 223 | EV33: =SUM(C33+H33+M33+R33+W33+AB33+AG33+AL33+AQ33+AV33+BA33+BF33+BK33) -> 970 | EX33: =SUM(EZ32-EV33-EY32) -> 218 | EY33: =SUM(E33+J33+O33+T33+Y33+AD33+AI33+AN33+AS33+AX33+BC33+BH33+BM33) -> 88 | EZ33: =SUM(EU33+EV33) -> 1193
A34: Ago-Dic 1994 | V34: 88 | W34: 159 | X34: =SUM(Z33-W34-Y33) -> 26 | Y34: 19 | Z34: =SUM(V34+W34) -> 247 | AA34: 52 | AB34: 74 | AC34: =SUM(AE33-AB34-AD33) -> 10 | AD34: 5 | AE34: =SUM(AA34+AB34) -> 126 | AF34: 138 | AG34: 308 | AH34: =SUM(AJ33-AG34-AI33) -> 14 | AI34: 21 | AJ34: =SUM(AF34+AG34) -> 446 | AK34: 85 | AL34: 100 | AM34: =SUM(AO33-AL34-AN33) -> 13 | AN34: 1 | AO34: =SUM(AK34+AL34) -> 185 | AP34: 140 | AQ34: 283 | AR34: =SUM(AT33-AQ34-AS33) -> 29 | AS34: 29 | AT34: =SUM(AP34+AQ34) -> 423 | AU34: 150 | AV34: 86 | AW34: =SUM(AY33-AV34-AX33) -> 3 | AX34: 0 | AY34: =SUM(AU34+AV34) -> 236 | AZ34: 89 | BA34: 0 | BB34: =SUM(BD33-BA34-BC33) -> 0 | BC34: 0 | BD34: =SUM(AZ34+BA34) -> 89 | BE34: 70 | BF34: 0 | BG34: =SUM(BI33-BF34-BH33) -> 0 | BH34: 0 | BI34: =SUM(BE34+BF34) -> 70 | EU34: =SUM(B34+G34+L34+Q34+V34+AA34+AF34+AK34+AP34+AU34+AZ34+BE34+BJ34) -> 812 | EV34: =SUM(C34+H34+M34+R34+W34+AB34+AG34+AL34+AQ34+AV34+BA34+BF34+BK34) -> 1010 | EX34: =SUM(EZ33-EV34-EY33) -> 95 | EY34: =SUM(E34+J34+O34+T34+Y34+AD34+AI34+AN34+AS34+AX34+BC34+BH34+BM34) -> 75 | EZ34: =SUM(EU34+EV34) -> 1822
A35: Feb-Jun 1995 | V35: 26 | W35: 170 | X35: =SUM(Z34-W35-Y34) -> 58 | Y35: 18 | Z35: =SUM(V35+W35) -> 196 | AA35: 13 | AB35: 94 | AC35: =SUM(AE34-AB35-AD34) -> 27 | AD35: 4 | AE35: =SUM(AA35+AB35) -> 107 | AF35: 95 | AG35: 395 | AH35: =SUM(AJ34-AG35-AI34) -> 30 | AI35: 3 | AJ35: =SUM(AF35+AG35) -> 490 | AK35: 20 | AL35: 139 | AM35: =SUM(AO34-AL35-AN34) -> 45 | AN35: 3 | AO35: =SUM(AK35+AL35) -> 159 | AP35: 48 | AQ35: 352 | AR35: =SUM(AT34-AQ35-AS34) -> 42 | AS35: 9 | AT35: =SUM(AP35+AQ35) -> 400 | AU35: 101 | AV35: 209 | AW35: =SUM(AY34-AV35-AX34) -> 27 | AX35: 0 | AY35: =SUM(AU35+AV35) -> 310 | AZ35: 50 | BA35: 53 | BB35: =SUM(BD34-BA35-BC34) -> 36 | BC35: 0 | BD35: =SUM(AZ35+BA35) -> 103 | BE35: 53 | BF35: 56 | BG35: =SUM(BI34-BF35-BH34) -> 14 | BH35: 0 | BI35: =SUM(BE35+BF35) -> 109 | EU35: =SUM(B35+G35+L35+Q35+V35+AA35+AF35+AK35+AP35+AU35+AZ35+BE35+BJ35) -> 406 | EV35: =SUM(C35+H35+M35+R35+W35+AB35+AG35+AL35+AQ35+AV35+BA35+BF35+BK35) -> 1468 | EX35: =SUM(EZ34-EV35-EY34) -> 279 | EY35: =SUM(E35+J35+O35+T35+Y35+AD35+AI35+AN35+AS35+AX35+BC35+BH35+BM35) -> 37 | EZ35: =SUM(EU35+EV35) -> 1874
A36: Ago-Dic 1995 | V36: 91 | W36: 169 | X36: =SUM(Z35-W36-Y35) -> 9 | Y36: 24 | Z36: =SUM(V36+W36) -> 260 | AA36: 43 | AB36: 91 | AC36: =SUM(AE35-AB36-AD35) -> 12 | AD36: 4 | AE36: =SUM(AA36+AB36) -> 134 | AF36: 132 | AG36: 449 | AH36: =SUM(AJ35-AG36-AI35) -> 38 | AI36: 18 | AJ36: =SUM(AF36+AG36) -> 581 | AK36: 98 | AL36: 136 | AM36: =SUM(AO35-AL36-AN35) -> 20 | AN36: 5 | AO36: =SUM(AK36+AL36) -> 234 | AP36: 136 | AQ36: 351 | AR36: =SUM(AT35-AQ36-AS35) -> 40 | AS36: 0 | AT36: =SUM(AP36+AQ36) -> 487 | AU36: 92 | AV36: 286 | AW36: =SUM(AY35-AV36-AX35) -> 24 | AX36: 0 | AY36: =SUM(AU36+AV36) -> 378 | AZ36: 88 | BA36: 81 | BB36: =SUM(BD35-BA36-BC35) -> 22 | BC36: 0 | BD36: =SUM(AZ36+BA36) -> 169 | BE36: 41 | BF36: 89 | BG36: =SUM(BI35-BF36-BH35) -> 20 | BH36: 0 | BI36: =SUM(BE36+BF36) -> 130 | EU36: =SUM(B36+G36+L36+Q36+V36+AA36+AF36+AK36+AP36+AU36+AZ36+BE36+BJ36) -> 721 | EV36: =SUM(C36+H36+M36+R36+W36+AB36+AG36+AL36+AQ36+AV36+BA36+BF36+BK36) -> 1652 | EX36: =SUM(EZ35-EV36-EY35) -> 185 | EY36: =SUM(E36+J36+O36+T36+Y36+AD36+AI36+AN36+AS36+AX36+BC36+BH36+BM36) -> 51 | EZ36: =SUM(EU36+EV36) -> 2373
A37: Feb-Jun 1996 | V37: 7 | W37: 207 | X37: =SUM(Z36-W37-Y36) -> 29 | Y37: 14 | Z37: =SUM(V37+W37) -> 214 | AA37: 0 | AB37: 101 | AC37: =SUM(AE36-AB37-AD36) -> 29 | AD37: 6 | AE37: =SUM(AA37+AB37) -> 101 | AF37: 97 | AG37: 537 | AH37: =SUM(AJ36-AG37-AI36) -> 26 | AI37: 14 | AJ37: =SUM(AF37+AG37) -> 634 | AK37: 47 | AL37: 202 | AM37: =SUM(AO36-AL37-AN36) -> 27 | AN37: 12 | AO37: =SUM(AK37+AL37) -> 249 | AP37: 49 | AQ37: 383 | AR37: =SUM(AT36-AQ37-AS36) -> 104 | AS37: 17 | AT37: =SUM(AP37+AQ37) -> 432 | AU37: 48 | AV37: 358 | AW37: =SUM(AY36-AV37-AX36) -> 20 | AX37: 0 | AY37: =SUM(AU37+AV37) -> 406 | AZ37: 50 | BA37: 153 | BB37: =SUM(BD36-BA37-BC36) -> 16 | BC37: 0 | BD37: =SUM(AZ37+BA37) -> 203 | BE37: 0 | BF37: 103 | BG37: =SUM(BI36-BF37-BH36) -> 27 | BH37: 0 | BI37: =SUM(BE37+BF37) -> 103 | EU37: =SUM(B37+G37+L37+Q37+V37+AA37+AF37+AK37+AP37+AU37+AZ37+BE37+BJ37) -> 298 | EV37: =SUM(C37+H37+M37+R37+W37+AB37+AG37+AL37+AQ37+AV37+BA37+BF37+BK37) -> 2044 | EX37: =SUM(EZ36-EV37-EY36) -> 278 | EY37: =SUM(E37+J37+O37+T37+Y37+AD37+AI37+AN37+AS37+AX37+BC37+BH37+BM37) -> 63 | EZ37: =SUM(EU37+EV37) -> 2342
A38: Ago-Dic 1996 | V38: 98 | W38: 179 | X38: =SUM(Z37-W38-Y37) -> 21 | Y38: 14 | Z38: =SUM(V38+W38) -> 277 | AA38: 74 | AB38: 83 | AC38: =SUM(AE37-AB38-AD37) -> 12 | AD38: 8 | AE38: =SUM(AA38+AB38) -> 157 | AF38: 97 | AG38: 571 | AH38: =SUM(AJ37-AG38-AI37) -> 49 | AI38: 50 | AJ38: =SUM(AF38+AG38) -> 668 | AK38: 92 | AL38: 194 | AM38: =SUM(AO37-AL38-AN37) -> 43 | AN38: 5 | AO38: =SUM(AK38+AL38) -> 286 | AP38: 85 | AQ38: 354 | AR38: =SUM(AT37-AQ38-AS37) -> 61 | AS38: 21 | AT38: =SUM(AP38+AQ38) -> 439 | AU38: 93 | AV38: 388 | AW38: =SUM(AY37-AV38-AX37) -> 18 | AX38: 0 | AY38: =SUM(AU38+AV38) -> 481 | AZ38: 91 | BA38: 163 | BB38: =SUM(BD37-BA38-BC37) -> 40 | BC38: 0 | BD38: =SUM(AZ38+BA38) -> 254 | BE38: 43 | BF38: 88 | BG38: =SUM(BI37-BF38-BH37) -> 15 | BH38: 0 | BI38: =SUM(BE38+BF38) -> 131 | EU38: =SUM(B38+G38+L38+Q38+V38+AA38+AF38+AK38+AP38+AU38+AZ38+BE38+BJ38) -> 673 | EV38: =SUM(C38+H38+M38+R38+W38+AB38+AG38+AL38+AQ38+AV38+BA38+BF38+BK38) -> 2020 | EX38: =SUM(EZ37-EV38-EY37) -> 259 | EY38: =SUM(E38+J38+O38+T38+Y38+AD38+AI38+AN38+AS38+AX38+BC38+BH38+BM38) -> 98 | EZ38: =SUM(EU38+EV38) -> 2693
A39: Feb-Jun 1997 | V39: 42 | W39: 228 | X39: =SUM(Z38-W39-Y38) -> 35 | Y39: 6 | Z39: =SUM(V39+W39) -> 270 | AA39: 26 | AB39: 118 | AC39: =SUM(AE38-AB39-AD38) -> 31 | AD39: 0 | AE39: =SUM(AA39+AB39) -> 144 | AF39: 102 | AG39: 575 | AH39: =SUM(AJ38-AG39-AI38) -> 43 | AI39: 15 | AJ39: =SUM(AF39+AG39) -> 677 | AK39: 46 | AL39: 237 | AM39: =SUM(AO38-AL39-AN38) -> 44 | AN39: 7 | AO39: =SUM(AK39+AL39) -> 283 | AP39: 43 | AQ39: 362 | AR39: =SUM(AT38-AQ39-AS38) -> 56 | AS39: 14 | AT39: =SUM(AP39+AQ39) -> 405 | AU39: 46 | AV39: 458 | AW39: =SUM(AY38-AV39-AX38) -> 23 | AX39: 0 | AY39: =SUM(AU39+AV39) -> 504 | AZ39: 42 | BA39: 200 | BB39: =SUM(BD38-BA39-BC38) -> 54 | BC39: 0 | BD39: =SUM(AZ39+BA39) -> 242 | BE39: 27 | BF39: 104 | BG39: =SUM(BI38-BF39-BH38) -> 27 | BH39: 0 | BI39: =SUM(BE39+BF39) -> 131 | EU39: =SUM(B39+G39+L39+Q39+V39+AA39+AF39+AK39+AP39+AU39+AZ39+BE39+BJ39) -> 374 | EV39: =SUM(C39+H39+M39+R39+W39+AB39+AG39+AL39+AQ39+AV39+BA39+BF39+BK39) -> 2282 | EX39: =SUM(EZ38-EV39-EY38) -> 313 | EY39: =SUM(E39+J39+O39+T39+Y39+AD39+AI39+AN39+AS39+AX39+BC39+BH39+BM39) -> 42 | EZ39: =SUM(EU39+EV39) -> 2656
A40: Ago-Dic 1997 | V40: 78 | W40: 236 | X40: =SUM(Z39-W40-Y39) -> 28 | Y40: 13 | Z40: =SUM(V40+W40) -> 314 | AA40: 38 | AB40: 117 | AC40: =SUM(AE39-AB40-AD39) -> 27 | AD40: 11 | AE40: =SUM(AA40+AB40) -> 155 | AF40: 126 | AG40: 651 | AH40: =SUM(AJ39-AG40-AI39) -> 11 | AI40: 54 | AJ40: =SUM(AF40+AG40) -> 777 | AK40: 81 | AL40: 230 | AM40: =SUM(AO39-AL40-AN39) -> 46 | AN40: 10 | AO40: =SUM(AK40+AL40) -> 311 | AP40: 45 | AQ40: 343 | AR40: =SUM(AT39-AQ40-AS39) -> 48 | AS40: 15 | AT40: =SUM(AP40+AQ40) -> 388 | AU40: 72 | AV40: 481 | AW40: =SUM(AY39-AV40-AX39) -> 23 | AX40: 0 | AY40: =SUM(AU40+AV40) -> 553 | AZ40: 82 | BA40: 199 | BB40: =SUM(BD39-BA40-BC39) -> 43 | BC40: 0 | BD40: =SUM(AZ40+BA40) -> 281 | BE40: 36 | BF40: 118 | BG40: =SUM(BI39-BF40-BH39) -> 13 | BH40: 0 | BI40: =SUM(BE40+BF40) -> 154 | EU40: =SUM(B40+G40+L40+Q40+V40+AA40+AF40+AK40+AP40+AU40+AZ40+BE40+BJ40) -> 558 | EV40: =SUM(C40+H40+M40+R40+W40+AB40+AG40+AL40+AQ40+AV40+BA40+BF40+BK40) -> 2375 | EX40: =SUM(EZ39-EV40-EY39) -> 239 | EY40: =SUM(E40+J40+O40+T40+Y40+AD40+AI40+AN40+AS40+AX40+BC40+BH40+BM40) -> 103 | EZ40: =SUM(EU40+EV40) -> 2933
A41: Feb-Jun 1998 | V41: 47 | W41: 261 | X41: =SUM(Z40-W41-Y40) -> 40 | Y41: 9 | Z41: =SUM(V41+W41) -> 308 | AA41: 41 | AB41: 126 | AC41: =SUM(AE40-AB41-AD40) -> 18 | AD41: 3 | AE41: =SUM(AA41+AB41) -> 167 | AF41: 89 | AG41: 696 | AH41: =SUM(AJ40-AG41-AI40) -> 27 | AI41: 36 | AJ41: =SUM(AF41+AG41) -> 785 | AK41: 44 | AL41: 239 | AM41: =SUM(AO40-AL41-AN40) -> 62 | AN41: 10 | AO41: =SUM(AK41+AL41) -> 283 | AP41: 38 | AQ41: 347 | AR41: =SUM(AT40-AQ41-AS40) -> 26 | AS41: 29 | AT41: =SUM(AP41+AQ41) -> 385 | AU41: 0 | AV41: 529 | AW41: =SUM(AY40-AV41-AX40) -> 24 | AX41: 45 | AY41: =SUM(AU41+AV41) -> 529 | AZ41: 42 | BA41: 258 | BB41: =SUM(BD40-BA41-BC40) -> 23 | BC41: 0 | BD41: =SUM(AZ41+BA41) -> 300 | BE41: 42 | BF41: 132 | BG41: =SUM(BI40-BF41-BH40) -> 22 | BH41: 0 | BI41: =SUM(BE41+BF41) -> 174 | EU41: =SUM(B41+G41+L41+Q41+V41+AA41+AF41+AK41+AP41+AU41+AZ41+BE41+BJ41) -> 343 | EV41: =SUM(C41+H41+M41+R41+W41+AB41+AG41+AL41+AQ41+AV41+BA41+BF41+BK41) -> 2588 | EX41: =SUM(EZ40-EV41-EY40) -> 242 | EY41: =SUM(E41+J41+O41+T41+Y41+AD41+AI41+AN41+AS41+AX41+BC41+BH41+BM41) -> 132 | EZ41: =SUM(EU41+EV41) -> 2931
...

Sheet ESTADISTICAS
N1: INSTITUTO TECNOLOGICO DE MEXICALI
N2: PROYECCION DE LA POBLACION ESCOLAR
C4: ESTADISTICA DE CARRERAS ACTUALES Y LIQUIDACION DE FEB-JUN 09 A ENE-JUN 17 Y PROYECCION A AGO-DIC 2018 | AD4: A
B6: PERIODO | C6: LIC. EN INFORMÁTICA | D6: LIC. EN CONTADURÍA | E6: ING. ELECTRÓNICA | F6: ING. ELÉCTRICA | G6: ING. INDUSTRIAL | H6: ING. MECÁNICA | I6: ING. EN SISTEMAS COMPUTACIONALES | J6: ING. QUÍMICA | K6: ING. MECATRÓNICA | L6: POBLACIÓN TOTAL | M6: ING. ELECTRÓNICA | N6: ING. ELÉCTRICA | O6: ING. INDUSTRIAL | P6: ING. MECÁNICA | Q6: ING. EN SISTEMAS COMPUTACIONALES | R6: ING. QUÍMICA | S6: ING. MECATRÓNICA | T6: ING. EN LOGÍSTICA | U6: ING EN ENERGÍAS RENOVABLES | V6: CONTADOR PÚBLICO | W6: ING. EN GESTIÓN EMPRESARIAL | X6: ING. EN INFORMÁTICA | Y6: ING. EN MATERIALES | Z6: MTRIA. ING. ELECTRÓNICA | AA6: POBLACIÓN TOTAL | AB6: POB. TOTAL EN LIQ | AC6: TOTALES
A7: 2 | B7: Feb-Jun 2002 | C7: 251 | D7: 364 | E7: 327 | F7: 154 | G7: 868 | H7: 352 | I7: 328 | J7: 162 | L7: =SUM(C7:K7) -> 2806 | AA7: =SUM(M7:Z7) -> 0 | AC7: 2806 | AD7: =+B7 -> Feb-Jun 2002 | AE7: =+A7 -> 2
A8: 3 | B8: Ago-Dic 2002 | C8: 252 | D8: 405 | E8: 355 | F8: 150 | G8: 953 | H8: 391 | I8: 420 | J8: 190 | L8: =SUM(C8:K8) -> 3116 | AA8: =SUM(M8:Z8) -> 0 | AC8: 3116 | AD8: =+B8 -> Ago-Dic 2002 | AE8: =+A8 -> 3
A9: 4 | B9: Feb-Jun 2003 | C9: 207 | D9: 387 | E9: 315 | F9: 143 | G9: 757 | H9: 362 | I9: 391 | J9: 188 | L9: =SUM(C9:K9) -> 2750 | AA9: =SUM(M9:Z9) -> 0 | AC9: 2750 | AD9: =+B9 -> Feb-Jun 2003 | AE9: =+A9 -> 4
A10: 5 | B10: Ago-Dic 2003 | C10: 214 | D10: 478 | E10: 344 | F10: 149 | G10: 823 | H10: 384 | I10: 419 | J10: 202 | L10: =SUM(C10:K10) -> 3013 | AA10: =SUM(M10:Z10) -> 0 | AC10: 3013 | AD10: =+B10 -> Ago-Dic 2003 | AE10: =+A10 -> 5
A11: 6 | B11: Feb-Jun 2004 | C11: 179 | D11: 358 | E11: 277 | F11: 111 | G11: 674 | H11: 342 | I11: 380 | J11: 181 | L11: =SUM(C11:K11) -> 2502 | AA11: =SUM(M11:Z11) -> 0 | AC11: 2502 | AD11: =+B11 -> Feb-Jun 2004 | AE11: =+A11 -> 6
A12: 7 | B12: Ago-Dic 2004 | C12: 209 | D12: 411 | E12: 329 | F12: 139 | G12: 712 | H12: 348 | I12: 408 | J12: 231 | K12: 92 | L12: =SUM(C12:K12) -> 2879 | AA12: =SUM(M12:Z12) -> 0 | AC12: 2879 | AD12: =+B12 -> Ago-Dic 2004 | AE12: =+A12 -> 7
A13: 8 | B13: Feb-Jun 2005 | C13: 166 | D13: 329 | E13: 260 | F13: 122 | G13: 583 | H13: 283 | I13: 303 | J13: 189 | K13: 84 | L13: =SUM(C13:K13) -> 2319 | AA13: =SUM(M13:Z13) -> 0 | AC13: 2319 | AD13: =+B13 -> Feb-Jun 2005 | AE13: =+A13 -> 8
A14: 9 | B14: Ago-Dic 2005 | C14: 181 | D14: 369 | E14: 286 | F14: 150 | G14: 651 | H14: 301 | I14: 379 | J14: 230 | K14: 292 | L14: =SUM(C14:K14) -> 2839 | AA14: =SUM(M14:Z14) -> 0 | AC14: 2839 | AD14: =+B14 -> Ago-Dic 2005 | AE14: =+A14 -> 9
A15: 10 | B15: Feb-Jun 2006 | C15: 158 | D15: 296 | E15: 235 | F15: 135 | G15: 533 | H15: 253 | I15: 297 | J15: 195 | K15: 258 | L15: =SUM(C15:K15) -> 2360 | AA15: =SUM(M15:Z15) -> 0 | AC15: 2360 | AD15: =+B15 -> Feb-Jun 2006 | AE15: =+A15 -> 10
A16: 11 | B16: Ago-Dic 2006 | C16: 184 | D16: 342 | E16: 248 | F16: 155 | G16: 595 | H16: 271 | I16: 366 | J16: 228 | K16: 422 | L16: =SUM(C16:K16) -> 2811 | AA16: =SUM(M16:Z16) -> 0 | AC16: 2811 | AD16: =+B16 -> Ago-Dic 2006 | AE16: =+A16 -> 11
A17: 12 | B17: Feb-Jun 2007 | C17: 152 | D17: 272 | E17: 213 | F17: 127 | G17: 485 | H17: 267 | I17: 273 | J17: 209 | K17: 387 | L17: =SUM(C17:K17) -> 2385 | AA17: =SUM(M17:Z17) -> 0 | AC17: 2385 | AD17: =+B17 -> Feb-Jun 2007 | AE17: =+A17 -> 12
A18: 13 | B18: Ago-Dic 2007 | C18: 176 | D18: 316 | E18: 209 | F18: 139 | G18: 542 | H18: 311 | I18: 331 | J18: 206 | K18: 500 | L18: =SUM(C18:K18) -> 2730 | AA18: =SUM(M18:Z18) -> 0 | AC18: 2730 | AD18: =+B18 -> Ago-Dic 2007 | AE18: =+A18 -> 13
A19: 14 | B19: Feb-Jun 2008 | C19: 135 | D19: 251 | E19: 179 | F19: 121 | G19: 464 | H19: 250 | I19: 272 | J19: 165 | K19: 475 | L19: =SUM(C19:K19) -> 2312 | AA19: =SUM(M19:Z19) -> 0 | AC19: 2312 | AD19: =+B19 -> Feb-Jun 2008 | AE19: =+A19 -> 14
A20: 15 | B20: Ago-Dic 2008 | C20: 170 | D20: 273 | E20: 183 | F20: 151 | G20: 604 | H20: 245 | I20: 308 | J20: 207 | K20: 548 | L20: =SUM(C20:K20) -> 2689 | AA20: =SUM(M20:Z20) -> 0 | AC20: 2689 | AD20: =+B20 -> Ago-Dic 2008 | AE20: =+A20 -> 15
A21: 16 | B21: Feb-Jun 2009 | C21: 146 | D21: 231 | E21: 133 | F21: 124 | G21: 552 | H21: 213 | I21: 258 | J21: 158 | K21: 482 | L21: =SUM(C21:K21) -> 2297 | AA21: =SUM(M21:Z21) -> 0 | AC21: 2297 | AD21: =+B21 -> Feb-Jun 2009 | AE21: =+A21 -> 16
A22: 17 | B22: Ago-Dic 2009 | C22: 170 | D22: 252 | E22: 154 | F22: 164 | G22: 623 | H22: 257 | I22: 339 | J22: 226 | K22: 544 | L22: =SUM(C22:K22) -> 2729 | AA22: =SUM(M22:Z22) -> 0 | AC22: 2729 | AD22: =+B22 -> Ago-Dic 2009 | AE22: =+A22 -> 17
A23: 18 | B23: Feb-Jun 2010 | C23: 134 | D23: 186 | E23: 120 | F23: 154 | G23: 526 | H23: 210 | I23: 224 | J23: 176 | K23: 454 | L23: =SUM(C23:K23) -> 2184 | M23: 9 | N23: 11 | O23: 31 | P23: 11 | Q23: 23 | R23: 17 | S23: 25 | T23: 8 | U23: 0 | V23: 17 | W23: 16 | X23: 0 | AA23: =SUM(M23:Z23) -> 168 | AB23: =+L23 -> 2184 | AC23: 2352 | AD23: =+B23 -> Feb-Jun 2010 | AE23: =+A23 -> 18
A24: 19 | B24: Ago-Dic 2010 | C24: 122 | D24: 156 | E24: 99 | F24: 131 | G24: 439 | H24: 184 | I24: 181 | J24: 150 | K24: 359 | L24: =SUM(C24:K24) -> 1821 | M24: 37 | N24: 42 | O24: 138 | P24: 70 | Q24: 101 | R24: 58 | S24: 136 | T24: 20 | U24: 11 | V24: 38 | W24: 43 | X24: 20 | AA24: =SUM(M24:Z24) -> 714 | AB24: =+L24 -> 1821 | AC24: 2535 | AD24: =+B24 -> Ago-Dic 2010 | AE24: =+A24 -> 19
A25: 20 | B25: Feb-Jun 2011 | C25: 113 | D25: 120 | E25: 77 | F25: 116 | G25: 380 | H25: 165 | I25: 151 | J25: 124 | K25: 301 | L25: =SUM(C25:K25) -> 1547 | M25: 34 | N25: 54 | O25: 186 | P25: 86 | Q25: 117 | R25: 64 | S25: 168 | T25: 28 | U25: 23 | V25: 53 | W25: 49 | X25: 21 | AA25: =SUM(M25:Z25) -> 883 | AB25: =+L25 -> 1547 | AC25: 2430 | AD25: =+B25 -> Feb-Jun 2011 | AE25: =+A25 -> 20
A26: 21 | B26: Ago-Dic 2011 | C26: 92 | D26: 103 | E26: 65 | F26: 94 | G26: 319 | H26: 125 | I26: 131 | J26: 107 | K26: 248 | L26: =SUM(C26:K26) -> 1284 | M26: 74 | N26: 88 | O26: 380 | P26: 161 | Q26: 198 | R26: 112 | S26: 314 | T26: 50 | U26: 53 | V26: 94 | W26: 100 | X26: 54 | AA26: =SUM(M26:Z26) -> 1678 | AB26: =+L26 -> 1284 | AC26: 2962 | AD26: =+B26 -> Ago-Dic 2011 | AE26: =+A26 -> 21
A27: 22 | B27: Feb-Jun 2012 | C27: 80 | D27: 72 | E27: 48 | F27: 80 | G27: 257 | H27: 104 | I27: 108 | J27: 92 | K27: 198 | L27: =SUM(C27:K27) -> 1039 | M27: 65 | N27: 79 | O27: 398 | P27: 147 | Q27: 194 | R27: 83 | S27: 319 | T27: 32 | U27: 43 | V27: 93 | W27: 88 | X27: 40 | AA27: =SUM(M27:Z27) -> 1581 | AB27: =+L27 -> 1039 | AC27: 2620 | AD27: =+B27 -> Feb-Jun 2012 | AE27: =+A27 -> 22
A28: 23 | B28: Ago-Dic 2012 | C28: =+EST_ITM!AT70 -> 68 | D28: =+EST_ITM!AY70 -> 57 | E28: =+EST_ITM!Z70 -> 44 | F28: =+EST_ITM!AE70 -> 62 | G28: =+EST_ITM!AJ70 -> 205 | H28: =+EST_ITM!AO70 -> 90 | I28: =+EST_ITM!BD70 -> 94 | J28: =+EST_ITM!BI70 -> 79 | K28: =+EST_ITM!BN70 -> 158 | L28: =SUM(C28:K28) -> 857 | M28: =+EST_ITM!CR70 -> 110 | N28: =+EST_ITM!CL70 -> 120 | O28: =+EST_ITM!DJ70 -> 486 | P28: =+EST_ITM!DV70 -> 209 | Q28: =+EST_ITM!DD70 -> 249 | R28: =+EST_ITM!EH70 -> 138 | S28: =+EST_ITM!EB70 -> 421 | T28: =+EST_ITM!BZ70 -> 74 | U28: =+EST_ITM!CX70 -> 89 | V28: =+EST_ITM!CF70 -> 150 | W28: =+EST_ITM!BT70 -> 140 | X28: =+EST_ITM!DP70 -> 57 | AA28: =SUM(M28:Z28) -> 2243 | AB28: =+L28 -> 857 | AC28: =+AA28+AB28 -> 3100 | AD28: =+B28 -> Ago-Dic 2012 | AE28: =+A28 -> 23
A29: 24 | B29: Feb-Jun 2013 | C29: =+EST_ITM!AT71 -> 52 | D29: =+EST_ITM!AY71 -> 40 | E29: =+EST_ITM!Z71 -> 37 | F29: =+EST_ITM!AE71 -> 62 | G29: =+EST_ITM!AJ71 -> 158 | H29: =+EST_ITM!AO71 -> 62 | I29: =+EST_ITM!BD71 -> 82 | J29: =+EST_ITM!BI71 -> 63 | K29: =+EST_ITM!BN71 -> 125 | L29: =SUM(C29:K29) -> 681 | M29: =+EST_ITM!CR71 -> 95 | N29: =+EST_ITM!CL71 -> 121 | O29: =+EST_ITM!DJ71 -> 516 | P29: =+EST_ITM!DV71 -> 189 | Q29: =+EST_ITM!DD71 -> 219 | R29: =+EST_ITM!EH71 -> 139 | S29: =+EST_ITM!EB71 -> 415 | T29: =+EST_ITM!BZ71 -> 70 | U29: =+EST_ITM!CX71 -> 94 | V29: =+EST_ITM!CF71 -> 141 | W29: =+EST_ITM!BT71 -> 147 | X29: =+EST_ITM!DP71 -> 46 | AA29: =SUM(M29:Z29) -> 2192 | AB29: =+L29 -> 681 | AC29: =+AA29+AB29 -> 2873 | AD29: =+B29 -> Feb-Jun 2013 | AE29: =+A29 -> 24
A30: 25 | B30: Ago-Dic 2013 | C30: =+EST_ITM!AT72 -> 44 | D30: =+EST_ITM!AY72 -> 31 | E30: =+EST_ITM!Z72 -> 25 | F30: =+EST_ITM!AE72 -> 48 | G30: =+EST_ITM!AJ72 -> 116 | H30: =+EST_ITM!AO72 -> 53 | I30: =+EST_ITM!BD72 -> 62 | J30: =+EST_ITM!BI72 -> 45 | K30: =+EST_ITM!BN72 -> 99 | L30: =SUM(C30:K30) -> 523 | M30: =+EST_ITM!CR72 -> 125 | N30: =+EST_ITM!CL72 -> 164 | O30: =+EST_ITM!DJ72 -> 593 | P30: =+EST_ITM!DV72 -> 245 | Q30: =+EST_ITM!DD72 -> 275 | R30: =+EST_ITM!EH72 -> 172 | S30: =+EST_ITM!EB72 -> 462 | T30: =+EST_ITM!BZ72 -> 129 | U30: =+EST_ITM!CX72 -> 150 | V30: =+EST_ITM!CF72 -> 177 | W30: =+EST_ITM!BT72 -> 179 | X30: =+EST_ITM!DP72 -> 39 | AA30: =SUM(M30:Z30) -> 2710 | AB30: =+L30 -> 523 | AC30: =+L30+AA30 -> 3233 | AD30: =+B30 -> Ago-Dic 2013 | AE30: =+A30 -> 25
A31: 26 | B31: Feb-Jun 2014 | C31: =+EST_ITM!AT73 -> 37 | D31: =+EST_ITM!AY73 -> 12 | E31: =+EST_ITM!Z73 -> 17 | F31: =+EST_ITM!AE73 -> 29 | G31: =+EST_ITM!AJ73 -> 76 | H31: =+EST_ITM!AO73 -> 29 | I31: =+EST_ITM!BD73 -> 34 | J31: =+EST_ITM!BI73 -> 11 | K31: =+EST_ITM!BN73 -> 50 | L31: =SUM(C31:K31) -> 295 | M31: =+EST_ITM!CR73 -> 111 | N31: =+EST_ITM!CL73 -> 150 | O31: =+EST_ITM!DJ73 -> 621 | P31: =+EST_ITM!DV73 -> 229 | Q31: =+EST_ITM!DD73 -> 248 | R31: =+EST_ITM!EH73 -> 152 | S31: =+EST_ITM!EB73 -> 478 | T31: =+EST_ITM!BZ73 -> 117 | U31: =+EST_ITM!CX73 -> 153 | V31: =+EST_ITM!CF73 -> 155 | W31: =+EST_ITM!BT73 -> 191 | X31: =+EST_ITM!DP73 -> 42 | AA31: =SUM(M31:Z31) -> 2647 | AB31: =+L31 -> 295 | AC31: =+L31+AA31 -> 2942 | AD31: =+B31 -> Feb-Jun 2014 | AE31: =+A31 -> 26
A32: 27 | B32: Ago-Dic 2014 | C32: =+EST_ITM!AT74 -> 24 | D32: =+EST_ITM!AY74 -> 10 | E32: =+EST_ITM!Z74 -> 8 | F32: =+EST_ITM!AE74 -> 17 | G32: =+EST_ITM!AJ74 -> 27 | H32: =+EST_ITM!AO74 -> 14 | I32: =+EST_ITM!BD74 -> 10 | J32: =+EST_ITM!BI74 -> 7 | K32: =+EST_ITM!BN74 -> 29 | L32: =SUM(C32:K32) -> 146 | M32: =+EST_ITM!CR74 -> 136 | N32: =+EST_ITM!CL74 -> 193 | O32: =+EST_ITM!DJ74 -> 709 | P32: =+EST_ITM!DV74 -> 317 | Q32: =+EST_ITM!DD74 -> 305 | R32: =+EST_ITM!EH74 -> 190 | S32: =+EST_ITM!EB74 -> 547 | T32: =+EST_ITM!BZ74 -> 145 | U32: =+EST_ITM!CX74 -> 164 | V32: =+EST_ITM!CF74 -> 217 | W32: =+EST_ITM!BT74 -> 209 | X32: =+EST_ITM!DP74 -> 39 | AA32: =SUM(M32:Z32) -> 3171 | AB32: =+L32 -> 146 | AC32: =+L32+AA32 -> 3317 | AD32: =+B32 -> Ago-Dic 2014 | AE32: =+A32 -> 27
A33: 28 | B33: Feb-Jun 2015 | C33: =+EST_ITM!AT75 -> 10 | D33: =+EST_ITM!AY75 -> 6 | E33: =+EST_ITM!Z75 -> 3 | F33: =+EST_ITM!AE75 -> 8 | G33: =+EST_ITM!AJ75 -> 18 | H33: =+EST_ITM!AO75 -> 6 | I33: =+EST_ITM!BD75 -> 0 | J33: =+EST_ITM!BI75 -> 2 | K33: =+EST_ITM!BN75 -> 17 | L33: =SUM(C33:K33) -> 70 | M33: =+EST_ITM!CR75 -> 132 | N33: =+EST_ITM!CL75 -> 177 | O33: =+EST_ITM!DJ75 -> 762 | P33: =+EST_ITM!DV75 -> 321 | Q33: =+EST_ITM!DD75 -> 296 | R33: =+EST_ITM!EH75 -> 190 | S33: =+EST_ITM!EB75 -> 555 | T33: =+EST_ITM!BZ75 -> 156 | U33: =+EST_ITM!CX75 -> 175 | V33: =+EST_ITM!CF75 -> 195 | W33: =+EST_ITM!BT75 -> 217 | X33: =+EST_ITM!DP75 -> 36 | AA33: =SUM(M33:Z33) -> 3212 | AB33: =+L33 -> 70 | AC33: =+L33+AA33 -> 3282 | AD33: =+B33 -> Feb-Jun 2015 | AE33: =+A33 -> 28
A34: 29 | B34: Ago-Dic 2015 | C34: =+EST_ITM!AT76 -> 4 | D34: =+EST_ITM!AY76 -> 1 | E34: =+EST_ITM!Z76 -> 3 | F34: =+EST_ITM!AE76 -> 9 | G34: =+EST_ITM!AJ76 -> 17 | H34: =+EST_ITM!AO76 -> 4 | I34: =+EST_ITM!BD76 -> 1 | J34: =+EST_ITM!BI76 -> 2 | K34: =+EST_ITM!BN76 -> 11 | L34: =SUM(C34:K34) -> 52 | M34: =+EST_ITM!CR76 -> 151 | N34: =+EST_ITM!CL76 -> 211 | O34: =+EST_ITM!DJ76 -> 818 | P34: =+EST_ITM!DV76 -> 401 | Q34: =+EST_ITM!DD76 -> 327 | R34: =+EST_ITM!EH76 -> 199 | S34: =+EST_ITM!EB76 -> 623 | T34: =+EST_ITM!BZ76 -> 166 | U34: =+EST_ITM!CX76 -> 200 | V34: =+EST_ITM!CF76 -> 208 | W34: =+EST_ITM!BT76 -> 240 | X34: =+EST_ITM!DP76 -> 34 | AA34: =SUM(M34:Z34) -> 3578 | AB34: =+L34 -> 52 | AC34: =+L34+AA34 -> 3630 | AD34: =+B34 -> Ago-Dic 2015 | AE34: =+A34 -> 29
A35: 30 | B35: Feb-Jun 2016 | C35: =+EST_ITM!AT77 -> 1 | D35: =+EST_ITM!AY77 -> 1 | E35: =+EST_ITM!Z77 -> 0 | F35: =+EST_ITM!AE77 -> 5 | G35: =+EST_ITM!AJ77 -> 7 | H35: =+EST_ITM!AO77 -> 1 | I35: =+EST_ITM!BD77 -> 0 | J35: =+EST_ITM!BI77 -> 2 | K35: =+EST_ITM!BN77 -> 5 | L35: =SUM(C35:K35) -> 22 | M35: =+EST_ITM!CR77 -> 140 | N35: =+EST_ITM!CL77 -> 211 | O35: =+EST_ITM!DJ77 -> 877 | P35: =+EST_ITM!DV77 -> 408 | Q35: =+EST_ITM!DD77 -> 299 | R35: =+EST_ITM!EH77 -> 204 | S35: =+EST_ITM!EB77 -> 590 | T35: =+EST_ITM!BZ77 -> 169 | U35: =+EST_ITM!CX77 -> 204 | V35: =+EST_ITM!CF77 -> 198 | W35: =+EST_ITM!BT77 -> 227 | X35: =+EST_ITM!DP77 -> 30 | AA35: =SUM(M35:Z35) -> 3557 | AB35: =+L35 -> 22 | AC35: =+L35+AA35 -> 3579 | AD35: =+B35 -> Feb-Jun 2016 | AE35: =+A35 -> 30
A36: 31 | B36: Ago-Dic 2016 | C36: =+EST_ITM!AT78 -> 2 | D36: =+EST_ITM!AY78 -> 1 | E36: =+EST_ITM!Z78 -> 2 | F36: =+EST_ITM!AE78 -> 3 | G36: =+EST_ITM!AJ78 -> 2 | H36: =+EST_ITM!AO78 -> 0 | I36: =+EST_ITM!BD78 -> 0 | J36: =+EST_ITM!BI78 -> 0 | K36: =+EST_ITM!BN78 -> 0 | L36: =SUM(C36:K36) -> 10 | M36: =+EST_ITM!CR78 -> 162 | N36: =+EST_ITM!CL78 -> 245 | O36: =+EST_ITM!DJ78 -> 903 | P36: =+EST_ITM!DV78 -> 472 | Q36: =+EST_ITM!DD78 -> 351 | R36: =+EST_ITM!EH78 -> 246 | S36: =+EST_ITM!EB78 -> 678 | T36: =+EST_ITM!BZ78 -> 193 | U36: =+EST_ITM!CX78 -> 244 | V36: =+EST_ITM!CF78 -> 233 | W36: =+EST_ITM!BT78 -> 261 | X36: =+EST_ITM!DP78 -> 26 | Y36: =+EST_ITM!EN78 -> 34 | Z36: =+EST_ITM!ET78 -> 8 | AA36: =SUM(M36:Z36) -> 4056 | AB36: =+L36 -> 10 | AC36: =+L36+AA36 -> 4066 | AD36: =+B36 -> Ago-Dic 2016 | AE36: =+A36 -> 31
A37: 32 | B37: Feb-Jun 2017 | C37: =+EST_ITM!AT79 -> 1 | D37: =+EST_ITM!AY79 -> 0 | E37: =+EST_ITM!Z79 -> 1 | F37: =+EST_ITM!AE79 -> 1 | G37: =+EST_ITM!AJ79 -> 1 | H37: =+EST_ITM!AO79 -> 0 | I37: =+EST_ITM!BD79 -> 0 | J37: =+EST_ITM!BI79 -> 0 | K37: =+EST_ITM!BN79 -> 1 | L37: =SUM(C37:K37) -> 5 | M37: =+EST_ITM!CR79 -> 139 | N37: =+EST_ITM!CL79 -> 248 | O37: =+EST_ITM!DJ79 -> 873 | P37: =+EST_ITM!DV79 -> 451 | Q37: =+EST_ITM!DD79 -> 331 | R37: =+EST_ITM!EH79 -> 230 | S37: =+EST_ITM!EB79 -> 631 | T37: =+EST_ITM!BZ79 -> 208 | U37: =+EST_ITM!CX79 -> 228 | V37: =+EST_ITM!CF79 -> 183 | W37: =+EST_ITM!BT79 -> 258 | X37: =+EST_ITM!DP79 -> 23 | Y37: =+EST_ITM!EN79 -> 28 | Z37: =+EST_ITM!ET79 -> 6 | AA37: =SUM(M37:Z37) -> 3837 | AB37: =+L37 -> 5 | AC37: =+L37+AA37 -> 3842 | AD37: =+B37 -> Feb-Jun 2017 | AE37: =+A37 -> 32
A38: 33 | B38: Ago-Dic 2017 | C38: =+EST_ITM!AT80 -> 0 | D38: =+EST_ITM!AY80 -> 0 | E38: =+EST_ITM!Z80 -> 0 | F38: =+EST_ITM!AE80 -> 1 | G38: =+EST_ITM!AJ80 -> 1 | H38: =+EST_ITM!AO80 -> 0 | I38: =+EST_ITM!BD80 -> 0 | J38: =+EST_ITM!BI80 -> 0 | K38: =+EST_ITM!BN80 -> 1 | L38: =SUM(C38:K38) -> 3 | M38: =+EST_ITM!CR80 -> 154 | N38: =+EST_ITM!CL80 -> 248 | O38: =+EST_ITM!DJ80 -> 920 | P38: =+EST_ITM!DV80 -> 518 | Q38: =+EST_ITM!DD80 -> 402 | R38: =+EST_ITM!EH80 -> 276 | S38: =+EST_ITM!EB80 -> 684 | T38: =+EST_ITM!BZ80 -> 228 | U38: =+EST_ITM!CX80 -> 286 | V38: =+EST_ITM!CF80 -> 205 | W38: =+EST_ITM!BT80 -> 285 | X38: =+EST_ITM!DP80 -> 17 | Y38: =+EST_ITM!EN80 -> 70 | Z38: =+EST_ITM!ET80 -> 10 | AA38: =SUM(M38:Z38) -> 4303 | AB38: =+L38 -> 3 | AC38: =+L38+AA38 -> 4306 | AD38: =+B38 -> Ago-Dic 2017 | AE38: =+A38 -> 33
A39: 34 | B39: Feb-Jun 2018 | C39: =+EST_ITM!AT81 -> 0 | D39: =+EST_ITM!AY81 -> 0 | E39: =+EST_ITM!Z81 -> 0 | F39: =+EST_ITM!AE81 -> 0 | G39: =+EST_ITM!AJ81 -> 0 | H39: =+EST_ITM!AO81 -> 0 | I39: =+EST_ITM!BD81 -> 0 | J39: =+EST_ITM!BI81 -> 0 | K39: =+EST_ITM!BN81 -> 0 | L39: =SUM(C39:K39) -> 0 | M39: =+EST_ITM!CR81 -> 154 | N39: =+EST_ITM!CL81 -> 226 | O39: =+EST_ITM!DJ81 -> 947 | P39: =+EST_ITM!DV81 -> 507 | Q39: =+EST_ITM!DD81 -> 382 | R39: =+EST_ITM!EH81 -> 264 | S39: =+EST_ITM!EB81 -> 659 | T39: =+EST_ITM!BZ81 -> 214 | U39: =+EST_ITM!CX81 -> 281 | V39: =+EST_ITM!CF81 -> 195 | W39: =+EST_ITM!BT81 -> 270 | X39: =+EST_ITM!DP81 -> 6 | Y39: =+EST_ITM!EN81 -> 85 | Z39: =+EST_ITM!ET81 -> 7 | AA39: =SUM(M39:Z39) -> 4197 | AB39: =+L39 -> 0 | AC39: =+L39+AA39 -> 4197 | AD39: =+B39 -> Feb-Jun 2018 | AE39: =+A39 -> 34
A40: 35 | B40: Ago-Dic 2018 | C40: =+EST_ITM!AT82 -> 0 | D40: =+EST_ITM!AY82 -> 0 | E40: =+EST_ITM!Z82 -> 0 | F40: =+EST_ITM!AE82 -> 0 | G40: =+EST_ITM!AJ82 -> 0 | H40: =+EST_ITM!AO82 -> 0 | I40: =+EST_ITM!BD82 -> 0 | J40: =+EST_ITM!BI82 -> 0 | K40: =+EST_ITM!BN82 -> 0 | L40: =SUM(C40:K40) -> 0 | M40: =+EST_ITM!CR82 -> 169 | N40: =+EST_ITM!CL82 -> 241 | O40: =+EST_ITM!DJ82 -> 1032 | P40: =+EST_ITM!DV82 -> 557 | Q40: =+EST_ITM!DD82 -> 427 | R40: =+EST_ITM!EH82 -> 294 | S40: =+EST_ITM!EB82 -> 739 | T40: =+EST_ITM!BZ82 -> 234 | U40: =+EST_ITM!CX82 -> 306 | V40: =+EST_ITM!CF82 -> 230 | W40: =+EST_ITM!BT82 -> 280 | X40: =+EST_ITM!DP82 -> 0 | Y40: =+EST_ITM!EN82 -> 95 | Z40: =+EST_ITM!ET82 -> 8 | AA40: =SUM(M40:Z40) -> 4612 | AB40: =+L40 -> 0 | AC40: =+L40+AA40 -> 4612 | AD40: =+B40 -> Ago-Dic 2018 | AE40: =+A40 -> 35
A41: 36 | B41: Feb-Jun 2019 | C41: =+EST_ITM!AT83 -> 0 | D41: =+EST_ITM!AY83 -> 0 | E41: =+EST_ITM!Z83 -> 0 | F41: =+EST_ITM!AE83 -> 0 | G41: =+EST_ITM!AJ83 -> 0 | H41: =+EST_ITM!AO83 -> 0 | I41: =+EST_ITM!BD83 -> 0 | J41: =+EST_ITM!BI83 -> 0 | K41: =+EST_ITM!BN83 -> 0 | L41: =SUM(C41:K41) -> 0 | M41: =+EST_ITM!CR83 -> 164 | N41: =+EST_ITM!CL83 -> 221 | O41: =+EST_ITM!DJ83 -> 1027 | P41: =+EST_ITM!DV83 -> 527 | Q41: =+EST_ITM!DD83 -> 402 | R41: =+EST_ITM!EH83 -> 274 | S41: =+EST_ITM!EB83 -> 699 | T41: =+EST_ITM!BZ83 -> 224 | U41: =+EST_ITM!CX83 -> 296 | V41: =+EST_ITM!CF83 -> 220 | W41: =+EST_ITM!BT83 -> 270 | X41: =+EST_ITM!DP83 -> 0 | Y41: =+EST_ITM!EN83 -> 110 | Z41: =+EST_ITM!ET83 -> 7 | AA41: =SUM(M41:Z41) -> 4441 | AB41: =+L41 -> 0 | AC41: =+L41+AA41 -> 4441 | AD41: =+B41 -> Feb-Jun 2019 | AE41: =+A41 -> 36
A42: 37 | B42: Ago-Dic 2019 | C42: =+EST_ITM!AT84 -> 0 | D42: =+EST_ITM!AY84 -> 0 | E42: =+EST_ITM!Z84 -> 0 | F42: =+EST_ITM!AE84 -> 0 | G42: =+EST_ITM!AJ84 -> 0 | H42: =+EST_ITM!AO84 -> 0 | I42: =+EST_ITM!BD84 -> 0 | J42: =+EST_ITM!BI84 -> 0 | K42: =+EST_ITM!BN84 -> 0 | L42: =SUM(C42:K42) -> 0 | M42: =+EST_ITM!CR84 -> 174 | N42: =+EST_ITM!CL84 -> 236 | O42: =+EST_ITM!DJ84 -> 1107 | P42: =+EST_ITM!DV84 -> 557 | Q42: =+EST_ITM!DD84 -> 442 | R42: =+EST_ITM!EH84 -> 314 | S42: =+EST_ITM!EB84 -> 789 | T42: =+EST_ITM!BZ84 -> 249 | U42: =+EST_ITM!CX84 -> 321 | V42: =+EST_ITM!CF84 -> 250 | W42: =+EST_ITM!BT84 -> 280 | X42: =+EST_ITM!DP84 -> 0 | Y42: =+EST_ITM!EN84 -> 120 | Z42: =+EST_ITM!ET84 -> 8 | AA42: =SUM(M42:Z42) -> 4847 | AB42: =+L42 -> 0 | AC42: =+L42+AA42 -> 4847 | AD42: =+B42 -> Ago-Dic 2019 | AE42: =+A42 -> 37
...

Sheet Crec x Carrera
A2: GRAFICAS DE CRECIMIENTO
A3: POR
A4: CARRERA | B4: ING. MECATRÓNICA
B5: seleccionar para elegir carrera | G5: =+B4 -> ING. MECATRÓNICA | Z5: ING. ELECTRÓNICA
Z6: ING. ELÉCTRICA
A7: =ESTADISTICAS!B23 -> Feb-Jun 2010 | B7: =+HLOOKUP($B$4,BDEST,ESTADISTICAS!A23,FALSE)+IFERROR(HLOOKUP($B$4,DBESTLIQ,ESTADISTICAS!A23,FALSE),0) -> 479 | Z7: ING. INDUSTRIAL
A8: =+IF(B8>0,ESTADISTICAS!B24," ") -> Ago-Dic 2010 | B8: =+HLOOKUP($B$4,BDEST,ESTADISTICAS!A24,FALSE)+IFERROR(HLOOKUP($B$4,DBESTLIQ,ESTADISTICAS!A24,FALSE),0) -> 495 | Z8: ING. MECÁNICA
A9: =+IF(B9>0,ESTADISTICAS!B25," ") -> Feb-Jun 2011 | B9: =+HLOOKUP($B$4,BDEST,ESTADISTICAS!A25,FALSE)+IFERROR(HLOOKUP($B$4,DBESTLIQ,ESTADISTICAS!A25,FALSE),0) -> 469 | Z9: ING. EN SISTEMAS COMPUTACIONALES
A10: =+IF(B10>0,ESTADISTICAS!B26," ") -> Ago-Dic 2011 | B10: =+HLOOKUP($B$4,BDEST,ESTADISTICAS!A26,FALSE)+IFERROR(HLOOKUP($B$4,DBESTLIQ,ESTADISTICAS!A26,FALSE),0) -> 562 | Z10: ING. QUÍMICA
A11: =+IF(B11>0,ESTADISTICAS!B27," ") -> Feb-Jun 2012 | B11: =+HLOOKUP($B$4,BDEST,ESTADISTICAS!A27,FALSE)+IFERROR(HLOOKUP($B$4,DBESTLIQ,ESTADISTICAS!A27,FALSE),0) -> 517 | Z11: ING. MECATRÓNICA
A12: =+IF(B12>0,ESTADISTICAS!B28," ") -> Ago-Dic 2012 | B12: =+HLOOKUP($B$4,BDEST,ESTADISTICAS!A28,FALSE)+IFERROR(HLOOKUP($B$4,DBESTLIQ,ESTADISTICAS!A28,FALSE),0) -> 579 | Z12: ING. EN LOGÍSTICA
A13: =+IF(B13>0,ESTADISTICAS!B29," ") -> Feb-Jun 2013 | B13: =+HLOOKUP($B$4,BDEST,ESTADISTICAS!A29,FALSE)+IFERROR(HLOOKUP($B$4,DBESTLIQ,ESTADISTICAS!A29,FALSE),0) -> 540 | Z13: ING EN ENERGÍAS RENOVABLES
A14: =+IF(B14>0,ESTADISTICAS!B30," ") -> Ago-Dic 2013 | B14: =+HLOOKUP($B$4,BDEST,ESTADISTICAS!A30,FALSE)+IFERROR(HLOOKUP($B$4,DBESTLIQ,ESTADISTICAS!A30,FALSE),0) -> 561 | Z14: CONTADOR PÚBLICO
A15: =+IF(B15>0,ESTADISTICAS!B31," ") -> Feb-Jun 2014 | B15: =+HLOOKUP($B$4,BDEST,ESTADISTICAS!A31,FALSE)+IFERROR(HLOOKUP($B$4,DBESTLIQ,ESTADISTICAS!A31,FALSE),0) -> 528 | Z15: ING. EN GESTIÓN EMPRESARIAL
A16: =+IF(B16>0,ESTADISTICAS!B32," ") -> Ago-Dic 2014 | B16: =+HLOOKUP($B$4,BDEST,ESTADISTICAS!A32,FALSE)+IFERROR(HLOOKUP($B$4,DBESTLIQ,ESTADISTICAS!A32,FALSE),0) -> 576 | Z16: ING. EN INFORMÁTICA
A17: =+IF(B17>0,ESTADISTICAS!B33," ") -> Feb-Jun 2015 | B17: =+HLOOKUP($B$4,BDEST,ESTADISTICAS!A33,FALSE)+IFERROR(HLOOKUP($B$4,DBESTLIQ,ESTADISTICAS!A33,FALSE),0) -> 572 | Z17: POBLACIÓN TOTAL
A18: =+IF(B18>0,ESTADISTICAS!B34," ") -> Ago-Dic 2015 | B18: =+HLOOKUP($B$4,BDEST,ESTADISTICAS!A34,FALSE)+IFERROR(HLOOKUP($B$4,DBESTLIQ,ESTADISTICAS!A34,FALSE),0) -> 634
A19: =+IF(B19>0,ESTADISTICAS!B35," ") -> Feb-Jun 2016 | B19: =+HLOOKUP($B$4,BDEST,ESTADISTICAS!A35,FALSE)+IFERROR(HLOOKUP($B$4,DBESTLIQ,ESTADISTICAS!A35,FALSE),0) -> 595
A20: =+IF(B20>0,ESTADISTICAS!B36," ") -> Ago-Dic 2016 | B20: =+HLOOKUP($B$4,BDEST,ESTADISTICAS!A36,FALSE)+IFERROR(HLOOKUP($B$4,DBESTLIQ,ESTADISTICAS!A36,FALSE),0) -> 678
A21: =+IF(B21>0,ESTADISTICAS!B37," ") -> Feb-Jun 2017 | B21: =+HLOOKUP($B$4,BDEST,ESTADISTICAS!A37,FALSE)+IFERROR(HLOOKUP($B$4,DBESTLIQ,ESTADISTICAS!A37,FALSE),0) -> 632
A22: =+IF(B22>0,ESTADISTICAS!B38," ") -> Ago-Dic 2017 | B22: =+HLOOKUP($B$4,BDEST,ESTADISTICAS!A38,FALSE)+IFERROR(HLOOKUP($B$4,DBESTLIQ,ESTADISTICAS!A38,FALSE),0) -> 685
A23: =+IF(B23>0,ESTADISTICAS!B39," ") -> Feb-Jun 2018 | B23: =+HLOOKUP($B$4,BDEST,ESTADISTICAS!A39,FALSE)+IFERROR(HLOOKUP($B$4,DBESTLIQ,ESTADISTICAS!A39,FALSE),0) -> 659
A24: =+IF(B24>0,ESTADISTICAS!B40," ") -> Ago-Dic 2018 | B24: =+HLOOKUP($B$4,BDEST,ESTADISTICAS!A40,FALSE)+IFERROR(HLOOKUP($B$4,DBESTLIQ,ESTADISTICAS!A40,FALSE),0) -> 739
A25: =+IF(B25>0,ESTADISTICAS!B41," ") -> Feb-Jun 2019 | B25: =+HLOOKUP($B$4,BDEST,ESTADISTICAS!A41,FALSE)+IFERROR(HLOOKUP($B$4,DBESTLIQ,ESTADISTICAS!A41,FALSE),0) -> 699
A26: =+IF(B26>0,ESTADISTICAS!B42," ") -> Ago-Dic 2019 | B26: =+HLOOKUP($B$4,BDEST,ESTADISTICAS!A42,FALSE)+IFERROR(HLOOKUP($B$4,DBESTLIQ,ESTADISTICAS!A42,FALSE),0) -> 789
A27: =+IF(B27>0,ESTADISTICAS!B43," ") -> Feb-Jun 2020 | B27: =+HLOOKUP($B$4,BDEST,ESTADISTICAS!A43,FALSE)+IFERROR(HLOOKUP($B$4,DBESTLIQ,ESTADISTICAS!A43,FALSE),0) -> 749
A28: =+IF(B28>0,ESTADISTICAS!B44," ") -> Ago-Dic 2020 | B28: =+HLOOKUP($B$4,BDEST,ESTADISTICAS!A44,FALSE)+IFERROR(HLOOKUP($B$4,DBESTLIQ,ESTADISTICAS!A44,FALSE),0) -> 839
