Workbook
Name bddeptos: 'Crec x Depto'!$Z$3:$AC$8
Name BDEST: ESTADISTICAS!$M$6:$AD$53
Name DBESTLIQ: ESTADISTICAS!$C$6:$L$40
Name MATEST: #REF!
Name MATEST: #REF!
Name MATPOB: EST_ITM!$A$5:$FF$96
Name periodos: ESTADISTICAS!$A$6:$B$55
Name periodos2: ESTADISTICAS!$AE$6:$AF$53
Name sabana: EST_ITM!$A$6:$FF$108

Sheet EST_ITM
BO1: INSTITUTO TECNOLOGICO DE MEXICALI
BO2: PROYECCION DE LA POBLACION ESCOLAR
E4: =+SUM(E8:E80) -> 145 | J4: =+SUM(J8:J80) -> 221 | V4: PLANES EN LIQUIDACIÓN | BO4: ESTADISTICA DE CARRERAS ACTUALES Y LIQUIDACION A ENE-JUN 2015 Y PROYECCION A AGO-DIC 2018
A5: 1 | B5: 2 | C5: 3 | D5: 4 | E5: 5 | F5: 6 | G5: 7 | H5: 8 | I5: 9 | J5: 10 | K5: 11 | L5: 12 | M5: 13 | N5: 14 | O5: 15 | P5: 16 | Q5: 17 | R5: 18 | S5: 19 | T5: 20 | U5: 21 | V5: 22 | W5: 23 | X5: 24 | Y5: 25 | Z5: 26 | AA5: 27 | AB5: 28 | AC5: 29 | AD5: 30 | AE5: 31 | AF5: 32 | AG5: 33 | AH5: 34 | AI5: 35 | AJ5: 36 | AK5: 37 | AL5: 38 | AM5: 39 | AN5: 40 | AO5: 41 | AP5: 42 | AQ5: 43 | AR5: 44 | AS5: 45 | AT5: 46 | AU5: 47 | AV5: 48 | AW5: 49 | AX5: 50 | AY5: 51 | AZ5: 52 | BA5: 53 | BB5: 54 | BC5: 55 | BD5: 56 | BE5: 57 | BF5: 58 | BG5: 59 | BH5: 60 | BI5: 61 | BJ5: 62 | BK5: 63 | BL5: 64 | BM5: 65 | BN5: 66 | BO5: 67 | BP5: 68 | BQ5: 69 | BR5: 70 | BS5: 71 | BT5: 72 | BU5: 73 | BV5: 74 | BW5: 75 | BX5: 76 | BY5: 77 | BZ5: 78 | CA5: 79 | CB5: 80 | CC5: 81 | CD5: 82 | CE5: 83 | CF5: 84 | CG5: 85 | CH5: 86 | CI5: 87 | CJ5: 88 | CK5: 89 | CL5: 90 | CM5: 91 | CN5: 92 | CO5: 93 | CP5: 94 | CQ5: 95 | CR5: 96 | CS5: 97 | CT5: 98 | CU5: 99 | CV5: 100 | CW5: 101 | CX5: 102 | CY5: 103 | CZ5: 104 | DA5: 105 | DB5: 106 | DC5: 107 | DD5: 108 | DE5: 109 | DF5: 110 | DG5: 111 | DH5: 112 | DI5: 113 | DJ5: 114 | DK5: 115 | DL5: 116 | DM5: 117 | DN5: 118 | DO5: 119 | DP5: 120 | DQ5: 121 | DR5: 122 | DS5: 123 | DT5: 124 | DU5: 125 | DV5: 126 | DW5: 127 | DX5: 128 | DY5: 129 | DZ5: 130 | EA5: 131 | EB5: 132 | EC5: 133 | ED5: 134 | EE5: 135 | EF5: 136 | EG5: 137 | EH5: 138 | FA5: 139 | FB5: 140 | FC5: 141 | FD5: 142 | FE5: 143 | FF5: 144 | FG5: 145
D6: ING. IND. MECANICA | I6: ING. IND. ELECTRONICA | N6: ING. ELECTRICA EN CONTRL. | S6: ING. IND. QUIMICA | V6: INGENIERIA ELECTRONICA | AA6: INGENIERIA ELECTRICA | AF6: INGENIERIA INDUSTRIAL | AK6: INGENIERIA MECANICA | AP6: LICENCIATURA EN INFORMATICA | AU6: LICENCIATURA EN CONTAD. | AZ6: INGENIERIA EN SISTEMAS COMPUTACIONALES | BE6: INGENIERIA QUIMICA | BJ6: INGENIERIA MECATRONICA | BO6: ING. EN GESTION EMPRESARIAL | BU6: INGENIERIA EN LOGISTICA | CA6: CONTADOR PUBLICO | CG6: INGENIERIA ELECTRICA | CM6: INGENIERIA ELECTRONICA | CS6: ING EN ENERGIAS RENOVABLES | CY6: ING EN SISTEMAS COMPUTACIONALES | DE6: INGENIERIA INDUSTRIAL | DK6: INGENIERIA EN INFORMATICA | DQ6: INGENIERIA MECANICA | DW6: INGENIERIA MECATRONICA | EC6: INGENIERIA QUIMICA | EI6: INGENIERIA EN MATERIALES | EO6: MAESTRIA ING.ELECTRONICA | EU6: MTRIA ING.SISTEMAS | FD6: TOTALES
B7: N I | C7: RI | D7: DE | E7: EG | F7: Total | G7: N I | H7: RI | I7: DE | J7: EG | K7: Total | L7: N I | M7: RI | N7: DE | O7: EG | P7: Total | Q7: N I | R7: RI | S7: DE | T7: EG | U7: Total | V7: N I | W7: RI | X7: DE | Y7: EG | Z7: Total | AA7: N I | AB7: RI | AC7: DE | AD7: EG | AE7: Total | AF7: N I | AG7: RI | AH7: DE | AI7: EG | AJ7: Total | AK7: N I | AL7: RI | AM7: DE | AN7: EG | AO7: Total | AP7: N I | AQ7: RI | AR7: DE | AS7: EG | AT7: Total | AU7: N I | AV7: RI | AW7: DE | AX7: EG | AY7: Total | AZ7: N I | BA7: RI | BB7: DE | BC7: EG | BD7: Total | BE7: N I | BF7: RI | BG7: DE | BH7: EG | BI7: Total | BJ7: N I | BK7: RI | BL7: DE | BM7: EG | BN7: Total | BO7: N I | BP7: RI | BQ7: EQ | BR7: DE | BS7: EG | BT7: Total | BU7: N I | BV7: RI | BW7: EQ | BX7: DE | BY7: EG | BZ7: Total | CA7: N I | CB7: RI | CC7: EQ | CD7: DE | CE7: EG | CF7: Total | CG7: N I | CH7: RI | CI7: EQ | CJ7: DE | CK7: EG | CL7: Total | CM7: N I | CN7: RI | CO7: EQ | CP7: DE | CQ7: EG | CR7: Total | CS7: N I | CT7: RI | CU7: EQ | CV7: DE | CW7: EG | CX7: Total | CY7: N I | CZ7: RI | DA7: EQ | DB7: DE | DC7: EG | DD7: Total | DE7: N I | DF7: RI | DG7: EQ | DH7: DE | DI7: EG | DJ7: Total | DK7: N I | DL7: RI | DM7: EQ | DN7: DE | DO7: EG | DP7: Total | DQ7: N I | DR7: RI | DS7: EQ | DT7: DE | DU7: EG | DV7: Total | DW7: N I | DX7: RI | DY7: EQ | DZ7: DE | EA7: EG | EB7: Total | EC7: N I | ED7: RI | EE7: EQ | EF7: DE | EG7: EG | EH7: Total | EI7: N I | EJ7: RI | EK7: EQ | EL7: DE | EM7: EG | EN7: Total | EO7: N I | EP7: RI | EQ7: EQ | ER7: DE | ES7: EG | ET7: Total | EU7: N I | EV7: RI | EW7: EQ | EX7: DE | EY7: EG | EZ7: Total | FA7: N I | FB7: RI | FC7: EQ | FD7: DE | FE7: EG | FF7: Total
A8: Oct-Dic 1981 | B8: 146 | C8: 0 | D8: 0 | E8: 0 | F8: =SUM(B8+C8) -> 146 | G8: 98 | H8: 0 | I8: 0 | J8: 0 | K8: =SUM(G8+H8) -> 98 | L8: 102 | M8: 0 | N8: 0 | O8: 0 | P8: =SUM(L8+M8) -> 102 | FA8: 346 | FB8: =SUM(C8+H8+M8+R8+W8+AB8+AG8+AL8+AQ8+AV8+BA8+BF8) -> 0 | FC8: =SUM(D8+I8+N8+S8+X8+AC8+AH8+AM8+AR8+AW8+BB8+BG8) -> 0 | FD8: 0 | FE8: =SUM(E8+J8+O8+T8+Y8+AD8+AI8+AN8+AS8+AX8+BC8+BH8) -> 0 | FF8: =SUM(FA8+FB8) -> 346
A9: Feb-Jun 1982 | B9: 81 | C9: 65 | D9: =SUM(F8-C9-E8) -> 81 | E9: 0 | F9: =SUM(B9+C9) -> 146 | G9: 71 | H9: 63 | I9: =SUM(K8-H9-J8) -> 35 | J9: 0 | K9: =SUM(G9+H9) -> 134 | L9: 74 | M9: 48 | N9: =SUM(P8-M9-O8) -> 54 | O9: 0 | P9: =SUM(L9+M9) -> 122 | FA9: =SUM(B9+G9+L9+Q9+V9+AA9+AF9+AK9+AP9+AU9+AZ9+BE9) -> 226 | FB9: =SUM(C9+H9+M9+R9+W9+AB9+AG9+AL9+AQ9+AV9+BA9+BF9+BK9) -> 176 | FC9: =SUM(D9+I9+N9+S9+X9+AC9+AH9+AM9+AR9+AW9+BB9+BG9) -> 170 | FD9: =SUM(FF8-FB9-FE8) -> 170 | FE9: =SUM(E9+J9+O9+T9+Y9+AD9+AI9+AN9+AS9+AX9+BC9+BH9) -> 0 | FF9: =SUM(FA9+FB9) -> 402
A10: Ago-Dic 1982 | B10: 140 | C10: 94 | D10: =SUM(F9-C10-E9) -> 52 | E10: 0 | F10: =SUM(B10+C10) -> 234 | G10: 103 | H10: 87 | I10: =SUM(K9-H10-J9) -> 47 | J10: 0 | K10: =SUM(G10+H10) -> 190 | L10: 77 | M10: 87 | N10: =SUM(P9-M10-O9) -> 35 | O10: 0 | P10: =SUM(L10+M10) -> 164 | Q10: 101 | R10: 0 | S10: =SUM(U9-R10-T9) -> 0 | T10: 0 | U10: =SUM(Q10+R10) -> 101 | FA10: =SUM(B10+G10+L10+Q10+V10+AA10+AF10+AK10+AP10+AU10+AZ10+BE10+BJ10) -> 421 | FB10: =SUM(C10+H10+M10+R10+W10+AB10+AG10+AL10+AQ10+AV10+BA10+BF10+BK10) -> 268 | FC10: =SUM(D10+I10+N10+S10+X10+AC10+AH10+AM10+AR10+AW10+BB10+BG10) -> 134 | FD10: =SUM(FF9-FB10-FE9) -> 134 | FE10: =SUM(E10+J10+O10+T10+Y10+AD10+AI10+AN10+AS10+AX10+BC10+BH10) -> 0 | FF10: =SUM(FA10+FB10) -> 689
A11: Feb-Jun 1983 | B11: 63 | C11: 159 | D11: =SUM(F10-C11-E10) -> 75 | E11: 0 | F11: =SUM(B11+C11) -> 222 | G11: 59 | H11: 154 | I11: =SUM(K10-H11-J10) -> 36 | J11: 0 | K11: =SUM(G11+H11) -> 213 | L11: 38 | M11: 131 | N11: =SUM(P10-M11-O10) -> 33 | O11: 0 | P11: =SUM(L11+M11) -> 169 | Q11: 44 | R11: 84 | S11: =SUM(U10-R11-T10) -> 17 | T11: 0 | U11: =SUM(Q11+R11) -> 128 | FA11: =SUM(B11+G11+L11+Q11+V11+AA11+AF11+AK11+AP11+AU11+AZ11+BE11+BJ11) -> 204 | FB11: =SUM(C11+H11+M11+R11+W11+AB11+AG11+AL11+AQ11+AV11+BA11+BF11+BK11) -> 528 | FC11: =SUM(D11+I11+N11+S11+X11+AC11+AH11+AM11+AR11+AW11+BB11+BG11) -> 161 | FD11: =SUM(FF10-FB11-FE10) -> 161 | FE11: =SUM(E11+J11+O11+T11+Y11+AD11+AI11+AN11+AS11+AX11+BC11+BH11) -> 0 | FF11: =SUM(FA11+FB11) -> 732
A12: Ago-Dic 1983 | B12: 32 | C12: 154 | D12: =SUM(F11-C12-E11) -> 68 | E12: 0 | F12: =SUM(B12+C12) -> 186 | G12: 51 | H12: 152 | I12: =SUM(K11-H12-J11) -> 61 | J12: 0 | K12: =SUM(G12+H12) -> 203 | L12: 28 | M12: 125 | N12: =SUM(P11-M12-O11) -> 44 | O12: 0 | P12: =SUM(L12+M12) -> 153 | Q12: 0 | R12: 95 | S12: =SUM(U11-R12-T11) -> 33 | T12: 0 | U12: =SUM(Q12+R12) -> 95 | FA12: =SUM(B12+G12+L12+Q12+V12+AA12+AF12+AK12+AP12+AU12+AZ12+BE12+BJ12) -> 111 | FB12: =SUM(C12+H12+M12+R12+W12+AB12+AG12+AL12+AQ12+AV12+BA12+BF12+BK12) -> 526 | FC12: =SUM(D12+I12+N12+S12+X12+AC12+AH12+AM12+AR12+AW12+BB12+BG12) -> 206 | FD12: =SUM(FF11-FB12-FE11) -> 206 | FE12: =SUM(E12+J12+O12+T12+Y12+AD12+AI12+AN12+AS12+AX12+BC12+BH12) -> 0 | FF12: =SUM(FA12+FB12) -> 637
A13: Feb-Jun 1984 | B13: 31 | C13: 149 | D13: =SUM(F12-C13-E12) -> 37 | E13: 0 | F13: =SUM(B13+C13) -> 180 | G13: 42 | H13: 184 | I13: =SUM(K12-H13-J12) -> 19 | J13: 0 | K13: =SUM(G13+H13) -> 226 | L13: 24 | M13: 134 | N13: =SUM(P12-M13-O12) -> 19 | O13: 0 | P13: =SUM(L13+M13) -> 158 | Q13: 0 | R13: 86 | S13: =SUM(U12-R13-T12) -> 9 | T13: 0 | U13: =SUM(Q13+R13) -> 86 | FA13: =SUM(B13+G13+L13+Q13+V13+AA13+AF13+AK13+AP13+AU13+AZ13+BE13+BJ13) -> 97 | FB13: =SUM(C13+H13+M13+R13+W13+AB13+AG13+AL13+AQ13+AV13+BA13+BF13+BK13) -> 553 | FC13: =SUM(D13+I13+N13+S13+X13+AC13+AH13+AM13+AR13+AW13+BB13+BG13) -> 84 | FD13: =SUM(FF12-FB13-FE12) -> 84 | FE13: =SUM(E13+J13+O13+T13+Y13+AD13+AI13+AN13+AS13+AX13+BC13+BH13) -> 0 | FF13: =SUM(FA13+FB13) -> 650
A14: Ago-Dic 1984 | B14: 56 | C14: 142 | D14: =SUM(F13-C14-E13) -> 38 | E14: 0 | F14: =SUM(B14+C14) -> 198 | G14: 94 | H14: 198 | I14: =SUM(K13-H14-J13) -> 28 | J14: 0 | K14: =SUM(G14+H14) -> 292 | L14: 34 | M14: 139 | N14: =SUM(P13-M14-O13) -> 19 | O14: 0 | P14: =SUM(L14+M14) -> 173 | Q14: 0 | R14: 68 | S14: =SUM(U13-R14-T13) -> 18 | T14: 0 | U14: =SUM(Q14+R14) -> 68 | FA14: =SUM(B14+G14+L14+Q14+V14+AA14+AF14+AK14+AP14+AU14+AZ14+BE14+BJ14) -> 184 | FB14: =SUM(C14+H14+M14+R14+W14+AB14+AG14+AL14+AQ14+AV14+BA14+BF14+BK14) -> 547 | FC14: =SUM(D14+I14+N14+S14+X14+AC14+AH14+AM14+AR14+AW14+BB14+BG14) -> 103 | FD14: =SUM(FF13-FB14-FE13) -> 103 | FE14: =SUM(E14+J14+O14+T14+Y14+AD14+AI14+AN14+AS14+AX14+BC14+BH14+BM14) -> 0 | FF14: =SUM(FA14+FB14) -> 731
A15: Feb-Jun 1985 | B15: 14 | C15: 179 | D15: =SUM(F14-C15-E14) -> 19 | E15: 4 | F15: =SUM(B15+C15) -> 193 | G15: 16 | H15: 266 | I15: =SUM(K14-H15-J14) -> 26 | J15: 3 | K15: =SUM(G15+H15) -> 282 | L15: 16 | M15: 151 | N15: =SUM(P14-M15-O14) -> 22 | O15: 0 | P15: =SUM(L15+M15) -> 167 | Q15: 0 | R15: 63 | S15: =SUM(U14-R15-T14) -> 5 | T15: 0 | U15: =SUM(Q15+R15) -> 63 | FA15: =SUM(B15+G15+L15+Q15+V15+AA15+AF15+AK15+AP15+AU15+AZ15+BE15+BJ15) -> 46 | FB15: =SUM(C15+H15+M15+R15+W15+AB15+AG15+AL15+AQ15+AV15+BA15+BF15+BK15) -> 659 | FC15: =SUM(D15+I15+N15+S15+X15+AC15+AH15+AM15+AR15+AW15+BB15+BG15) -> 72 | FD15: =SUM(FF14-FB15-FE14) -> 72 | FE15: =SUM(E15+J15+O15+T15+Y15+AD15+AI15+AN15+AS15+AX15+BC15+BH15+BM15) -> 7 | FF15: =SUM(FA15+FB15) -> 705
A16: Ago-Dic 1985 | B16: 35 | C16: 168 | D16: =SUM(F15-C16-E15) -> 21 | E16: 4 | F16: =SUM(B16+C16) -> 203 | G16: 96 | H16: 248 | I16: =SUM(K15-H16-J15) -> 31 | J16: 5 | K16: =SUM(G16+H16) -> 344 | L16: 25 | M16: 164 | N16: =SUM(P15-M16-O15) -> 3 | O16: 12 | P16: =SUM(L16+M16) -> 189 | Q16: 0 | R16: 64 | S16: =SUM(U15-R16-T15) -> -1 | T16: 0 | U16: =SUM(Q16+R16) -> 64 | FA16: =SUM(B16+G16+L16+Q16+V16+AA16+AF16+AK16+AP16+AU16+AZ16+BE16+BJ16) -> 156 | FB16: =SUM(C16+H16+M16+R16+W16+AB16+AG16+AL16+AQ16+AV16+BA16+BF16+BK16) -> 644 | FC16: =SUM(D16+I16+N16+S16+X16+AC16+AH16+AM16+AR16+AW16+BB16+BG16) -> 54 | FD16: =SUM(FF15-FB16-FE15) -> 54 | FE16: =SUM(E16+J16+O16+T16+Y16+AD16+AI16+AN16+AS16+AX16+BC16+BH16+BM16) -> 21 | FF16: =SUM(FA16+FB16) -> 800
A17: Feb-Jun 1986 | B17: 0 | C17: 187 | D17: =SUM(F16-C17-E16) -> 12 | E17: 7 | F17: =SUM(B17+C17) -> 187 | G17: 51 | H17: 272 | I17: =SUM(K16-H17-J16) -> 67 | J17: 8 | K17: =SUM(G17+H17) -> 323 | L17: 0 | M17: 149 | N17: =SUM(P16-M17-O16) -> 28 | O17: 7 | P17: =SUM(L17+M17) -> 149 | Q17: 0 | R17: 50 | S17: =SUM(U16-R17-T16) -> 14 | T17: 2 | U17: =SUM(Q17+R17) -> 50 | FA17: =SUM(B17+G17+L17+Q17+V17+AA17+AF17+AK17+AP17+AU17+AZ17+BE17+BJ17) -> 51 | FB17: =SUM(C17+H17+M17+R17+W17+AB17+AG17+AL17+AQ17+AV17+BA17+BF17+BK17) -> 658 | FC17: =SUM(D17+I17+N17+S17+X17+AC17+AH17+AM17+AR17+AW17+BB17+BG17) -> 121 | FD17: =SUM(FF16-FB17-FE16) -> 121 | FE17: =SUM(E17+J17+O17+T17+Y17+AD17+AI17+AN17+AS17+AX17+BC17+BH17+BM17) -> 24 | FF17: =SUM(FA17+FB17) -> 709
A18: Ago-Dic 1986 | B18: 37 | C18: 166 | D18: =SUM(F17-C18-E17) -> 14 | E18: 11 | F18: =SUM(B18+C18) -> 203 | G18: 2 | H18: 293 | I18: =SUM(K17-H18-J17) -> 22 | J18: 20 | K18: =SUM(G18+H18) -> 295 | L18: 23 | M18: 129 | N18: =SUM(P17-M18-O17) -> 13 | O18: 31 | P18: =SUM(L18+M18) -> 152 | Q18: 0 | R18: 51 | S18: =SUM(U17-R18-T17) -> -3 | T18: 10 | U18: =SUM(Q18+R18) -> 51 | V18: 105 | W18: 0 | X18: =SUM(Z17-W18-Y17) -> 0 | Y18: 0 | Z18: =SUM(V18+W18) -> 105 | FA18: =SUM(B18+G18+L18+Q18+V18+AA18+AF18+AK18+AP18+AU18+AZ18+BE18+BJ18) -> 167 | FB18: =SUM(C18+H18+M18+R18+W18+AB18+AG18+AL18+AQ18+AV18+BA18+BF18+BK18) -> 639 | FC18: =SUM(D18+I18+N18+S18+X18+AC18+AH18+AM18+AR18+AW18+BB18+BG18) -> 46 | FD18: =SUM(FF17-FB18-FE17) -> 46 | FE18: =SUM(E18+J18+O18+T18+Y18+AD18+AI18+AN18+AS18+AX18+BC18+BH18+BM18) -> 72 | FF18: =SUM(FA18+FB18) -> 806
A19: Feb-Jun 1987 | B19: 9 | C19: 183 | D19: =SUM(F18-C19-E18) -> 9 | E19: 26 | F19: =SUM(B19+C19) -> 192 | G19: 0 | H19: 251 | I19: =SUM(K18-H19-J18) -> 24 | J19: 27 | K19: =SUM(G19+H19) -> 251 | L19: 6 | M19: 114 | N19: =SUM(P18-M19-O18) -> 7 | O19: 17 | P19: =SUM(L19+M19) -> 120 | Q19: 0 | R19: 39 | S19: =SUM(U18-R19-T18) -> 2 | T19: 18 | U19: =SUM(Q19+R19) -> 39 | V19: 25 | W19: 80 | X19: =SUM(Z18-W19-Y18) -> 25 | Y19: 0 | Z19: =SUM(V19+W19) -> 105 | AA19: 6 | AB19: 0 | AC19: =SUM(AE18-AB19-AD18) -> 0 | AD19: 0 | AE19: =SUM(AA19+AB19) -> 6 | FA19: =SUM(B19+G19+L19+Q19+V19+AA19+AF19+AK19+AP19+AU19+AZ19+BE19+BJ19) -> 46 | FB19: =SUM(C19+H19+M19+R19+W19+AB19+AG19+AL19+AQ19+AV19+BA19+BF19+BK19) -> 667 | FC19: =SUM(D19+I19+N19+S19+X19+AC19+AH19+AM19+AR19+AW19+BB19+BG19) -> 67 | FD19: =SUM(FF18-FB19-FE18) -> 67 | FE19: =SUM(E19+J19+O19+T19+Y19+AD19+AI19+AN19+AS19+AX19+BC19+BH19+BM19) -> 88 | FF19: =SUM(FA19+FB19) -> 713
A20: Ago-Dic 1987 | B20: 0 | C20: 132 | D20: =SUM(F19-C20-E19) -> 34 | E20: 11 | F20: =SUM(B20+C20) -> 132 | G20: 0 | H20: 212 | I20: =SUM(K19-H20-J19) -> 12 | J20: 30 | K20: =SUM(G20+H20) -> 212 | L20: 0 | M20: 91 | N20: =SUM(P19-M20-O19) -> 12 | O20: 18 | P20: =SUM(L20+M20) -> 91 | Q20: 0 | R20: 19 | S20: =SUM(U19-R20-T19) -> 2 | T20: 9 | U20: =SUM(Q20+R20) -> 19 | V20: 105 | W20: 96 | X20: =SUM(Z19-W20-Y19) -> 9 | Y20: 0 | Z20: =SUM(V20+W20) -> 201 | AA20: 24 | AB20: 2 | AC20: =SUM(AE19-AB20-AD19) -> 4 | AD20: 0 | AE20: =SUM(AA20+AB20) -> 26 | AF20: 17 | AG20: 0 | AH20: =SUM(AJ19-AG20-AI19) -> 0 | AI20: 0 | AJ20: =SUM(AF20+AG20) -> 17 | AK20: 45 | AL20: 0 | AM20: =SUM(AO19-AL20-AN19) -> 0 | AN20: 0 | AO20: =SUM(AK20+AL20) -> 45 | AP20: 63 | AQ20: 0 | AR20: =SUM(AT19-AQ20-AS19) -> 0 | AS20: 0 | AT20: =SUM(AP20+AQ20) -> 63 | FA20: =SUM(B20+G20+L20+Q20+V20+AA20+AF20+AK20+AP20+AU20+AZ20+BE20+BJ20) -> 254 | FB20: =SUM(C20+H20+M20+R20+W20+AB20+AG20+AL20+AQ20+AV20+BA20+BF20+BK20) -> 552 | FC20: =SUM(D20+I20+N20+S20+X20+AC20+AH20+AM20+AR20+AW20+BB20+BG20) -> 73 | FD20: =SUM(FF19-FB20-FE19) -> 73 | FE20: =SUM(E20+J20+O20+T20+Y20+AD20+AI20+AN20+AS20+AX20+BC20+BH20+BM20) -> 68 | FF20: =SUM(FA20+FB20) -> 806
A21: Feb-Jun 1988 | B21: 0 | C21: 107 | D21: =SUM(F20-C21-E20) -> 14 | E21: 17 | F21: =SUM(B21+C21) -> 107 | G21: 0 | H21: 163 | I21: =SUM(K20-H21-J20) -> 19 | J21: 20 | K21: =SUM(G21+H21) -> 163 | L21: 0 | M21: 58 | N21: =SUM(P20-M21-O20) -> 15 | O21: 5 | P21: =SUM(L21+M21) -> 58 | Q21: 0 | R21: 11 | S21: =SUM(U20-R21-T20) -> -1 | T21: 3 | U21: =SUM(Q21+R21) -> 11 | V21: 26 | W21: 148 | X21: =SUM(Z20-W21-Y20) -> 53 | Y21: 0 | Z21: =SUM(V21+W21) -> 174 | AA21: 0 | AB21: 21 | AC21: =SUM(AE20-AB21-AD20) -> 5 | AD21: 0 | AE21: =SUM(AA21+AB21) -> 21 | AF21: 10 | AG21: 8 | AH21: =SUM(AJ20-AG21-AI20) -> 9 | AI21: 0 | AJ21: =SUM(AF21+AG21) -> 18 | AK21: 1 | AL21: 28 | AM21: =SUM(AO20-AL21-AN20) -> 17 | AN21: 0 | AO21: =SUM(AK21+AL21) -> 29 | AP21: 34 | AQ21: 46 | AR21: =SUM(AT20-AQ21-AS20) -> 17 | AS21: 0 | AT21: =SUM(AP21+AQ21) -> 80 | FA21: =SUM(B21+G21+L21+Q21+V21+AA21+AF21+AK21+AP21+AU21+AZ21+BE21+BJ21) -> 71 | FB21: =SUM(C21+H21+M21+R21+W21+AB21+AG21+AL21+AQ21+AV21+BA21+BF21+BK21) -> 590 | FC21: =SUM(D21+I21+N21+S21+X21+AC21+AH21+AM21+AR21+AW21+BB21+BG21) -> 148 | FD21: =SUM(FF20-FB21-FE20) -> 148 | FE21: =SUM(E21+J21+O21+T21+Y21+AD21+AI21+AN21+AS21+AX21+BC21+BH21+BM21) -> 45 | FF21: =SUM(FA21+FB21) -> 661
A22: Ago-Dic 1988 | B22: 0 | C22: 81 | D22: =SUM(F21-C22-E21) -> 9 | E22: 15 | F22: =SUM(B22+C22) -> 81 | G22: 0 | H22: 133 | I22: =SUM(K21-H22-J21) -> 10 | J22: 26 | K22: =SUM(G22+H22) -> 133 | L22: 0 | M22: 45 | N22: =SUM(P21-M22-O21) -> 8 | O22: 2 | P22: =SUM(L22+M22) -> 45 | Q22: 0 | R22: 4 | S22: =SUM(U21-R22-T21) -> 4 | T22: 0 | U22: =SUM(Q22+R22) -> 4 | V22: 110 | W22: 148 | X22: =SUM(Z21-W22-Y21) -> 26 | Y22: 0 | Z22: =SUM(V22+W22) -> 258 | AA22: 30 | AB22: 15 | AC22: =SUM(AE21-AB22-AD21) -> 6 | AD22: 0 | AE22: =SUM(AA22+AB22) -> 45 | AF22: 60 | AG22: 12 | AH22: =SUM(AJ21-AG22-AI21) -> 6 | AI22: 0 | AJ22: =SUM(AF22+AG22) -> 72 | AK22: 30 | AL22: 23 | AM22: =SUM(AO21-AL22-AN21) -> 6 | AN22: 0 | AO22: =SUM(AK22+AL22) -> 53 | AP22: 95 | AQ22: 72 | AR22: =SUM(AT21-AQ22-AS21) -> 8 | AS22: 0 | AT22: =SUM(AP22+AQ22) -> 167 | FA22: =SUM(B22+G22+L22+Q22+V22+AA22+AF22+AK22+AP22+AU22+AZ22+BE22+BJ22) -> 325 | FB22: =SUM(C22+H22+M22+R22+W22+AB22+AG22+AL22+AQ22+AV22+BA22+BF22+BK22) -> 533 | FC22: =SUM(D22+I22+N22+S22+X22+AC22+AH22+AM22+AR22+AW22+BB22+BG22) -> 83 | FD22: =SUM(FF21-FB22-FE21) -> 83 | FE22: =SUM(E22+J22+O22+T22+Y22+AD22+AI22+AN22+AS22+AX22+BC22+BH22+BM22) -> 43 | FF22: =SUM(FA22+FB22) -> 858
A23: Feb-Jun 1989 | B23: 0 | C23: 62 | D23: =SUM(F22-C23-E22) -> 4 | E23: 6 | F23: =SUM(B23+C23) -> 62 | G23: 0 | H23: 91 | I23: =SUM(K22-H23-J22) -> 16 | J23: 30 | K23: =SUM(G23+H23) -> 91 | L23: 0 | M23: 41 | N23: =SUM(P22-M23-O22) -> 2 | O23: 7 | P23: =SUM(L23+M23) -> 41 | Q23: 0 | R23: 1 | S23: =SUM(U22-R23-T22) -> 3 | T23: 0 | U23: =SUM(Q23+R23) -> 1 | V23: 27 | W23: 214 | X23: =SUM(Z22-W23-Y22) -> 44 | Y23: 0 | Z23: =SUM(V23+W23) -> 241 | AA23: 0 | AB23: 25 | AC23: =SUM(AE22-AB23-AD22) -> 20 | AD23: 0 | AE23: =SUM(AA23+AB23) -> 25 | AF23: 11 | AG23: 60 | AH23: =SUM(AJ22-AG23-AI22) -> 12 | AI23: 0 | AJ23: =SUM(AF23+AG23) -> 71 | AK23: 0 | AL23: 41 | AM23: =SUM(AO22-AL23-AN22) -> 12 | AN23: 0 | AO23: =SUM(AK23+AL23) -> 41 | AP23: 36 | AQ23: 143 | AR23: =SUM(AT22-AQ23-AS22) -> 24 | AS23: 0 | AT23: =SUM(AP23+AQ23) -> 179 | FA23: =SUM(B23+G23+L23+Q23+V23+AA23+AF23+AK23+AP23+AU23+AZ23+BE23+BJ23) -> 74 | FB23: =SUM(C23+H23+M23+R23+W23+AB23+AG23+AL23+AQ23+AV23+BA23+BF23+BK23) -> 678 | FC23: =SUM(D23+I23+N23+S23+X23+AC23+AH23+AM23+AR23+AW23+BB23+BG23) -> 137 | FD23: =SUM(FF22-FB23-FE22) -> 137 | FE23: =SUM(E23+J23+O23+T23+Y23+AD23+AI23+AN23+AS23+AX23+BC23+BH23+BM23) -> 43 | FF23: =SUM(FA23+FB23) -> 752
A24: Ago-Dic 1989 | B24: 0 | C24: 50 | D24: =SUM(F23-C24-E23) -> 6 | E24: 12 | F24: =SUM(B24+C24) -> 50 | G24: 0 | H24: 66 | I24: =SUM(K23-H24-J23) -> -5 | J24: 19 | K24: =SUM(G24+H24) -> 66 | L24: 0 | M24: 36 | N24: =SUM(P23-M24-O23) -> -2 | O24: 5 | P24: =SUM(L24+M24) -> 36 | Q24: 0 | R24: 0 | S24: =SUM(U23-R24-T23) -> 1 | T24: 1 | U24: 0 | V24: 120 | W24: 207 | X24: =SUM(Z23-W24-Y23) -> 34 | Y24: 0 | Z24: =SUM(V24+W24) -> 327 | AA24: 24 | AB24: 18 | AC24: =SUM(AE23-AB24-AD23) -> 7 | AD24: 0 | AE24: =SUM(AA24+AB24) -> 42 | AF24: 81 | AG24: 55 | AH24: =SUM(AJ23-AG24-AI23) -> 16 | AI24: 0 | AJ24: =SUM(AF24+AG24) -> 136 | AK24: 40 | AL24: 37 | AM24: =SUM(AO23-AL24-AN23) -> 4 | AN24: 0 | AO24: =SUM(AK24+AL24) -> 77 | AP24: 148 | AQ24: 155 | AR24: =SUM(AT23-AQ24-AS23) -> 24 | AS24: 0 | AT24: =SUM(AP24+AQ24) -> 303 | FA24: =SUM(B24+G24+L24+Q24+V24+AA24+AF24+AK24+AP24+AU24+AZ24+BE24+BJ24) -> 413 | FB24: =SUM(C24+H24+M24+R24+W24+AB24+AG24+AL24+AQ24+AV24+BA24+BF24+BK24) -> 624 | FC24: =SUM(D24+I24+N24+S24+X24+AC24+AH24+AM24+AR24+AW24+BB24+BG24) -> 85 | FD24: =SUM(FF23-FB24-FE23) -> 85 | FE24: =SUM(E24+J24+O24+T24+Y24+AD24+AI24+AN24+AS24+AX24+BC24+BH24+BM24) -> 37 | FF24: =SUM(FA24+FB24) -> 1037
A25: Feb-Jun 1990 | B25: 0 | C25: 40 | D25: =SUM(F24-C25-E24) -> -2 | E25: 14 | F25: =SUM(B25+C25) -> 40 | G25: 0 | H25: 44 | I25: =SUM(K24-H25-J24) -> 3 | J25: 17 | K25: =SUM(G25+H25) -> 44 | L25: 0 | M25: 27 | N25: =SUM(P24-M25-O24) -> 4 | O25: 3 | P25: =SUM(L25+M25) -> 27 | Q25: 0 | R25: 0 | S25: =SUM(U24-R25-T24) -> -1 | T25: 0 | U25: 0 | V25: 20 | W25: 263 | X25: =SUM(Z24-W25-Y24) -> 64 | Y25: 0 | Z25: =SUM(V25+W25) -> 283 | AA25: 1 | AB25: 33 | AC25: =SUM(AE24-AB25-AD24) -> 9 | AD25: 0 | AE25: =SUM(AA25+AB25) -> 34 | AF25: 17 | AG25: 112 | AH25: =SUM(AJ24-AG25-AI24) -> 24 | AI25: 0 | AJ25: =SUM(AF25+AG25) -> 129 | AK25: 3 | AL25: 56 | AM25: =SUM(AO24-AL25-AN24) -> 21 | AN25: 0 | AO25: =SUM(AK25+AL25) -> 59 | AP25: 39 | AQ25: 243 | AR25: =SUM(AT24-AQ25-AS24) -> 60 | AS25: 0 | AT25: =SUM(AP25+AQ25) -> 282 | FA25: =SUM(B25+G25+L25+Q25+V25+AA25+AF25+AK25+AP25+AU25+AZ25+BE25+BJ25) -> 80 | FB25: =SUM(C25+H25+M25+R25+W25+AB25+AG25+AL25+AQ25+AV25+BA25+BF25+BK25) -> 818 | FC25: =SUM(D25+I25+N25+S25+X25+AC25+AH25+AM25+AR25+AW25+BB25+BG25) -> 182 | FD25: =SUM(FF24-FB25-FE24) -> 182 | FE25: =SUM(E25+J25+O25+T25+Y25+AD25+AI25+AN25+AS25+AX25+BC25+BH25+BM25) -> 34 | FF25: =SUM(FA25+FB25) -> 898
A26: Ago-Dic 1990 | B26: 0 | C26: 25 | D26: =SUM(F25-C26-E25) -> 1 | E26: 13 | F26: =SUM(B26+C26) -> 25 | G26: 0 | H26: 22 | I26: =SUM(K25-H26-J25) -> 5 | J26: 6 | K26: =SUM(G26+H26) -> 22 | L26: 0 | M26: 22 | N26: =SUM(P25-M26-O25) -> 2 | O26: 9 | P26: =SUM(L26+M26) -> 22 | V26: 69 | W26: 244 | X26: =SUM(Z25-W26-Y25) -> 39 | Y26: 0 | Z26: =SUM(V26+W26) -> 313 | AA26: 26 | AB26: 29 | AC26: =SUM(AE25-AB26-AD25) -> 5 | AD26: 0 | AE26: =SUM(AA26+AB26) -> 55 | AF26: 49 | AG26: 118 | AH26: =SUM(AJ25-AG26-AI25) -> 11 | AI26: 0 | AJ26: =SUM(AF26+AG26) -> 167 | AK26: 14 | AL26: 53 | AM26: =SUM(AO25-AL26-AN25) -> 6 | AN26: 0 | AO26: =SUM(AK26+AL26) -> 67 | AP26: 111 | AQ26: 260 | AR26: =SUM(AT25-AQ26-AS25) -> 22 | AS26: 0 | AT26: =SUM(AP26+AQ26) -> 371 | FA26: =SUM(B26+G26+L26+Q26+V26+AA26+AF26+AK26+AP26+AU26+AZ26+BE26+BJ26) -> 269 | FB26: =SUM(C26+H26+M26+R26+W26+AB26+AG26+AL26+AQ26+AV26+BA26+BF26+BK26) -> 773 | FD26: =SUM(FF25-FB26-FE25) -> 91 | FE26: =SUM(E26+J26+O26+T26+Y26+AD26+AI26+AN26+AS26+AX26+BC26+BH26+BM26) -> 28 | FF26: =SUM(FA26+FB26) -> 1042
A27: Feb-Jun 1991 | B27: 0 | C27: 10 | D27: =SUM(F26-C27-E26) -> 2 | E27: 3 | F27: =SUM(B27+C27) -> 10 | G27: 0 | H27: 11 | I27: =SUM(K26-H27-J26) -> 5 | J27: 4 | K27: =SUM(G27+H27) -> 11 | L27: 0 | M27: 8 | N27: =SUM(P26-M27-O26) -> 5 | O27: 11 | P27: =SUM(L27+M27) -> 8 | V27: 0 | W27: 265 | X27: =SUM(Z26-W27-Y26) -> 48 | Y27: 12 | Z27: =SUM(V27+W27) -> 265 | AA27: 0 | AB27: 46 | AC27: =SUM(AE26-AB27-AD26) -> 9 | AD27: 0 | AE27: =SUM(AA27+AB27) -> 46 | AF27: 1 | AG27: 140 | AH27: =SUM(AJ26-AG27-AI26) -> 27 | AI27: 1 | AJ27: =SUM(AF27+AG27) -> 141 | AK27: 1 | AL27: 65 | AM27: =SUM(AO26-AL27-AN26) -> 2 | AN27: 0 | AO27: =SUM(AK27+AL27) -> 66 | AP27: 0 | AQ27: 328 | AR27: =SUM(AT26-AQ27-AS26) -> 43 | AS27: 1 | AT27: =SUM(AP27+AQ27) -> 328 | FA27: =SUM(B27+G27+L27+Q27+V27+AA27+AF27+AK27+AP27+AU27+AZ27+BE27+BJ27) -> 2 | FB27: =SUM(C27+H27+M27+R27+W27+AB27+AG27+AL27+AQ27+AV27+BA27+BF27+BK27) -> 873 | FD27: =SUM(FF26-FB27-FE26) -> 141 | FE27: =SUM(E27+J27+O27+T27+Y27+AD27+AI27+AN27+AS27+AX27+BC27+BH27+BM27) -> 32 | FF27: =SUM(FA27+FB27) -> 875
A28: Ago-Dic 1991 | B28: 0 | C28: 6 | D28: =SUM(F27-C28-E27) -> 1 | E28: 2 | F28: =SUM(B28+C28) -> 6 | G28: 0 | H28: 6 | I28: =SUM(K27-H28-J27) -> 1 | J28: 3 | K28: =SUM(G28+H28) -> 6 | L28: 0 | M28: 0 | N28: =SUM(P27-M28-O27) -> -3 | O28: 0 | P28: =SUM(L28+M28) -> 0 | V28: 64 | W28: 224 | X28: =SUM(Z27-W28-Y27) -> 29 | Y28: 19 | Z28: =SUM(V28+W28) -> 288 | AA28: 38 | AB28: 48 | AC28: =SUM(AE27-AB28-AD27) -> -2 | AD28: 1 | AE28: =SUM(AA28+AB28) -> 86 | AF28: 59 | AG28: 128 | AH28: =SUM(AJ27-AG28-AI27) -> 12 | AI28: 6 | AJ28: =SUM(AF28+AG28) -> 187 | AK28: 45 | AL28: 62 | AM28: =SUM(AO27-AL28-AN27) -> 4 | AN28: 13 | AO28: =SUM(AK28+AL28) -> 107 | AP28: 106 | AQ28: 306 | AR28: =SUM(AT27-AQ28-AS27) -> 21 | AS28: 20 | AT28: =SUM(AP28+AQ28) -> 412 | FA28: =SUM(B28+G28+L28+Q28+V28+AA28+AF28+AK28+AP28+AU28+AZ28+BE28+BJ28) -> 312 | FB28: =SUM(C28+H28+M28+R28+W28+AB28+AG28+AL28+AQ28+AV28+BA28+BF28+BK28) -> 780 | FD28: =SUM(FF27-FB28-FE27) -> 63 | FE28: =SUM(E28+J28+O28+T28+Y28+AD28+AI28+AN28+AS28+AX28+BC28+BH28+BM28) -> 64 | FF28: =SUM(FA28+FB28) -> 1092
A29: Feb-Jun 1992 | B29: 0 | C29: 3 | D29: =SUM(F28-C29-E28) -> 1 | E29: 0 | F29: =SUM(B29+C29) -> 3 | G29: 0 | H29: 3 | I29: 0 | J29: 3 | K29: =SUM(G29+H29) -> 3 | L29: 0 | M29: 1 | N29: =SUM(P28-M29-O28) -> -1 | O29: 1 | P29: =SUM(L29+M29) -> 1 | V29: 21 | W29: 233 | X29: =SUM(Z28-W29-Y28) -> 36 | Y29: 17 | Z29: =SUM(V29+W29) -> 254 | AA29: 0 | AB29: 70 | AC29: =SUM(AE28-AB29-AD28) -> 15 | AD29: 8 | AE29: =SUM(AA29+AB29) -> 70 | AF29: 43 | AG29: 158 | AH29: =SUM(AJ28-AG29-AI28) -> 23 | AI29: 8 | AJ29: =SUM(AF29+AG29) -> 201 | AK29: 0 | AL29: 75 | AM29: =SUM(AO28-AL29-AN28) -> 19 | AN29: 6 | AO29: =SUM(AK29+AL29) -> 75 | AP29: 45 | AQ29: 350 | AR29: =SUM(AT28-AQ29-AS28) -> 42 | AS29: 20 | AT29: =SUM(AP29+AQ29) -> 395 | FA29: =SUM(B29+G29+L29+Q29+V29+AA29+AF29+AK29+AP29+AU29+AZ29+BE29+BJ29) -> 109 | FB29: =SUM(C29+H29+M29+R29+W29+AB29+AG29+AL29+AQ29+AV29+BA29+BF29+BK29) -> 893 | FD29: =SUM(FF28-FB29-FE28) -> 135 | FE29: =SUM(E29+J29+O29+T29+Y29+AD29+AI29+AN29+AS29+AX29+BC29+BH29+BM29) -> 63 | FF29: =SUM(FA29+FB29) -> 1002
A30: Ago-Dic 1992 | B30: 0 | C30: 0 | D30: =SUM(F29-C30-E29) -> 3 | E30: 0 | F30: 0 | G30: 0 | H30: 0 | I30: 0 | J30: 0 | K30: 0 | L30: 0 | M30: 0 | N30: 0 | O30: 0 | P30: 0 | V30: 80 | W30: 229 | X30: =SUM(Z29-W30-Y29) -> 8 | Y30: 15 | Z30: =SUM(V30+W30) -> 309 | AA30: 50 | AB30: 66 | AC30: =SUM(AE29-AB30-AD29) -> -4 | AD30: 5 | AE30: =SUM(AA30+AB30) -> 116 | AF30: 108 | AG30: 178 | AH30: =SUM(AJ29-AG30-AI29) -> 15 | AI30: 1 | AJ30: =SUM(AF30+AG30) -> 286 | AK30: 57 | AL30: 63 | AM30: =SUM(AO29-AL30-AN29) -> 6 | AN30: 1 | AO30: =SUM(AK30+AL30) -> 120 | AP30: 127 | AQ30: 327 | AR30: =SUM(AT29-AQ30-AS29) -> 48 | AS30: 20 | AT30: =SUM(AP30+AQ30) -> 454 | FA30: =SUM(B30+G30+L30+Q30+V30+AA30+AF30+AK30+AP30+AU30+AZ30+BE30+BJ30) -> 422 | FB30: =SUM(C30+H30+M30+R30+W30+AB30+AG30+AL30+AQ30+AV30+BA30+BF30+BK30) -> 863 | FD30: =SUM(FF29-FB30-FE29) -> 76 | FE30: =SUM(E30+J30+O30+T30+Y30+AD30+AI30+AN30+AS30+AX30+BC30+BH30+BM30) -> 42 | FF30: =SUM(FA30+FB30) -> 1285
A31: Feb-Jun 1993 | V31: 5 | W31: 233 | X31: =SUM(Z30-W31-Y30) -> 61 | Y31: 27 | Z31: =SUM(V31+W31) -> 238 | AA31: 15 | AB31: 79 | AC31: =SUM(AE30-AB31-AD30) -> 32 | AD31: 5 | AE31: =SUM(AA31+AB31) -> 94 | AF31: 35 | AG31: 242 | AH31: =SUM(AJ30-AG31-AI30) -> 43 | AI31: 10 | AJ31: =SUM(AF31+AG31) -> 277 | AK31: 20 | AL31: 92 | AM31: =SUM(AO30-AL31-AN30) -> 27 | AN31: 3 | AO31: =SUM(AK31+AL31) -> 112 | AP31: 43 | AQ31: 323 | AR31: =SUM(AT30-AQ31-AS30) -> 111 | AS31: 29 | AT31: =SUM(AP31+AQ31) -> 366 | FA31: =SUM(B31+G31+L31+Q31+V31+AA31+AF31+AK31+AP31+AU31+AZ31+BE31+BJ31) -> 118 | FB31: =SUM(C31+H31+M31+R31+W31+AB31+AG31+AL31+AQ31+AV31+BA31+BF31+BK31) -> 969 | FD31: =SUM(FF30-FB31-FE30) -> 274 | FE31: =SUM(E31+J31+O31+T31+Y31+AD31+AI31+AN31+AS31+AX31+BC31+BH31+BM31) -> 74 | FF31: =SUM(FA31+FB31) -> 1087
A32: Ago-Dic 1993 | V32: 42 | W32: 184 | X32: =SUM(Z31-W32-Y31) -> 27 | Y32: 19 | Z32: =SUM(V32+W32) -> 226 | AA32: 49 | AB32: 66 | AC32: =SUM(AE31-AB32-AD31) -> 23 | AD32: 1 | AE32: =SUM(AA32+AB32) -> 115 | AF32: 135 | AG32: 235 | AH32: =SUM(AJ31-AG32-AI31) -> 32 | AI32: 7 | AJ32: =SUM(AF32+AG32) -> 370 | AK32: 62 | AL32: 81 | AM32: =SUM(AO31-AL32-AN31) -> 28 | AN32: 7 | AO32: =SUM(AK32+AL32) -> 143 | AP32: 133 | AQ32: 282 | AR32: =SUM(AT31-AQ32-AS31) -> 55 | AS32: 47 | AT32: =SUM(AP32+AQ32) -> 415 | FA32: =SUM(B32+G32+L32+Q32+V32+AA32+AF32+AK32+AP32+AU32+AZ32+BE32+BJ32) -> 421 | FB32: =SUM(C32+H32+M32+R32+W32+AB32+AG32+AL32+AQ32+AV32+BA32+BF32+BK32) -> 848 | FD32: =SUM(FF31-FB32-FE31) -> 165 | FE32: =SUM(E32+J32+O32+T32+Y32+AD32+AI32+AN32+AS32+AX32+BC32+BH32+BM32) -> 81 | FF32: =SUM(FA32+FB32) -> 1269
A33: Feb-Jun 1994 | V33: 34 | W33: 169 | X33: =SUM(Z32-W33-Y32) -> 38 | Y33: 18 | Z33: =SUM(V33+W33) -> 203 | AA33: 0 | AB33: 93 | AC33: =SUM(AE32-AB33-AD32) -> 21 | AD33: 9 | AE33: =SUM(AA33+AB33) -> 93 | AF33: 53 | AG33: 298 | AH33: =SUM(AJ32-AG33-AI32) -> 65 | AI33: 29 | AJ33: =SUM(AF33+AG33) -> 351 | AK33: 0 | AL33: 118 | AM33: =SUM(AO32-AL33-AN32) -> 18 | AN33: 5 | AO33: =SUM(AK33+AL33) -> 118 | AP33: 47 | AQ33: 292 | AR33: =SUM(AT32-AQ33-AS32) -> 76 | AS33: 27 | AT33: =SUM(AP33+AQ33) -> 339 | AU33: 89 | AV33: 0 | AW33: =SUM(AY32-AV33-AX32) -> 0 | AX33: 0 | AY33: =SUM(AU33+AV33) -> 89 | FA33: =SUM(B33+G33+L33+Q33+V33+AA33+AF33+AK33+AP33+AU33+AZ33+BE33+BJ33) -> 223 | FB33: =SUM(C33+H33+M33+R33+W33+AB33+AG33+AL33+AQ33+AV33+BA33+BF33+BK33) -> 970 | FD33: =SUM(FF32-FB33-FE32) -> 218 | FE33: =SUM(E33+J33+O33+T33+Y33+AD33+AI33+AN33+AS33+AX33+BC33+BH33+BM33) -> 88 | FF33: =SUM(FA33+FB33) -> 1193
A34: Ago-Dic 1994 | V34: 88 | W34: 159 | X34: =SUM(Z33-W34-Y33) -> 26 | Y34: 19 | Z34: =SUM(V34+W34) -> 247 | AA34: 52 | AB34: 74 | AC34: =SUM(AE33-AB34-AD33) -> 10 | AD34: 5 | AE34: =SUM(AA34+AB34) -> 126 | AF34: 138 | AG34: 308 | AH34: =SUM(AJ33-AG34-AI33) -> 14 | AI34: 21 | AJ34: =SUM(AF34+AG34) -> 446 | AK34: 85 | AL34: 100 | AM34: =SUM(AO33-AL34-AN33) -> 13 | AN34: 1 | AO34: =SUM(AK34+AL34) -> 185 | AP34: 140 | AQ34: 283 | AR34: =SUM(AT33-AQ34-AS33) -> 29 | AS34: 29 | AT34: =SUM(AP34+AQ34) -> 423 | AU34: 150 | AV34: 86 | AW34: =SUM(AY33-AV34-AX33) -> 3 | AX34: 0 | AY34: =SUM(AU34+AV34) -> 236 | AZ34: 89 | BA34: 0 | BB34: =SUM(BD33-BA34-BC33) -> 0 | BC34: 0 | BD34: =SUM(AZ34+BA34) -> 89 | BE34: 70 | BF34: 0 | BG34: =SUM(BI33-BF34-BH33) -> 0 | BH34: 0 | BI34: =SUM(BE34+BF34) -> 70 | FA34: =SUM(B34+G34+L34+Q34+V34+AA34+AF34+AK34+AP34+AU34+AZ34+BE34+BJ34) -> 812 | FB34: =SUM(C34+H34+M34+R34+W34+AB34+AG34+AL34+AQ34+AV34+BA34+BF34+BK34) -> 1010 | FD34: =SUM(FF33-FB34-FE33) -> 95 | FE34: =SUM(E34+J34+O34+T34+Y34+AD34+AI34+AN34+AS34+AX34+BC34+BH34+BM34) -> 75 | FF34: =SUM(FA34+FB34) -> 1822
A35: Feb-Jun 1995 | V35: 26 | W35: 170 | X35: =SUM(Z34-W35-Y34) -> 58 | Y35: 18 | Z35: =SUM(V35+W35) -> 196 | AA35: 13 | AB35: 94 | AC35: =SUM(AE34-AB35-AD34) -> 27 | AD35: 4 | AE35: =SUM(AA35+AB35) -> 107 | AF35: 95 | AG35: 395 | AH35: =SUM(AJ34-AG35-AI34) -> 30 | AI35: 3 | AJ35: =SUM(AF35+AG35) -> 490 | AK35: 20 | AL35: 139 | AM35: =SUM(AO34-AL35-AN34) -> 45 | AN35: 3 | AO35: =SUM(AK35+AL35) -> 159 | AP35: 48 | AQ35: 352 | AR35: =SUM(AT34-AQ35-AS34) -> 42 | AS35: 9 | AT35: =SUM(AP35+AQ35) -> 400 | AU35: 101 | AV35: 209 | AW35: =SUM(AY34-AV35-AX34) -> 27 | AX35: 0 | AY35: =SUM(AU35+AV35) -> 310 | AZ35: 50 | BA35: 53 | BB35: =SUM(BD34-BA35-BC34) -> 36 | BC35: 0 | BD35: =SUM(AZ35+BA35) -> 103 | BE35: 53 | BF35: 56 | BG35: =SUM(BI34-BF35-BH34) -> 14 | BH35: 0 | BI35: =SUM(BE35+BF35) -> 109 | FA35: =SUM(B35+G35+L35+Q35+V35+AA35+AF35+AK35+AP35+AU35+AZ35+BE35+BJ35) -> 406 | FB35: =SUM(C35+H35+M35+R35+W35+AB35+AG35+AL35+AQ35+AV35+BA35+BF35+BK35) -> 1468 | FD35: =SUM(FF34-FB35-FE34) -> 279 | FE35: =SUM(E35+J35+O35+T35+Y35+AD35+AI35+AN35+AS35+AX35+BC35+BH35+BM35) -> 37 | FF35: =SUM(FA35+FB35) -> 1874
A36: Ago-Dic 1995 | V36: 91 | W36: 169 | X36: =SUM(Z35-W36-Y35) -> 9 | Y36: 24 | Z36: =SUM(V36+W36) -> 260 | AA36: 43 | AB36: 91 | AC36: =SUM(AE35-AB36-AD35) -> 12 | AD36: 4 | AE36: =SUM(AA36+AB36) -> 134 | AF36: 132 | AG36: 449 | AH36: =SUM(AJ35-AG36-AI35) -> 38 | AI36: 18 | AJ36: =SUM(AF36+AG36) -> 581 | AK36: 98 | AL36: 136 | AM36: =SUM(AO35-AL36-AN35) -> 20 | AN36: 5 | AO36: =SUM(AK36+AL36) -> 234 | AP36: 136 | AQ36: 351 | AR36: =SUM(AT35-AQ36-AS35) -> 40 | AS36: 0 | AT36: =SUM(AP36+AQ36) -> 487 | AU36: 92 | AV36: 286 | AW36: =SUM(AY35-AV36-AX35) -> 24 | AX36: 0 | AY36: =SUM(AU36+AV36) -> 378 | AZ36: 88 | BA36: 81 | BB36: =SUM(BD35-BA36-BC35) -> 22 | BC36: 0 | BD36: =SUM(AZ36+BA36) -> 169 | BE36: 41 | BF36: 89 | BG36: =SUM(BI35-BF36-BH35) -> 20 | BH36: 0 | BI36: =SUM(BE36+BF36) -> 130 | FA36: =SUM(B36+G36+L36+Q36+V36+AA36+AF36+AK36+AP36+AU36+AZ36+BE36+BJ36) -> 721 | FB36: =SUM(C36+H36+M36+R36+W36+AB36+AG36+AL36+AQ36+AV36+BA36+BF36+BK36) -> 1652 | FD36: =SUM(FF35-FB36-FE35) -> 185 | FE36: =SUM(E36+J36+O36+T36+Y36+AD36+AI36+AN36+AS36+AX36+BC36+BH36+BM36) -> 51 | FF36: =SUM(FA36+FB36) -> 2373
A37: Feb-Jun 1996 | V37: 7 | W37: 207 | X37: =SUM(Z36-W37-Y36) -> 29 | Y37: 14 | Z37: =SUM(V37+W37) -> 214 | AA37: 0 | AB37: 101 | AC37: =SUM(AE36-AB37-AD36) -> 29 | AD37: 6 | AE37: =SUM(AA37+AB37) -> 101 | AF37: 97 | AG37: 537 | AH37: =SUM(AJ36-AG37-AI36) -> 26 | AI37: 14 | AJ37: =SUM(AF37+AG37) -> 634 | AK37: 47 | AL37: 202 | AM37: =SUM(AO36-AL37-AN36) -> 27 | AN37: 12 | AO37: =SUM(AK37+AL37) -> 249 | AP37: 49 | AQ37: 383 | AR37: =SUM(AT36-AQ37-AS36) -> 104 | AS37: 17 | AT37: =SUM(AP37+AQ37) -> 432 | AU37: 48 | AV37: 358 | AW37: =SUM(AY36-AV37-AX36) -> 20 | AX37: 0 | AY37: =SUM(AU37+AV37) -> 406 | AZ37: 50 | BA37: 153 | BB37: =SUM(BD36-BA37-BC36) -> 16 | BC37: 0 | BD37: =SUM(AZ37+BA37) -> 203 | BE37: 0 | BF37: 103 | BG37: =SUM(BI36-BF37-BH36) -> 27 | BH37: 0 | BI37: =SUM(BE37+BF37) -> 103 | FA37: =SUM(B37+G37+L37+Q37+V37+AA37+AF37+AK37+AP37+AU37+AZ37+BE37+BJ37) -> 298 | FB37: =SUM(C37+H37+M37+R37+W37+AB37+AG37+AL37+AQ37+AV37+BA37+BF37+BK37) -> 2044 | FD37: =SUM(FF36-FB37-FE36) -> 278 | FE37: =SUM(E37+J37+O37+T37+Y37+AD37+AI37+AN37+AS37+AX37+BC37+BH37+BM37) -> 63 | FF37: =SUM(FA37+FB37) -> 2342
A38: Ago-Dic 1996 | V38: 98 | W38: 179 | X38: =SUM(Z37-W38-Y37) -> 21 | Y38: 14 | Z38: =SUM(V38+W38) -> 277 | AA38: 74 | AB38: 83 | AC38: =SUM(AE37-AB38-AD37) -> 12 | AD38: 8 | AE38: =SUM(AA38+AB38) -> 157 | AF38: 97 | AG38: 571 | AH38: =SUM(AJ37-AG38-AI37) -> 49 | AI38: 50 | AJ38: =SUM(AF38+AG38) -> 668 | AK38: 92 | AL38: 194 | AM38: =SUM(AO37-AL38-AN37) -> 43 | AN38: 5 | AO38: =SUM(AK38+AL38) -> 286 | AP38: 85 | AQ38: 354 | AR38: =SUM(AT37-AQ38-AS37) -> 61 | AS38: 21 | AT38: =SUM(AP38+AQ38) -> 439 | AU38: 93 | AV38: 388 | AW38: =SUM(AY37-AV38-AX37) -> 18 | AX38: 0 | AY38: =SUM(AU38+AV38) -> 481 | AZ38: 91 | BA38: 163 | BB38: =SUM(BD37-BA38-BC37) -> 40 | BC38: 0 | BD38: =SUM(AZ38+BA38) -> 254 | BE38: 43 | BF38: 88 | BG38: =SUM(BI37-BF38-BH37) -> 15 | BH38: 0 | BI38: =SUM(BE38+BF38) -> 131 | FA38: =SUM(B38+G38+L38+Q38+V38+AA38+AF38+AK38+AP38+AU38+AZ38+BE38+BJ38) -> 673 | FB38: =SUM(C38+H38+M38+R38+W38+AB38+AG38+AL38+AQ38+AV38+BA38+BF38+BK38) -> 2020 | FD38: =SUM(FF37-FB38-FE37) -> 259 | FE38: =SUM(E38+J38+O38+T38+Y38+AD38+AI38+AN38+AS38+AX38+BC38+BH38+BM38) -> 98 | FF38: =SUM(FA38+FB38) -> 2693
A39: Feb-Jun 1997 | V39: 42 | W39: 228 | X39: =SUM(Z38-W39-Y38) -> 35 | Y39: 6 | Z39: =SUM(V39+W39) -> 270 | AA39: 26 | AB39: 118 | AC39: =SUM(AE38-AB39-AD38) -> 31 | AD39: 0 | AE39: =SUM(AA39+AB39) -> 144 | AF39: 102 | AG39: 575 | AH39: =SUM(AJ38-AG39-AI38) -> 43 | AI39: 15 | AJ39: =SUM(AF39+AG39) -> 677 | AK39: 46 | AL39: 237 | AM39: =SUM(AO38-AL39-AN38) -> 44 | AN39: 7 | AO39: =SUM(AK39+AL39) -> 283 | AP39: 43 | AQ39: 362 | AR39: =SUM(AT38-AQ39-AS38) -> 56 | AS39: 14 | AT39: =SUM(AP39+AQ39) -> 405 | AU39: 46 | AV39: 458 | AW39: =SUM(AY38-AV39-AX38) -> 23 | AX39: 0 | AY39: =SUM(AU39+AV39) -> 504 | AZ39: 42 | BA39: 200 | BB39: =SUM(BD38-BA39-BC38) -> 54 | BC39: 0 | BD39: =SUM(AZ39+BA39) -> 242 | BE39: 27 | BF39: 104 | BG39: =SUM(BI38-BF39-BH38) -> 27 | BH39: 0 | BI39: =SUM(BE39+BF39) -> 131 | FA39: =SUM(B39+G39+L39+Q39+V39+AA39+AF39+AK39+AP39+AU39+AZ39+BE39+BJ39) -> 374 | FB39: =SUM(C39+H39+M39+R39+W39+AB39+AG39+AL39+AQ39+AV39+BA39+BF39+BK39) -> 2282 | FD39: =SUM(FF38-FB39-FE38) -> 313 | FE39: =SUM(E39+J39+O39+T39+Y39+AD39+AI39+AN39+AS39+AX39+BC39+BH39+BM39) -> 42 | FF39: =SUM(FA39+FB39) -> 2656
A40: Ago-Dic 1997 | V40: 78 | W40: 236 | X40: =SUM(Z39-W40-Y39) -> 28 | Y40: 13 | Z40: =SUM(V40+W40) -> 314 | AA40: 38 | AB40: 117 | AC40: =SUM(AE39-AB40-AD39) -> 27 | AD40: 11 | AE40: =SUM(AA40+AB40) -> 155 | AF40: 126 | AG40: 651 | AH40: =SUM(AJ39-AG40-AI39) -> 11 | AI40: 54 | AJ40: =SUM(AF40+AG40) -> 777 | AK40: 81 | AL40: 230 | AM40: =SUM(AO39-AL40-AN39) -> 46 | AN40: 10 | AO40: =SUM(AK40+AL40) -> 311 | AP40: 45 | AQ40: 343 | AR40: =SUM(AT39-AQ40-AS39) -> 48 | AS40: 15 | AT40: =SUM(AP40+AQ40) -> 388 | AU40: 72 | AV40: 481 | AW40: =SUM(AY39-AV40-AX39) -> 23 | AX40: 0 | AY40: =SUM(AU40+AV40) -> 553 | AZ40: 82 | BA40: 199 | BB40: =SUM(BD39-BA40-BC39) -> 43 | BC40: 0 | BD40: =SUM(AZ40+BA40) -> 281 | BE40: 36 | BF40: 118 | BG40: =SUM(BI39-BF40-BH39) -> 13 | BH40: 0 | BI40: =SUM(BE40+BF40) -> 154 | FA40: =SUM(B40+G40+L40+Q40+V40+AA40+AF40+AK40+AP40+AU40+AZ40+BE40+BJ40) -> 558 | FB40: =SUM(C40+H40+M40+R40+W40+AB40+AG40+AL40+AQ40+AV40+BA40+BF40+BK40) -> 2375 | FD40: =SUM(FF39-FB40-FE39) -> 239 | FE40: =SUM(E40+J40+O40+T40+Y40+AD40+AI40+AN40+AS40+AX40+BC40+BH40+BM40) -> 103 | FF40: =SUM(FA40+FB40) -> 2933
A41: Feb-Jun 1998 | V41: 47 | W41: 261 | X41: =SUM(Z40-W41-Y40) -> 40 | Y41: 9 | Z41: =SUM(V41+W41) -> 308 | AA41: 41 | AB41: 126 | AC41: =SUM(AE40-AB41-AD40) -> 18 | AD41: 3 | AE41: =SUM(AA41+AB41) -> 167 | AF41: 89 | AG41: 696 | AH41: =SUM(AJ40-AG41-AI40) -> 27 | AI41: 36 | AJ41: =SUM(AF41+AG41) -> 785 | AK41: 44 | AL41: 239 | AM41: =SUM(AO40-AL41-AN40) -> 62 | AN41: 10 | AO41: =SUM(AK41+AL41) -> 283 | AP41: 38 | AQ41: 347 | AR41: =SUM(AT40-AQ41-AS40) -> 26 | AS41: 29 | AT41: =SUM(AP41+AQ41) -> 385 | AU41: 0 | AV41: 529 | AW41: =SUM(AY40-AV41-AX40) -> 24 | AX41: 45 | AY41: =SUM(AU41+AV41) -> 529 | AZ41: 42 | BA41: 258 | BB41: =SUM(BD40-BA41-BC40) -> 23 | BC41: 0 | BD41: =SUM(AZ41+BA41) -> 300 | BE41: 42 | BF41: 132 | BG41: =SUM(BI40-BF41-BH40) -> 22 | BH41: 0 | BI41: =SUM(BE41+BF41) -> 174 | FA41: =SUM(B41+G41+L41+Q41+V41+AA41+AF41+AK41+AP41+AU41+AZ41+BE41+BJ41) -> 343 | FB41: =SUM(C41+H41+M41+R41+W41+AB41+AG41+AL41+AQ41+AV41+BA41+BF41+BK41) -> 2588 | FD41: =SUM(FF40-FB41-FE40) -> 242 | FE41: =SUM(E41+J41+O41+T41+Y41+AD41+AI41+AN41+AS41+AX41+BC41+BH41+BM41) -> 132 | FF41: =SUM(FA41+FB41) -> 2931
A42: Ago-Dic 1998 | V42: 79 | W42: 245 | X42: =SUM(Z41-W42-Y41) -> 54 | Y42: 11 | Z42: =SUM(V42+W42) -> 324 | AA42: 42 | AB42: 115 | AC42: =SUM(AE41-AB42-AD41) -> 49 | AD42: 7 | AE42: =SUM(AA42+AB42) -> 157 | AF42: 126 | AG42: 689 | AH42: =SUM(AJ41-AG42-AI41) -> 60 | AI42: 47 | AJ42: =SUM(AF42+AG42) -> 815 | AK42: 77 | AL42: 245 | AM42: =SUM(AO41-AL42-AN41) -> 28 | AN42: 14 | AO42: =SUM(AK42+AL42) -> 322 | AP42: 42 | AQ42: 299 | AR42: =SUM(AT41-AQ42-AS41) -> 57 | AS42: 26 | AT42: =SUM(AP42+AQ42) -> 341 | AU42: 78 | AV42: 472 | AW42: =SUM(AY41-AV42-AX41) -> 12 | AX42: 68 | AY42: =SUM(AU42+AV42) -> 550 | AZ42: 83 | BA42: 235 | BB42: =SUM(BD41-BA42-BC41) -> 65 | BC42: 0 | BD42: =SUM(AZ42+BA42) -> 318 | BE42: 40 | BF42: 140 | BG42: =SUM(BI41-BF42-BH41) -> 34 | BH42: 7 | BI42: =SUM(BE42+BF42) -> 180 | FA42: =SUM(B42+G42+L42+Q42+V42+AA42+AF42+AK42+AP42+AU42+AZ42+BE42+BJ42) -> 567 | FB42: =SUM(C42+H42+M42+R42+W42+AB42+AG42+AL42+AQ42+AV42+BA42+BF42+BK42) -> 2440 | FD42: =SUM(FF41-FB42-FE41) -> 359 | FE42: =SUM(E42+J42+O42+T42+Y42+AD42+AI42+AN42+AS42+AX42+BC42+BH42+BM42) -> 180 | FF42: =SUM(FA42+FB42) -> 3007
A43: Feb-Jun 1999 | V43: 42 | W43: 284 | X43: =SUM(Z42-W43-Y42) -> 29 | Y43: 8 | Z43: =SUM(V43+W43) -> 326 | AA43: 45 | AB43: 123 | AC43: =SUM(AE42-AB43-AD42) -> 27 | AD43: 10 | AE43: =SUM(AA43+AB43) -> 168 | AF43: 79 | AG43: 729 | AH43: =SUM(AJ42-AG43-AI42) -> 39 | AI43: 49 | AJ43: =SUM(AF43+AG43) -> 808 | AK43: 41 | AL43: 257 | AM43: =SUM(AO42-AL43-AN42) -> 51 | AN43: 6 | AO43: =SUM(AK43+AL43) -> 298 | AP43: 44 | AQ43: 269 | AR43: =SUM(AT42-AQ43-AS42) -> 46 | AS43: 15 | AT43: =SUM(AP43+AQ43) -> 313 | AU43: 0 | AV43: 430 | AW43: =SUM(AY42-AV43-AX42) -> 52 | AX43: 74 | AY43: =SUM(AU43+AV43) -> 430 | AZ43: 43 | BA43: 268 | BB43: =SUM(BD42-BA43-BC42) -> 50 | BC43: 4 | BD43: =SUM(AZ43+BA43) -> 311 | BE43: 40 | BF43: 155 | BG43: =SUM(BI42-BF43-BH42) -> 18 | BH43: 15 | BI43: =SUM(BE43+BF43) -> 195 | FA43: =SUM(B43+G43+L43+Q43+V43+AA43+AF43+AK43+AP43+AU43+AZ43+BE43+BJ43) -> 334 | FB43: =SUM(C43+H43+M43+R43+W43+AB43+AG43+AL43+AQ43+AV43+BA43+BF43+BK43) -> 2515 | FD43: =SUM(FF42-FB43-FE42) -> 312 | FE43: =SUM(E43+J43+O43+T43+Y43+AD43+AI43+AN43+AS43+AX43+BC43+BH43+BM43) -> 181 | FF43: =SUM(FA43+FB43) -> 2849
A44: Ago-Dic 1999 | V44: 83 | W44: 271 | X44: =SUM(Z43-W44-Y43) -> 47 | Y44: 10 | Z44: =SUM(V44+W44) -> 354 | AA44: 41 | AB44: 134 | AC44: =SUM(AE43-AB44-AD43) -> 24 | AD44: 5 | AE44: =SUM(AA44+AB44) -> 175 | AF44: 130 | AG44: 703 | AH44: =SUM(AJ43-AG44-AI43) -> 56 | AI44: 30 | AJ44: =SUM(AF44+AG44) -> 833 | AK44: 81 | AL44: 247 | AM44: =SUM(AO43-AL44-AN43) -> 45 | AN44: 10 | AO44: =SUM(AK44+AL44) -> 328 | AP44: 73 | AQ44: 256 | AR44: =SUM(AT43-AQ44-AS43) -> 42 | AS44: 15 | AT44: =SUM(AP44+AQ44) -> 329 | AU44: 87 | AV44: 351 | AW44: =SUM(AY43-AV44-AX43) -> 5 | AX44: 30 | AY44: =SUM(AU44+AV44) -> 438 | AZ44: 85 | BA44: 272 | BB44: =SUM(BD43-BA44-BC43) -> 35 | BC44: 10 | BD44: =SUM(AZ44+BA44) -> 357 | BE44: 82 | BF44: 160 | BG44: =SUM(BI43-BF44-BH43) -> 20 | BH44: 10 | BI44: =SUM(BE44+BF44) -> 242 | FA44: =SUM(B44+G44+L44+Q44+V44+AA44+AF44+AK44+AP44+AU44+AZ44+BE44+BJ44) -> 662 | FB44: =SUM(C44+H44+M44+R44+W44+AB44+AG44+AL44+AQ44+AV44+BA44+BF44+BK44) -> 2394 | FD44: =SUM(FF43-FB44-FE43) -> 274 | FE44: =SUM(E44+J44+O44+T44+Y44+AD44+AI44+AN44+AS44+AX44+BC44+BH44+BM44) -> 120 | FF44: =SUM(FA44+FB44) -> 3056
A45: Feb-Jun 2000 | V45: 49 | W45: 322 | X45: =SUM(Z44-W45-Y44) -> 22 | Y45: 23 | Z45: =SUM(V45+W45) -> 371 | AA45: 44 | AB45: 138 | AC45: =SUM(AE44-AB45-AD44) -> 32 | AD45: 2 | AE45: =SUM(AA45+AB45) -> 182 | AF45: 92 | AG45: 738 | AH45: =SUM(AJ44-AG45-AI44) -> 65 | AI45: 37 | AJ45: =SUM(AF45+AG45) -> 830 | AK45: 48 | AL45: 293 | AM45: =SUM(AO44-AL45-AN44) -> 25 | AN45: 27 | AO45: =SUM(AK45+AL45) -> 341 | AP45: 42 | AQ45: 283 | AR45: =SUM(AT44-AQ45-AS44) -> 31 | AS45: 25 | AT45: =SUM(AP45+AQ45) -> 325 | AU45: 43 | AV45: 356 | AW45: =SUM(AY44-AV45-AX44) -> 52 | AX45: 36 | AY45: =SUM(AU45+AV45) -> 399 | AZ45: 47 | BA45: 308 | BB45: =SUM(BD44-BA45-BC44) -> 39 | BC45: 26 | BD45: =SUM(AZ45+BA45) -> 355 | BE45: 0 | BF45: 203 | BG45: =SUM(BI44-BF45-BH44) -> 29 | BH45: 15 | BI45: =SUM(BE45+BF45) -> 203 | FA45: =SUM(B45+G45+L45+Q45+V45+AA45+AF45+AK45+AP45+AU45+AZ45+BE45+BJ45) -> 365 | FB45: =SUM(C45+H45+M45+R45+W45+AB45+AG45+AL45+AQ45+AV45+BA45+BF45+BK45) -> 2641 | FD45: =SUM(FF44-FB45-FE44) -> 295 | FE45: =SUM(E45+J45+O45+T45+Y45+AD45+AI45+AN45+AS45+AX45+BC45+BH45+BM45) -> 191 | FF45: =SUM(FA45+FB45) -> 3006
A46: Ago-Dic 2000 | V46: 83 | W46: 297 | X46: =SUM(Z45-W46-Y45) -> 51 | Y46: 14 | Z46: =SUM(V46+W46) -> 380 | AA46: 42 | AB46: =178-42 -> 136 | AC46: =SUM(AE45-AB46-AD45) -> 44 | AD46: 5 | AE46: =SUM(AA46+AB46) -> 178 | AF46: 135 | AG46: =883-135 -> 748 | AH46: =AJ45-AI45-AG46 -> 45 | AI46: 76 | AJ46: =SUM(AF46+AG46) -> 883 | AK46: 87 | AL46: =359-87 -> 272 | AM46: =SUM(AO45-AL46-AN45) -> 42 | AN46: 17 | AO46: =SUM(AK46+AL46) -> 359 | AP46: 50 | AQ46: =316-50 -> 266 | AR46: =AT45-AS45-AQ46 -> 34 | AS46: 30 | AT46: =SUM(AP46+AQ46) -> 316 | AU46: 82 | AV46: =421-82 -> 339 | AW46: =AY45-AX45-AV46 -> 24 | AX46: 55 | AY46: =SUM(AU46+AV46) -> 421 | AZ46: 81 | BA46: =365-81 -> 284 | BB46: =BD45-BC45-BA46 -> 45 | BC46: 14 | BD46: =SUM(AZ46+BA46) -> 365 | BE46: 50 | BF46: =224-50 -> 174 | BG46: =SUM(BI45-BF46-BH45) -> 14 | BH46: 18 | BI46: =SUM(BE46+BF46) -> 224 | FA46: =SUM(B46+G46+L46+Q46+V46+AA46+AF46+AK46+AP46+AU46+AZ46+BE46+BJ46) -> 610 | FB46: =SUM(C46+H46+M46+R46+W46+AB46+AG46+AL46+AQ46+AV46+BA46+BF46+BK46) -> 2516 | FD46: =SUM(FF45-FB46-FE45) -> 299 | FE46: =SUM(E46+J46+O46+T46+Y46+AD46+AI46+AN46+AS46+AX46+BC46+BH46+BM46) -> 229 | FF46: =SUM(FA46+FB46) -> 3126
A47: Feb-Jun 2001 | V47: 43 | W47: 313 | X47: =SUM(Z46-W47-Y46) -> 53 | Y47: 20 | Z47: 356 | AA47: 0 | AB47: 131 | AC47: =SUM(AE46-AB47-AD46) -> 42 | AD47: 4 | AE47: =SUM(AA47+AB47) -> 131 | AF47: 79 | AG47: 765 | AH47: =AJ46-AI46-AG47 -> 42 | AI47: 68 | AJ47: =SUM(AF47+AG47) -> 844 | AK47: 59 | AL47: 298 | AM47: =SUM(AO46-AL47-AN46) -> 44 | AN47: 32 | AO47: =SUM(AK47+AL47) -> 357 | AP47: 0 | AQ47: 247 | AR47: =AT46-AS46-AQ47 -> 39 | AS47: 19 | AT47: =SUM(AP47+AQ47) -> 247 | AU47: 34 | AV47: 311 | AW47: =AY46-AX46-AV47 -> 55 | AX47: 25 | AY47: =SUM(AU47+AV47) -> 345 | AZ47: 45 | BA47: 288 | BB47: =BD46-BC46-BA47 -> 63 | BC47: 27 | BD47: =SUM(AZ47+BA47) -> 333 | BE47: 0 | BF47: 180 | BG47: =SUM(BI46-BF47-BH46) -> 26 | BH47: 8 | BI47: =SUM(BE47+BF47) -> 180 | FA47: =SUM(B47+G47+L47+Q47+V47+AA47+AF47+AK47+AP47+AU47+AZ47+BE47+BJ47) -> 260 | FB47: =SUM(C47+H47+M47+R47+W47+AB47+AG47+AL47+AQ47+AV47+BA47+BF47+BK47) -> 2533 | FD47: =SUM(FF46-FB47-FE46) -> 364 | FE47: =SUM(E47+J47+O47+T47+Y47+AD47+AI47+AN47+AS47+AX47+BC47+BH47+BM47) -> 203 | FF47: =SUM(FA47+FB47) -> 2793
A48: Ago-Dic 2001 | V48: 89 | W48: 300 | X48: =SUM(Z47-W48-Y47) -> 36 | Y48: 21 | Z48: =SUM(V48+W48) -> 389 | AA48: 42 | AB48: 117 | AC48: =SUM(AE47-AB48-AD47) -> 10 | AD48: 3 | AE48: =SUM(AA48+AB48) -> 159 | AF48: 181 | AG48: 741 | AH48: =AJ47-AI47-AG48 -> 35 | AI48: 64 | AJ48: =SUM(AF48+AG48) -> 922 | AK48: 81 | AL48: 300 | AM48: =SUM(AO47-AL48-AN47) -> 25 | AN48: 27 | AO48: =SUM(AK48+AL48) -> 381 | AP48: 44 | AQ48: 199 | AR48: =AT47-AS47-AQ48 -> 29 | AS48: 14 | AT48: =SUM(AP48+AQ48) -> 243 | AU48: 92 | AV48: 289 | AW48: =AY47-AX47-AV48 -> 31 | AX48: 24 | AY48: =SUM(AU48+AV48) -> 381 | AZ48: 83 | BA48: 263 | BB48: =BD47-BC47-BA48 -> 43 | BC48: 15 | BD48: =SUM(AZ48+BA48) -> 346 | BE48: 40 | BF48: 152 | BG48: =SUM(BI47-BF48-BH47) -> 20 | BH48: 13 | BI48: =SUM(BE48+BF48) -> 192 | FA48: =SUM(B48+G48+L48+Q48+V48+AA48+AF48+AK48+AP48+AU48+AZ48+BE48+BJ48) -> 652 | FB48: =SUM(C48+H48+M48+R48+W48+AB48+AG48+AL48+AQ48+AV48+BA48+BF48+BK48) -> 2361 | FD48: =SUM(FF47-FB48-FE47) -> 229 | FE48: =SUM(E48+J48+O48+T48+Y48+AD48+AI48+AN48+AS48+AX48+BC48+BH48+BM48) -> 181 | FF48: =SUM(FA48+FB48) -> 3013
A49: Feb-Jun 2002 | V49: 45 | W49: 282 | X49: =SUM(Z48-W49-Y48) -> 86 | Y49: 11 | Z49: =SUM(V49+W49) -> 327 | AA49: 44 | AB49: 110 | AC49: =SUM(AE48-AB49-AD48) -> 46 | AD49: 3 | AE49: =SUM(AA49+AB49) -> 154 | AF49: 100 | AG49: 768 | AH49: =SUM(AJ48-AG49-AI48) -> 90 | AI49: 62 | AJ49: =SUM(AF49+AG49) -> 868 | AK49: 51 | AL49: 301 | AM49: =SUM(AO48-AL49-AN48) -> 53 | AN49: 17 | AO49: =SUM(AK49+AL49) -> 352 | AP49: 54 | AQ49: 197 | AR49: =SUM(AT48-AQ49-AS48) -> 32 | AS49: 18 | AT49: =SUM(AP49+AQ49) -> 251 | AU49: 52 | AV49: 312 | AW49: =SUM(AY48-AV49-AX48) -> 45 | AX49: 33 | AY49: =SUM(AU49+AV49) -> 364 | AZ49: 50 | BA49: 278 | BB49: =SUM(BD48-BA49-BC48) -> 53 | BC49: 14 | BD49: =SUM(AZ49+BA49) -> 328 | BE49: 0 | BF49: 162 | BG49: =SUM(BI48-BF49-BH48) -> 17 | BH49: 13 | BI49: =SUM(BE49+BF49) -> 162 | FA49: =SUM(B49+G49+L49+Q49+V49+AA49+AF49+AK49+AP49+AU49+AZ49+BE49+BJ49) -> 396 | FB49: =SUM(C49+H49+M49+R49+W49+AB49+AG49+AL49+AQ49+AV49+BA49+BF49+BK49) -> 2410 | FD49: =SUM(FF48-FB49-FE48) -> 422 | FE49: =SUM(E49+J49+O49+T49+Y49+AD49+AI49+AN49+AS49+AX49+BC49+BH49+BM49) -> 171 | FF49: =SUM(FA49+FB49) -> 2806
A50: Ago-Dic 2002 | V50: 92 | W50: 263 | X50: =SUM(Z49-W50-Y49) -> 53 | Y50: 14 | Z50: =SUM(V50+W50) -> 355 | AA50: 35 | AB50: 115 | AC50: =SUM(AE49-AB50-AD49) -> 36 | AD50: 9 | AE50: =SUM(AA50+AB50) -> 150 | AF50: 201 | AG50: 752 | AH50: =SUM(AJ49-AG50-AI49) -> 54 | AI50: 100 | AJ50: =SUM(AF50+AG50) -> 953 | AK50: 82 | AL50: 309 | AM50: =SUM(AO49-AL50-AN49) -> 26 | AN50: 18 | AO50: =SUM(AK50+AL50) -> 391 | AP50: 51 | AQ50: 201 | AR50: =SUM(AT49-AQ50-AS49) -> 32 | AS50: 25 | AT50: =SUM(AP50+AQ50) -> 252 | AU50: 107 | AV50: 298 | AW50: =SUM(AY49-AV50-AX49) -> 33 | AX50: 15 | AY50: =SUM(AU50+AV50) -> 405 | AZ50: 151 | BA50: 269 | BB50: =SUM(BD49-BA50-BC49) -> 45 | BC50: 13 | BD50: =SUM(AZ50+BA50) -> 420 | BE50: 58 | BF50: 132 | BG50: =SUM(BI49-BF50-BH49) -> 17 | BH50: 21 | BI50: =SUM(BE50+BF50) -> 190 | FA50: =SUM(B50+G50+L50+Q50+V50+AA50+AF50+AK50+AP50+AU50+AZ50+BE50+BJ50) -> 777 | FB50: =SUM(C50+H50+M50+R50+W50+AB50+AG50+AL50+AQ50+AV50+BA50+BF50+BK50) -> 2339 | FD50: =SUM(FF49-FB50-FE49) -> 296 | FE50: =SUM(E50+J50+O50+T50+Y50+AD50+AI50+AN50+AS50+AX50+BC50+BH50+BM50) -> 215 | FF50: =SUM(FA50+FB50) -> 3116
A51: Feb-Jun 2003 | V51: 32 | W51: =+Z51-V51 -> 283 | X51: 58 | Y51: 12 | Z51: 315 | AA51: 24 | AB51: =+AE51-AA51 -> 119 | AC51: 22 | AD51: 12 | AE51: 143 | AF51: 1 | AG51: =+AJ51-AF51 -> 756 | AH51: 97 | AI51: 95 | AJ51: 757 | AK51: 45 | AL51: =+AO51-AK51 -> 317 | AM51: 56 | AN51: 24 | AO51: 362 | AP51: 0 | AQ51: =+AT51-AP51 -> 207 | AR51: 20 | AS51: 20 | AT51: 207 | AU51: 53 | AV51: =+AY51-AU51 -> 334 | AW51: 56 | AX51: 43 | AY51: 387 | AZ51: 50 | BA51: =+BD51-AZ51 -> 341 | BB51: 66 | BC51: 20 | BD51: 391 | BE51: 21 | BF51: =+BI51-BE51 -> 167 | BG51: 2 | BH51: 8 | BI51: 188 | FA51: =SUM(B51+G51+L51+Q51+V51+AA51+AF51+AK51+AP51+AU51+AZ51+BE51+BJ51) -> 226 | FB51: =SUM(C51+H51+M51+R51+W51+AB51+AG51+AL51+AQ51+AV51+BA51+BF51+BK51) -> 2524 | FD51: =SUM(FF50-FB51-FE50) -> 377 | FE51: =SUM(E51+J51+O51+T51+Y51+AD51+AI51+AN51+AS51+AX51+BC51+BH51+BM51) -> 234 | FF51: =SUM(FA51+FB51) -> 2750
A52: Ago-Dic 2003 | V52: 90 | W52: 254 | X52: 49 | Y52: 13 | Z52: =SUM(V52+W52) -> 344 | AA52: 45 | AB52: 104 | AC52: 27 | AD52: 12 | AE52: =SUM(AA52+AB52) -> 149 | AF52: 166 | AG52: 657 | AH52: 5 | AI52: 72 | AJ52: =SUM(AF52+AG52) -> 823 | AK52: 80 | AL52: 304 | AM52: 34 | AN52: 14 | AO52: =SUM(AK52+AL52) -> 384 | AP52: 42 | AQ52: 172 | AR52: 15 | AS52: 11 | AT52: =SUM(AP52+AQ52) -> 214 | AU52: 138 | AV52: 340 | AW52: 4 | AX52: 39 | AY52: =SUM(AU52+AV52) -> 478 | AZ52: 124 | BA52: 295 | BB52: 76 | BC52: 14 | BD52: =SUM(AZ52+BA52) -> 419 | BE52: 44 | BF52: 158 | BG52: 22 | BH52: 14 | BI52: =SUM(BE52+BF52) -> 202 | FA52: =SUM(B52+G52+L52+Q52+V52+AA52+AF52+AK52+AP52+AU52+AZ52+BE52+BJ52) -> 729 | FB52: =SUM(C52+H52+M52+R52+W52+AB52+AG52+AL52+AQ52+AV52+BA52+BF52+BK52) -> 2284 | FD52: =SUM(FF51-FB52-FE51) -> 232 | FE52: =SUM(E52+J52+O52+T52+Y52+AD52+AI52+AN52+AS52+AX52+BC52+BH52+BM52) -> 189 | FF52: =SUM(FA52+FB52) -> 3013
A53: Feb-Jun 2004 | V53: 5 | W53: 272 | X53: 59 | Y53: 19 | Z53: =SUM(V53+W53) -> 277 | AA53: 0 | AB53: 111 | AC53: 26 | AD53: 10 | AE53: =SUM(AA53+AB53) -> 111 | AF53: 19 | AG53: 655 | AH53: 96 | AI53: 51 | AJ53: =SUM(AF53+AG53) -> 674 | AK53: 24 | AL53: 318 | AM53: 52 | AN53: 35 | AO53: =SUM(AK53+AL53) -> 342 | AP53: 0 | AQ53: 179 | AR53: 24 | AS53: 14 | AT53: =SUM(AP53+AQ53) -> 179 | AU53: 12 | AV53: 346 | AW53: 93 | AX53: 16 | AY53: =SUM(AU53+AV53) -> 358 | AZ53: 38 | BA53: 342 | BB53: 63 | BC53: 23 | BD53: =SUM(AZ53+BA53) -> 380 | BE53: 10 | BF53: 171 | BG53: 17 | BH53: 20 | BI53: =SUM(BE53+BF53) -> 181 | FA53: =SUM(B53+G53+L53+Q53+V53+AA53+AF53+AK53+AP53+AU53+AZ53+BE53+BJ53) -> 108 | FB53: =SUM(C53+H53+M53+R53+W53+AB53+AG53+AL53+AQ53+AV53+BA53+BF53+BK53) -> 2394 | FD53: =SUM(FF52-FB53-FE52) -> 430 | FE53: =SUM(E53+J53+O53+T53+Y53+AD53+AI53+AN53+AS53+AX53+BC53+BH53+BM53) -> 188 | FF53: =SUM(FA53+FB53) -> 2502
A54: Ago-Dic 2004 | V54: 83 | W54: 246 | X54: 12 | Y54: 18 | Z54: 329 | AA54: 42 | AB54: 97 | AC54: 4 | AD54: 3 | AE54: 139 | AF54: 94 | AG54: 618 | AH54: 5 | AI54: 89 | AJ54: 712 | AK54: 53 | AL54: 295 | AM54: 12 | AN54: 36 | AO54: =SUM(AK54+AL54) -> 348 | AP54: 49 | AQ54: 160 | AR54: 5 | AS54: 14 | AT54: =SUM(AP54+AQ54) -> 209 | AU54: 86 | AV54: 325 | AW54: 17 | AX54: 42 | AY54: =SUM(AU54+AV54) -> 411 | AZ54: 100 | BA54: 308 | BB54: 49 | BC54: 21 | BD54: =SUM(AZ54+BA54) -> 408 | BE54: 84 | BF54: 147 | BG54: 14 | BH54: 25 | BI54: =SUM(BE54+BF54) -> 231 | BJ54: 92 | BK54: 0 | BL54: 0 | BM54: 0 | BN54: =SUM(BJ54+BK54) -> 92 | FA54: =SUM(B54+G54+L54+Q54+V54+AA54+AF54+AK54+AP54+AU54+AZ54+BE54+BJ54) -> 683 | FB54: =SUM(C54+H54+M54+R54+W54+AB54+AG54+AL54+AQ54+AV54+BA54+BF54+BK54) -> 2196 | FD54: =SUM(FF53-FB54-FE53) -> 118 | FE54: =SUM(E54+J54+O54+T54+Y54+AD54+AI54+AN54+AS54+AX54+BC54+BH54+BM54) -> 248 | FF54: =SUM(FA54+FB54) -> 2879
A55: Feb-Jun 2005 | V55: 0 | W55: 260 | X55: 51 | Y55: 21 | Z55: =SUM(V55+W55) -> 260 | AA55: 0 | AB55: 122 | AC55: 14 | AD55: 7 | AE55: =SUM(AA55+AB55) -> 122 | AF55: 0 | AG55: 583 | AH55: 40 | AI55: 59 | AJ55: =SUM(AF55+AG55) -> 583 | AK55: 0 | AL55: 283 | AM55: 29 | AN55: 19 | AO55: =SUM(AK55+AL55) -> 283 | AP55: 0 | AQ55: 166 | AR55: 29 | AS55: 13 | AT55: =SUM(AP55+AQ55) -> 166 | AU55: 0 | AV55: 329 | AW55: 40 | AX55: 25 | AY55: =SUM(AU55+AV55) -> 329 | AZ55: 0 | BA55: 303 | BB55: 84 | BC55: 20 | BD55: =SUM(AZ55+BA55) -> 303 | BE55: 0 | BF55: 189 | BG55: 17 | BH55: 10 | BI55: =SUM(BE55+BF55) -> 189 | BJ55: 0 | BK55: 84 | BL55: =BN54-BK55 -> 8 | BM55: 0 | BN55: =SUM(BJ55+BK55) -> 84 | FA55: =SUM(B55+G55+L55+Q55+V55+AA55+AF55+AK55+AP55+AU55+AZ55+BE55+BJ55) -> 0 | FB55: =SUM(C55+H55+M55+R55+W55+AB55+AG55+AL55+AQ55+AV55+BA55+BF55+BK55) -> 2319 | FD55: =SUM(FF54-FB55-FE54) -> 312 | FE55: =SUM(E55+J55+O55+T55+Y55+AD55+AI55+AN55+AS55+AX55+BC55+BH55+BM55) -> 174 | FF55: =SUM(FA55+FB55) -> 2319
A56: Ago-Dic 2005 | V56: 67 | W56: 219 | X56: 20 | Y56: 37 | Z56: =SUM(V56+W56) -> 286 | AA56: 42 | AB56: 108 | AC56: 7 | AD56: 5 | AE56: =SUM(AA56+AB56) -> 150 | AF56: 179 | AG56: 472 | AH56: 52 | AI56: 94 | AJ56: =SUM(AF56+AG56) -> 651 | AK56: 50 | AL56: 251 | AM56: 13 | AN56: 30 | AO56: =SUM(AK56+AL56) -> 301 | AP56: 45 | AQ56: 136 | AR56: 17 | AS56: 15 | AT56: =SUM(AP56+AQ56) -> 181 | AU56: 86 | AV56: 283 | AW56: 21 | AX56: 48 | AY56: =SUM(AU56+AV56) -> 369 | AZ56: 131 | BA56: 248 | BB56: 35 | BC56: 34 | BD56: =SUM(AZ56+BA56) -> 379 | BE56: 68 | BF56: 162 | BG56: 17 | BH56: 19 | BI56: =SUM(BE56+BF56) -> 230 | BJ56: 213 | BK56: 79 | BL56: 5 | BM56: 0 | BN56: =SUM(BJ56+BK56) -> 292 | FA56: =SUM(B56+G56+L56+Q56+V56+AA56+AF56+AK56+AP56+AU56+AZ56+BE56+BJ56) -> 881 | FB56: =SUM(C56+H56+M56+R56+W56+AB56+AG56+AL56+AQ56+AV56+BA56+BF56+BK56) -> 1958 | FD56: =SUM(FF55-FB56-FE55) -> 187 | FE56: =SUM(E56+J56+O56+T56+Y56+AD56+AI56+AN56+AS56+AX56+BC56+BH56+BM56) -> 282 | FF56: =SUM(FA56+FB56) -> 2839
A57: Feb-Jun 2006 | V57: 0 | W57: 235 | X57: 14 | Y57: 19 | Z57: =SUM(V57+W57) -> 235 | AA57: 0 | AB57: 135 | AC57: 10 | AD57: 7 | AE57: =SUM(AA57+AB57) -> 135 | AF57: 0 | AG57: 533 | AH57: 24 | AI57: 62 | AJ57: =SUM(AF57+AG57) -> 533 | AK57: 0 | AL57: 253 | AM57: 18 | AN57: 20 | AO57: =SUM(AK57+AL57) -> 253 | AP57: 0 | AQ57: 158 | AR57: 8 | AS57: 9 | AT57: =SUM(AP57+AQ57) -> 158 | AU57: 0 | AV57: 296 | AW57: 25 | AX57: 22 | AY57: =SUM(AU57+AV57) -> 296 | AZ57: 0 | BA57: 297 | BB57: 48 | BC57: 17 | BD57: =SUM(AZ57+BA57) -> 297 | BE57: 0 | BF57: 195 | BG57: 16 | BH57: 8 | BI57: =SUM(BE57+BF57) -> 195 | BJ57: 0 | BK57: 258 | BL57: =BN56-BM56-BK57 -> 34 | BM57: 0 | BN57: =SUM(BJ57+BK57) -> 258 | FA57: =SUM(B57+G57+L57+Q57+V57+AA57+AF57+AK57+AP57+AU57+AZ57+BE57+BJ57) -> 0 | FB57: =SUM(C57+H57+M57+R57+W57+AB57+AG57+AL57+AQ57+AV57+BA57+BF57+BK57) -> 2360 | FD57: =SUM(FF56-FB57-FE56) -> 197 | FE57: =SUM(E57+J57+O57+T57+Y57+AD57+AI57+AN57+AS57+AX57+BC57+BH57+BM57) -> 164 | FF57: =SUM(FA57+FB57) -> 2360
A58: Ago-Dic 2006 | V58: 47 | W58: 201 | X58: 15 | Y58: 25 | Z58: =SUM(V58+W58) -> 248 | AA58: 44 | AB58: 111 | AC58: 17 | AD58: 14 | AE58: =SUM(AA58+AB58) -> 155 | AF58: 136 | AG58: 459 | AH58: 12 | AI58: 73 | AJ58: =SUM(AF58+AG58) -> 595 | AK58: 45 | AL58: 226 | AM58: 7 | AN58: 27 | AO58: =SUM(AK58+AL58) -> 271 | AP58: 45 | AQ58: 139 | AR58: 10 | AS58: 9 | AT58: =SUM(AP58+AQ58) -> 184 | AU58: 81 | AV58: 261 | AW58: 13 | AX58: 45 | AY58: =SUM(AU58+AV58) -> 342 | AZ58: 126 | BA58: =+BD57-BC57-BB58 -> 240 | BB58: 40 | BC58: 26 | BD58: =SUM(AZ58+BA58) -> 366 | BE58: 50 | BF58: 178 | BG58: 9 | BH58: 22 | BI58: =SUM(BE58+BF58) -> 228 | BJ58: 181 | BK58: 241 | BL58: =BN57-BM57-BK58 -> 17 | BM58: 0 | BN58: =SUM(BJ58+BK58) -> 422 | FA58: =SUM(B58+G58+L58+Q58+V58+AA58+AF58+AK58+AP58+AU58+AZ58+BE58+BJ58) -> 755 | FB58: =SUM(C58+H58+M58+R58+W58+AB58+AG58+AL58+AQ58+AV58+BA58+BF58+BK58) -> 2056 | FD58: =SUM(FF57-FB58-FE57) -> 140 | FE58: =SUM(E58+J58+O58+T58+Y58+AD58+AI58+AN58+AS58+AX58+BC58+BH58+BM58) -> 241 | FF58: =SUM(FA58+FB58) -> 2811
A59: Feb-Jun 2007 | V59: 0 | W59: 213 | X59: 10 | Y59: 22 | Z59: =SUM(V59+W59) -> 213 | AA59: 0 | AB59: 127 | AC59: 14 | AD59: 9 | AE59: =SUM(AA59+AB59) -> 127 | AF59: 0 | AG59: 485 | AH59: 37 | AI59: 58 | AJ59: =SUM(AF59+AG59) -> 485 | AK59: 39 | AL59: 228 | AM59: 16 | AN59: 21 | AO59: =SUM(AK59+AL59) -> 267 | AP59: 0 | AQ59: 152 | AR59: 23 | AS59: 11 | AT59: =SUM(AP59+AQ59) -> 152 | AU59: 0 | AV59: 272 | AW59: 25 | AX59: 29 | AY59: =SUM(AU59+AV59) -> 272 | AZ59: 0 | BA59: 273 | BB59: 67 | BC59: 24 | BD59: 273 | BE59: 19 | BF59: 190 | BG59: 16 | BH59: 23 | BI59: =SUM(BE59+BF59) -> 209 | BJ59: 0 | BK59: 387 | BL59: 35 | BM59: 0 | BN59: =SUM(BJ59+BK59) -> 387 | FA59: =SUM(B59+G59+L59+Q59+V59+AA59+AF59+AK59+AP59+AU59+AZ59+BE59+BJ59) -> 58 | FB59: =SUM(C59+H59+M59+R59+W59+AB59+AG59+AL59+AQ59+AV59+BA59+BF59+BK59) -> 2327 | FD59: =SUM(FF58-FE58-FB59) -> 243 | FE59: =SUM(E59+J59+O59+T59+Y59+AD59+AI59+AN59+AS59+AX59+BC59+BH59+BM59) -> 197 | FF59: =SUM(FA59+FB59) -> 2385 | FI59: Posgrado
A60: Ago-Dic 2007 | V60: 36 | W60: 173 | X60: 18 | Y60: 21 | Z60: =SUM(V60+W60) -> 209 | AA60: 39 | AB60: 100 | AC60: 18 | AD60: 17 | AE60: =SUM(AA60+AB60) -> 139 | AF60: 142 | AG60: 400 | AH60: 27 | AI60: 48 | AJ60: =SUM(AF60+AG60) -> 542 | AK60: 82 | AL60: 229 | AM60: 17 | AN60: 34 | AO60: =SUM(AK60+AL60) -> 311 | AP60: 45 | AQ60: 131 | AR60: 10 | AS60: 22 | AT60: =SUM(AP60+AQ60) -> 176 | AU60: 81 | AV60: 235 | AW60: 8 | AX60: 35 | AY60: =SUM(AU60+AV60) -> 316 | AZ60: 123 | BA60: 208 | BB60: 41 | BC60: 26 | BD60: 331 | BE60: 46 | BF60: 160 | BG60: 26 | BH60: 21 | BI60: =SUM(BE60+BF60) -> 206 | BJ60: 134 | BK60: 366 | BL60: 21 | BM60: 0 | BN60: =SUM(BJ60+BK60) -> 500 | FA60: =SUM(B60+G60+L60+Q60+V60+AA60+AF60+AK60+AP60+AU60+AZ60+BE60+BJ60) -> 728 | FB60: =SUM(C60+H60+M60+R60+W60+AB60+AG60+AL60+AQ60+AV60+BA60+BF60+BK60) -> 2002 | FD60: =SUM(FF59-FE59-FB60) -> 186 | FE60: =SUM(E60+J60+O60+T60+Y60+AD60+AI60+AN60+AS60+AX60+BC60+BH60+BM60) -> 224 | FF60: =SUM(FA60+FB60) -> 2730 | FI60: 28 | FJ60: ok
A61: Feb-Jun 2008 | V61: 0 | W61: 179 | X61: 9 | Y61: 10 | Z61: =SUM(V61+W61) -> 179 | AA61: 0 | AB61: 121 | AC61: 1 | AD61: 7 | AE61: =SUM(AA61+AB61) -> 121 | AF61: 0 | AG61: 464 | AH61: 30 | AI61: 24 | AJ61: =SUM(AF61+AG61) -> 464 | AK61: 0 | AL61: 250 | AM61: 27 | AN61: 42 | AO61: =SUM(AK61+AL61) -> 250 | AP61: 0 | AQ61: 135 | AR61: 19 | AS61: 21 | AT61: =SUM(AP61+AQ61) -> 135 | AU61: 0 | AV61: 251 | AW61: 30 | AX61: 23 | AY61: =SUM(AU61+AV61) -> 251 | AZ61: 0 | BA61: 272 | BB61: 33 | BC61: 38 | BD61: 272 | BE61: 0 | BF61: 165 | BG61: 20 | BH61: 13 | BI61: =SUM(BE61+BF61) -> 165 | BJ61: 0 | BK61: 475 | BL61: 25 | BM61: 9 | BN61: =SUM(BJ61+BK61) -> 475 | FA61: =SUM(B61+G61+L61+Q61+V61+AA61+AF61+AK61+AP61+AU61+AZ61+BE61+BJ61) -> 0 | FB61: =SUM(C61+H61+M61+R61+W61+AB61+AG61+AL61+AQ61+AV61+BA61+BF61+BK61) -> 2312 | FD61: =SUM(FF60-FE60-FB61) -> 194 | FE61: =SUM(E61+J61+O61+T61+Y61+AD61+AI61+AN61+AS61+AX61+BC61+BH61+BM61) -> 187 | FF61: =SUM(FA61+FB61) -> 2312
A62: Ago-Dic 2008 | V62: 39 | W62: 144 | X62: 25 | Y62: 23 | Z62: 183 | AA62: 36 | AB62: 115 | AC62: -1 | AD62: 17 | AE62: 151 | AF62: 197 | AG62: 407 | AH62: 33 | AI62: 36 | AJ62: 604 | AK62: 77 | AL62: 168 | AM62: 40 | AN62: 23 | AO62: 245 | AP62: 65 | AQ62: 105 | AR62: 9 | AS62: 6 | AT62: 170 | AU62: 62 | AV62: 211 | AW62: 17 | AX62: 30 | AY62: 273 | AZ62: 114 | BA62: 194 | BB62: 40 | BC62: 23 | BD62: 308 | BE62: 69 | BF62: 138 | BG62: 14 | BH62: 29 | BI62: 207 | BJ62: 120 | BK62: 428 | BL62: 38 | BM62: 24 | BN62: 548 | FA62: =SUM(B62+G62+L62+Q62+V62+AA62+AF62+AK62+AP62+AU62+AZ62+BE62+BJ62) -> 779 | FB62: =SUM(C62+H62+M62+R62+W62+AB62+AG62+AL62+AQ62+AV62+BA62+BF62+BK62) -> 1910 | FD62: 215 | FE62: =SUM(E62+J62+O62+T62+Y62+AD62+AI62+AN62+AS62+AX62+BC62+BH62+BM62) -> 211 | FF62: =SUM(FA62+FB62) -> 2689 | FI62: 24 | FJ62: ok
A63: Feb-Jun 2009 | V63: 0 | W63: 133 | X63: 27 | Y63: 14 | Z63: 133 | AA63: 0 | AB63: 124 | AC63: 10 | AD63: 3 | AE63: 124 | AF63: 33 | AG63: 519 | AH63: 49 | AI63: 33 | AJ63: 552 | AK63: 22 | AL63: 191 | AM63: 31 | AN63: 18 | AO63: 213 | AP63: 0 | AQ63: 146 | AR63: 18 | AS63: 6 | AT63: 146 | AU63: 19 | AV63: 212 | AW63: 31 | AX63: 6 | AY63: 231 | AZ63: 22 | BA63: 236 | BB63: 49 | BC63: 7 | BD63: 258 | BE63: 0 | BF63: 158 | BG63: 20 | BH63: 4 | BI63: 158 | BJ63: 18 | BK63: 464 | BL63: 60 | BM63: 12 | BN63: 482 | FA63: =SUM(B63+G63+L63+Q63+V63+AA63+AF63+AK63+AP63+AU63+AZ63+BE63+BJ63) -> 114 | FB63: =SUM(C63+H63+M63+R63+W63+AB63+AG63+AL63+AQ63+AV63+BA63+BF63+BK63) -> 2183 | FD63: =SUM(FF62-FE62-FB63) -> 295 | FE63: =SUM(E63+J63+O63+T63+Y63+AD63+AI63+AN63+AS63+AX63+BC63+BH63+BM63) -> 103 | FF63: =SUM(FA63+FB63) -> 2297
A64: Ago-Dic 2009 | V64: 38 | W64: 116 | X64: 3 | Y64: 14 | Z64: 154 | AA64: 46 | AB64: 118 | AC64: 3 | AD64: 3 | AE64: 164 | AF64: 156 | AG64: 467 | AH64: 52 | AI64: 39 | AJ64: 623 | AK64: 79 | AL64: 178 | AM64: 17 | AN64: 26 | AO64: 257 | AP64: 41 | AQ64: 129 | AR64: 11 | AS64: 22 | AT64: 170 | AU64: 46 | AV64: 206 | AW64: 19 | AX64: 34 | AY64: 252 | AZ64: 127 | BA64: 212 | BB64: 39 | BC64: 24 | BD64: 339 | BE64: 77 | BF64: 149 | BG64: 5 | BH64: 6 | BI64: 226 | BJ64: 114 | BK64: 430 | BL64: 40 | BM64: 38 | BN64: 544 | FA64: =SUM(B64+G64+L64+Q64+V64+AA64+AF64+AK64+AP64+AU64+AZ64+BE64+BJ64) -> 724 | FB64: =SUM(C64+H64+M64+R64+W64+AB64+AG64+AL64+AQ64+AV64+BA64+BF64+BK64) -> 2005 | FD64: =SUM(FF63-FE63-FB64) -> 189 | FE64: =SUM(E64+J64+O64+T64+Y64+AD64+AI64+AN64+AS64+AX64+BC64+BH64+BM64) -> 206 | FF64: =SUM(FA64+FB64) -> 2729 | FI64: 33 | FJ64: ok
A65: Feb-Jun 2010 | V65: 0 | W65: 120 | X65: 20 | Y65: 10 | Z65: 120 | AA65: 0 | AB65: 154 | AC65: 7 | AD65: 14 | AE65: 154 | AF65: 0 | AG65: 526 | AH65: 58 | AI65: 37 | AJ65: 526 | AK65: 0 | AL65: 210 | AM65: 21 | AN65: 3 | AO65: 210 | AP65: 0 | AQ65: 134 | AR65: 14 | AS65: 5 | AT65: 134 | AU65: 0 | AV65: 186 | AW65: 32 | AX65: 15 | AY65: 186 | AZ65: 0 | BA65: 224 | BB65: 91 | BC65: 17 | BD65: 224 | BE65: 0 | BF65: 176 | BG65: 44 | BH65: 12 | BI65: 176 | BJ65: 0 | BK65: 454 | BL65: 52 | BM65: 60 | BN65: 454 | BO65: 16 | BS65: 0 | BT65: 16 | BU65: 8 | BY65: 0 | BZ65: 8 | CA65: 17 | CE65: 0 | CF65: 17 | CG65: 11 | CK65: 0 | CL65: 11 | CM65: 9 | CR65: 9 | CS65: 0 | CW65: 0 | CX65: 0 | CY65: 23 | DC65: 0 | DD65: 23 | DE65: 31 | DI65: 0 | DJ65: 31 | DK65: 0 | DO65: 0 | DP65: 0 | DQ65: 11 | DU65: 0 | DV65: 11 | DW65: 25 | EA65: 0 | EB65: 25 | EC65: 17 | EG65: 0 | EH65: 17 | FA65: =SUM(B65+G65+L65+Q65+V65+AA65+AF65+AK65+AP65+AU65+AZ65+BE65+BJ65+BO65+BU65+CA65+CG65+CM65+CS65+CY65+DE65+DK65+DQ65+DW65+EC65) -> 168 | FB65: =SUM(C65+H65+M65+R65+W65+AB65+AG65+AL65+AQ65+AV65+BA65+BF65+BK65+BP65+BV65+CB65+CH65+CN65+CT65+CZ65+DF65+DL65+DR65+DX65+ED65) -> 2184 | FD65: =SUM(D65+I65+N65+S65+X65+AC65+AH65+AM65+AR65+AW65+BB65+BG65+BL65+BR65+BX65+CD65+CJ65+CP65+CV65+DB65+DH65+DN65+DT65+DZ65+EF65) -> 339 | FE65: =SUM(E65+J65+O65+T65+Y65+AD65+AI65+AN65+AS65+AX65+BC65+BH65+BM65+BS65+BY65+CE65+CK65+CQ65+CW65+DC65+DI65+DO65+DU65+EA65+EG65) -> 173 | FF65: =SUM(F65+K65+P65+U65+Z65+AE65+AJ65+AO65+AT65+AY65+BD65+BI65+BN65+BT65+BZ65+CF65+CL65+CR65+CX65+DD65+DJ65+DP65+DV65+EB65+EH65) -> 2352
A66: Ago-Dic 2010 | V66: 0 | W66: 99 | X66: 11 | Y66: 9 | Z66: 99 | AA66: 0 | AB66: 131 | AC66: 9 | AD66: 18 | AE66: 131 | AF66: 0 | AG66: 439 | AH66: 50 | AI66: 36 | AJ66: 439 | AK66: 0 | AL66: 184 | AM66: 23 | AN66: 9 | AO66: 184 | AP66: 0 | AQ66: 122 | AR66: 7 | AS66: 7 | AT66: 122 | AU66: 0 | AV66: 156 | AW66: 15 | AX66: 33 | AY66: 156 | AZ66: 0 | BA66: 181 | BB66: 26 | BC66: 18 | BD66: 181 | BE66: 0 | BF66: 150 | BG66: 14 | BH66: 21 | BI66: 150 | BJ66: 0 | BK66: 359 | BL66: 35 | BM66: 30 | BN66: 359 | BO66: 30 | BP66: 13 | BR66: 3 | BS66: 0 | BT66: 43 | BU66: 19 | BV66: 1 | BX66: 7 | BY66: 0 | BZ66: 20 | CA66: 31 | CB66: 7 | CD66: 10 | CE66: 0 | CF66: 38 | CG66: 36 | CH66: 6 | CJ66: 5 | CK66: 0 | CL66: 42 | CM66: 32 | CN66: 5 | CP66: 4 | CQ66: 0 | CR66: 37 | CS66: 11 | CT66: 0 | CV66: 0 | CW66: 0 | CX66: 11 | CY66: 85 | CZ66: 16 | DB66: 7 | DC66: 0 | DD66: 101 | DE66: 116 | DF66: 22 | DH66: 9 | DI66: 0 | DJ66: 138 | DK66: 20 | DL66: 0 | DN66: 0 | DO66: 0 | DP66: 20 | DQ66: 59 | DR66: 11 | DT66: 0 | DU66: 0 | DV66: 70 | DW66: 118 | DX66: 18 | DZ66: 7 | EA66: 0 | EB66: 136 | EC66: 43 | ED66: 15 | EF66: 2 | EG66: 0 | EH66: 58 | FA66: =SUM(B66+G66+L66+Q66+V66+AA66+AF66+AK66+AP66+AU66+AZ66+BE66+BJ66+BO66+BU66+CA66+CG66+CM66+CS66+CY66+DE66+DK66+DQ66+DW66+EC66) -> 600 | FB66: =SUM(C66+H66+M66+R66+W66+AB66+AG66+AL66+AQ66+AV66+BA66+BF66+BK66+BP66+BV66+CB66+CH66+CN66+CT66+CZ66+DF66+DL66+DR66+DX66+ED66) -> 1935 | FD66: =SUM(D66+I66+N66+S66+X66+AC66+AH66+AM66+AR66+AW66+BB66+BG66+BL66+BR66+BX66+CD66+CJ66+CP66+CV66+DB66+DH66+DN66+DT66+DZ66+EF66) -> 244 | FE66: =SUM(E66+J66+O66+T66+Y66+AD66+AI66+AN66+AS66+AX66+BC66+BH66+BM66+BS66+BY66+CE66+CK66+CQ66+CW66+DC66+DI66+DO66+DU66+EA66+EG66) -> 181 | FF66: =SUM(F66+K66+P66+U66+Z66+AE66+AJ66+AO66+AT66+AY66+BD66+BI66+BN66+BT66+BZ66+CF66+CL66+CR66+CX66+DD66+DJ66+DP66+DV66+EB66+EH66) -> 2535 | FG66: 2´10 | FI66: 26 | FJ66: ok
A67: Feb-Jun 2011 | V67: 0 | W67: 77 | X67: 13 | Y67: 12 | Z67: 77 | AA67: 0 | AB67: 116 | AC67: -3 | AD67: 9 | AE67: 116 | AF67: 0 | AG67: 380 | AH67: 23 | AI67: 38 | AJ67: 380 | AK67: 0 | AL67: 165 | AM67: 10 | AN67: 21 | AO67: 165 | AP67: 0 | AQ67: 113 | AR67: 2 | AS67: 10 | AT67: 113 | AU67: 0 | AV67: 120 | AW67: 3 | AX67: 8 | AY67: 120 | AZ67: 0 | BA67: 151 | BB67: 12 | BC67: 17 | BD67: 151 | BE67: 0 | BF67: 124 | BG67: 5 | BH67: 15 | BI67: 124 | BJ67: 0 | BK67: 301 | BL67: 28 | BM67: 47 | BN67: 301 | BO67: 10 | BP67: 39 | BR67: 4 | BS67: 0 | BT67: 49 | BU67: 9 | BV67: 19 | BX67: 1 | BY67: 0 | BZ67: 28 | CA67: 21 | CB67: 32 | CD67: 6 | CE67: 0 | CF67: 53 | CG67: 16 | CH67: 38 | CJ67: 4 | CK67: 0 | CL67: 54 | CM67: 1 | CN67: 33 | CP67: 4 | CQ67: 0 | CR67: 34 | CS67: 12 | CT67: 11 | CV67: 0 | CW67: 0 | CX67: 23 | CY67: 40 | CZ67: 77 | DB67: 24 | DC67: 0 | DD67: 117 | DE67: 63 | DF67: 123 | DH67: 15 | DI67: 0 | DJ67: 186 | DK67: 7 | DL67: 14 | DN67: 6 | DO67: 0 | DP67: 21 | DQ67: 28 | DR67: 58 | DT67: 12 | DU67: 0 | DV67: 86 | DW67: 48 | DX67: 120 | DZ67: 16 | EA67: 0 | EB67: 168 | EC67: 15 | ED67: 49 | EF67: 9 | EG67: 0 | EH67: 64 | FA67: =SUM(B67+G67+L67+Q67+V67+AA67+AF67+AK67+AP67+AU67+AZ67+BE67+BJ67+BO67+BU67+CA67+CG67+CM67+CS67+CY67+DE67+DK67+DQ67+DW67+EC67) -> 270 | FB67: =SUM(C67+H67+M67+R67+W67+AB67+AG67+AL67+AQ67+AV67+BA67+BF67+BK67+BP67+BV67+CB67+CH67+CN67+CT67+CZ67+DF67+DL67+DR67+DX67+ED67) -> 2160 | FD67: =SUM(D67+I67+N67+S67+X67+AC67+AH67+AM67+AR67+AW67+BB67+BG67+BL67+BR67+BX67+CD67+CJ67+CP67+CV67+DB67+DH67+DN67+DT67+DZ67+EF67) -> 194 | FE67: =SUM(E67+J67+O67+T67+Y67+AD67+AI67+AN67+AS67+AX67+BC67+BH67+BM67+BS67+BY67+CE67+CK67+CQ67+CW67+DC67+DI67+DO67+DU67+EA67+EG67) -> 177 | FF67: =SUM(F67+K67+P67+U67+Z67+AE67+AJ67+AO67+AT67+AY67+BD67+BI67+BN67+BT67+BZ67+CF67+CL67+CR67+CX67+DD67+DJ67+DP67+DV67+EB67+EH67) -> 2430 | FG67: 1´11 | FI67: mtria
A68: Ago-Dic 2011 | V68: 0 | W68: 65 | X68: 0 | Y68: 6 | Z68: 65 | AA68: 0 | AB68: 94 | AC68: 13 | AD68: 12 | AE68: 94 | AF68: 0 | AG68: 319 | AH68: 23 | AI68: 49 | AJ68: 319 | AK68: 0 | AL68: 125 | AM68: 19 | AN68: 20 | AO68: 125 | AP68: 0 | AQ68: 92 | AR68: 11 | AS68: 7 | AT68: 92 | AU68: 0 | AV68: 103 | AW68: 9 | AX68: 26 | AY68: 103 | AZ68: 0 | BA68: 131 | BB68: 3 | BC68: 16 | BD68: 131 | BE68: 0 | BF68: 107 | BG68: 2 | BH68: 13 | BI68: 107 | BJ68: 0 | BK68: 248 | BL68: 6 | BM68: 31 | BN68: 248 | BO68: 55 | BP68: 45 | BR68: 4 | BS68: 0 | BT68: 100 | BU68: 26 | BV68: 24 | BX68: 4 | BY68: 0 | BZ68: 50 | CA68: 56 | CB68: 38 | CD68: 15 | CE68: 0 | CF68: 94 | CG68: 44 | CH68: 44 | CJ68: 10 | CK68: 0 | CL68: 88 | CM68: 42 | CN68: 32 | CP68: 2 | CQ68: 0 | CR68: 74 | CS68: 34 | CT68: 19 | CV68: 4 | CW68: 0 | CX68: 53 | CY68: 111 | CZ68: 87 | DB68: 30 | DC68: 0 | DD68: 198 | DE68: 195 | DF68: 185 | DH68: 1 | DI68: 0 | DJ68: 380 | DK68: 36 | DL68: 18 | DN68: 3 | DO68: 0 | DP68: 54 | DQ68: 93 | DR68: 68 | DT68: 18 | DU68: 0 | DV68: 161 | DW68: 164 | DX68: 150 | DZ68: 18 | EA68: 0 | EB68: 314 | EC68: 66 | ED68: 46 | EF68: 18 | EG68: 0 | EH68: 112 | FA68: =SUM(B68+G68+L68+Q68+V68+AA68+AF68+AK68+AP68+AU68+AZ68+BE68+BJ68+BO68+BU68+CA68+CG68+CM68+CS68+CY68+DE68+DK68+DQ68+DW68+EC68) -> 922 | FB68: =SUM(C68+H68+M68+R68+W68+AB68+AG68+AL68+AQ68+AV68+BA68+BF68+BK68+BP68+BV68+CB68+CH68+CN68+CT68+CZ68+DF68+DL68+DR68+DX68+ED68) -> 2040 | FD68: =SUM(D68+I68+N68+S68+X68+AC68+AH68+AM68+AR68+AW68+BB68+BG68+BL68+BR68+BX68+CD68+CJ68+CP68+CV68+DB68+DH68+DN68+DT68+DZ68+EF68) -> 213 | FE68: =SUM(E68+J68+O68+T68+Y68+AD68+AI68+AN68+AS68+AX68+BC68+BH68+BM68+BS68+BY68+CE68+CK68+CQ68+CW68+DC68+DI68+DO68+DU68+EA68+EG68) -> 180 | FF68: =SUM(F68+K68+P68+U68+Z68+AE68+AJ68+AO68+AT68+AY68+BD68+BI68+BN68+BT68+BZ68+CF68+CL68+CR68+CX68+DD68+DJ68+DP68+DV68+EB68+EH68) -> 2962 | FG68: 2´11 | FI68: 24 | FJ68: ok
A69: Feb-Jun 2012 | V69: 0 | W69: 48 | X69: 11 | Y69: 7 | Z69: 48 | AA69: 0 | AB69: 80 | AC69: 2 | AD69: 4 | AE69: 80 | AF69: 0 | AG69: 257 | AH69: 13 | AI69: 34 | AJ69: 257 | AK69: 0 | AL69: 104 | AM69: 1 | AN69: 14 | AO69: 104 | AP69: 0 | AQ69: 80 | AR69: 5 | AS69: 6 | AT69: 80 | AU69: 0 | AV69: 72 | AW69: 5 | AX69: 13 | AY69: 72 | AZ69: 0 | BA69: 108 | BB69: 7 | BC69: 14 | BD69: 108 | BE69: 0 | BF69: 92 | BG69: 2 | BH69: 10 | BI69: 92 | BJ69: 0 | BK69: 198 | BL69: 19 | BM69: 23 | BN69: 198 | BO69: 0 | BP69: 88 | BR69: 12 | BS69: 0 | BT69: 88 | BU69: 0 | BV69: 32 | BX69: 18 | BY69: 0 | BZ69: 32 | CA69: 20 | CB69: 73 | CD69: 21 | CE69: 0 | CF69: 93 | CG69: 1 | CH69: 78 | CJ69: 10 | CK69: 0 | CL69: 79 | CM69: 0 | CN69: 65 | CP69: 9 | CQ69: 0 | CR69: 65 | CS69: 0 | CT69: 43 | CV69: 10 | CW69: 0 | CX69: 43 | CY69: 31 | CZ69: 163 | DB69: 35 | DC69: 0 | DD69: 194 | DE69: 61 | DF69: 337 | DH69: 43 | DI69: 0 | DJ69: 398 | DK69: 0 | DL69: 40 | DN69: 14 | DO69: 0 | DP69: 40 | DQ69: 0 | DR69: 147 | DT69: 14 | DU69: 0 | DV69: 147 | DW69: 41 | DX69: 278 | DZ69: 36 | EA69: 0 | EB69: 319 | EC69: 0 | ED69: 83 | EF69: 29 | EG69: 0 | EH69: 83 | FA69: =SUM(B69+G69+L69+Q69+V69+AA69+AF69+AK69+AP69+AU69+AZ69+BE69+BJ69+BO69+BU69+CA69+CG69+CM69+CS69+CY69+DE69+DK69+DQ69+DW69+EC69) -> 154 | FB69: =SUM(C69+H69+M69+R69+W69+AB69+AG69+AL69+AQ69+AV69+BA69+BF69+BK69+BP69+BV69+CB69+CH69+CN69+CT69+CZ69+DF69+DL69+DR69+DX69+ED69) -> 2466 | FD69: =SUM(D69+I69+N69+S69+X69+AC69+AH69+AM69+AR69+AW69+BB69+BG69+BL69+BR69+BX69+CD69+CJ69+CP69+CV69+DB69+DH69+DN69+DT69+DZ69+EF69) -> 316 | FE69: =SUM(E69+J69+O69+T69+Y69+AD69+AI69+AN69+AS69+AX69+BC69+BH69+BM69+BS69+BY69+CE69+CK69+CQ69+CW69+DC69+DI69+DO69+DU69+EA69+EG69) -> 125 | FF69: =SUM(F69+K69+P69+U69+Z69+AE69+AJ69+AO69+AT69+AY69+BD69+BI69+BN69+BT69+BZ69+CF69+CL69+CR69+CX69+DD69+DJ69+DP69+DV69+EB69+EH69) -> 2620 | FG69: 1´12 | FH69: Feb-Jun 2012
A70: Ago-Dic 2012 | V70: 0 | W70: =Z70-V70 -> 44 | X70: -3 | Y70: 6 | Z70: =5+39 -> 44 | AA70: 0 | AB70: 62 | AC70: 4 | AD70: 4 | AE70: =AA70+AB70 -> 62 | AF70: 0 | AG70: =AJ70-AF70 -> 205 | AH70: =AJ69-AI69-AG70 -> 18 | AI70: 42 | AJ70: =71+134 -> 205 | AK70: 0 | AL70: =AO70-AK70 -> 90 | AM70: =AO69-AN69-AL70 -> 0 | AN70: 15 | AO70: =8+82 -> 90 | AP70: 0 | AQ70: =AT70-AP70 -> 68 | AR70: =AT69-AS69-AQ70 -> 6 | AS70: 8 | AT70: =27+41 -> 68 | AU70: 0 | AV70: =AY70-AU70 -> 57 | AW70: =AY69-AX69-AV70 -> 2 | AX70: 15 | AY70: =31+26 -> 57 | AZ70: 0 | BA70: =BD70-AZ70 -> 94 | BB70: =BD69-BC69-BA70 -> 0 | BC70: 11 | BD70: =19+75 -> 94 | BE70: 0 | BF70: =BI70-BE70 -> 79 | BG70: =BI69-BH69-BF70 -> 3 | BH70: 13 | BI70: =42+37 -> 79 | BJ70: 0 | BK70: =BN70-BJ70 -> 158 | BL70: =BN69-BM69-BK70 -> 17 | BM70: 24 | BN70: =9+149 -> 158 | BO70: 51 | BP70: 88 | BR70: 0 | BS70: 0 | BT70: =80+60 -> 140 | BU70: 43 | BV70: =BZ70-BU70 -> 31 | BX70: =BZ69-BY69-BV70 -> 1 | BY70: 0 | BZ70: =35+39 -> 74 | CA70: 70 | CB70: =CF70-CA70 -> 80 | CD70: =CF69-CE69-CB70 -> 13 | CE70: 0 | CF70: =96+54 -> 150 | CG70: 50 | CH70: =CL70-CG70 -> 70 | CJ70: =CL69-CK69-CH70 -> 9 | CK70: 0 | CL70: =6+114 -> 120 | CM70: 46 | CN70: =CR70-CM70 -> 64 | CP70: =CR69-CQ69-CN70 -> 1 | CQ70: 0 | CR70: =17+93 -> 110 | CS70: 47 | CT70: =CX70-CS70 -> 42 | CV70: =CX69-CW69-CT70 -> 1 | CW70: 0 | CX70: =21+68 -> 89 | CY70: 90 | CZ70: =DD70-CY70 -> 159 | DB70: =DD69-DC69-CZ70 -> 35 | DC70: 0 | DD70: =49+200 -> 249 | DE70: 125 | DF70: =DJ70-DE70 -> 361 | DH70: =DJ69-DI69-DF70 -> 37 | DI70: 0 | DJ70: =164+322 -> 486 | DK70: 23 | DL70: =DP70-DK70 -> 34 | DN70: =DP69-DO69-DL70 -> 6 | DO70: 0 | DP70: =18+39 -> 57 | DQ70: 82 | DR70: =DV70-DQ70 -> 127 | DT70: =DV69-DU69-DR70 -> 20 | DU70: 0 | DV70: =8+201 -> 209 | DW70: 133 | DX70: =EB70-DW70 -> 288 | DZ70: =EB69-EA69-DX70 -> 31 | EA70: 0 | EB70: =41+380 -> 421 | EC70: 67 | ED70: =EH70-EC70 -> 71 | EF70: =EH69-EG69-ED70 -> 12 | EG70: 0 | EH70: =70+68 -> 138 | FA70: =SUM(B70+G70+L70+Q70+V70+AA70+AF70+AK70+AP70+AU70+AZ70+BE70+BJ70+BO70+BU70+CA70+CG70+CM70+CS70+CY70+DE70+DK70+DQ70+DW70+EC70) -> 827 | FB70: =SUM(C70+H70+M70+R70+W70+AB70+AG70+AL70+AQ70+AV70+BA70+BF70+BK70+BP70+BV70+CB70+CH70+CN70+CT70+CZ70+DF70+DL70+DR70+DX70+ED70) -> 2272 | FD70: =SUM(D70+I70+N70+S70+X70+AC70+AH70+AM70+AR70+AW70+BB70+BG70+BL70+BR70+BX70+CD70+CJ70+CP70+CV70+DB70+DH70+DN70+DT70+DZ70+EF70) -> 213 | FE70: =SUM(E70+J70+O70+T70+Y70+AD70+AI70+AN70+AS70+AX70+BC70+BH70+BM70+BS70+BY70+CE70+CK70+CQ70+CW70+DC70+DI70+DO70+DU70+EA70+EG70) -> 138 | FF70: =SUM(F70+K70+P70+U70+Z70+AE70+AJ70+AO70+AT70+AY70+BD70+BI70+BN70+BT70+BZ70+CF70+CL70+CR70+CX70+DD70+DJ70+DP70+DV70+EB70+EH70) -> 3100 | FG70: 2´12 | FH70: Ago-Dic 2012 | FI70: 17 | FJ70: 3110 pob est_bas (dif en reingreso)
A71: Feb-Jun 2013 | V71: 0 | W71: 37 | X71: =Z70-Y70-W71 -> 1 | Y71: 12 | Z71: 37 | AA71: 0 | AB71: 62 | AC71: =AE70-AD70-AB71 -> -4 | AD71: 15 | AE71: =AA71+AB71 -> 62 | AF71: 0 | AG71: 158 | AH71: =AJ70-AI70-AG71 -> 5 | AI71: 45 | AJ71: =AG71+AF71 -> 158 | AK71: 0 | AL71: 62 | AM71: =AO70-AN70-AL71 -> 13 | AN71: 16 | AO71: =AL71+AK71 -> 62 | AP71: 0 | AQ71: 52 | AR71: =AT70-AS70-AQ71 -> 8 | AS71: 14 | AT71: =AQ71+AP71 -> 52 | AU71: 0 | AV71: 40 | AW71: =AY70-AX70-AV71 -> 2 | AX71: 9 | AY71: =AV71+AU71 -> 40 | AZ71: 0 | BA71: 82 | BB71: =BD70-BC70-BA71 -> 1 | BC71: 15 | BD71: =AZ71+BA71 -> 82 | BE71: 0 | BF71: 63 | BG71: =BI70-BH70-BF71 -> 3 | BH71: 23 | BI71: =BE71+BF71 -> 63 | BJ71: 0 | BK71: 125 | BL71: =BN70-BM70-BK71 -> 9 | BM71: 21 | BN71: =BJ71+BK71 -> 125 | BO71: 8 | BP71: 139 | BR71: =BT70-BS70-BP71 -> 1 | BS71: 0 | BT71: =BO71+BP71 -> 147 | BU71: 8 | BV71: 62 | BX71: =BZ70-BY70-BV71 -> 12 | BY71: 0 | BZ71: =BU71+BV71 -> 70 | CA71: 20 | CB71: 121 | CD71: =CF70-CE70-CB71 -> 29 | CE71: 0 | CF71: =CA71+CB71 -> 141 | CG71: 9 | CH71: 112 | CJ71: =CL70-CK70-CH71 -> 8 | CK71: 0 | CL71: =CG71+CH71 -> 121 | CM71: 3 | CN71: 92 | CP71: =CR70-CQ70-CN71 -> 18 | CQ71: 0 | CR71: =CM71+CN71 -> 95 | CS71: 14 | CT71: 80 | CV71: =CX70-CW70-CT71 -> 9 | CW71: 0 | CX71: =CS71+CT71 -> 94 | CY71: 20 | CZ71: 199 | DB71: =DD70-DC70-CZ71 -> 50 | DC71: 0 | DD71: =CY71+CZ71 -> 219 | DE71: 76 | DF71: 440 | DH71: =DJ70-DI70-DF71 -> 46 | DI71: 0 | DJ71: =DE71+DF71 -> 516 | DK71: 0 | DL71: 46 | DN71: =DP70-DO70-DL71 -> 11 | DO71: 0 | DP71: =DK71+DL71 -> 46 | DQ71: 17 | DR71: 172 | DT71: =DV70-DU70-DR71 -> 37 | DU71: 0 | DV71: =DR71+DQ71 -> 189 | DW71: 42 | DX71: 373 | DZ71: =EB70-EA70-DX71 -> 48 | EA71: 0 | EB71: =DW71+DX71 -> 415 | EC71: 12 | ED71: 127 | EF71: =EH70-EG70-ED71 -> 11 | EG71: 0 | EH71: =ED71+EC71 -> 139 | FA71: =SUM(B71+G71+L71+Q71+V71+AA71+AF71+AK71+AP71+AU71+AZ71+BE71+BJ71+BO71+BU71+CA71+CG71+CM71+CS71+CY71+DE71+DK71+DQ71+DW71+EC71) -> 229 | FB71: =SUM(C71+H71+M71+R71+W71+AB71+AG71+AL71+AQ71+AV71+BA71+BF71+BK71+BP71+BV71+CB71+CH71+CN71+CT71+CZ71+DF71+DL71+DR71+DX71+ED71) -> 2644 | FD71: =SUM(D71+I71+N71+S71+X71+AC71+AH71+AM71+AR71+AW71+BB71+BG71+BL71+BR71+BX71+CD71+CJ71+CP71+CV71+DB71+DH71+DN71+DT71+DZ71+EF71) -> 318 | FE71: =SUM(E71+J71+O71+T71+Y71+AD71+AI71+AN71+AS71+AX71+BC71+BH71+BM71+BS71+BY71+CE71+CK71+CQ71+CW71+DC71+DI71+DO71+DU71+EA71+EG71) -> 170 | FF71: =SUM(F71+K71+P71+U71+Z71+AE71+AJ71+AO71+AT71+AY71+BD71+BI71+BN71+BT71+BZ71+CF71+CL71+CR71+CX71+DD71+DJ71+DP71+DV71+EB71+EH71) -> 2873 | FG71: 1´13 | FH71: Feb-Jun 2013 | FI71: 12 | FJ71: ok
A72: Ago-Dic 2013 | V72: 0 | W72: 25 | X72: =Z71-Y71-W72 -> 0 | Y72: 10 | Z72: =V72+W72 -> 25 | AA72: 0 | AB72: 48 | AC72: =AE71-AD71-AB72 -> -1 | AD72: 22 | AE72: =AA72+AB72 -> 48 | AF72: 0 | AG72: 116 | AH72: =AJ71-AI71-AG72 -> -3 | AI72: 37 | AJ72: =AF72+AG72 -> 116 | AK72: 0 | AL72: 53 | AM72: =AO71-AN71-AL72 -> -7 | AN72: 22 | AO72: =AK72+AL72 -> 53 | AP72: 0 | AQ72: 44 | AR72: =AT71-AS71-AQ72 -> -6 | AS72: 7 | AT72: =AP72+AQ72 -> 44 | AU72: 0 | AV72: 31 | AW72: =AY71-AX71-AV72 -> 0 | AX72: 13 | AY72: =AU72+AV72 -> 31 | AZ72: 0 | BA72: 62 | BB72: =BD71-BC71-BA72 -> 5 | BC72: 30 | BD72: =AZ72+BA72 -> 62 | BE72: 0 | BF72: 45 | BG72: =BI71-BH71-BF72 -> -5 | BH72: 29 | BI72: =BE72+BF72 -> 45 | BJ72: 0 | BK72: 99 | BL72: =BN71-BM71-BK72 -> 5 | BM72: 40 | BN72: =BJ72+BK72 -> 99 | BO72: 42 | BP72: 137 | BR72: =BT71-BS71-BP72 -> 10 | BS72: 0 | BT72: =BO72+BP72 -> 179 | BU72: 61 | BV72: 68 | BX72: =BZ71-BY71-BV72 -> 2 | BY72: 0 | BZ72: =BU72+BV72 -> 129 | CA72: 48 | CB72: 129 | CD72: =CF71-CE71-CB72 -> 12 | CE72: 0 | CF72: =CA72+CB72 -> 177 | CG72: 49 | CH72: 115 | CJ72: =CL71-CK71-CH72 -> 6 | CK72: 0 | CL72: =CG72+CH72 -> 164 | CM72: 41 | CN72: 84 | CP72: =CR71-CQ71-CN72 -> 11 | CQ72: 0 | CR72: =CM72+CN72 -> 125 | CS72: 69 | CT72: 81 | CV72: =CX71-CW71-CT72 -> 13 | CW72: 0 | CX72: =CS72+CT72 -> 150 | CY72: 80 | CZ72: 195 | DB72: =DD71-DC71-CZ72 -> 24 | DC72: 0 | DD72: =CY72+CZ72 -> 275 | DE72: 121 | DF72: 472 | DH72: =DJ71-DI71-DF72 -> 44 | DI72: 0 | DJ72: =DE72+DF72 -> 593 | DK72: 0 | DL72: 39 | DN72: =DP71-DO71-DL72 -> 7 | DO72: 0 | DP72: =DK72+DL72 -> 39 | DQ72: 76 | DR72: 169 | DT72: =DV71-DU71-DR72 -> 20 | DU72: 0 | DV72: =DQ72+DR72 -> 245 | DW72: 89 | DX72: 373 | DZ72: =EB71-EA71-DX72 -> 42 | EA72: 0 | EB72: =DW72+DX72 -> 462 | EC72: 43 | ED72: 129 | EF72: =EH71-EG71-ED72 -> 10 | EG72: 0 | EH72: =EC72+ED72 -> 172 | FA72: =SUM(B72+G72+L72+Q72+V72+AA72+AF72+AK72+AP72+AU72+AZ72+BE72+BJ72+BO72+BU72+CA72+CG72+CM72+CS72+CY72+DE72+DK72+DQ72+DW72+EC72) -> 719 | FB72: =SUM(C72+H72+M72+R72+W72+AB72+AG72+AL72+AQ72+AV72+BA72+BF72+BK72+BP72+BV72+CB72+CH72+CN72+CT72+CZ72+DF72+DL72+DR72+DX72+ED72) -> 2514 | FD72: =FF71-FE71-FB72 -> 189 | FE72: =SUM(E72+J72+O72+T72+Y72+AD72+AI72+AN72+AS72+AX72+BC72+BH72+BM72+BS72+BY72+CE72+CK72+CQ72+CW72+DC72+DI72+DO72+DU72+EA72+EG72) -> 210 | FF72: =SUM(F72+K72+P72+U72+Z72+AE72+AJ72+AO72+AT72+AY72+BD72+BI72+BN72+BT72+BZ72+CF72+CL72+CR72+CX72+DD72+DJ72+DP72+DV72+EB72+EH72) -> 3233 | FG72: 213 | FH72: Ago-Dic 2013 | FI72: 18 | FJ72: ok
A73: Feb-Jun 2014 | V73: 0 | W73: 17 | X73: -2 | Y73: 7 | Z73: =V73+W73 -> 17 | AA73: 0 | AB73: 29 | AC73: -3 | AD73: 8 | AE73: =AA73+AB73 -> 29 | AF73: 0 | AG73: 76 | AH73: 3 | AI73: 30 | AJ73: =AF73+AG73 -> 76 | AK73: 0 | AL73: 29 | AM73: =AO72-AN72-AL73 -> 2 | AN73: 13 | AO73: =AK73+AL73 -> 29 | AP73: 0 | AQ73: 37 | AR73: 0 | AS73: 16 | AT73: =AP73+AQ73 -> 37 | AU73: 0 | AV73: 12 | AW73: 6 | AX73: 0 | AY73: =AU73+AV73 -> 12 | AZ73: 0 | BA73: 34 | BB73: -2 | BC73: 25 | BD73: =AZ73+BA73 -> 34 | BE73: 0 | BF73: 11 | BG73: 5 | BH73: 5 | BI73: =BE73+BF73 -> 11 | BJ73: 0 | BK73: 50 | BL73: 9 | BM73: 21 | BN73: =BJ73+BK73 -> 50 | BO73: 26 | BP73: 165 | BR73: =BT72-BS72-BP73 -> 14 | BS73: 9 | BT73: =BO73+BP73 -> 191 | BU73: 0 | BV73: 117 | BX73: =BZ72-BY72-BV73 -> 12 | BY73: 0 | BZ73: =BU73+BV73 -> 117 | CA73: 0 | CB73: 155 | CD73: =CF72-CE72-CB73 -> 22 | CE73: 1 | CF73: =CA73+CB73 -> 155 | CH73: 150 | CJ73: =CL72-CK72-CH73 -> 14 | CK73: 0 | CL73: =CG73+CH73 -> 150 | CM73: 0 | CN73: 111 | CP73: =CR72-CQ72-CN73 -> 14 | CQ73: 0 | CR73: =CM73+CN73 -> 111 | CS73: 33 | CT73: 120 | CV73: =CX72-CW72-CT73 -> 30 | CW73: 0 | CX73: =CS73+CT73 -> 153 | CY73: 25 | CZ73: 223 | DB73: =DD72-DC72-CZ73 -> 52 | DC73: 3 | DD73: =CY73+CZ73 -> 248 | DE73: 74 | DF73: 547 | DH73: =DJ72-DI72-DF73 -> 46 | DI73: 0 | DJ73: =DE73+DF73 -> 621 | DK73: 0 | DL73: 42 | DN73: =DP72-DO72-DL73 -> -3 | DO73: 0 | DP73: =DK73+DL73 -> 42 | DQ73: 0 | DR73: 229 | DT73: =DV72-DU72-DR73 -> 16 | DU73: 1 | DV73: =DQ73+DR73 -> 229 | DW73: 40 | DX73: 438 | DZ73: =EB72-EA72-DX73 -> 24 | EA73: 0 | EB73: =DW73+DX73 -> 478 | EC73: 0 | ED73: 152 | EF73: =EH72-EG72-ED73 -> 20 | EG73: 4 | EH73: =EC73+ED73 -> 152 | FA73: =SUM(B73+G73+L73+Q73+V73+AA73+AF73+AK73+AP73+AU73+AZ73+BE73+BJ73+BO73+BU73+CA73+CG73+CM73+CS73+CY73+DE73+DK73+DQ73+DW73+EC73) -> 198 | FB73: =SUM(C73+H73+M73+R73+W73+AB73+AG73+AL73+AQ73+AV73+BA73+BF73+BK73+BP73+BV73+CB73+CH73+CN73+CT73+CZ73+DF73+DL73+DR73+DX73+ED73) -> 2744 | FD73: =SUM(D73+I73+N73+S73+X73+AC73+AH73+AM73+AR73+AW73+BB73+BG73+BL73+BR73+BX73+CD73+CJ73+CP73+CV73+DB73+DH73+DN73+DT73+DZ73+EF73) -> 279 | FE73: =SUM(E73+J73+O73+T73+Y73+AD73+AI73+AN73+AS73+AX73+BC73+BH73+BM73+BS73+BY73+CE73+CK73+CQ73+CW73+DC73+DI73+DO73+DU73+EA73+EG73) -> 143 | FF73: =SUM(F73+K73+P73+U73+Z73+AE73+AJ73+AO73+AT73+AY73+BD73+BI73+BN73+BT73+BZ73+CF73+CL73+CR73+CX73+DD73+DJ73+DP73+DV73+EB73+EH73) -> 2942 | FG73: 1´14 | FH73: Feb-Jun 2014 | FI73: 11 | FJ73: ok
A74: Ago-Dic 2014 | V74: 0 | W74: 8 | X74: 2 | Y74: 4 | Z74: =V74+W74 -> 8 | AA74: 0 | AB74: 17 | AC74: 4 | AD74: 4 | AE74: =AA74+AB74 -> 17 | AF74: 0 | AG74: 27 | AH74: =AJ73-AI73-AG74 -> 19 | AI74: 7 | AJ74: =AF74+AG74 -> 27 | AK74: 0 | AL74: 14 | AM74: =AO73-AN73-AL74 -> 2 | AN74: 8 | AO74: =AK74+AL74 -> 14 | AP74: 0 | AQ74: 24 | AR74: =AT73-AS73-AQ74 -> -3 | AS74: 9 | AT74: =AP74+AQ74 -> 24 | AU74: 0 | AV74: 10 | AW74: =AY73-AX73-AV74 -> 2 | AX74: 6 | AY74: =AU74+AV74 -> 10 | AZ74: 0 | BA74: 10 | BB74: -1 | BC74: 7 | BD74: =AZ74+BA74 -> 10 | BE74: 0 | BF74: 7 | BG74: =BI73-BH73-BF74 -> -1 | BH74: 4 | BI74: =BE74+BF74 -> 7 | BJ74: 0 | BK74: 29 | BL74: 0 | BM74: 10 | BN74: =BJ74+BK74 -> 29 | BO74: 39 | BP74: 170 | BR74: =BT73-BS73-BP74 -> 12 | BS74: 14 | BT74: =BO74+BP74 -> 209 | BU74: 40 | BV74: 105 | BX74: =BZ73-BY73-BV74 -> 12 | BY74: 0 | BZ74: =BU74+BV74 -> 145 | CA74: 65 | CB74: 152 | CD74: =CF73-CE73-CB74 -> 2 | CE74: 11 | CF74: =CA74+CB74 -> 217 | CG74: 41 | CH74: 152 | CJ74: =CL73-CK73-CH74 -> -2 | CK74: 0 | CL74: =CG74+CH74 -> 193 | CM74: 41 | CN74: 95 | CP74: =CR73-CQ73-CN74 -> 16 | CQ74: 0 | CR74: =CM74+CN74 -> 136 | CS74: 38 | CT74: 126 | CV74: =CX73-CW73-CT74 -> 27 | CW74: 2 | CX74: =CS74+CT74 -> 164 | CY74: 88 | CZ74: 217 | DB74: =DD73-DC73-CZ74 -> 28 | DC74: 12 | DD74: =CY74+CZ74 -> 305 | DE74: 140 | DF74: 569 | DH74: =DJ73-DI73-DF74 -> 52 | DI74: 16 | DJ74: =DE74+DF74 -> 709 | DK74: 0 | DL74: 39 | DN74: =DP73-DO73-DL74 -> 3 | DO74: 2 | DP74: =DK74+DL74 -> 39 | DQ74: 104 | DR74: 213 | DT74: =DV73-DU73-DR74 -> 15 | DU74: 12 | DV74: =DQ74+DR74 -> 317 | DW74: 114 | DX74: 433 | DZ74: =EB73-EA73-DX74 -> 45 | EA74: 8 | EB74: =DW74+DX74 -> 547 | EC74: 50 | ED74: 140 | EF74: =EH73-EG73-ED74 -> 8 | EG74: 6 | EH74: =EC74+ED74 -> 190 | FA74: =SUM(B74+G74+L74+Q74+V74+AA74+AF74+AK74+AP74+AU74+AZ74+BE74+BJ74+BO74+BU74+CA74+CG74+CM74+CS74+CY74+DE74+DK74+DQ74+DW74+EC74) -> 760 | FB74: =FF74-FA74 -> 2557 | FD74: =SUM(D74+I74+N74+S74+X74+AC74+AH74+AM74+AR74+AW74+BB74+BG74+BL74+BR74+BX74+CD74+CJ74+CP74+CV74+DB74+DH74+DN74+DT74+DZ74+EF74) -> 242 | FE74: =SUM(E74+J74+O74+T74+Y74+AD74+AI74+AN74+AS74+AX74+BC74+BH74+BM74+BS74+BY74+CE74+CK74+CQ74+CW74+DC74+DI74+DO74+DU74+EA74+EG74) -> 142 | FF74: =SUM(F74+K74+P74+U74+Z74+AE74+AJ74+AO74+AT74+AY74+BD74+BI74+BN74+BT74+BZ74+CF74+CL74+CR74+CX74+DD74+DJ74+DP74+DV74+EB74+EH74) -> 3317 | FG74: 2´14 | FH74: Ago-Dic 2014 | FI74: 12 | FJ74: ok
A75: Feb-Jun 2015 | V75: 0 | W75: 3 | X75: =Z74-Y74-W75 -> 1 | Y75: 3 | Z75: =V75+W75 -> 3 | AA75: 0 | AB75: 8 | AC75: =AE74-AD74-AB75 -> 5 | AD75: 2 | AE75: =AA75+AB75 -> 8 | AF75: 0 | AG75: 18 | AH75: =AJ74-AI74-AG75 -> 2 | AI75: 7 | AJ75: =AF75+AG75 -> 18 | AK75: 0 | AL75: 6 | AM75: =AO74-AN74-AL75 -> 0 | AN75: 1 | AO75: =AK75+AL75 -> 6 | AP75: 0 | AQ75: 10 | AR75: =AT74-AS74-AQ75 -> 5 | AS75: 5 | AT75: =AP75+AQ75 -> 10 | AU75: 0 | AV75: 6 | AW75: =AY74-AX74-AV75 -> -2 | AX75: 3 | AY75: =AU75+AV75 -> 6 | AZ75: 0 | BA75: 0 | BB75: =BD74-BC74-BA75 -> 3 | BC75: 0 | BD75: =AZ75+BA75 -> 0 | BE75: 0 | BF75: 2 | BG75: =BI74-BH74-BF75 -> 1 | BH75: 0 | BI75: =BE75+BF75 -> 2 | BJ75: 0 | BK75: 17 | BL75: =BN74-BM74-BK75 -> 2 | BM75: 10 | BN75: =BJ75+BK75 -> 17 | BO75: 30 | BP75: 187 | BR75: =BT74-BS74-BP75 -> 8 | BS75: 3 | BT75: =BO75+BP75 -> 217 | BU75: 13 | BV75: 143 | BX75: =BZ74-BY74-BV75 -> 2 | BY75: 6 | BZ75: =BU75+BV75 -> 156 | CA75: 14 | CB75: 181 | CD75: =CF74-CE74-CB75 -> 25 | CE75: 6 | CF75: =CA75+CB75 -> 195 | CG75: 0 | CH75: 177 | CJ75: =CL74-CK74-CH75 -> 16 | CK75: 5 | CL75: =CG75+CH75 -> 177 | CM75: 14 | CN75: 118 | CP75: =CR74-CQ74-CN75 -> 18 | CQ75: 6 | CR75: =CM75+CN75 -> 132 | CS75: 23 | CT75: 152 | CV75: =CX74-CW74-CT75 -> 10 | CW75: 0 | CX75: =CS75+CT75 -> 175 | CY75: 27 | CZ75: 269 | DB75: =DD74-DC74-CZ75 -> 24 | DC75: 10 | DD75: =CY75+CZ75 -> 296 | DE75: 120 | DF75: 642 | DH75: =DJ74-DI74-DF75 -> 51 | DI75: 34 | DJ75: =DE75+DF75 -> 762 | DK75: 0 | DL75: 36 | DN75: =DP74-DO74-DL75 -> 1 | DO75: 0 | DP75: =DK75+DL75 -> 36 | DQ75: 45 | DR75: 276 | DT75: =DV74-DU74-DR75 -> 29 | DU75: 5 | DV75: =DQ75+DR75 -> 321 | DW75: 41 | DX75: 514 | DZ75: =EB74-EA74-DX75 -> 25 | EA75: 13 | EB75: =DW75+DX75 -> 555 | EC75: 23 | ED75: 167 | EF75: =EH74-EG74-ED75 -> 17 | EG75: 6 | EH75: =EC75+ED75 -> 190 | FA75: =SUM(B75+G75+L75+Q75+V75+AA75+AF75+AK75+AP75+AU75+AZ75+BE75+BJ75+BO75+BU75+CA75+CG75+CM75+CS75+CY75+DE75+DK75+DQ75+DW75+EC75) -> 350 | FB75: =FF75-FA75 -> 2932 | FD75: =SUM(D75+I75+N75+S75+X75+AC75+AH75+AM75+AR75+AW75+BB75+BG75+BL75+BR75+BX75+CD75+CJ75+CP75+CV75+DB75+DH75+DN75+DT75+DZ75+EF75) -> 243 | FE75: =SUM(E75+J75+O75+T75+Y75+AD75+AI75+AN75+AS75+AX75+BC75+BH75+BM75+BS75+BY75+CE75+CK75+CQ75+CW75+DC75+DI75+DO75+DU75+EA75+EG75) -> 125 | FF75: =SUM(F75+K75+P75+U75+Z75+AE75+AJ75+AO75+AT75+AY75+BD75+BI75+BN75+BT75+BZ75+CF75+CL75+CR75+CX75+DD75+DJ75+DP75+DV75+EB75+EH75) -> 3282 | FG75: 1´15 | FH75: Feb-Jun 2015 | FI75: 4 | FJ75: ok
A76: Ago-Dic 2015 | V76: 0 | W76: 3 | X76: =Z75-Y75-W76 -> -3 | Y76: 2 | Z76: =V76+W76 -> 3 | AA76: 0 | AB76: 9 | AC76: =AE75-AD75-AB76 -> -3 | AD76: 3 | AE76: =AA76+AB76 -> 9 | AF76: 0 | AG76: 17 | AH76: =AJ75-AI75-AG76 -> -6 | AI76: 7 | AJ76: =AF76+AG76 -> 17 | AK76: 0 | AL76: 4 | AM76: =AO75-AN75-AL76 -> 1 | AN76: 2 | AO76: =AK76+AL76 -> 4 | AP76: 0 | AQ76: 4 | AR76: =AT75-AS75-AQ76 -> 1 | AS76: 1 | AT76: =AP76+AQ76 -> 4 | AU76: 0 | AV76: 1 | AW76: =AY75-AX75-AV76 -> 2 | AX76: 0 | AY76: =AU76+AV76 -> 1 | AZ76: 0 | BA76: 1 | BB76: =BD75-BC75-BA76 -> -1 | BC76: 0 | BD76: =AZ76+BA76 -> 1 | BE76: 0 | BF76: 2 | BG76: =BI75-BH75-BF76 -> 0 | BH76: 1 | BI76: =BE76+BF76 -> 2 | BJ76: 0 | BK76: 11 | BL76: =BN75-BM75-BK76 -> -4 | BM76: 6 | BN76: =BJ76+BK76 -> 11 | BO76: 43 | BP76: 196 | BQ76: 1 | BR76: =BT75-BS75-BP76 -> 18 | BS76: 21 | BT76: =BO76+BP76+BQ76 -> 240 | BU76: 33 | BV76: 133 | BW76: 0 | BX76: =BZ75-BY75-BV76 -> 17 | BY76: 7 | BZ76: =BU76+BV76+BW76 -> 166 | CA76: 36 | CB76: 172 | CC76: 0 | CD76: =CF75-CE75-CB76 -> 17 | CE76: 2 | CF76: =CA76+CB76+CC76 -> 208 | CG76: 35 | CH76: 173 | CI76: 3 | CJ76: =CL75-CK75-CH76 -> -1 | CK76: 6 | CL76: =CG76+CH76+CI76 -> 211 | CM76: 35 | CN76: 115 | CO76: 1 | CP76: =CR75-CQ75-CN76 -> 11 | CQ76: 5 | CR76: =CM76+CN76+CO76 -> 151 | CS76: 37 | CT76: 161 | CU76: 2 | CV76: =CX75-CW75-CT76 -> 14 | CW76: 5 | CX76: =CS76+CT76+CU76 -> 200 | CY76: 94 | CZ76: 231 | DA76: 2 | DB76: =DD75-DC75-CZ76 -> 55 | DC76: 16 | DD76: =CY76+CZ76+DA76 -> 327 | DE76: 145 | DF76: 666 | DG76: 7 | DH76: =DJ75-DI75-DF76 -> 62 | DI76: 29 | DJ76: =DE76+DF76+DG76 -> 818 | DK76: 0 | DL76: 34 | DM76: 0 | DN76: =DP75-DO75-DL76 -> 2 | DO76: 4 | DP76: =DK76+DL76+DM76 -> 34 | DQ76: 111 | DR76: 287 | DS76: 3 | DT76: =DV75-DU75-DR76 -> 29 | DU76: 1 | DV76: =DQ76+DR76+DS76 -> 401 | DW76: 108 | DX76: 510 | DY76: 5 | DZ76: =EB75-EA75-DX76 -> 32 | EA76: 33 | EB76: =DW76+DX76+DY76 -> 623 | EC76: 37 | ED76: 160 | EE76: 2 | EF76: =EH75-EG75-ED76 -> 24 | EG76: 18 | EH76: =EC76+ED76+EE76 -> 199 | FA76: =SUM(B76+G76+L76+Q76+V76+AA76+AF76+AK76+AP76+AU76+AZ76+BE76+BJ76+BO76+BU76+CA76+CG76+CM76+CS76+CY76+DE76+DK76+DQ76+DW76+EC76) -> 714 | FB76: =SUM(C76+H76+M76+R76+W76+AB76+AG76+AL76+AQ76+AV76+BA76+BF76+BK76+BP76+BV76+CB76+CH76+CN76+CT76+CZ76+DF76+DL76+DR76+DX76+ED76) -> 2890 | FC76: =SUM(BQ76+BW76+CC76+CI76+CO76+CU76+DA76+DG76+DM76+DS76+DY76+EE76) -> 26 | FD76: =SUM(D76+I76+N76+S76+X76+AC76+AH76+AM76+AR76+AW76+BB76+BG76+BL76+BR76+BX76+CD76+CJ76+CP76+CV76+DB76+DH76+DN76+DT76+DZ76+EF76) -> 267 | FE76: =SUM(E76+J76+O76+T76+Y76+AD76+AI76+AN76+AS76+AX76+BC76+BH76+BM76+BS76+BY76+CE76+CK76+CQ76+CW76+DC76+DI76+DO76+DU76+EA76+EG76) -> 169 | FF76: =SUM(F76+K76+P76+U76+Z76+AE76+AJ76+AO76+AT76+AY76+BD76+BI76+BN76+BT76+BZ76+CF76+CL76+CR76+CX76+DD76+DJ76+DP76+DV76+EB76+EH76) -> 3630 | FG76: 2´15 | FH76: Ago-Dic 2015 | FI76: 5 | FJ76: ok
A77: Feb-Jun 2016 | V77: 0 | W77: 0 | X77: =Z76-Y76-W77 -> 1 | Y77: 0 | Z77: =V77+W77 -> 0 | AA77: 0 | AB77: 5 | AC77: =AE76-AD76-AB77 -> 1 | AD77: 1 | AE77: =AA77+AB77 -> 5 | AF77: 0 | AG77: 7 | AH77: =AJ76-AI76-AG77 -> 3 | AI77: 7 | AJ77: =AF77+AG77 -> 7 | AK77: 0 | AL77: 1 | AM77: =AO76-AN76-AL77 -> 1 | AN77: 0 | AO77: =AK77+AL77 -> 1 | AP77: 0 | AQ77: 1 | AR77: =AT76-AS76-AQ77 -> 2 | AS77: 0 | AT77: =AP77+AQ77 -> 1 | AU77: 0 | AV77: 1 | AW77: =AY76-AX76-AV77 -> 0 | AX77: 0 | AY77: =AU77+AV77 -> 1 | AZ77: 0 | BA77: 0 | BB77: =BD76-BC76-BA77 -> 1 | BC77: 0 | BD77: =AZ77+BA77 -> 0 | BE77: 0 | BF77: 2 | BG77: =BI76-BH76-BF77 -> -1 | BH77: 2 | BI77: =BE77+BF77 -> 2 | BJ77: 0 | BK77: 5 | BL77: =BN76-BM76-BK77 -> 0 | BM77: 4 | BN77: =BJ77+BK77 -> 5 | BO77: 23 | BP77: =227-23-2 -> 202 | BQ77: 2 | BR77: =BT76-BS76-BP77 -> 17 | BS77: 8 | BT77: =BO77+BP77+BQ77 -> 227 | BU77: 23 | BV77: =169-23 -> 146 | BW77: 0 | BX77: =BZ76-BY76-BV77 -> 13 | BY77: 3 | BZ77: =BU77+BV77+BW77 -> 169 | CA77: 15 | CB77: =198-15-1 -> 182 | CC77: 1 | CD77: =CF76-CE76-CB77 -> 24 | CE77: 2 | CF77: =CA77+CB77+CC77 -> 198 | CG77: 14 | CH77: =216-5-14-2 -> 195 | CI77: 2 | CJ77: =CL76-CK76-CH77 -> 10 | CK77: 13 | CL77: =CG77+CH77+CI77 -> 211 | CM77: 7 | CN77: =140-7 -> 133 | CP77: =CR76-CQ76-CN77 -> 13 | CQ77: 6 | CR77: =CM77+CN77+CO77 -> 140 | CS77: 27 | CT77: =204-27 -> 177 | CU77: 0 | CV77: =CX76-CW76-CT77 -> 18 | CW77: 1 | CX77: =CS77+CT77+CU77 -> 204 | CY77: 24 | CZ77: =299-5-24 -> 270 | DA77: 5 | DB77: =DD76-DC76-CZ77 -> 41 | DC77: 17 | DD77: =CY77+CZ77+DA77 -> 299 | DE77: 118 | DF77: =884-118-3-7 -> 756 | DG77: 3 | DH77: =DJ76-DI76-DF77 -> 33 | DI77: =11+14+27+5 -> 57 | DJ77: =DE77+DF77+DG77 -> 877 | DK77: 0 | DL77: 30 | DM77: 0 | DN77: =DP76-DO76-DL77 -> 0 | DO77: 4 | DP77: =DK77+DL77+DM77 -> 30 | DQ77: 41 | DR77: =409-1-41-6 -> 361 | DS77: 6 | DT77: =DV76-DU76-DR77 -> 39 | DU77: 10 | DV77: =DQ77+DR77+DS77 -> 408 | DW77: 39 | DX77: =595-39-2-5 -> 549 | DY77: 2 | DZ77: =EB76-EA76-DX77 -> 41 | EA77: =41-4 -> 37 | EB77: =DW77+DX77+DY77 -> 590 | EC77: 37 | ED77: =206-37-2-2 -> 165 | EE77: 2 | EF77: =EH76-EG76-ED77 -> 16 | EG77: 6 | EH77: =EC77+ED77+EE77 -> 204 | ES77: 1 | FA77: =SUM(B77+G77+L77+Q77+V77+AA77+AF77+AK77+AP77+AU77+AZ77+BE77+BJ77+BO77+BU77+CA77+CG77+CM77+CS77+CY77+DE77+DK77+DQ77+DW77+EC77) -> 368 | FB77: =+ED77+DX77+DR77+DL77+DF77+CZ77+CT77+CN77+CH77+CB77+BV77+BP77+BK77+BF77+BA77+AV77+AQ77+AL77+AG77+AB77+W77 -> 3188 | FC77: =SUM(BQ77+BW77+CC77+CI77+CO77+CU77+DA77+DG77+DM77+DS77+DY77+EE77) -> 23 | FD77: =SUM(D77+I77+N77+S77+X77+AC77+AH77+AM77+AR77+AW77+BB77+BG77+BL77+BR77+BX77+CD77+CJ77+CP77+CV77+DB77+DH77+DN77+DT77+DZ77+EF77) -> 273 | FE77: =SUM(E77+J77+O77+T77+Y77+AD77+AI77+AN77+AS77+AX77+BC77+BH77+BM77+BS77+BY77+CE77+CK77+CQ77+CW77+DC77+DI77+DO77+DU77+EA77+EG77+ES77) -> 179 | FF77: =SUM(F77+K77+P77+U77+Z77+AE77+AJ77+AO77+AT77+AY77+BD77+BI77+BN77+BT77+BZ77+CF77+CL77+CR77+CX77+DD77+DJ77+DP77+DV77+EB77+EH77) -> 3579 | FG77: 1´16 | FH77: Feb-Jun 2016 | FI77: 4 | FJ77: ok | FK77: =4066-4058 -> 8
A78: Ago-Dic 2016 | V78: 0 | W78: 2 | X78: =Z77-Y77-W78 -> -2 | Y78: 0 | Z78: =V78+W78 -> 2 | AA78: 0 | AB78: 3 | AC78: =AE77-AD77-AB78 -> 1 | AD78: 3 | AE78: =AA78+AB78 -> 3 | AF78: 0 | AG78: 2 | AH78: =AJ77-AI77-AG78 -> -2 | AI78: 1 | AJ78: =AF78+AG78 -> 2 | AK78: 0 | AL78: 0 | AM78: =AO77-AN77-AL78 -> 1 | AN78: 0 | AO78: =AK78+AL78 -> 0 | AP78: 0 | AQ78: 2 | AR78: =AT77-AS77-AQ78 -> -1 | AS78: 1 | AT78: =AP78+AQ78 -> 2 | AU78: 0 | AV78: =AY77-AX77 -> 1 | AW78: =AY77-AX77-AV78 -> 0 | AX78: 2 | AY78: =AU78+AV78 -> 1 | AZ78: 0 | BA78: =BD77-BC77 -> 0 | BB78: =BD77-BC77-BA78 -> 0 | BC78: 0 | BD78: =AZ78+BA78 -> 0 | BE78: 0 | BF78: =BI77-BH77 -> 0 | BG78: =BI77-BH77-BF78 -> 0 | BH78: 0 | BI78: =BE78+BF78 -> 0 | BJ78: 0 | BK78: 0 | BL78: =BN77-BM77-BK78 -> 1 | BM78: 3 | BN78: =BJ78+BK78 -> 0 | BO78: 63 | BP78: 197 | BQ78: 1 | BR78: =BT77-BS77-BP78 -> 22 | BS78: 23 | BT78: =BO78+BP78+BQ78 -> 261 | BU78: 37 | BV78: 156 | BW78: 0 | BX78: =BZ77-BY77-BV78 -> 10 | BY78: 4 | BZ78: =BU78+BV78+BW78 -> 193 | CA78: 43 | CB78: 190 | CC78: 0 | CD78: =CF77-CE77-CB78 -> 6 | CE78: 30 | CF78: =CA78+CB78+CC78 -> 233 | CG78: 47 | CH78: 192 | CI78: 6 | CJ78: =CL77-CK77-CH78 -> 6 | CK78: 10 | CL78: =CG78+CH78+CI78 -> 245 | CM78: 36 | CN78: 126 | CP78: =CR77-CQ77-CN78 -> 8 | CQ78: 9 | CR78: =CM78+CN78+CO78 -> 162 | CS78: 63 | CT78: 179 | CU78: 2 | CV78: =CX77-CW77-CT78 -> 24 | CW78: 5 | CX78: =CS78+CT78+CU78 -> 244 | CY78: 102 | CZ78: 246 | DA78: 3 | DB78: =DD77-DC77-CZ78 -> 36 | DC78: 15 | DD78: =CY78+CZ78+DA78 -> 351 | DE78: 138 | DF78: 760 | DG78: 5 | DH78: =DJ77-DI77-DF78 -> 60 | DI78: 62 | DJ78: =DE78+DF78+DG78 -> 903 | DK78: 0 | DL78: 26 | DM78: 0 | DN78: =DP77-DO77-DL78 -> 0 | DO78: 1 | DP78: =DK78+DL78+DM78 -> 26 | DQ78: 95 | DR78: =377-7 -> 370 | DS78: 7 | DT78: =DV77-DU77-DR78 -> 28 | DU78: 11 | DV78: =DQ78+DR78+DS78 -> 472 | DW78: 139 | DX78: 530 | DY78: 9 | DZ78: =EB77-EA77-DX78 -> 23 | EA78: 29 | EB78: =DW78+DX78+DY78 -> 678 | EC78: 64 | ED78: 179 | EE78: 3 | EF78: =EH77-EG77-ED78 -> 19 | EG78: 23 | EH78: =EC78+ED78+EE78 -> 246 | EI78: 34 | EJ78: 0 | EK78: 0 | EL78: =EN77-EM77-EJ78 -> 0 | EM78: 0 | EN78: =EI78+EJ78+EK78 -> 34 | EO78: 3 | EP78: 5 | EQ78: 0 | ER78: 0 | ES78: 1 | ET78: =EO78+EP78+EQ78 -> 8 | FA78: =SUM(B78+G78+L78+Q78+V78+AA78+AF78+AK78+AP78+AU78+AZ78+BE78+BJ78+BO78+BU78+CA78+CG78+CM78+CS78+CY78+DE78+DK78+DQ78+DW78+EC78+EI78+EO78) -> 864 | FB78: =+ED78+DX78+DR78+DL78+DF78+CZ78+CT78+CN78+CH78+CB78+BV78+BP78+BK78+BF78+BA78+AV78+AQ78+AL78+AG78+AB78+W78+EP78 -> 3166 | FC78: =SUM(BQ78+BW78+CC78+CI78+CO78+CU78+DA78+DG78+DM78+DS78+DY78+EE78+EK78) -> 36 | FD78: =SUM(D78+I78+N78+S78+X78+AC78+AH78+AM78+AR78+AW78+BB78+BG78+BL78+BR78+BX78+CD78+CJ78+CP78+CV78+DB78+DH78+DN78+DT78+DZ78+EF78+EL78+ER78) -> 240 | FE78: =SUM(E78+J78+O78+T78+Y78+AD78+AI78+AN78+AS78+AX78+BC78+BH78+BM78+BS78+BY78+CE78+CK78+CQ78+CW78+DC78+DI78+DO78+DU78+EA78+EG78+EM78+ES78) -> 233 | FF78: =SUM(F78+K78+P78+U78+Z78+AE78+AJ78+AO78+AT78+AY78+BD78+BI78+BN78+BT78+BZ78+CF78+CL78+CR78+CX78+DD78+DJ78+DP78+DV78+EB78+EH78+EN78+ET78) -> 4066 | FG78: 2´16 | FH78: Ago-Dic 2016 | FI78: incluye maestria y materiales | FJ78: 3 NI y 5 RI= 8
A79: Feb-Jun 2017 | V79: 0 | W79: 1 | X79: =Z78-Y78-W79 -> 1 | Y79: 1 | Z79: =V79+W79 -> 1 | AA79: 0 | AB79: 1 | AC79: =AE78-AD78-AB79 -> -1 | AD79: 1 | AE79: =AA79+AB79 -> 1 | AF79: 0 | AG79: 1 | AH79: =AJ78-AI78-AG79 -> 0 | AI79: 1 | AJ79: =AF79+AG79 -> 1 | AK79: 0 | AL79: 0 | AM79: =AO78-AN78-AL79 -> 0 | AN79: 0 | AO79: =AK79+AL79 -> 0 | AP79: 0 | AQ79: 1 | AR79: =AT78-AS78-AQ79 -> 0 | AS79: 0 | AT79: =AP79+AQ79 -> 1 | AU79: 0 | AV79: 0 | AW79: =AY78-AX78-AV79 -> -1 | AX79: 0 | AY79: =AU79+AV79 -> 0 | AZ79: 0 | BA79: =BD78-BC78 -> 0 | BB79: =BD78-BC78-BA79 -> 0 | BC79: 0 | BD79: =AZ79+BA79 -> 0 | BE79: 0 | BF79: =BI78-BH78 -> 0 | BG79: =BI78-BH78-BF79 -> 0 | BH79: 0 | BI79: =BE79+BF79 -> 0 | BJ79: 0 | BK79: 1 | BL79: =BN78-BM78-BK79 -> -4 | BM79: 1 | BN79: =BJ79+BK79 -> 1 | BO79: 37 | BP79: 221 | BQ79: 0 | BR79: =BT78-BS78-BP79 -> 17 | BS79: 7 | BT79: =BO79+BP79+BQ79 -> 258 | BU79: 38 | BV79: 170 | BW79: 0 | BX79: =BZ78-BY78-BV79 -> 19 | BY79: 13 | BZ79: =BU79+BV79+BW79 -> 208 | CA79: 0 | CB79: 182 | CC79: 1 | CD79: =CF78-CE78-CB79 -> 21 | CE79: 14 | CF79: =CA79+CB79+CC79 -> 183 | CG79: 33 | CH79: 212 | CI79: 3 | CJ79: =CL78-CK78-CH79 -> 23 | CK79: 15 | CL79: =CG79+CH79+CI79 -> 248 | CM79: 0 | CN79: 139 | CP79: =CR78-CQ78-CN79 -> 14 | CQ79: 8 | CR79: =CM79+CN79+CO79 -> 139 | CS79: 30 | CT79: 198 | CU79: 0 | CV79: =CX78-CW78-CT79 -> 41 | CW79: 7 | CX79: =CS79+CT79+CU79 -> 228 | CY79: 34 | CZ79: 293 | DA79: 4 | DB79: =DD78-DC78-CZ79 -> 43 | DC79: 15 | DD79: =CY79+CZ79+DA79 -> 331 | DE79: 80 | DF79: 791 | DG79: 2 | DH79: =DJ78-DI78-DF79 -> 50 | DI79: 42 | DJ79: =DE79+DF79+DG79 -> 873 | DK79: 0 | DL79: 23 | DM79: 0 | DN79: =DP78-DO78-DL79 -> 2 | DO79: 4 | DP79: =DK79+DL79+DM79 -> 23 | DQ79: 36 | DR79: 412 | DS79: 3 | DT79: =DV78-DU78-DR79 -> 49 | DU79: 16 | DV79: =DQ79+DR79+DS79 -> 451 | DW79: 40 | DX79: 590 | DY79: 1 | DZ79: =EB78-EA78-DX79 -> 59 | EA79: 27 | EB79: =DW79+DX79+DY79 -> 631 | EC79: 32 | ED79: 197 | EE79: 1 | EF79: =EH78-EG78-ED79 -> 26 | EG79: 7 | EH79: =EC79+ED79+EE79 -> 230 | EI79: 0 | EJ79: 28 | EK79: 0 | EL79: =EN78-EM78-EJ79 -> 6 | EM79: 0 | EN79: =EI79+EJ79+EK79 -> 28 | EO79: 0 | EP79: 6 | EQ79: 0 | ER79: =ET78-ES78-EP79 -> 1 | ES79: 0 | ET79: =EO79+EP79+EQ79 -> 6 | FA79: =SUM(B79+G79+L79+Q79+V79+AA79+AF79+AK79+AP79+AU79+AZ79+BE79+BJ79+BO79+BU79+CA79+CG79+CM79+CS79+CY79+DE79+DK79+DQ79+DW79+EC79+EI79+EO79) -> 360 | FB79: =+ED79+DX79+DR79+DL79+DF79+CZ79+CT79+CN79+CH79+CB79+BV79+BP79+BK79+BF79+BA79+AV79+AQ79+AL79+AG79+AB79+W79+EP79+EJ79 -> 3467 | FC79: =SUM(BQ79+BW79+CC79+CI79+CO79+CU79+DA79+DG79+DM79+DS79+DY79+EE79+EK79) -> 15 | FD79: =SUM(D79+I79+N79+S79+X79+AC79+AH79+AM79+AR79+AW79+BB79+BG79+BL79+BR79+BX79+CD79+CJ79+CP79+CV79+DB79+DH79+DN79+DT79+DZ79+EF79+EL79+ER79) -> 366 | FE79: =SUM(E79+J79+O79+T79+Y79+AD79+AI79+AN79+AS79+AX79+BC79+BH79+BM79+BS79+BY79+CE79+CK79+CQ79+CW79+DC79+DI79+DO79+DU79+EA79+EG79+EM79+ES79) -> 179 | FF79: =SUM(F79+K79+P79+U79+Z79+AE79+AJ79+AO79+AT79+AY79+BD79+BI79+BN79+BT79+BZ79+CF79+CL79+CR79+CX79+DD79+DJ79+DP79+DV79+EB79+EH79+EN79+ET79) -> 3842 | FG79: 2´16 | FH79: Feb-Jun 2017 | FI79: incluye maestria 6 NI
A80: Ago-Dic 2017 | V80: 0 | W80: 0 | X80: =Z79-Y79-W80 -> 0 | Y80: 0 | Z80: =V80+W80 -> 0 | AA80: 0 | AB80: 1 | AC80: =AE79-AD79-AB80 -> -1 | AD80: 1 | AE80: =AA80+AB80 -> 1 | AF80: 0 | AG80: 1 | AH80: =AJ79-AI79-AG80 -> -1 | AI80: 0 | AJ80: =AF80+AG80 -> 1 | AK80: 0 | AL80: 0 | AM80: 0 | AN80: 0 | AO80: =AK80+AL80 -> 0 | AP80: 0 | AQ80: 0 | AR80: 1 | AS80: 1 | AT80: =AP80+AQ80 -> 0 | AU80: 0 | AV80: 0 | AW80: 0 | AX80: 0 | AY80: =AU80+AV80 -> 0 | AZ80: 0 | BA80: 0 | BB80: 0 | BC80: 0 | BD80: =AZ80+BA80 -> 0 | BE80: 0 | BF80: 0 | BG80: 0 | BH80: 0 | BI80: 0 | BJ80: 0 | BK80: 1 | BL80: =BN79-BM79-BK80 -> -1 | BM80: 1 | BN80: =BJ80+BK80 -> 1 | BO80: 45 | BP80: =285-45-4 -> 236 | BQ80: 4 | BR80: =BT79-BS79-BP80 -> 15 | BS80: 30 | BT80: =BO80+BP80+BQ80 -> 285 | BU80: 45 | BV80: =228-45 -> 183 | BW80: 0 | BX80: =BZ79-BY79-BV80 -> 12 | BY80: 14 | BZ80: =BU80+BV80+BW80 -> 228 | CA80: 43 | CB80: =205-44 -> 161 | CC80: 1 | CD80: =CF79-CE79-CB80 -> 8 | CE80: 31 | CF80: =CA80+CB80+CC80 -> 205 | CG80: 43 | CH80: =249-43-5-1 -> 200 | CI80: 5 | CJ80: =CL79-CK79-CH80 -> 33 | CK80: 13 | CL80: =CG80+CH80+CI80 -> 248 | CM80: 42 | CN80: =154-42 -> 112 | CO80: 0 | CP80: =CR79-CQ79-CN80 -> 19 | CQ80: 9 | CR80: =CM80+CN80+CO80 -> 154 | CS80: 82 | CT80: =286-82-1 -> 203 | CU80: 1 | CV80: =CX79-CW79-CT80 -> 18 | CW80: 12 | CX80: =CS80+CT80+CU80 -> 286 | CY80: 127 | CZ80: =402-127-3 -> 272 | DA80: 3 | DB80: =DD79-DC79-CZ80 -> 44 | DC80: 16 | DD80: =CY80+CZ80+DA80 -> 402 | DE80: 129 | DF80: =921-129-6-1 -> 785 | DG80: 6 | DH80: =DJ79-DI79-DF80 -> 46 | DI80: 26 | DJ80: =DE80+DF80+DG80 -> 920 | DK80: 0 | DL80: 17 | DM80: 0 | DN80: =DP79-DO79-DL80 -> 2 | DO80: 9 | DP80: =DK80+DL80+DM80 -> 17 | DQ80: 121 | DR80: =518-121-8 -> 389 | DS80: 8 | DT80: =DV79-DU79-DR80 -> 46 | DU80: 18 | DV80: =DQ80+DR80+DS80 -> 518 | DW80: 126 | DX80: =685-126-6-1 -> 552 | DY80: 6 | DZ80: =EB79-EA79-DX80 -> 52 | EA80: 27 | EB80: =DW80+DX80+DY80 -> 684 | EC80: 47 | ED80: =276-47-5 -> 224 | EE80: 5 | EF80: =EH79-EG79-ED80 -> -1 | EG80: 15 | EH80: =EC80+ED80+EE80 -> 276 | EI80: 44 | EJ80: =70-44 -> 26 | EL80: =EN79-EM79-EJ80 -> 2 | EM80: 0 | EN80: =EI80+EJ80+EK80 -> 70 | EO80: 4 | EP80: =10-4 -> 6 | EQ80: 0 | ER80: =ET79-ES79-EP80 -> 0 | ES80: 0 | ET80: =EO80+EP80+EQ80 -> 10 | FA80: =SUM(B80+G80+L80+Q80+V80+AA80+AF80+AK80+AP80+AU80+AZ80+BE80+BJ80+BO80+BU80+CA80+CG80+CM80+CS80+CY80+DE80+DK80+DQ80+DW80+EC80+EI80+EO80) -> 898 | FB80: =+ED80+DX80+DR80+DL80+DF80+CZ80+CT80+CN80+CH80+CB80+BV80+BP80+BK80+BF80+BA80+AV80+AQ80+AL80+AG80+AB80+W80+EP80+EJ80 -> 3369 | FC80: =SUM(BQ80+BW80+CC80+CI80+CO80+CU80+DA80+DG80+DM80+DS80+DY80+EE80+EK80) -> 39 | FD80: =SUM(D80+I80+N80+S80+X80+AC80+AH80+AM80+AR80+AW80+BB80+BG80+BL80+BR80+BX80+CD80+CJ80+CP80+CV80+DB80+DH80+DN80+DT80+DZ80+EF80+EL80+ER80) -> 294 | FE80: =SUM(E80+J80+O80+T80+Y80+AD80+AI80+AN80+AS80+AX80+BC80+BH80+BM80+BS80+BY80+CE80+CK80+CQ80+CW80+DC80+DI80+DO80+DU80+EA80+EG80+EM80+ES80) -> 223 | FF80: =SUM(F80+K80+P80+U80+Z80+AE80+AJ80+AO80+AT80+AY80+BD80+BI80+BN80+BT80+BZ80+CF80+CL80+CR80+CX80+DD80+DJ80+DP80+DV80+EB80+EH80+EN80+ET80) -> 4306 | FG80: 2´17 | FH80: Ago-Dic 2017
A81: Feb-Jun 2018 | AA81: 0 | AB81: 0 | AC81: =AE80-AD80-AB81 -> 0 | AD81: 0 | AE81: =AA81+AB81 -> 0 | AF81: 0 | AG81: 0 | AH81: =AJ80-AI80-AG81 -> 1 | AI81: 0 | AJ81: =AF81+AG81 -> 0 | AK81: 0 | AL81: 0 | AM81: 0 | AN81: 0 | AO81: 0 | AP81: 0 | AQ81: 1 | AR81: 0 | AS81: 1 | AT81: =AP81+AQ81 -> 1 | AU81: 0 | AV81: 0 | AW81: 0 | AX81: 0 | AY81: =AU81+AV81 -> 0 | AZ81: 0 | BA81: 1 | BB81: 0 | BC81: 1 | BD81: =AZ81+BA81 -> 1 | BE81: 0 | BF81: 0 | BG81: 0 | BH81: 0 | BI81: 0 | BJ81: 0 | BK81: 0 | BL81: =BN80-BM80-BK81 -> 0 | BM81: 0 | BN81: 0 | BO81: 39 | BP81: 236 | BR81: =BT80-BS80-BP81 -> 19 | BS81: 20 | BT81: =BO81+BP81+BQ81 -> 275 | BU81: 29 | BV81: 198 | BX81: =BZ80-BY80-BV81 -> 16 | BY81: 11 | BZ81: =BU81+BV81+BW81 -> 227 | CA81: 31 | CB81: 153 | CC81: 1 | CD81: =CF80-CE80-CB81 -> 21 | CE81: 8 | CF81: =CA81+CB81+CC81 -> 185 | CG81: 20 | CH81: 213 | CI81: 5 | CJ81: =CL80-CK80-CH81 -> 22 | CK81: 8 | CL81: =CG81+CH81+CI81 -> 238 | CM81: 0 | CN81: 128 | CP81: =CR80-CQ80-CN81 -> 17 | CQ81: 8 | CR81: =CM81+CN81+CO81 -> 128 | CS81: 17 | CT81: 242 | CV81: =CX80-CW80-CT81 -> 32 | CW81: 13 | CX81: =CS81+CT81+CU81 -> 259 | CY81: 31 | CZ81: 348 | DA81: 5 | DB81: =DD80-DC80-CZ81 -> 38 | DC81: 22 | DD81: =CY81+CZ81+DA81 -> 384 | DE81: 39 | DF81: 834 | DG81: 7 | DH81: =DJ80-DI80-DF81 -> 60 | DI81: 53 | DJ81: =DE81+DF81+DG81 -> 880 | DK81: 0 | DL81: 9 | DM81: 0 | DN81: =DP80-DO80-DL81 -> -1 | DO81: 4 | DP81: =DK81+DL81+DM81 -> 9 | DQ81: 32 | DR81: 460 | DS81: 4 | DT81: =DV80-DU80-DR81 -> 40 | DU81: 24 | DV81: =DQ81+DR81+DS81 -> 496 | DW81: 34 | DX81: 609 | DY81: 10 | DZ81: =EB80-EA80-DX81 -> 48 | EA81: 39 | EB81: =DW81+DX81+DY81 -> 653 | EC81: 37 | ED81: 236 | EF81: =EH80-EG80-ED81 -> 25 | EG81: 14 | EH81: =EC81+ED81+EE81 -> 273 | EI81: 0 | EJ81: 48 | EK81: 0 | EL81: =EN80-EM80-EJ81 -> 22 | EM81: 0 | EN81: =EI81+EJ81+EK81 -> 48 | EO81: 0 | EP81: 7 | EQ81: 0 | ER81: =ET80-ES80-EP81 -> 3 | ES81: 3 | ET81: =EO81+EP81+EQ81 -> 7 | FA81: =SUM(B81+G81+L81+Q81+V81+AA81+AF81+AK81+AP81+AU81+AZ81+BE81+BJ81+BO81+BU81+CA81+CG81+CM81+CS81+CY81+DE81+DK81+DQ81+DW81+EC81+EI81+EO81) -> 309 | FB81: =+ED81+DX81+DR81+DL81+DF81+CZ81+CT81+CN81+CH81+CB81+BV81+BP81+BK81+BF81+BA81+AV81+AQ81+AL81+AG81+AB81+W81+EP81+EJ81 -> 3723 | FC81: =SUM(BQ81+BW81+CC81+CI81+CO81+CU81+DA81+DG81+DM81+DS81+DY81+EE81+EK81) -> 32 | FD81: =SUM(D81+I81+N81+S81+X81+AC81+AH81+AM81+AR81+AW81+BB81+BG81+BL81+BR81+BX81+CD81+CJ81+CP81+CV81+DB81+DH81+DN81+DT81+DZ81+EF81+EL81+ER81) -> 363 | FE81: =SUM(E81+J81+O81+T81+Y81+AD81+AI81+AN81+AS81+AX81+BC81+BH81+BM81+BS81+BY81+CE81+CK81+CQ81+CW81+DC81+DI81+DO81+DU81+EA81+EG81+EM81+ES81) -> 229 | FF81: =SUM(F81+K81+P81+U81+Z81+AE81+AJ81+AO81+AT81+AY81+BD81+BI81+BN81+BT81+BZ81+CF81+CL81+CR81+CX81+DD81+DJ81+DP81+DV81+EB81+EH81+EN81+ET81) -> 4064 | FG81: 1´18 | FH81: Feb-Jun 2018
A82: Ago-Dic 2018 | AF82: 0 | AG82: 2 | AH82: =AJ81-AI81-AG82 -> -2 | AI82: 2 | AJ82: =AF82+AG82 -> 2 | AP82: 0 | AQ82: 0 | AR82: 0 | AS82: 0 | AT82: 0 | AZ82: 0 | BA82: 0 | BB82: 0 | BC82: 0 | BD82: 0 | BO82: 39 | BP82: 213 | BQ82: 0 | BR82: =BT81-BS81-BP82 -> 42 | BS82: 16 | BT82: =BO82+BP82+BQ82 -> 252 | BU82: 43 | BV82: 192 | BX82: =BZ81-BY81-BV82 -> 24 | BY82: 14 | BZ82: =BU82+BV82+BW82 -> 235 | CA82: 41 | CB82: 161 | CC82: 0 | CD82: =CF81-CE81-CB82 -> 16 | CE82: 16 | CF82: =CA82+CB82+CC82 -> 202 | CG82: 40 | CH82: 211 | CI82: 8 | CJ82: =CL81-CK81-CH82 -> 19 | CK82: 13 | CL82: =CG82+CH82+CI82 -> 259 | CM82: 41 | CN82: 113 | CO82: 0 | CP82: =CR81-CQ81-CN82 -> 7 | CQ82: 6 | CR82: =CM82+CN82+CO82 -> 154 | CS82: 39 | CT82: 215 | CU82: 2 | CV82: =CX81-CW81-CT82 -> 31 | CW82: 14 | CX82: =CS82+CT82+CU82 -> 256 | CY82: 84 | CZ82: 325 | DA82: 2 | DB82: =DD81-DC81-CZ82 -> 37 | DC82: 25 | DD82: =CY82+CZ82+DA82 -> 411 | DE82: 87 | DF82: 800 | DG82: 3 | DH82: =DJ81-DI81-DF82 -> 27 | DI82: 61 | DJ82: =DE82+DF82+DG82 -> 890 | DK82: 0 | DL82: 2 | DM82: 0 | DN82: =DP81-DO81-DL82 -> 3 | DO82: 1 | DP82: =DK82+DL82+DM82 -> 2 | DQ82: 86 | DR82: 431 | DS82: 4 | DT82: =DV81-DU81-DR82 -> 41 | DU82: 18 | DV82: =DQ82+DR82+DS82 -> 521 | DW82: 85 | DX82: 562 | DY82: 6 | DZ82: =EB81-EA81-DX82 -> 52 | EA82: 36 | EB82: =DW82+DX82+DY82 -> 653 | EC82: 44 | ED82: 237 | EE82: 2 | EF82: =EH81-EG81-ED82 -> 22 | EG82: 21 | EH82: =EC82+ED82+EE82 -> 283 | EI82: 43 | EJ82: 39 | EK82: 0 | EL82: =EN81-EM81-EJ82 -> 9 | EM82: 0 | EN82: =EI82+EJ82+EK82 -> 82 | EO82: 1 | EP82: 7 | EQ82: 0 | ER82: =ET81-ES81-EP82 -> -3 | ES82: 3 | ET82: =EO82+EP82+EQ82 -> 8 | EU82: 2 | EV82: 0 | EW82: 0 | EX82: =EZ81-EY81-EV82 -> 0 | EY82: 0 | EZ82: =EU82+EV82+EW82 -> 2 | FA82: =SUM(B82+G82+L82+Q82+V82+AA82+AF82+AK82+AP82+AU82+AZ82+BE82+BJ82+BO82+BU82+CA82+CG82+CM82+CS82+CY82+DE82+DK82+DQ82+DW82+EC82+EI82+EO82+EU82) -> 675 | FB82: =+ED82+DX82+DR82+DL82+DF82+CZ82+CT82+CN82+CH82+CB82+BV82+BP82+BK82+BF82+BA82+AV82+AQ82+AL82+AG82+AB82+W82+EP82+EJ82+EV82 -> 3510 | FC82: =SUM(BQ82+BW82+CC82+CI82+CO82+CU82+DA82+DG82+DM82+DS82+DY82+EE82+EK82+EW82) -> 27 | FD82: =SUM(D82+I82+N82+S82+X82+AC82+AH82+AM82+AR82+AW82+BB82+BG82+BL82+BR82+BX82+CD82+CJ82+CP82+CV82+DB82+DH82+DN82+DT82+DZ82+EF82+EL82+ER82) -> 325 | FE82: =SUM(E82+J82+O82+T82+Y82+AD82+AI82+AN82+AS82+AX82+BC82+BH82+BM82+BS82+BY82+CE82+CK82+CQ82+CW82+DC82+DI82+DO82+DU82+EA82+EG82+EM82+ES82) -> 246 | FF82: =SUM(F82+K82+P82+U82+Z82+AE82+AJ82+AO82+AT82+AY82+BD82+BI82+BN82+BT82+BZ82+CF82+CL82+CR82+CX82+DD82+DJ82+DP82+DV82+EB82+EH82+EN82+ET82+EZ82) -> 4212 | FG82: 2´18 | FH82: Ago-Dic 2018
A83: Feb-Jun 2019 | AF83: 0 | AG83: 0 | AH83: =AJ82-AI82-AG83 -> 0 | AJ83: =AF83+AG83 -> 0 | BO83: 39 | BP83: 226 | BQ83: 2 | BR83: =BT82-BS82-BP83 -> 10 | BS83: 10 | BT83: =BO83+BP83+BQ83 -> 267 | BU83: 37 | BV83: 204 | BW83: 0 | BX83: =BZ82-BY82-BV83 -> 17 | BY83: 17 | BZ83: =BU83+BV83+BW83 -> 241 | CA83: 36 | CB83: 166 | CC83: 2 | CD83: =CF82-CE82-CB83 -> 20 | CE83: 15 | CF83: =CA83+CB83+CC83 -> 204 | CG83: 25 | CH83: 235 | CI83: 4 | CJ83: =CL82-CK82-CH83 -> 11 | CK83: 18 | CL83: =CG83+CH83+CI83 -> 264 | CM83: 29 | CN83: 131 | CO83: 3 | CP83: =CR82-CQ82-CN83 -> 17 | CQ83: 6 | CR83: =CM83+CN83+CO83 -> 163 | CS83: 33 | CT83: 216 | CU83: 6 | CV83: =CX82-CW82-CT83 -> 26 | CW83: 15 | CX83: =CS83+CT83+CU83 -> 255 | CY83: 38 | CZ83: 336 | DA83: 1 | DB83: =DD82-DC82-CZ83 -> 50 | DC83: 18 | DD83: =CY83+CZ83+DA83 -> 375 | DE83: 37 | DF83: 793 | DG83: 5 | DH83: =DJ82-DI82-DF83 -> 36 | DI83: 51 | DJ83: =DE83+DF83+DG83 -> 835 | DK83: 0 | DL83: 0 | DM83: 0 | DN83: =DP82-DO82-DL83 -> 1 | DO83: 0 | DP83: =DK83+DL83+DM83 -> 0 | DQ83: 36 | DR83: 471 | DS83: 8 | DT83: =DV82-DU82-DR83 -> 32 | DU83: 30 | DV83: =DQ83+DR83+DS83 -> 515 | DW83: 41 | DX83: 577 | DY83: 2 | DZ83: =EB82-EA82-DX83 -> 40 | EA83: 44 | EB83: =DW83+DX83+DY83 -> 620 | EC83: 38 | ED83: 249 | EE83: 2 | EF83: =EH82-EG82-ED83 -> 13 | EG83: 10 | EH83: =EC83+ED83+EE83 -> 289 | EI83: 0 | EJ83: 51 | EK83: 0 | EL83: =EN82-EM82-EJ83 -> 31 | EM83: 0 | EN83: =EI83+EJ83+EK83 -> 51 | EO83: 0 | EP83: 4 | EQ83: 0 | ER83: =ET82-ES82-EP83 -> 1 | ES83: 1 | ET83: =EO83+EP83+EQ83 -> 4 | EU83: 0 | EV83: 1 | EW83: 0 | EX83: =EZ82-EY82-EV83 -> 1 | EY83: 0 | EZ83: =EU83+EV83+EW83 -> 1 | FA83: =SUM(B83+G83+L83+Q83+V83+AA83+AF83+AK83+AP83+AU83+AZ83+BE83+BJ83+BO83+BU83+CA83+CG83+CM83+CS83+CY83+DE83+DK83+DQ83+DW83+EC83+EI83+EO83+EU83) -> 389 | FB83: =+ED83+DX83+DR83+DL83+DF83+CZ83+CT83+CN83+CH83+CB83+BV83+BP83+BK83+BF83+BA83+AV83+AQ83+AL83+AG83+AB83+W83+EP83+EJ83+EV83 -> 3660 | FC83: =SUM(BQ83+BW83+CC83+CI83+CO83+CU83+DA83+DG83+DM83+DS83+DY83+EE83+EK83+EW83) -> 35 | FD83: =SUM(D83+I83+N83+S83+X83+AC83+AH83+AM83+AR83+AW83+BB83+BG83+BL83+BR83+BX83+CD83+CJ83+CP83+CV83+DB83+DH83+DN83+DT83+DZ83+EF83+EL83+ER83) -> 305 | FE83: =SUM(E83+J83+O83+T83+Y83+AD83+AI83+AN83+AS83+AX83+BC83+BH83+BM83+BS83+BY83+CE83+CK83+CQ83+CW83+DC83+DI83+DO83+DU83+EA83+EG83+EM83+ES83) -> 235 | FF83: =SUM(F83+K83+P83+U83+Z83+AE83+AJ83+AO83+AT83+AY83+BD83+BI83+BN83+BT83+BZ83+CF83+CL83+CR83+CX83+DD83+DJ83+DP83+DV83+EB83+EH83+EN83+ET83+EZ83) -> 4084 | FG83: 1´19 | FH83: Feb-Jun 2019
A84: Ago-Dic 2019 | BO84: 41 | BP84: 227 | BR84: =BT83-BS83-BP84 -> 30 | BS84: 15 | BT84: =BO84+BP84+BQ84 -> 268 | BU84: 33 | BV84: 202 | BX84: =BZ83-BY83-BV84 -> 22 | BY84: 10 | BZ84: =BU84+BV84+BW84 -> 235 | CA84: 63 | CB84: 175 | CD84: =CF83-CE83-CB84 -> 14 | CE84: 25 | CF84: =CA84+CB84+CC84 -> 238 | CG84: 35 | CH84: 230 | CJ84: =CL83-CK83-CH84 -> 16 | CK84: 20 | CL84: =CG84+CH84+CI84 -> 265 | CM84: 33 | CN84: 141 | CP84: =CR83-CQ83-CN84 -> 16 | CQ84: 20 | CR84: =CM84+CN84+CO84 -> 174 | CS84: 32 | CT84: 213 | CV84: =CX83-CW83-CT84 -> 27 | CW84: 15 | CX84: =CS84+CT84+CU84 -> 245 | CY84: 79 | CZ84: 319 | DB84: =DD83-DC83-CZ84 -> 38 | DC84: 20 | DD84: =CY84+CZ84+DA84 -> 398 | DE84: 81 | DF84: 751 | DH84: =DJ83-DI83-DF84 -> 33 | DI84: 50 | DJ84: =DE84+DF84+DG84 -> 832 | DK84: 0 | DL84: =-DN84-DO83+DP83 -> 0 | DP84: =DK84+DL84+DM84 -> 0 | DQ84: 84 | DR84: 447 | DT84: =DV83-DU83-DR84 -> 38 | DU84: 20 | DV84: =DQ84+DR84+DS84 -> 531 | DW84: 71 | DX84: 533 | DZ84: =EB83-EA83-DX84 -> 43 | EA84: 40 | EB84: =DW84+DX84+DY84 -> 604 | EC84: 39 | ED84: 264 | EF84: =EH83-EG83-ED84 -> 15 | EG84: 15 | EH84: =EC84+ED84+EE84 -> 303 | EI84: 27 | EJ84: 45 | EL84: =EN83-EM83-EJ84 -> 6 | EM84: 0 | EN84: =EI84+EJ84+EK84 -> 72 | EO84: 1 | EP84: 3 | EQ84: 0 | ER84: =ET83-ES83-EP84 -> 0 | ES84: 0 | ET84: =EO84+EP84+EQ84 -> 4 | EU84: 2 | EV84: 1 | EX84: =EZ83-EY83-EV84 -> 0 | EZ84: =EU84+EV84+EW84 -> 3 | FA84: =SUM(B84+G84+L84+Q84+V84+AA84+AF84+AK84+AP84+AU84+AZ84+BE84+BJ84+BO84+BU84+CA84+CG84+CM84+CS84+CY84+DE84+DK84+DQ84+DW84+EC84+EI84+EO84+EU84) -> 621 | FB84: =+ED84+DX84+DR84+DL84+DF84+CZ84+CT84+CN84+CH84+CB84+BV84+BP84+BK84+BF84+BA84+AV84+AQ84+AL84+AG84+AB84+W84+EP84+EJ84+EV84 -> 3551 | FC84: =SUM(BQ84+BW84+CC84+CI84+CO84+CU84+DA84+DG84+DM84+DS84+DY84+EE84+EK84+EW84) -> 0 | FD84: =SUM(D84+I84+N84+S84+X84+AC84+AH84+AM84+AR84+AW84+BB84+BG84+BL84+BR84+BX84+CD84+CJ84+CP84+CV84+DB84+DH84+DN84+DT84+DZ84+EF84+EL84+ER84) -> 298 | FE84: =SUM(E84+J84+O84+T84+Y84+AD84+AI84+AN84+AS84+AX84+BC84+BH84+BM84+BS84+BY84+CE84+CK84+CQ84+CW84+DC84+DI84+DO84+DU84+EA84+EG84+EM84+ES84) -> 250 | FF84: =SUM(F84+K84+P84+U84+Z84+AE84+AJ84+AO84+AT84+AY84+BD84+BI84+BN84+BT84+BZ84+CF84+CL84+CR84+CX84+DD84+DJ84+DP84+DV84+EB84+EH84+EN84+ET84+EZ84) -> 4172 | FG84: 2´19 | FH84: Ago-Dic 2019
A85: Feb-Jun 2020 | BO85: 20 | BP85: =-BS84-BR85+BT84 -> 238 | BR85: 15 | BS85: 10 | BT85: =BO85+BP85+BQ85 -> 258 | BU85: 15 | BV85: =-BX85-BY84+BZ84 -> 210 | BX85: 15 | BY85: 10 | BZ85: =BU85+BV85+BW85 -> 225 | CA85: 35 | CB85: =-CD85-CE84+CF84 -> 188 | CD85: 25 | CE85: 25 | CF85: =CA85+CB85+CC85 -> 223 | CG85: 20 | CH85: =CL84-CK84-CJ85 -> 225 | CJ85: 20 | CK85: 15 | CL85: =CG85+CH85+CI85 -> 245 | CM85: 20 | CN85: =CR84-CQ84-CP85 -> 139 | CP85: 15 | CQ85: 20 | CR85: =CM85+CN85+CO85 -> 159 | CS85: 15 | CT85: =CX84-CW84-CV85 -> 215 | CV85: 15 | CW85: 10 | CX85: =CS85+CT85+CU85 -> 230 | CY85: 25 | CZ85: =DD84-DC84-DB85 -> 348 | DB85: 30 | DC85: 20 | DD85: =CY85+CZ85+DA85 -> 373 | DE85: 80 | DF85: =-DH85-DI84+DJ84 -> 747 | DH85: 35 | DI85: 50 | DJ85: =DE85+DF85+DG85 -> 827 | DK85: 0 | DL85: =-DN85-DO84+DP84 -> 0 | DP85: =DK85+DL85+DM85 -> 0 | DQ85: 20 | DR85: =DV84-DU84-DT85 -> 481 | DT85: 30 | DU85: 15 | DV85: =DQ85+DR85+DS85 -> 501 | DW85: 40 | DX85: =-DZ85-EA84+EB84 -> 524 | DZ85: 40 | EA85: 30 | EB85: =DW85+DX85+DY85 -> 564 | EC85: 20 | ED85: =-EF85-EG84+EH84 -> 268 | EF85: 20 | EG85: 15 | EH85: =EC85+ED85+EE85 -> 288 | EI85: 40 | EJ85: =EN84-EM84-EL85 -> 62 | EL85: 10 | EM85: 15 | EN85: =EI85+EJ85+EK85 -> 102 | EO85: 0 | EP85: =ET84-ES84-ER85 -> 3 | EQ85: 0 | ER85: 1 | ES85: 5 | ET85: =EO85+EP85+EQ85 -> 3 | EZ85: =EU85+EV85+EW85 -> 0 | FA85: =SUM(B85+G85+L85+Q85+V85+AA85+AF85+AK85+AP85+AU85+AZ85+BE85+BJ85+BO85+BU85+CA85+CG85+CM85+CS85+CY85+DE85+DK85+DQ85+DW85+EC85+EI85+EO85+EU85) -> 350 | FB85: =+ED85+DX85+DR85+DL85+DF85+CZ85+CT85+CN85+CH85+CB85+BV85+BP85+BK85+BF85+BA85+AV85+AQ85+AL85+AG85+AB85+W85+EP85+EJ85+EV85 -> 3648 | FC85: =SUM(BQ85+BW85+CC85+CI85+CO85+CU85+DA85+DG85+DM85+DS85+DY85+EE85+EK85+EW85) -> 0 | FD85: =SUM(D85+I85+N85+S85+X85+AC85+AH85+AM85+AR85+AW85+BB85+BG85+BL85+BR85+BX85+CD85+CJ85+CP85+CV85+DB85+DH85+DN85+DT85+DZ85+EF85+EL85+ER85) -> 271 | FE85: =SUM(E85+J85+O85+T85+Y85+AD85+AI85+AN85+AS85+AX85+BC85+BH85+BM85+BS85+BY85+CE85+CK85+CQ85+CW85+DC85+DI85+DO85+DU85+EA85+EG85+EM85+ES85) -> 240 | FF85: =SUM(F85+K85+P85+U85+Z85+AE85+AJ85+AO85+AT85+AY85+BD85+BI85+BN85+BT85+BZ85+CF85+CL85+CR85+CX85+DD85+DJ85+DP85+DV85+EB85+EH85+EN85+ET85+EZ85) -> 3998 | FG85: 1´20 | FH85: Feb-Jun 2020
A86: Ago-Dic 2020 | BO86: 35 | BP86: =-BS85-BR86+BT85 -> 233 | BR86: 15 | BS86: 15 | BT86: =BO86+BP86+BQ86 -> 268 | BU86: 35 | BV86: =-BX86-BY85+BZ85 -> 210 | BX86: 5 | BY86: 10 | BZ86: =BU86+BV86+BW86 -> 245 | CA86: 70 | CB86: =-CD86-CE85+CF85 -> 183 | CD86: 15 | CE86: 25 | CF86: =CA86+CB86+CC86 -> 253 | CG86: 50 | CH86: =CL85-CK85-CJ86 -> 210 | CJ86: 20 | CK86: 20 | CL86: =CG86+CH86+CI86 -> 260 | CM86: 40 | CN86: =CR85-CQ85-CP86 -> 129 | CP86: 10 | CQ86: 20 | CR86: =CM86+CN86+CO86 -> 169 | CS86: 50 | CT86: =CX85-CW85-CV86 -> 205 | CV86: 15 | CW86: 15 | CX86: =CS86+CT86+CU86 -> 255 | CY86: 90 | CZ86: =DD85-DC85-DB86 -> 323 | DB86: 30 | DC86: 20 | DD86: =CY86+CZ86+DA86 -> 413 | DE86: 160 | DF86: =-DH86-DI85+DJ85 -> 747 | DH86: 30 | DI86: 50 | DJ86: =DE86+DF86+DG86 -> 907 | DL86: =-DN86-DO85+DP85 -> 0 | DP86: =DK86+DL86+DM86 -> 0 | DQ86: 80 | DR86: =DV85-DU85-DT86 -> 451 | DT86: 35 | DU86: 20 | DV86: =DQ86+DR86+DS86 -> 531 | DW86: 160 | DX86: =-DZ86-EA85+EB85 -> 494 | DZ86: 40 | EA86: 40 | EB86: =DW86+DX86+DY86 -> 654 | EC86: 70 | ED86: =-EF86-EG85+EH85 -> 253 | EF86: 20 | EG86: 15 | EH86: =EC86+ED86+EE86 -> 323 | EI86: 35 | EJ86: =EN85-EM85-EL86 -> 77 | EL86: 10 | EM86: 15 | EN86: =EI86+EJ86+EK86 -> 112 | EO86: 6 | EP86: =ET85-ES85-ER86 -> -3 | EQ86: 0 | ER86: 1 | ES86: 0 | ET86: =EO86+EP86+EQ86 -> 3 | EZ86: =EU86+EV86+EW86 -> 0 | FA86: =SUM(B86+G86+L86+Q86+V86+AA86+AF86+AK86+AP86+AU86+AZ86+BE86+BJ86+BO86+BU86+CA86+CG86+CM86+CS86+CY86+DE86+DK86+DQ86+DW86+EC86+EI86+EO86+EU86) -> 881 | FB86: =+ED86+DX86+DR86+DL86+DF86+CZ86+CT86+CN86+CH86+CB86+BV86+BP86+BK86+BF86+BA86+AV86+AQ86+AL86+AG86+AB86+W86+EP86+EJ86+EV86 -> 3512 | FC86: =SUM(BQ86+BW86+CC86+CI86+CO86+CU86+DA86+DG86+DM86+DS86+DY86+EE86+EK86+EW86) -> 0 | FD86: =SUM(D86+I86+N86+S86+X86+AC86+AH86+AM86+AR86+AW86+BB86+BG86+BL86+BR86+BX86+CD86+CJ86+CP86+CV86+DB86+DH86+DN86+DT86+DZ86+EF86+EL86+ER86) -> 246 | FE86: =SUM(E86+J86+O86+T86+Y86+AD86+AI86+AN86+AS86+AX86+BC86+BH86+BM86+BS86+BY86+CE86+CK86+CQ86+CW86+DC86+DI86+DO86+DU86+EA86+EG86+EM86+ES86) -> 265 | FF86: =SUM(F86+K86+P86+U86+Z86+AE86+AJ86+AO86+AT86+AY86+BD86+BI86+BN86+BT86+BZ86+CF86+CL86+CR86+CX86+DD86+DJ86+DP86+DV86+EB86+EH86+EN86+ET86+EZ86) -> 4393 | FG86: 2´20 | FH86: Ago-Dic 2020
A87: Feb-Jun 2021 | BO87: 20 | BP87: =-BS86-BR87+BT86 -> 238 | BR87: 15 | BS87: 10 | BT87: =BO87+BP87+BQ87 -> 258 | BU87: 15 | BV87: =-BX87-BY86+BZ86 -> 220 | BX87: 15 | BY87: 10 | BZ87: =BU87+BV87+BW87 -> 235 | CA87: 35 | CB87: =-CD87-CE86+CF86 -> 203 | CD87: 25 | CE87: 25 | CF87: =CA87+CB87+CC87 -> 238 | CG87: 20 | CH87: =CL86-CK86-CJ87 -> 220 | CJ87: 20 | CK87: 15 | CL87: =CG87+CH87+CI87 -> 240 | CM87: 20 | CN87: =CR86-CQ86-CP87 -> 139 | CP87: 10 | CQ87: 20 | CR87: =CM87+CN87+CO87 -> 159 | CS87: 15 | CT87: =CX86-CW86-CV87 -> 225 | CV87: 15 | CW87: 10 | CX87: =CS87+CT87+CU87 -> 240 | CY87: 25 | CZ87: =DD86-DC86-DB87 -> 363 | DB87: 30 | DC87: 20 | DD87: =CY87+CZ87+DA87 -> 388 | DE87: 80 | DF87: =-DH87-DI86+DJ86 -> 822 | DH87: 35 | DI87: 50 | DJ87: =DE87+DF87+DG87 -> 902 | DL87: =-DN87-DO86+DP86 -> 0 | DP87: =DK87+DL87+DM87 -> 0 | DQ87: 20 | DR87: =DV86-DU86-DT87 -> 481 | DT87: 30 | DU87: 15 | DV87: =DQ87+DR87+DS87 -> 501 | DW87: 40 | DX87: =-DZ87-EA86+EB86 -> 574 | DZ87: 40 | EA87: 30 | EB87: =DW87+DX87+DY87 -> 614 | EC87: 20 | ED87: =-EF87-EG86+EH86 -> 288 | EF87: 20 | EG87: 15 | EH87: =EC87+ED87+EE87 -> 308 | EI87: 40 | EJ87: =EN86-EM86-EL87 -> 87 | EL87: 10 | EM87: 15 | EN87: =EI87+EJ87+EK87 -> 127 | EO87: 0 | EP87: =ET86-ES86-ER87 -> 2 | EQ87: 0 | ER87: 1 | ES87: 4 | ET87: =EO87+EP87+EQ87 -> 2 | EZ87: =EU87+EV87+EW87 -> 0 | FA87: =SUM(B87+G87+L87+Q87+V87+AA87+AF87+AK87+AP87+AU87+AZ87+BE87+BJ87+BO87+BU87+CA87+CG87+CM87+CS87+CY87+DE87+DK87+DQ87+DW87+EC87+EI87+EO87+EU87) -> 350 | FB87: =+ED87+DX87+DR87+DL87+DF87+CZ87+CT87+CN87+CH87+CB87+BV87+BP87+BK87+BF87+BA87+AV87+AQ87+AL87+AG87+AB87+W87+EP87+EJ87+EV87 -> 3862 | FC87: =SUM(BQ87+BW87+CC87+CI87+CO87+CU87+DA87+DG87+DM87+DS87+DY87+EE87+EK87+EW87) -> 0 | FD87: =SUM(D87+I87+N87+S87+X87+AC87+AH87+AM87+AR87+AW87+BB87+BG87+BL87+BR87+BX87+CD87+CJ87+CP87+CV87+DB87+DH87+DN87+DT87+DZ87+EF87+EL87+ER87) -> 266 | FE87: =SUM(E87+J87+O87+T87+Y87+AD87+AI87+AN87+AS87+AX87+BC87+BH87+BM87+BS87+BY87+CE87+CK87+CQ87+CW87+DC87+DI87+DO87+DU87+EA87+EG87+EM87+ES87) -> 239 | FF87: =SUM(F87+K87+P87+U87+Z87+AE87+AJ87+AO87+AT87+AY87+BD87+BI87+BN87+BT87+BZ87+CF87+CL87+CR87+CX87+DD87+DJ87+DP87+DV87+EB87+EH87+EN87+ET87+EZ87) -> 4212 | FG87: 1´21 | FH87: Feb-Jun 2021
A88: Ago-Dic 2021 | BO88: 35 | BP88: =-BS87-BR88+BT87 -> 233 | BR88: 15 | BS88: 15 | BT88: =BO88+BP88+BQ88 -> 268 | BU88: 35 | BV88: =-BX88-BY87+BZ87 -> 220 | BX88: 5 | BY88: 10 | BZ88: =BU88+BV88+BW88 -> 255 | CA88: 70 | CB88: =-CD88-CE87+CF87 -> 198 | CD88: 15 | CE88: 30 | CF88: =CA88+CB88+CC88 -> 268 | CG88: 50 | CH88: =CL87-CK87-CJ88 -> 205 | CJ88: 20 | CK88: 20 | CL88: =CG88+CH88+CI88 -> 255 | CM88: 40 | CN88: =CR87-CQ87-CP88 -> 129 | CP88: 10 | CQ88: 20 | CR88: =CM88+CN88+CO88 -> 169 | CS88: 50 | CT88: =CX87-CW87-CV88 -> 215 | CV88: 15 | CW88: 15 | CX88: =CS88+CT88+CU88 -> 265 | CY88: 90 | CZ88: =DD87-DC87-DB88 -> 338 | DB88: 30 | DC88: 20 | DD88: =CY88+CZ88+DA88 -> 428 | DE88: 160 | DF88: =-DH88-DI87+DJ87 -> 822 | DH88: 30 | DI88: 60 | DJ88: =DE88+DF88+DG88 -> 982 | DL88: =-DN88-DO87+DP87 -> 0 | DP88: =DK88+DL88+DM88 -> 0 | DQ88: 80 | DR88: =DV87-DU87-DT88 -> 451 | DT88: 35 | DU88: 20 | DV88: =DQ88+DR88+DS88 -> 531 | DW88: 160 | DX88: =-DZ88-EA87+EB87 -> 544 | DZ88: 40 | EA88: 40 | EB88: =DW88+DX88+DY88 -> 704 | EC88: 70 | ED88: =-EF88-EG87+EH87 -> 273 | EF88: 20 | EG88: 15 | EH88: =EC88+ED88+EE88 -> 343 | EI88: 35 | EJ88: =EN87-EM87-EL88 -> 102 | EL88: 10 | EM88: 15 | EN88: =EI88+EJ88+EK88 -> 137 | EO88: 6 | EP88: =ET87-ES87-ER88 -> -3 | EQ88: 0 | ER88: 1 | ES88: 0 | ET88: =EO88+EP88+EQ88 -> 3 | EZ88: =EU88+EV88+EW88 -> 0 | FA88: =SUM(B88+G88+L88+Q88+V88+AA88+AF88+AK88+AP88+AU88+AZ88+BE88+BJ88+BO88+BU88+CA88+CG88+CM88+CS88+CY88+DE88+DK88+DQ88+DW88+EC88+EI88+EO88+EU88) -> 881 | FB88: =+ED88+DX88+DR88+DL88+DF88+CZ88+CT88+CN88+CH88+CB88+BV88+BP88+BK88+BF88+BA88+AV88+AQ88+AL88+AG88+AB88+W88+EP88+EJ88+EV88 -> 3727 | FC88: =SUM(BQ88+BW88+CC88+CI88+CO88+CU88+DA88+DG88+DM88+DS88+DY88+EE88+EK88+EW88) -> 0 | FD88: =SUM(D88+I88+N88+S88+X88+AC88+AH88+AM88+AR88+AW88+BB88+BG88+BL88+BR88+BX88+CD88+CJ88+CP88+CV88+DB88+DH88+DN88+DT88+DZ88+EF88+EL88+ER88) -> 246 | FE88: =SUM(E88+J88+O88+T88+Y88+AD88+AI88+AN88+AS88+AX88+BC88+BH88+BM88+BS88+BY88+CE88+CK88+CQ88+CW88+DC88+DI88+DO88+DU88+EA88+EG88+EM88+ES88) -> 280 | FF88: =SUM(F88+K88+P88+U88+Z88+AE88+AJ88+AO88+AT88+AY88+BD88+BI88+BN88+BT88+BZ88+CF88+CL88+CR88+CX88+DD88+DJ88+DP88+DV88+EB88+EH88+EN88+ET88+EZ88) -> 4608 | FG88: 2´21 | FH88: Ago-Dic 2021
A89: Feb-Jun 2022 | BO89: 20 | BP89: =-BS88-BR89+BT88 -> 238 | BR89: 15 | BS89: 10 | BT89: =BO89+BP89+BQ89 -> 258 | BU89: 15 | BV89: =-BX89-BY88+BZ88 -> 230 | BX89: 15 | BY89: 10 | BZ89: =BU89+BV89+BW89 -> 245 | CA89: 35 | CB89: =-CD89-CE88+CF88 -> 213 | CD89: 25 | CE89: 30 | CF89: =CA89+CB89+CC89 -> 248 | CG89: 20 | CH89: =CL88-CK88-CJ89 -> 215 | CJ89: 20 | CK89: 15 | CL89: =CG89+CH89+CI89 -> 235 | CM89: 20 | CN89: =CR88-CQ88-CP89 -> 139 | CP89: 10 | CQ89: 20 | CR89: =CM89+CN89+CO89 -> 159 | CS89: 15 | CT89: =CX88-CW88-CV89 -> 235 | CV89: 15 | CW89: 10 | CX89: =CS89+CT89+CU89 -> 250 | CY89: 25 | CZ89: =DD88-DC88-DB89 -> 378 | DB89: 30 | DC89: 20 | DD89: =CY89+CZ89+DA89 -> 403 | DE89: 80 | DF89: =-DH89-DI88+DJ88 -> 887 | DH89: 35 | DI89: 60 | DJ89: =DE89+DF89+DG89 -> 967 | DL89: =-DN89-DO88+DP88 -> 0 | DP89: =DK89+DL89+DM89 -> 0 | DQ89: 20 | DR89: =DV88-DU88-DT89 -> 481 | DT89: 30 | DU89: 15 | DV89: =DQ89+DR89+DS89 -> 501 | DW89: 40 | DX89: =-DZ89-EA88+EB88 -> 624 | DZ89: 40 | EA89: 30 | EB89: =DW89+DX89+DY89 -> 664 | EC89: 20 | ED89: =-EF89-EG88+EH88 -> 308 | EF89: 20 | EG89: 15 | EH89: =EC89+ED89+EE89 -> 328 | EI89: 40 | EJ89: =EN88-EM88-EL89 -> 112 | EL89: 10 | EM89: 15 | EN89: =EI89+EJ89+EK89 -> 152 | EO89: 0 | EP89: =ET88-ES88-ER89 -> 2 | EQ89: 0 | ER89: 1 | ES89: 4 | ET89: =EO89+EP89+EQ89 -> 2 | EZ89: =EU89+EV89+EW89 -> 0 | FA89: =SUM(B89+G89+L89+Q89+V89+AA89+AF89+AK89+AP89+AU89+AZ89+BE89+BJ89+BO89+BU89+CA89+CG89+CM89+CS89+CY89+DE89+DK89+DQ89+DW89+EC89+EI89+EO89+EU89) -> 350 | FB89: =+ED89+DX89+DR89+DL89+DF89+CZ89+CT89+CN89+CH89+CB89+BV89+BP89+BK89+BF89+BA89+AV89+AQ89+AL89+AG89+AB89+W89+EP89+EJ89+EV89 -> 4062 | FC89: =SUM(BQ89+BW89+CC89+CI89+CO89+CU89+DA89+DG89+DM89+DS89+DY89+EE89+EK89+EW89) -> 0 | FD89: =SUM(D89+I89+N89+S89+X89+AC89+AH89+AM89+AR89+AW89+BB89+BG89+BL89+BR89+BX89+CD89+CJ89+CP89+CV89+DB89+DH89+DN89+DT89+DZ89+EF89+EL89+ER89) -> 266 | FE89: =SUM(E89+J89+O89+T89+Y89+AD89+AI89+AN89+AS89+AX89+BC89+BH89+BM89+BS89+BY89+CE89+CK89+CQ89+CW89+DC89+DI89+DO89+DU89+EA89+EG89+EM89+ES89) -> 254 | FF89: =SUM(F89+K89+P89+U89+Z89+AE89+AJ89+AO89+AT89+AY89+BD89+BI89+BN89+BT89+BZ89+CF89+CL89+CR89+CX89+DD89+DJ89+DP89+DV89+EB89+EH89+EN89+ET89+EZ89) -> 4412 | FG89: 1´22 | FH89: Feb-Jun 2022
A90: Ago-Dic 2022 | BO90: 35 | BP90: =-BS89-BR90+BT89 -> 233 | BR90: 15 | BS90: 15 | BT90: =BO90+BP90+BQ90 -> 268 | BU90: 35 | BV90: =-BX90-BY89+BZ89 -> 230 | BX90: 5 | BY90: 10 | BZ90: =BU90+BV90+BW90 -> 265 | CA90: 70 | CB90: =-CD90-CE89+CF89 -> 203 | CD90: 15 | CE90: 30 | CF90: =CA90+CB90+CC90 -> 273 | CG90: 50 | CH90: =CL89-CK89-CJ90 -> 200 | CJ90: 20 | CK90: 20 | CL90: =CG90+CH90+CI90 -> 250 | CM90: 40 | CN90: =CR89-CQ89-CP90 -> 129 | CP90: 10 | CQ90: 20 | CR90: =CM90+CN90+CO90 -> 169 | CS90: 50 | CT90: =CX89-CW89-CV90 -> 225 | CV90: 15 | CW90: 15 | CX90: =CS90+CT90+CU90 -> 275 | CY90: 90 | CZ90: =DD89-DC89-DB90 -> 353 | DB90: 30 | DC90: 20 | DD90: =CY90+CZ90+DA90 -> 443 | DE90: 160 | DF90: =-DH90-DI89+DJ89 -> 877 | DH90: 30 | DI90: 60 | DJ90: =DE90+DF90+DG90 -> 1037 | DL90: =-DN90-DO89+DP89 -> 0 | DP90: =DK90+DL90+DM90 -> 0 | DQ90: 80 | DR90: =DV89-DU89-DT90 -> 451 | DT90: 35 | DU90: 20 | DV90: =DQ90+DR90+DS90 -> 531 | DW90: 160 | DX90: =-DZ90-EA89+EB89 -> 594 | DZ90: 40 | EA90: 40 | EB90: =DW90+DX90+DY90 -> 754 | EC90: 70 | ED90: =-EF90-EG89+EH89 -> 293 | EF90: 20 | EG90: 15 | EH90: =EC90+ED90+EE90 -> 363 | EI90: 35 | EJ90: =EN89-EM89-EL90 -> 127 | EL90: 10 | EM90: 15 | EN90: =EI90+EJ90+EK90 -> 162 | EO90: 10 | EP90: =ET89-ES89-ER90 -> -3 | EQ90: 0 | ER90: 1 | ES90: 0 | ET90: =EO90+EP90+EQ90 -> 7 | EZ90: =EU90+EV90+EW90 -> 0 | FA90: =SUM(B90+G90+L90+Q90+V90+AA90+AF90+AK90+AP90+AU90+AZ90+BE90+BJ90+BO90+BU90+CA90+CG90+CM90+CS90+CY90+DE90+DK90+DQ90+DW90+EC90+EI90+EO90+EU90) -> 885 | FB90: =+ED90+DX90+DR90+DL90+DF90+CZ90+CT90+CN90+CH90+CB90+BV90+BP90+BK90+BF90+BA90+AV90+AQ90+AL90+AG90+AB90+W90+EP90+EJ90+EV90 -> 3912 | FC90: =SUM(BQ90+BW90+CC90+CI90+CO90+CU90+DA90+DG90+DM90+DS90+DY90+EE90+EK90+EW90) -> 0 | FD90: =SUM(D90+I90+N90+S90+X90+AC90+AH90+AM90+AR90+AW90+BB90+BG90+BL90+BR90+BX90+CD90+CJ90+CP90+CV90+DB90+DH90+DN90+DT90+DZ90+EF90+EL90+ER90) -> 246 | FE90: =SUM(E90+J90+O90+T90+Y90+AD90+AI90+AN90+AS90+AX90+BC90+BH90+BM90+BS90+BY90+CE90+CK90+CQ90+CW90+DC90+DI90+DO90+DU90+EA90+EG90+EM90+ES90) -> 280 | FF90: =SUM(F90+K90+P90+U90+Z90+AE90+AJ90+AO90+AT90+AY90+BD90+BI90+BN90+BT90+BZ90+CF90+CL90+CR90+CX90+DD90+DJ90+DP90+DV90+EB90+EH90+EN90+ET90+EZ90) -> 4797 | FG90: 2´22 | FH90: Ago-Dic 2022
A91: Feb-Jun 2023 | BO91: 20 | BP91: =-BS90-BR91+BT90 -> 238 | BR91: 15 | BS91: 10 | BT91: =BO91+BP91+BQ91 -> 258 | BU91: 15 | BV91: =-BX91-BY90+BZ90 -> 240 | BX91: 15 | BY91: 10 | BZ91: =BU91+BV91+BW91 -> 255 | CA91: 35 | CB91: =-CD91-CE90+CF90 -> 218 | CD91: 25 | CE91: 30 | CF91: =CA91+CB91+CC91 -> 253 | CG91: 20 | CH91: =CL90-CK90-CJ91 -> 210 | CJ91: 20 | CK91: 15 | CL91: =CG91+CH91+CI91 -> 230 | CM91: 20 | CN91: =CR90-CQ90-CP91 -> 139 | CP91: 10 | CQ91: 20 | CR91: =CM91+CN91+CO91 -> 159 | CS91: 15 | CT91: =CX90-CW90-CV91 -> 245 | CV91: 15 | CW91: 10 | CX91: =CS91+CT91+CU91 -> 260 | CY91: 25 | CZ91: =DD90-DC90-DB91 -> 393 | DB91: 30 | DC91: 20 | DD91: =CY91+CZ91+DA91 -> 418 | DE91: 80 | DF91: =-DH91-DI90+DJ90 -> 942 | DH91: 35 | DI91: 60 | DJ91: =DE91+DF91+DG91 -> 1022 | DL91: =-DN91-DO90+DP90 -> 0 | DP91: =DK91+DL91+DM91 -> 0 | DQ91: 20 | DR91: =DV90-DU90-DT91 -> 481 | DT91: 30 | DU91: 15 | DV91: =DQ91+DR91+DS91 -> 501 | DW91: 40 | DX91: =-DZ91-EA90+EB90 -> 674 | DZ91: 40 | EA91: 30 | EB91: =DW91+DX91+DY91 -> 714 | EC91: 20 | ED91: =-EF91-EG90+EH90 -> 328 | EF91: 20 | EG91: 15 | EH91: =EC91+ED91+EE91 -> 348 | EI91: 40 | EJ91: =EN90-EM90-EL91 -> 137 | EL91: 10 | EM91: 15 | EN91: =EI91+EJ91+EK91 -> 177 | EO91: 0 | EP91: =ET90-ES90-ER91 -> 6 | EQ91: 0 | ER91: 1 | ES91: 8 | ET91: =EO91+EP91+EQ91 -> 6 | EZ91: =EU91+EV91+EW91 -> 0 | FA91: =SUM(B91+G91+L91+Q91+V91+AA91+AF91+AK91+AP91+AU91+AZ91+BE91+BJ91+BO91+BU91+CA91+CG91+CM91+CS91+CY91+DE91+DK91+DQ91+DW91+EC91+EI91+EO91+EU91) -> 350 | FB91: =+ED91+DX91+DR91+DL91+DF91+CZ91+CT91+CN91+CH91+CB91+BV91+BP91+BK91+BF91+BA91+AV91+AQ91+AL91+AG91+AB91+W91+EP91+EJ91+EV91 -> 4251 | FC91: =SUM(BQ91+BW91+CC91+CI91+CO91+CU91+DA91+DG91+DM91+DS91+DY91+EE91+EK91+EW91) -> 0 | FD91: =SUM(D91+I91+N91+S91+X91+AC91+AH91+AM91+AR91+AW91+BB91+BG91+BL91+BR91+BX91+CD91+CJ91+CP91+CV91+DB91+DH91+DN91+DT91+DZ91+EF91+EL91+ER91) -> 266 | FE91: =SUM(E91+J91+O91+T91+Y91+AD91+AI91+AN91+AS91+AX91+BC91+BH91+BM91+BS91+BY91+CE91+CK91+CQ91+CW91+DC91+DI91+DO91+DU91+EA91+EG91+EM91+ES91) -> 258 | FF91: =SUM(F91+K91+P91+U91+Z91+AE91+AJ91+AO91+AT91+AY91+BD91+BI91+BN91+BT91+BZ91+CF91+CL91+CR91+CX91+DD91+DJ91+DP91+DV91+EB91+EH91+EN91+ET91+EZ91) -> 4601 | FG91: 1´23 | FH91: Feb-Jun 2023
A92: Ago-Dic 2023 | BO92: 35 | BP92: =-BS91-BR92+BT91 -> 233 | BR92: 15 | BS92: 15 | BT92: =BO92+BP92+BQ92 -> 268 | BU92: 35 | BV92: =-BX92-BY91+BZ91 -> 240 | BX92: 5 | BY92: 10 | BZ92: =BU92+BV92+BW92 -> 275 | CA92: 70 | CB92: =-CD92-CE91+CF91 -> 208 | CD92: 15 | CE92: 35 | CF92: =CA92+CB92+CC92 -> 278 | CG92: 50 | CH92: =CL91-CK91-CJ92 -> 195 | CJ92: 20 | CK92: 20 | CL92: =CG92+CH92+CI92 -> 245 | CM92: 40 | CN92: =CR91-CQ91-CP92 -> 129 | CP92: 10 | CQ92: 20 | CR92: =CM92+CN92+CO92 -> 169 | CS92: 50 | CT92: =CX91-CW91-CV92 -> 235 | CV92: 15 | CW92: 15 | CX92: =CS92+CT92+CU92 -> 285 | CY92: 90 | CZ92: =DD91-DC91-DB92 -> 368 | DB92: 30 | DC92: 20 | DD92: =CY92+CZ92+DA92 -> 458 | DE92: 160 | DF92: =-DH92-DI91+DJ91 -> 932 | DH92: 30 | DI92: 60 | DJ92: =DE92+DF92+DG92 -> 1092 | DL92: =-DN92-DO91+DP91 -> 0 | DP92: =DK92+DL92+DM92 -> 0 | DQ92: 80 | DR92: =DV91-DU91-DT92 -> 451 | DT92: 35 | DU92: 20 | DV92: =DQ92+DR92+DS92 -> 531 | DW92: 160 | DX92: =-DZ92-EA91+EB91 -> 644 | DZ92: 40 | EA92: 40 | EB92: =DW92+DX92+DY92 -> 804 | EC92: 70 | ED92: =-EF92-EG91+EH91 -> 313 | EF92: 20 | EG92: 15 | EH92: =EC92+ED92+EE92 -> 383 | EI92: 35 | EJ92: =EN91-EM91-EL92 -> 152 | EL92: 10 | EM92: 15 | EN92: =EI92+EJ92+EK92 -> 187 | EO92: 10 | EP92: =ET91-ES91-ER92 -> -3 | EQ92: 0 | ER92: 1 | ES92: 0 | ET92: =EO92+EP92+EQ92 -> 7 | EZ92: =EU92+EV92+EW92 -> 0 | FA92: =SUM(B92+G92+L92+Q92+V92+AA92+AF92+AK92+AP92+AU92+AZ92+BE92+BJ92+BO92+BU92+CA92+CG92+CM92+CS92+CY92+DE92+DK92+DQ92+DW92+EC92+EI92+EO92+EU92) -> 885 | FB92: =+ED92+DX92+DR92+DL92+DF92+CZ92+CT92+CN92+CH92+CB92+BV92+BP92+BK92+BF92+BA92+AV92+AQ92+AL92+AG92+AB92+W92+EP92+EJ92+EV92 -> 4097 | FC92: =SUM(BQ92+BW92+CC92+CI92+CO92+CU92+DA92+DG92+DM92+DS92+DY92+EE92+EK92+EW92) -> 0 | FD92: =SUM(D92+I92+N92+S92+X92+AC92+AH92+AM92+AR92+AW92+BB92+BG92+BL92+BR92+BX92+CD92+CJ92+CP92+CV92+DB92+DH92+DN92+DT92+DZ92+EF92+EL92+ER92) -> 246 | FE92: =SUM(E92+J92+O92+T92+Y92+AD92+AI92+AN92+AS92+AX92+BC92+BH92+BM92+BS92+BY92+CE92+CK92+CQ92+CW92+DC92+DI92+DO92+DU92+EA92+EG92+EM92+ES92) -> 285 | FF92: =SUM(F92+K92+P92+U92+Z92+AE92+AJ92+AO92+AT92+AY92+BD92+BI92+BN92+BT92+BZ92+CF92+CL92+CR92+CX92+DD92+DJ92+DP92+DV92+EB92+EH92+EN92+ET92+EZ92) -> 4982 | FG92: 2´23 | FH92: Ago-Dic 2023
A93: Feb-Jun 2024 | BO93: 20 | BP93: =-BS92-BR93+BT92 -> 238 | BR93: 15 | BS93: 10 | BT93: =BO93+BP93+BQ93 -> 258 | BU93: 15 | BV93: =-BX93-BY92+BZ92 -> 250 | BX93: 15 | BY93: 10 | BZ93: =BU93+BV93+BW93 -> 265 | CA93: 35 | CB93: =-CD93-CE92+CF92 -> 218 | CD93: 25 | CE93: 35 | CF93: =CA93+CB93+CC93 -> 253 | CG93: 20 | CH93: =CL92-CK92-CJ93 -> 205 | CJ93: 20 | CK93: 15 | CL93: =CG93+CH93+CI93 -> 225 | CM93: 20 | CN93: =CR92-CQ92-CP93 -> 139 | CP93: 10 | CQ93: 20 | CR93: =CM93+CN93+CO93 -> 159 | CS93: 15 | CT93: =CX92-CW92-CV93 -> 255 | CV93: 15 | CW93: 10 | CX93: =CS93+CT93+CU93 -> 270 | CY93: 25 | CZ93: =DD92-DC92-DB93 -> 408 | DB93: 30 | DC93: 20 | DD93: =CY93+CZ93+DA93 -> 433 | DE93: 80 | DF93: =-DH93-DI92+DJ92 -> 997 | DH93: 35 | DI93: 60 | DJ93: =DE93+DF93+DG93 -> 1077 | DL93: =-DN93-DO92+DP92 -> 0 | DP93: =DK93+DL93+DM93 -> 0 | DQ93: 20 | DR93: =DV92-DU92-DT93 -> 481 | DT93: 30 | DU93: 15 | DV93: =DQ93+DR93+DS93 -> 501 | DW93: 40 | DX93: =-DZ93-EA92+EB92 -> 724 | DZ93: 40 | EA93: 30 | EB93: =DW93+DX93+DY93 -> 764 | EC93: 20 | ED93: =-EF93-EG92+EH92 -> 348 | EF93: 20 | EG93: 15 | EH93: =EC93+ED93+EE93 -> 368 | EI93: 40 | EJ93: =EN92-EM92-EL93 -> 162 | EL93: 10 | EM93: 15 | EN93: =EI93+EJ93+EK93 -> 202 | EO93: 0 | EP93: =ET92-ES92-ER93 -> 6 | EQ93: 0 | ER93: 1 | ES93: 8 | ET93: =EO93+EP93+EQ93 -> 6 | EZ93: =EU93+EV93+EW93 -> 0 | FA93: =SUM(B93+G93+L93+Q93+V93+AA93+AF93+AK93+AP93+AU93+AZ93+BE93+BJ93+BO93+BU93+CA93+CG93+CM93+CS93+CY93+DE93+DK93+DQ93+DW93+EC93+EI93+EO93+EU93) -> 350 | FB93: =+ED93+DX93+DR93+DL93+DF93+CZ93+CT93+CN93+CH93+CB93+BV93+BP93+BK93+BF93+BA93+AV93+AQ93+AL93+AG93+AB93+W93+EP93+EJ93+EV93 -> 4431 | FC93: =SUM(BQ93+BW93+CC93+CI93+CO93+CU93+DA93+DG93+DM93+DS93+DY93+EE93+EK93+EW93) -> 0 | FD93: =SUM(D93+I93+N93+S93+X93+AC93+AH93+AM93+AR93+AW93+BB93+BG93+BL93+BR93+BX93+CD93+CJ93+CP93+CV93+DB93+DH93+DN93+DT93+DZ93+EF93+EL93+ER93) -> 266 | FE93: =SUM(E93+J93+O93+T93+Y93+AD93+AI93+AN93+AS93+AX93+BC93+BH93+BM93+BS93+BY93+CE93+CK93+CQ93+CW93+DC93+DI93+DO93+DU93+EA93+EG93+EM93+ES93) -> 263 | FF93: =SUM(F93+K93+P93+U93+Z93+AE93+AJ93+AO93+AT93+AY93+BD93+BI93+BN93+BT93+BZ93+CF93+CL93+CR93+CX93+DD93+DJ93+DP93+DV93+EB93+EH93+EN93+ET93+EZ93) -> 4781 | FG93: 1´24 | FH93: Feb-Jun 2024
A94: Ago-Dic 2024 | BO94: 35 | BP94: =-BS93-BR94+BT93 -> 233 | BR94: 15 | BS94: 15 | BT94: =BO94+BP94+BQ94 -> 268 | BU94: 35 | BV94: =-BX94-BY93+BZ93 -> 250 | BX94: 5 | BY94: 10 | BZ94: =BU94+BV94+BW94 -> 285 | CA94: 70 | CB94: =-CD94-CE93+CF93 -> 203 | CD94: 15 | CE94: 35 | CF94: =CA94+CB94+CC94 -> 273 | CG94: 50 | CH94: =CL93-CK93-CJ94 -> 190 | CJ94: 20 | CK94: 20 | CL94: =CG94+CH94+CI94 -> 240 | CM94: 40 | CN94: =CR93-CQ93-CP94 -> 129 | CP94: 10 | CQ94: 20 | CR94: =CM94+CN94+CO94 -> 169 | CS94: 50 | CT94: =CX93-CW93-CV94 -> 245 | CV94: 15 | CW94: 15 | CX94: =CS94+CT94+CU94 -> 295 | CY94: 90 | CZ94: =DD93-DC93-DB94 -> 383 | DB94: 30 | DC94: 20 | DD94: =CY94+CZ94+DA94 -> 473 | DE94: 160 | DF94: =-DH94-DI93+DJ93 -> 987 | DH94: 30 | DI94: 60 | DJ94: =DE94+DF94+DG94 -> 1147 | DL94: =-DN94-DO93+DP93 -> 0 | DP94: =DK94+DL94+DM94 -> 0 | DQ94: 80 | DR94: =DV93-DU93-DT94 -> 451 | DT94: 35 | DU94: 20 | DV94: =DQ94+DR94+DS94 -> 531 | DW94: 160 | DX94: =-DZ94-EA93+EB93 -> 694 | DZ94: 40 | EA94: 40 | EB94: =DW94+DX94+DY94 -> 854 | EC94: 70 | ED94: =-EF94-EG93+EH93 -> 333 | EF94: 20 | EG94: 15 | EH94: =EC94+ED94+EE94 -> 403 | EI94: 35 | EJ94: =EN93-EM93-EL94 -> 177 | EL94: 10 | EM94: 15 | EN94: =EI94+EJ94+EK94 -> 212 | EO94: 10 | EP94: =ET93-ES93-ER94 -> -3 | EQ94: 0 | ER94: 1 | ES94: 0 | ET94: =EO94+EP94+EQ94 -> 7 | EZ94: =EU94+EV94+EW94 -> 0 | FA94: =SUM(B94+G94+L94+Q94+V94+AA94+AF94+AK94+AP94+AU94+AZ94+BE94+BJ94+BO94+BU94+CA94+CG94+CM94+CS94+CY94+DE94+DK94+DQ94+DW94+EC94+EI94+EO94+EU94) -> 885 | FB94: =+ED94+DX94+DR94+DL94+DF94+CZ94+CT94+CN94+CH94+CB94+BV94+BP94+BK94+BF94+BA94+AV94+AQ94+AL94+AG94+AB94+W94+EP94+EJ94+EV94 -> 4272 | FC94: =SUM(BQ94+BW94+CC94+CI94+CO94+CU94+DA94+DG94+DM94+DS94+DY94+EE94+EK94+EW94) -> 0 | FD94: =SUM(D94+I94+N94+S94+X94+AC94+AH94+AM94+AR94+AW94+BB94+BG94+BL94+BR94+BX94+CD94+CJ94+CP94+CV94+DB94+DH94+DN94+DT94+DZ94+EF94+EL94+ER94) -> 246 | FE94: =SUM(E94+J94+O94+T94+Y94+AD94+AI94+AN94+AS94+AX94+BC94+BH94+BM94+BS94+BY94+CE94+CK94+CQ94+CW94+DC94+DI94+DO94+DU94+EA94+EG94+EM94+ES94) -> 285 | FF94: =SUM(F94+K94+P94+U94+Z94+AE94+AJ94+AO94+AT94+AY94+BD94+BI94+BN94+BT94+BZ94+CF94+CL94+CR94+CX94+DD94+DJ94+DP94+DV94+EB94+EH94+EN94+ET94+EZ94) -> 5157 | FG94: 2´24 | FH94: Ago-Dic 2024
A95: Feb-Jun 2025 | BO95: 20 | BP95: =-BS94-BR95+BT94 -> 238 | BR95: 15 | BS95: 10 | BT95: =BO95+BP95+BQ95 -> 258 | BU95: 15 | BV95: =-BX95-BY94+BZ94 -> 260 | BX95: 15 | BY95: 10 | BZ95: =BU95+BV95+BW95 -> 275 | CA95: 35 | CB95: =-CD95-CE94+CF94 -> 213 | CD95: 25 | CE95: 35 | CF95: =CA95+CB95+CC95 -> 248 | CG95: 20 | CH95: =CL94-CK94-CJ95 -> 200 | CJ95: 20 | CK95: 15 | CL95: =CG95+CH95+CI95 -> 220 | CM95: 20 | CN95: =CR94-CQ94-CP95 -> 139 | CP95: 10 | CQ95: 20 | CR95: =CM95+CN95+CO95 -> 159 | CS95: 15 | CT95: =CX94-CW94-CV95 -> 265 | CV95: 15 | CW95: 10 | CX95: =CS95+CT95+CU95 -> 280 | CY95: 25 | CZ95: =DD94-DC94-DB95 -> 423 | DB95: 30 | DC95: 20 | DD95: =CY95+CZ95+DA95 -> 448 | DE95: 80 | DF95: =-DH95-DI94+DJ94 -> 1052 | DH95: 35 | DI95: 60 | DJ95: =DE95+DF95+DG95 -> 1132 | DL95: =-DN95-DO94+DP94 -> 0 | DP95: =DK95+DL95+DM95 -> 0 | DQ95: 20 | DR95: =DV94-DU94-DT95 -> 481 | DT95: 30 | DU95: 15 | DV95: =DQ95+DR95+DS95 -> 501 | DW95: 40 | DX95: =-DZ95-EA94+EB94 -> 774 | DZ95: 40 | EA95: 30 | EB95: =DW95+DX95+DY95 -> 814 | EC95: 20 | ED95: =-EF95-EG94+EH94 -> 368 | EF95: 20 | EG95: 15 | EH95: =EC95+ED95+EE95 -> 388 | EI95: 40 | EJ95: =EN94-EM94-EL95 -> 187 | EL95: 10 | EM95: 15 | EN95: =EI95+EJ95+EK95 -> 227 | EO95: 0 | EP95: =ET94-ES94-ER95 -> 6 | EQ95: 0 | ER95: 1 | ES95: 5 | ET95: =EO95+EP95+EQ95 -> 6 | EZ95: =EU95+EV95+EW95 -> 0 | FA95: =SUM(B95+G95+L95+Q95+V95+AA95+AF95+AK95+AP95+AU95+AZ95+BE95+BJ95+BO95+BU95+CA95+CG95+CM95+CS95+CY95+DE95+DK95+DQ95+DW95+EC95+EI95+EO95+EU95) -> 350 | FB95: =+ED95+DX95+DR95+DL95+DF95+CZ95+CT95+CN95+CH95+CB95+BV95+BP95+BK95+BF95+BA95+AV95+AQ95+AL95+AG95+AB95+W95+EP95+EJ95+EV95 -> 4606 | FC95: =SUM(BQ95+BW95+CC95+CI95+CO95+CU95+DA95+DG95+DM95+DS95+DY95+EE95+EK95+EW95) -> 0 | FD95: =SUM(D95+I95+N95+S95+X95+AC95+AH95+AM95+AR95+AW95+BB95+BG95+BL95+BR95+BX95+CD95+CJ95+CP95+CV95+DB95+DH95+DN95+DT95+DZ95+EF95+EL95+ER95) -> 266 | FE95: =SUM(E95+J95+O95+T95+Y95+AD95+AI95+AN95+AS95+AX95+BC95+BH95+BM95+BS95+BY95+CE95+CK95+CQ95+CW95+DC95+DI95+DO95+DU95+EA95+EG95+EM95+ES95) -> 260 | FF95: =SUM(F95+K95+P95+U95+Z95+AE95+AJ95+AO95+AT95+AY95+BD95+BI95+BN95+BT95+BZ95+CF95+CL95+CR95+CX95+DD95+DJ95+DP95+DV95+EB95+EH95+EN95+ET95+EZ95) -> 4956 | FG95: 1´25 | FH95: Feb-Jun 2025
A96: Ago-Dic 2025 | BO96: 35 | BP96: =-BS95-BR96+BT95 -> 233 | BR96: 15 | BS96: 15 | BT96: =BO96+BP96+BQ96 -> 268 | BU96: 35 | BV96: =-BX96-BY95+BZ95 -> 260 | BX96: 5 | BY96: 10 | BZ96: =BU96+BV96+BW96 -> 295 | CA96: 70 | CB96: =-CD96-CE95+CF95 -> 198 | CD96: 15 | CE96: 35 | CF96: =CA96+CB96+CC96 -> 268 | CG96: 50 | CH96: =CL95-CK95-CJ96 -> 185 | CJ96: 20 | CK96: 20 | CL96: =CG96+CH96+CI96 -> 235 | CM96: 40 | CN96: =CR95-CQ95-CP96 -> 129 | CP96: 10 | CQ96: 20 | CR96: =CM96+CN96+CO96 -> 169 | CS96: 50 | CT96: =CX95-CW95-CV96 -> 255 | CV96: 15 | CW96: 15 | CX96: =CS96+CT96+CU96 -> 305 | CY96: 90 | CZ96: =DD95-DC95-DB96 -> 398 | DB96: 30 | DC96: 20 | DD96: =CY96+CZ96+DA96 -> 488 | DE96: 160 | DF96: =-DH96-DI95+DJ95 -> 1042 | DH96: 30 | DI96: 60 | DJ96: =DE96+DF96+DG96 -> 1202 | DL96: =-DN96-DO95+DP95 -> 0 | DP96: =DK96+DL96+DM96 -> 0 | DQ96: 80 | DR96: =DV95-DU95-DT96 -> 451 | DT96: 35 | DU96: 20 | DV96: =DQ96+DR96+DS96 -> 531 | DW96: 160 | DX96: =-DZ96-EA95+EB95 -> 744 | DZ96: 40 | EA96: 40 | EB96: =DW96+DX96+DY96 -> 904 | EC96: 70 | ED96: =-EF96-EG95+EH95 -> 353 | EF96: 20 | EG96: 15 | EH96: =EC96+ED96+EE96 -> 423 | EI96: 35 | EJ96: =EN95-EM95-EL96 -> 202 | EL96: 10 | EM96: 15 | EN96: =EI96+EJ96+EK96 -> 237 | EO96: 10 | EP96: =ET95-ES95-ER96 -> 0 | EQ96: 0 | ER96: 1 | ES96: 3 | ET96: =EO96+EP96+EQ96 -> 10 | EZ96: =EU96+EV96+EW96 -> 0 | FA96: =SUM(B96+G96+L96+Q96+V96+AA96+AF96+AK96+AP96+AU96+AZ96+BE96+BJ96+BO96+BU96+CA96+CG96+CM96+CS96+CY96+DE96+DK96+DQ96+DW96+EC96+EI96+EO96+EU96) -> 885 | FB96: =+ED96+DX96+DR96+DL96+DF96+CZ96+CT96+CN96+CH96+CB96+BV96+BP96+BK96+BF96+BA96+AV96+AQ96+AL96+AG96+AB96+W96+EP96+EJ96+EV96 -> 4450 | FC96: =SUM(BQ96+BW96+CC96+CI96+CO96+CU96+DA96+DG96+DM96+DS96+DY96+EE96+EK96+EW96) -> 0 | FD96: =SUM(D96+I96+N96+S96+X96+AC96+AH96+AM96+AR96+AW96+BB96+BG96+BL96+BR96+BX96+CD96+CJ96+CP96+CV96+DB96+DH96+DN96+DT96+DZ96+EF96+EL96+ER96) -> 246 | FE96: =SUM(E96+J96+O96+T96+Y96+AD96+AI96+AN96+AS96+AX96+BC96+BH96+BM96+BS96+BY96+CE96+CK96+CQ96+CW96+DC96+DI96+DO96+DU96+EA96+EG96+EM96+ES96) -> 288 | FF96: =SUM(F96+K96+P96+U96+Z96+AE96+AJ96+AO96+AT96+AY96+BD96+BI96+BN96+BT96+BZ96+CF96+CL96+CR96+CX96+DD96+DJ96+DP96+DV96+EB96+EH96+EN96+ET96+EZ96) -> 5335 | FG96: 2´25 | FH96: Ago-Dic 2025
A97: Desc x carr | W97: =X71/(Z70-Y70) -> 0.026315789 | AB97: =AC71/(AE70-AD70) -> -0.068965517 | AG97: =AH71/(AJ70-AI70) -> 0.030674847 | AL97: =AM71/(AO70-AN70) -> 0.17333333 | AQ97: =AR71/(AT70-AS70) -> 0.13333333 | AV97: =AW71/(AY70-AX70) -> 0.047619048 | BA97: =BB71/(BD70-BC70) -> 0.012048193 | BF97: =BG71/(BI70-BH70) -> 0.045454545 | BK97: =BL71/(BN70-BM70) -> 0.067164179 | BP97: =BR71/(BT70-BS70) -> 0.0071428571 | BV97: =BX71/(BZ70-BY70) -> 0.16216216 | CB97: =CD71/(CF70-CE70) -> 0.19333333 | CH97: =CJ71/(CL70-CK70) -> 0.066666667 | CN97: =CP71/(CR70-CQ70) -> 0.16363636 | CT97: =CV71/(CX70-CW70) -> 0.1011236 | CZ97: =DB71/(DD70-DC70) -> 0.20080321 | DF97: =DH71/(DJ70-DI70) -> 0.094650206 | DL97: =DN71/(DP70-DO70) -> 0.19298246 | DP97: =DK97+DL97+DM97 -> 0.19298246 | DR97: =DT71/(DV70-DU70) -> 0.17703349 | DX97: =DZ71/(EB70-EA70) -> 0.11401425 | ED97: =EF71/(EH70-EG70) -> 0.079710145 | EZ97: =EU97+EV97+EW97 -> 0 | FB97: =+ED97+DX97+DR97+DL97+DF97+CZ97+CT97+CN97+CH97+CB97+BV97+BP97+BK97+BF97+BA97+AV97+AQ97+AL97+AG97+AB97+W97+EP97+EJ97+EV97 -> 2.0202365 | FF97: =SUM(F97+K97+P97+U97+Z97+AE97+AJ97+AO97+AT97+AY97+BD97+BI97+BN97+BT97+BZ97+CF97+CL97+CR97+CX97+DD97+DJ97+DP97+DV97+EB97+EH97+EN97+ET97+EZ97) -> 0.19298246
A98: AGO-DIC 2012 | DP98: =DK98+DL98+DM98 -> 0 | EZ98: =EU98+EV98+EW98 -> 0
Z99: =W63+X63+Y62-Z62 -> 0 | AC99: DE (Deserción) calculada en base al promedio de los 4 semestres anteriores | DP99: =DK99+DL99+DM99 -> 0 | EZ99: =EU99+EV99+EW99 -> 0
A100: 0 | Z100: =W64+X64+Y63-Z63 -> 0 | AC100: RI (ReIngreso) calculado de la diferencia del TOTAL del sem. Anterior - EG - DE calculada | CE100: =CF72-CD73-CB73 -> 0 | DP100: =DK100+DL100+DM100 -> 0 | EZ100: =EU100+EV100+EW100 -> 0
Z101: =W65+X65+Y64-Z64 -> 0 | DP101: =DK101+DL101+DM101 -> 0 | EZ101: =EU101+EV101+EW101 -> 0
...

Sheet ESTADISTICAS
N1: INSTITUTO TECNOLOGICO DE MEXICALI
N2: PROYECCION DE LA POBLACION ESCOLAR
C4: ESTADISTICA DE CARRERAS ACTUALES Y LIQUIDACION DE FEB-JUN 09 A ENE-JUN 17 Y PROYECCION A AGO-DIC 2018 | AE4: A
B6: PERIODO | C6: LIC. EN INFORMÁTICA | D6: LIC. EN CONTADURÍA | E6: ING. ELECTRÓNICA | F6: ING. ELÉCTRICA | G6: ING. INDUSTRIAL | H6: ING. MECÁNICA | I6: ING. EN SISTEMAS COMPUTACIONALES | J6: ING. QUÍMICA | K6: ING. MECATRÓNICA | L6: POBLACIÓN TOTAL | M6: ING. ELECTRÓNICA | N6: ING. ELÉCTRICA | O6: ING. INDUSTRIAL | P6: ING. MECÁNICA | Q6: ING. EN SISTEMAS COMPUTACIONALES | R6: ING. QUÍMICA | S6: ING. MECATRÓNICA | T6: ING. EN LOGÍSTICA | U6: ING EN ENERGÍAS RENOVABLES | V6: CONTADOR PÚBLICO | W6: ING. EN GESTIÓN EMPRESARIAL | X6: ING. EN INFORMÁTICA | Y6: ING. EN MATERIALES | Z6: MTRIA. ING. ELECTRÓNICA | AA6: MTRIA ING.SISTEMAS | AB6: POBLACIÓN TOTAL | AC6: POB. TOTAL EN LIQ | AD6: TOTALES
A7: 2 | B7: Feb-Jun 2002 | C7: 251 | D7: 364 | E7: 327 | F7: 154 | G7: 868 | H7: 352 | I7: 328 | J7: 162 | L7: =SUM(C7:K7) -> 2806 | AB7: =SUM(M7:Z7) -> 0 | AD7: 2806 | AE7: =+B7 -> Feb-Jun 2002 | AF7: =+A7 -> 2
A8: 3 | B8: Ago-Dic 2002 | C8: 252 | D8: 405 | E8: 355 | F8: 150 | G8: 953 | H8: 391 | I8: 420 | J8: 190 | L8: =SUM(C8:K8) -> 3116 | AB8: =SUM(M8:Z8) -> 0 | AD8: 3116 | AE8: =+B8 -> Ago-Dic 2002 | AF8: =+A8 -> 3
A9: 4 | B9: Feb-Jun 2003 | C9: 207 | D9: 387 | E9: 315 | F9: 143 | G9: 757 | H9: 362 | I9: 391 | J9: 188 | L9: =SUM(C9:K9) -> 2750 | AB9: =SUM(M9:Z9) -> 0 | AD9: 2750 | AE9: =+B9 -> Feb-Jun 2003 | AF9: =+A9 -> 4
A10: 5 | B10: Ago-Dic 2003 | C10: 214 | D10: 478 | E10: 344 | F10: 149 | G10: 823 | H10: 384 | I10: 419 | J10: 202 | L10: =SUM(C10:K10) -> 3013 | AB10: =SUM(M10:Z10) -> 0 | AD10: 3013 | AE10: =+B10 -> Ago-Dic 2003 | AF10: =+A10 -> 5
A11: 6 | B11: Feb-Jun 2004 | C11: 179 | D11: 358 | E11: 277 | F11: 111 | G11: 674 | H11: 342 | I11: 380 | J11: 181 | L11: =SUM(C11:K11) -> 2502 | AB11: =SUM(M11:Z11) -> 0 | AD11: 2502 | AE11: =+B11 -> Feb-Jun 2004 | AF11: =+A11 -> 6
A12: 7 | B12: Ago-Dic 2004 | C12: 209 | D12: 411 | E12: 329 | F12: 139 | G12: 712 | H12: 348 | I12: 408 | J12: 231 | K12: 92 | L12: =SUM(C12:K12) -> 2879 | AB12: =SUM(M12:Z12) -> 0 | AD12: 2879 | AE12: =+B12 -> Ago-Dic 2004 | AF12: =+A12 -> 7
A13: 8 | B13: Feb-Jun 2005 | C13: 166 | D13: 329 | E13: 260 | F13: 122 | G13: 583 | H13: 283 | I13: 303 | J13: 189 | K13: 84 | L13: =SUM(C13:K13) -> 2319 | AB13: =SUM(M13:Z13) -> 0 | AD13: 2319 | AE13: =+B13 -> Feb-Jun 2005 | AF13: =+A13 -> 8
A14: 9 | B14: Ago-Dic 2005 | C14: 181 | D14: 369 | E14: 286 | F14: 150 | G14: 651 | H14: 301 | I14: 379 | J14: 230 | K14: 292 | L14: =SUM(C14:K14) -> 2839 | AB14: =SUM(M14:Z14) -> 0 | AD14: 2839 | AE14: =+B14 -> Ago-Dic 2005 | AF14: =+A14 -> 9
A15: 10 | B15: Feb-Jun 2006 | C15: 158 | D15: 296 | E15: 235 | F15: 135 | G15: 533 | H15: 253 | I15: 297 | J15: 195 | K15: 258 | L15: =SUM(C15:K15) -> 2360 | AB15: =SUM(M15:Z15) -> 0 | AD15: 2360 | AE15: =+B15 -> Feb-Jun 2006 | AF15: =+A15 -> 10
A16: 11 | B16: Ago-Dic 2006 | C16: 184 | D16: 342 | E16: 248 | F16: 155 | G16: 595 | H16: 271 | I16: 366 | J16: 228 | K16: 422 | L16: =SUM(C16:K16) -> 2811 | AB16: =SUM(M16:Z16) -> 0 | AD16: 2811 | AE16: =+B16 -> Ago-Dic 2006 | AF16: =+A16 -> 11
A17: 12 | B17: Feb-Jun 2007 | C17: 152 | D17: 272 | E17: 213 | F17: 127 | G17: 485 | H17: 267 | I17: 273 | J17: 209 | K17: 387 | L17: =SUM(C17:K17) -> 2385 | AB17: =SUM(M17:Z17) -> 0 | AD17: 2385 | AE17: =+B17 -> Feb-Jun 2007 | AF17: =+A17 -> 12
A18: 13 | B18: Ago-Dic 2007 | C18: 176 | D18: 316 | E18: 209 | F18: 139 | G18: 542 | H18: 311 | I18: 331 | J18: 206 | K18: 500 | L18: =SUM(C18:K18) -> 2730 | AB18: =SUM(M18:Z18) -> 0 | AD18: 2730 | AE18: =+B18 -> Ago-Dic 2007 | AF18: =+A18 -> 13
A19: 14 | B19: Feb-Jun 2008 | C19: 135 | D19: 251 | E19: 179 | F19: 121 | G19: 464 | H19: 250 | I19: 272 | J19: 165 | K19: 475 | L19: =SUM(C19:K19) -> 2312 | AB19: =SUM(M19:Z19) -> 0 | AD19: 2312 | AE19: =+B19 -> Feb-Jun 2008 | AF19: =+A19 -> 14
A20: 15 | B20: Ago-Dic 2008 | C20: 170 | D20: 273 | E20: 183 | F20: 151 | G20: 604 | H20: 245 | I20: 308 | J20: 207 | K20: 548 | L20: =SUM(C20:K20) -> 2689 | AB20: =SUM(M20:Z20) -> 0 | AD20: 2689 | AE20: =+B20 -> Ago-Dic 2008 | AF20: =+A20 -> 15
A21: 16 | B21: Feb-Jun 2009 | C21: 146 | D21: 231 | E21: 133 | F21: 124 | G21: 552 | H21: 213 | I21: 258 | J21: 158 | K21: 482 | L21: =SUM(C21:K21) -> 2297 | AB21: =SUM(M21:Z21) -> 0 | AD21: 2297 | AE21: =+B21 -> Feb-Jun 2009 | AF21: =+A21 -> 16
A22: 17 | B22: Ago-Dic 2009 | C22: 170 | D22: 252 | E22: 154 | F22: 164 | G22: 623 | H22: 257 | I22: 339 | J22: 226 | K22: 544 | L22: =SUM(C22:K22) -> 2729 | AB22: =SUM(M22:Z22) -> 0 | AD22: 2729 | AE22: =+B22 -> Ago-Dic 2009 | AF22: =+A22 -> 17
A23: 18 | B23: Feb-Jun 2010 | C23: 134 | D23: 186 | E23: 120 | F23: 154 | G23: 526 | H23: 210 | I23: 224 | J23: 176 | K23: 454 | L23: =SUM(C23:K23) -> 2184 | M23: 9 | N23: 11 | O23: 31 | P23: 11 | Q23: 23 | R23: 17 | S23: 25 | T23: 8 | U23: 0 | V23: 17 | W23: 16 | X23: 0 | AB23: =SUM(M23:Z23) -> 168 | AC23: =+L23 -> 2184 | AD23: 2352 | AE23: =+B23 -> Feb-Jun 2010 | AF23: =+A23 -> 18
A24: 19 | B24: Ago-Dic 2010 | C24: 122 | D24: 156 | E24: 99 | F24: 131 | G24: 439 | H24: 184 | I24: 181 | J24: 150 | K24: 359 | L24: =SUM(C24:K24) -> 1821 | M24: 37 | N24: 42 | O24: 138 | P24: 70 | Q24: 101 | R24: 58 | S24: 136 | T24: 20 | U24: 11 | V24: 38 | W24: 43 | X24: 20 | AB24: =SUM(M24:Z24) -> 714 | AC24: =+L24 -> 1821 | AD24: 2535 | AE24: =+B24 -> Ago-Dic 2010 | AF24: =+A24 -> 19
A25: 20 | B25: Feb-Jun 2011 | C25: 113 | D25: 120 | E25: 77 | F25: 116 | G25: 380 | H25: 165 | I25: 151 | J25: 124 | K25: 301 | L25: =SUM(C25:K25) -> 1547 | M25: 34 | N25: 54 | O25: 186 | P25: 86 | Q25: 117 | R25: 64 | S25: 168 | T25: 28 | U25: 23 | V25: 53 | W25: 49 | X25: 21 | AB25: =SUM(M25:Z25) -> 883 | AC25: =+L25 -> 1547 | AD25: 2430 | AE25: =+B25 -> Feb-Jun 2011 | AF25: =+A25 -> 20
A26: 21 | B26: Ago-Dic 2011 | C26: 92 | D26: 103 | E26: 65 | F26: 94 | G26: 319 | H26: 125 | I26: 131 | J26: 107 | K26: 248 | L26: =SUM(C26:K26) -> 1284 | M26: 74 | N26: 88 | O26: 380 | P26: 161 | Q26: 198 | R26: 112 | S26: 314 | T26: 50 | U26: 53 | V26: 94 | W26: 100 | X26: 54 | AB26: =SUM(M26:Z26) -> 1678 | AC26: =+L26 -> 1284 | AD26: 2962 | AE26: =+B26 -> Ago-Dic 2011 | AF26: =+A26 -> 21
A27: 22 | B27: Feb-Jun 2012 | C27: 80 | D27: 72 | E27: 48 | F27: 80 | G27: 257 | H27: 104 | I27: 108 | J27: 92 | K27: 198 | L27: =SUM(C27:K27) -> 1039 | M27: 65 | N27: 79 | O27: 398 | P27: 147 | Q27: 194 | R27: 83 | S27: 319 | T27: 32 | U27: 43 | V27: 93 | W27: 88 | X27: 40 | AB27: =SUM(M27:Z27) -> 1581 | AC27: =+L27 -> 1039 | AD27: 2620 | AE27: =+B27 -> Feb-Jun 2012 | AF27: =+A27 -> 22
A28: 23 | B28: Ago-Dic 2012 | C28: =+EST_ITM!AT70 -> 68 | D28: =+EST_ITM!AY70 -> 57 | E28: =+EST_ITM!Z70 -> 44 | F28: =+EST_ITM!AE70 -> 62 | G28: =+EST_ITM!AJ70 -> 205 | H28: =+EST_ITM!AO70 -> 90 | I28: =+EST_ITM!BD70 -> 94 | J28: =+EST_ITM!BI70 -> 79 | K28: =+EST_ITM!BN70 -> 158 | L28: =SUM(C28:K28) -> 857 | M28: =+EST_ITM!CR70 -> 110 | N28: =+EST_ITM!CL70 -> 120 | O28: =+EST_ITM!DJ70 -> 486 | P28: =+EST_ITM!DV70 -> 209 | Q28: =+EST_ITM!DD70 -> 249 | R28: =+EST_ITM!EH70 -> 138 | S28: =+EST_ITM!EB70 -> 421 | T28: =+EST_ITM!BZ70 -> 74 | U28: =+EST_ITM!CX70 -> 89 | V28: =+EST_ITM!CF70 -> 150 | W28: =+EST_ITM!BT70 -> 140 | X28: =+EST_ITM!DP70 -> 57 | AB28: =SUM(M28:Z28) -> 2243 | AC28: =+L28 -> 857 | AD28: =+AB28+AC28 -> 3100 | AE28: =+B28 -> Ago-Dic 2012 | AF28: =+A28 -> 23
A29: 24 | B29: Feb-Jun 2013 | C29: =+EST_ITM!AT71 -> 52 | D29: =+EST_ITM!AY71 -> 40 | E29: =+EST_ITM!Z71 -> 37 | F29: =+EST_ITM!AE71 -> 62 | G29: =+EST_ITM!AJ71 -> 158 | H29: =+EST_ITM!AO71 -> 62 | I29: =+EST_ITM!BD71 -> 82 | J29: =+EST_ITM!BI71 -> 63 | K29: =+EST_ITM!BN71 -> 125 | L29: =SUM(C29:K29) -> 681 | M29: =+EST_ITM!CR71 -> 95 | N29: =+EST_ITM!CL71 -> 121 | O29: =+EST_ITM!DJ71 -> 516 | P29: =+EST_ITM!DV71 -> 189 | Q29: =+EST_ITM!DD71 -> 219 | R29: =+EST_ITM!EH71 -> 139 | S29: =+EST_ITM!EB71 -> 415 | T29: =+EST_ITM!BZ71 -> 70 | U29: =+EST_ITM!CX71 -> 94 | V29: =+EST_ITM!CF71 -> 141 | W29: =+EST_ITM!BT71 -> 147 | X29: =+EST_ITM!DP71 -> 46 | AB29: =SUM(M29:Z29) -> 2192 | AC29: =+L29 -> 681 | AD29: =+AB29+AC29 -> 2873 | AE29: =+B29 -> Feb-Jun 2013 | AF29: =+A29 -> 24
A30: 25 | B30: Ago-Dic 2013 | C30: =+EST_ITM!AT72 -> 44 | D30: =+EST_ITM!AY72 -> 31 | E30: =+EST_ITM!Z72 -> 25 | F30: =+EST_ITM!AE72 -> 48 | G30: =+EST_ITM!AJ72 -> 116 | H30: =+EST_ITM!AO72 -> 53 | I30: =+EST_ITM!BD72 -> 62 | J30: =+EST_ITM!BI72 -> 45 | K30: =+EST_ITM!BN72 -> 99 | L30: =SUM(C30:K30) -> 523 | M30: =+EST_ITM!CR72 -> 125 | N30: =+EST_ITM!CL72 -> 164 | O30: =+EST_ITM!DJ72 -> 593 | P30: =+EST_ITM!DV72 -> 245 | Q30: =+EST_ITM!DD72 -> 275 | R30: =+EST_ITM!EH72 -> 172 | S30: =+EST_ITM!EB72 -> 462 | T30: =+EST_ITM!BZ72 -> 129 | U30: =+EST_ITM!CX72 -> 150 | V30: =+EST_ITM!CF72 -> 177 | W30: =+EST_ITM!BT72 -> 179 | X30: =+EST_ITM!DP72 -> 39 | AB30: =SUM(M30:Z30) -> 2710 | AC30: =+L30 -> 523 | AD30: =+L30+AB30 -> 3233 | AE30: =+B30 -> Ago-Dic 2013 | AF30: =+A30 -> 25
A31: 26 | B31: Feb-Jun 2014 | C31: =+EST_ITM!AT73 -> 37 | D31: =+EST_ITM!AY73 -> 12 | E31: =+EST_ITM!Z73 -> 17 | F31: =+EST_ITM!AE73 -> 29 | G31: =+EST_ITM!AJ73 -> 76 | H31: =+EST_ITM!AO73 -> 29 | I31: =+EST_ITM!BD73 -> 34 | J31: =+EST_ITM!BI73 -> 11 | K31: =+EST_ITM!BN73 -> 50 | L31: =SUM(C31:K31) -> 295 | M31: =+EST_ITM!CR73 -> 111 | N31: =+EST_ITM!CL73 -> 150 | O31: =+EST_ITM!DJ73 -> 621 | P31: =+EST_ITM!DV73 -> 229 | Q31: =+EST_ITM!DD73 -> 248 | R31: =+EST_ITM!EH73 -> 152 | S31: =+EST_ITM!EB73 -> 478 | T31: =+EST_ITM!BZ73 -> 117 | U31: =+EST_ITM!CX73 -> 153 | V31: =+EST_ITM!CF73 -> 155 | W31: =+EST_ITM!BT73 -> 191 | X31: =+EST_ITM!DP73 -> 42 | AB31: =SUM(M31:Z31) -> 2647 | AC31: =+L31 -> 295 | AD31: =+L31+AB31 -> 2942 | AE31: =+B31 -> Feb-Jun 2014 | AF31: =+A31 -> 26
A32: 27 | B32: Ago-Dic 2014 | C32: =+EST_ITM!AT74 -> 24 | D32: =+EST_ITM!AY74 -> 10 | E32: =+EST_ITM!Z74 -> 8 | F32: =+EST_ITM!AE74 -> 17 | G32: =+EST_ITM!AJ74 -> 27 | H32: =+EST_ITM!AO74 -> 14 | I32: =+EST_ITM!BD74 -> 10 | J32: =+EST_ITM!BI74 -> 7 | K32: =+EST_ITM!BN74 -> 29 | L32: =SUM(C32:K32) -> 146 | M32: =+EST_ITM!CR74 -> 136 | N32: =+EST_ITM!CL74 -> 193 | O32: =+EST_ITM!DJ74 -> 709 | P32: =+EST_ITM!DV74 -> 317 | Q32: =+EST_ITM!DD74 -> 305 | R32: =+EST_ITM!EH74 -> 190 | S32: =+EST_ITM!EB74 -> 547 | T32: =+EST_ITM!BZ74 -> 145 | U32: =+EST_ITM!CX74 -> 164 | V32: =+EST_ITM!CF74 -> 217 | W32: =+EST_ITM!BT74 -> 209 | X32: =+EST_ITM!DP74 -> 39 | AB32: =SUM(M32:Z32) -> 3171 | AC32: =+L32 -> 146 | AD32: =+L32+AB32 -> 3317 | AE32: =+B32 -> Ago-Dic 2014 | AF32: =+A32 -> 27
A33: 28 | B33: Feb-Jun 2015 | C33: =+EST_ITM!AT75 -> 10 | D33: =+EST_ITM!AY75 -> 6 | E33: =+EST_ITM!Z75 -> 3 | F33: =+EST_ITM!AE75 -> 8 | G33: =+EST_ITM!AJ75 -> 18 | H33: =+EST_ITM!AO75 -> 6 | I33: =+EST_ITM!BD75 -> 0 | J33: =+EST_ITM!BI75 -> 2 | K33: =+EST_ITM!BN75 -> 17 | L33: =SUM(C33:K33) -> 70 | M33: =+EST_ITM!CR75 -> 132 | N33: =+EST_ITM!CL75 -> 177 | O33: =+EST_ITM!DJ75 -> 762 | P33: =+EST_ITM!DV75 -> 321 | Q33: =+EST_ITM!DD75 -> 296 | R33: =+EST_ITM!EH75 -> 190 | S33: =+EST_ITM!EB75 -> 555 | T33: =+EST_ITM!BZ75 -> 156 | U33: =+EST_ITM!CX75 -> 175 | V33: =+EST_ITM!CF75 -> 195 | W33: =+EST_ITM!BT75 -> 217 | X33: =+EST_ITM!DP75 -> 36 | AB33: =SUM(M33:Z33) -> 3212 | AC33: =+L33 -> 70 | AD33: =+L33+AB33 -> 3282 | AE33: =+B33 -> Feb-Jun 2015 | AF33: =+A33 -> 28
A34: 29 | B34: Ago-Dic 2015 | C34: =+EST_ITM!AT76 -> 4 | D34: =+EST_ITM!AY76 -> 1 | E34: =+EST_ITM!Z76 -> 3 | F34: =+EST_ITM!AE76 -> 9 | G34: =+EST_ITM!AJ76 -> 17 | H34: =+EST_ITM!AO76 -> 4 | I34: =+EST_ITM!BD76 -> 1 | J34: =+EST_ITM!BI76 -> 2 | K34: =+EST_ITM!BN76 -> 11 | L34: =SUM(C34:K34) -> 52 | M34: =+EST_ITM!CR76 -> 151 | N34: =+EST_ITM!CL76 -> 211 | O34: =+EST_ITM!DJ76 -> 818 | P34: =+EST_ITM!DV76 -> 401 | Q34: =+EST_ITM!DD76 -> 327 | R34: =+EST_ITM!EH76 -> 199 | S34: =+EST_ITM!EB76 -> 623 | T34: =+EST_ITM!BZ76 -> 166 | U34: =+EST_ITM!CX76 -> 200 | V34: =+EST_ITM!CF76 -> 208 | W34: =+EST_ITM!BT76 -> 240 | X34: =+EST_ITM!DP76 -> 34 | AB34: =SUM(M34:Z34) -> 3578 | AC34: =+L34 -> 52 | AD34: =+L34+AB34 -> 3630 | AE34: =+B34 -> Ago-Dic 2015 | AF34: =+A34 -> 29
A35: 30 | B35: Feb-Jun 2016 | C35: =+EST_ITM!AT77 -> 1 | D35: =+EST_ITM!AY77 -> 1 | E35: =+EST_ITM!Z77 -> 0 | F35: =+EST_ITM!AE77 -> 5 | G35: =+EST_ITM!AJ77 -> 7 | H35: =+EST_ITM!AO77 -> 1 | I35: =+EST_ITM!BD77 -> 0 | J35: =+EST_ITM!BI77 -> 2 | K35: =+EST_ITM!BN77 -> 5 | L35: =SUM(C35:K35) -> 22 | M35: =+EST_ITM!CR77 -> 140 | N35: =+EST_ITM!CL77 -> 211 | O35: =+EST_ITM!DJ77 -> 877 | P35: =+EST_ITM!DV77 -> 408 | Q35: =+EST_ITM!DD77 -> 299 | R35: =+EST_ITM!EH77 -> 204 | S35: =+EST_ITM!EB77 -> 590 | T35: =+EST_ITM!BZ77 -> 169 | U35: =+EST_ITM!CX77 -> 204 | V35: =+EST_ITM!CF77 -> 198 | W35: =+EST_ITM!BT77 -> 227 | X35: =+EST_ITM!DP77 -> 30 | AB35: =SUM(M35:Z35) -> 3557 | AC35: =+L35 -> 22 | AD35: =+L35+AB35 -> 3579 | AE35: =+B35 -> Feb-Jun 2016 | AF35: =+A35 -> 30
A36: 31 | B36: Ago-Dic 2016 | C36: =+EST_ITM!AT78 -> 2 | D36: =+EST_ITM!AY78 -> 1 | E36: =+EST_ITM!Z78 -> 2 | F36: =+EST_ITM!AE78 -> 3 | G36: =+EST_ITM!AJ78 -> 2 | H36: =+EST_ITM!AO78 -> 0 | I36: =+EST_ITM!BD78 -> 0 | J36: =+EST_ITM!BI78 -> 0 | K36: =+EST_ITM!BN78 -> 0 | L36: =SUM(C36:K36) -> 10 | M36: =+EST_ITM!CR78 -> 162 | N36: =+EST_ITM!CL78 -> 245 | O36: =+EST_ITM!DJ78 -> 903 | P36: =+EST_ITM!DV78 -> 472 | Q36: =+EST_ITM!DD78 -> 351 | R36: =+EST_ITM!EH78 -> 246 | S36: =+EST_ITM!EB78 -> 678 | T36: =+EST_ITM!BZ78 -> 193 | U36: =+EST_ITM!CX78 -> 244 | V36: =+EST_ITM!CF78 -> 233 | W36: =+EST_ITM!BT78 -> 261 | X36: =+EST_ITM!DP78 -> 26 | Y36: =+EST_ITM!EN78 -> 34 | Z36: =+EST_ITM!ET78 -> 8 | AA36: =+EST_ITM!EZ78 -> 0 | AB36: =SUM(M36:AA36) -> 4056 | AC36: =+L36 -> 10 | AD36: =+L36+AB36 -> 4066 | AE36: =+B36 -> Ago-Dic 2016 | AF36: =+A36 -> 31
A37: 32 | B37: Feb-Jun 2017 | C37: =+EST_ITM!AT79 -> 1 | D37: =+EST_ITM!AY79 -> 0 | E37: =+EST_ITM!Z79 -> 1 | F37: =+EST_ITM!AE79 -> 1 | G37: =+EST_ITM!AJ79 -> 1 | H37: =+EST_ITM!AO79 -> 0 | I37: =+EST_ITM!BD79 -> 0 | J37: =+EST_ITM!BI79 -> 0 | K37: =+EST_ITM!BN79 -> 1 | L37: =SUM(C37:K37) -> 5 | M37: =+EST_ITM!CR79 -> 139 | N37: =+EST_ITM!CL79 -> 248 | O37: =+EST_ITM!DJ79 -> 873 | P37: =+EST_ITM!DV79 -> 451 | Q37: =+EST_ITM!DD79 -> 331 | R37: =+EST_ITM!EH79 -> 230 | S37: =+EST_ITM!EB79 -> 631 | T37: =+EST_ITM!BZ79 -> 208 | U37: =+EST_ITM!CX79 -> 228 | V37: =+EST_ITM!CF79 -> 183 | W37: =+EST_ITM!BT79 -> 258 | X37: =+EST_ITM!DP79 -> 23 | Y37: =+EST_ITM!EN79 -> 28 | Z37: =+EST_ITM!ET79 -> 6 | AA37: =+EST_ITM!EZ79 -> 0 | AB37: =SUM(M37:AA37) -> 3837 | AC37: =+L37 -> 5 | AD37: =+L37+AB37 -> 3842 | AE37: =+B37 -> Feb-Jun 2017 | AF37: =+A37 -> 32
A38: 33 | B38: Ago-Dic 2017 | C38: =+EST_ITM!AT80 -> 0 | D38: =+EST_ITM!AY80 -> 0 | E38: =+EST_ITM!Z80 -> 0 | F38: =+EST_ITM!AE80 -> 1 | G38: =+EST_ITM!AJ80 -> 1 | H38: =+EST_ITM!AO80 -> 0 | I38: =+EST_ITM!BD80 -> 0 | J38: =+EST_ITM!BI80 -> 0 | K38: =+EST_ITM!BN80 -> 1 | L38: =SUM(C38:K38) -> 3 | M38: =+EST_ITM!CR80 -> 154 | N38: =+EST_ITM!CL80 -> 248 | O38: =+EST_ITM!DJ80 -> 920 | P38: =+EST_ITM!DV80 -> 518 | Q38: =+EST_ITM!DD80 -> 402 | R38: =+EST_ITM!EH80 -> 276 | S38: =+EST_ITM!EB80 -> 684 | T38: =+EST_ITM!BZ80 -> 228 | U38: =+EST_ITM!CX80 -> 286 | V38: =+EST_ITM!CF80 -> 205 | W38: =+EST_ITM!BT80 -> 285 | X38: =+EST_ITM!DP80 -> 17 | Y38: =+EST_ITM!EN80 -> 70 | Z38: =+EST_ITM!ET80 -> 10 | AA38: =+EST_ITM!EZ80 -> 0 | AB38: =SUM(M38:AA38) -> 4303 | AC38: =+L38 -> 3 | AD38: =+L38+AB38 -> 4306 | AE38: =+B38 -> Ago-Dic 2017 | AF38: =+A38 -> 33
A39: 34 | B39: Feb-Jun 2018 | C39: =+EST_ITM!AT81 -> 1 | D39: =+EST_ITM!AY81 -> 0 | E39: =+EST_ITM!Z81 -> 0 | F39: =+EST_ITM!AE81 -> 0 | G39: =+EST_ITM!AJ81 -> 0 | H39: =+EST_ITM!AO81 -> 0 | I39: =+EST_ITM!BD81 -> 1 | J39: =+EST_ITM!BI81 -> 0 | K39: =+EST_ITM!BN81 -> 0 | L39: =SUM(C39:K39) -> 2 | M39: =+EST_ITM!CR81 -> 128 | N39: =+EST_ITM!CL81 -> 238 | O39: =+EST_ITM!DJ81 -> 880 | P39: =+EST_ITM!DV81 -> 496 | Q39: =+EST_ITM!DD81 -> 384 | R39: =+EST_ITM!EH81 -> 273 | S39: =+EST_ITM!EB81 -> 653 | T39: =+EST_ITM!BZ81 -> 227 | U39: =+EST_ITM!CX81 -> 259 | V39: =+EST_ITM!CF81 -> 185 | W39: =+EST_ITM!BT81 -> 275 | X39: =+EST_ITM!DP81 -> 9 | Y39: =+EST_ITM!EN81 -> 48 | Z39: =+EST_ITM!ET81 -> 7 | AA39: =+EST_ITM!EZ81 -> 0 | AB39: =SUM(M39:AA39) -> 4062 | AC39: =+L39 -> 2 | AD39: =+L39+AB39 -> 4064 | AE39: =+B39 -> Feb-Jun 2018 | AF39: =+A39 -> 34
A40: 35 | B40: Ago-Dic 2018 | C40: =+EST_ITM!AT82 -> 0 | D40: =+EST_ITM!AY82 -> 0 | E40: =+EST_ITM!Z82 -> 0 | F40: =+EST_ITM!AE82 -> 0 | G40: =+EST_ITM!AJ82 -> 2 | H40: =+EST_ITM!AO82 -> 0 | I40: =+EST_ITM!BD82 -> 0 | J40: =+EST_ITM!BI82 -> 0 | K40: =+EST_ITM!BN82 -> 0 | L40: =SUM(C40:K40) -> 2 | M40: =+EST_ITM!CR82 -> 154 | N40: =+EST_ITM!CL82 -> 259 | O40: =+EST_ITM!DJ82 -> 890 | P40: =+EST_ITM!DV82 -> 521 | Q40: =+EST_ITM!DD82 -> 411 | R40: =+EST_ITM!EH82 -> 283 | S40: =+EST_ITM!EB82 -> 653 | T40: =+EST_ITM!BZ82 -> 235 | U40: =+EST_ITM!CX82 -> 256 | V40: =+EST_ITM!CF82 -> 202 | W40: =+EST_ITM!BT82 -> 252 | X40: =+EST_ITM!DP82 -> 2 | Y40: =+EST_ITM!EN82 -> 82 | Z40: =+EST_ITM!ET82 -> 8 | AA40: =+EST_ITM!EZ82 -> 2 | AB40: =SUM(M40:AA40) -> 4210 | AC40: =+L40 -> 2 | AD40: =+L40+AB40 -> 4212 | AE40: =+B40 -> Ago-Dic 2018 | AF40: =+A40 -> 35
A41: 36 | B41: Feb-Jun 2019 | C41: =+EST_ITM!AT83 -> 0 | D41: =+EST_ITM!AY83 -> 0 | E41: =+EST_ITM!Z83 -> 0 | F41: =+EST_ITM!AE83 -> 0 | G41: =+EST_ITM!AJ83 -> 0 | H41: =+EST_ITM!AO83 -> 0 | I41: =+EST_ITM!BD83 -> 0 | J41: =+EST_ITM!BI83 -> 0 | K41: =+EST_ITM!BN83 -> 0 | L41: =SUM(C41:K41) -> 0 | M41: =+EST_ITM!CR83 -> 163 | N41: =+EST_ITM!CL83 -> 264 | O41: =+EST_ITM!DJ83 -> 835 | P41: =+EST_ITM!DV83 -> 515 | Q41: =+EST_ITM!DD83 -> 375 | R41: =+EST_ITM!EH83 -> 289 | S41: =+EST_ITM!EB83 -> 620 | T41: =+EST_ITM!BZ83 -> 241 | U41: =+EST_ITM!CX83 -> 255 | V41: =+EST_ITM!CF83 -> 204 | W41: =+EST_ITM!BT83 -> 267 | X41: =+EST_ITM!DP83 -> 0 | Y41: =+EST_ITM!EN83 -> 51 | Z41: =+EST_ITM!ET83 -> 4 | AA41: =+EST_ITM!EZ83 -> 1 | AB41: =SUM(M41:AA41) -> 4084 | AC41: =+L41 -> 0 | AD41: =+L41+AB41 -> 4084 | AE41: =+B41 -> Feb-Jun 2019 | AF41: =+A41 -> 36
A42: 37 | B42: Ago-Dic 2019 | C42: =+EST_ITM!AT84 -> 0 | D42: =+EST_ITM!AY84 -> 0 | E42: =+EST_ITM!Z84 -> 0 | F42: =+EST_ITM!AE84 -> 0 | G42: =+EST_ITM!AJ84 -> 0 | H42: =+EST_ITM!AO84 -> 0 | I42: =+EST_ITM!BD84 -> 0 | J42: =+EST_ITM!BI84 -> 0 | K42: =+EST_ITM!BN84 -> 0 | L42: =SUM(C42:K42) -> 0 | M42: =+EST_ITM!CR84 -> 174 | N42: =+EST_ITM!CL84 -> 265 | O42: =+EST_ITM!DJ84 -> 832 | P42: =+EST_ITM!DV84 -> 531 | Q42: =+EST_ITM!DD84 -> 398 | R42: =+EST_ITM!EH84 -> 303 | S42: =+EST_ITM!EB84 -> 604 | T42: =+EST_ITM!BZ84 -> 235 | U42: =+EST_ITM!CX84 -> 245 | V42: =+EST_ITM!CF84 -> 238 | W42: =+EST_ITM!BT84 -> 268 | X42: =+EST_ITM!DP84 -> 0 | Y42: =+EST_ITM!EN84 -> 72 | Z42: =+EST_ITM!ET84 -> 4 | AA42: =+EST_ITM!EZ84 -> 3 | AB42: =SUM(M42:AA42) -> 4172 | AC42: =+L42 -> 0 | AD42: =+L42+AB42 -> 4172 | AE42: =+B42 -> Ago-Dic 2019 | AF42: =+A42 -> 37
A43: 38 | B43: Feb-Jun 2020 | C43: =+EST_ITM!AT85 -> 0 | D43: =+EST_ITM!AY85 -> 0 | E43: =+EST_ITM!Z85 -> 0 | F43: =+EST_ITM!AE85 -> 0 | G43: =+EST_ITM!AJ85 -> 0 | H43: =+EST_ITM!AO85 -> 0 | I43: =+EST_ITM!BD85 -> 0 | J43: =+EST_ITM!BI85 -> 0 | K43: =+EST_ITM!BN85 -> 0 | L43: =SUM(C43:K43) -> 0 | M43: =+EST_ITM!CR85 -> 159 | N43: =+EST_ITM!CL85 -> 245 | O43: =+EST_ITM!DJ85 -> 827 | P43: =+EST_ITM!DV85 -> 501 | Q43: =+EST_ITM!DD85 -> 373 | R43: =+EST_ITM!EH85 -> 288 | S43: =+EST_ITM!EB85 -> 564 | T43: =+EST_ITM!BZ85 -> 225 | U43: =+EST_ITM!CX85 -> 230 | V43: =+EST_ITM!CF85 -> 223 | W43: =+EST_ITM!BT85 -> 258 | X43: =+EST_ITM!DP85 -> 0 | Y43: =+EST_ITM!EN85 -> 102 | Z43: =+EST_ITM!ET85 -> 3 | AA43: =+EST_ITM!EZ85 -> 0 | AB43: =SUM(M43:AA43) -> 3998 | AC43: =+L43 -> 0 | AD43: =+L43+AB43 -> 3998 | AE43: =+B43 -> Feb-Jun 2020 | AF43: =+A43 -> 38
A44: 39 | B44: Ago-Dic 2020 | C44: =+EST_ITM!AT86 -> 0 | D44: =+EST_ITM!AY86 -> 0 | E44: =+EST_ITM!Z86 -> 0 | F44: =+EST_ITM!AE86 -> 0 | G44: =+EST_ITM!AJ86 -> 0 | H44: =+EST_ITM!AO86 -> 0 | I44: =+EST_ITM!BD86 -> 0 | J44: =+EST_ITM!BI86 -> 0 | K44: =+EST_ITM!BN86 -> 0 | L44: =SUM(C44:K44) -> 0 | M44: =+EST_ITM!CR86 -> 169 | N44: =+EST_ITM!CL86 -> 260 | O44: =+EST_ITM!DJ86 -> 907 | P44: =+EST_ITM!DV86 -> 531 | Q44: =+EST_ITM!DD86 -> 413 | R44: =+EST_ITM!EH86 -> 323 | S44: =+EST_ITM!EB86 -> 654 | T44: =+EST_ITM!BZ86 -> 245 | U44: =+EST_ITM!CX86 -> 255 | V44: =+EST_ITM!CF86 -> 253 | W44: =+EST_ITM!BT86 -> 268 | X44: =+EST_ITM!DP86 -> 0 | Y44: =+EST_ITM!EN86 -> 112 | Z44: =+EST_ITM!ET86 -> 3 | AA44: =+EST_ITM!EZ86 -> 0 | AB44: =SUM(M44:AA44) -> 4393 | AC44: =+L44 -> 0 | AD44: =+L44+AB44 -> 4393 | AE44: =+B44 -> Ago-Dic 2020 | AF44: =+A44 -> 39
A45: 40 | B45: Feb-Jun 2021 | C45: =+EST_ITM!AT87 -> 0 | D45: =+EST_ITM!AY87 -> 0 | E45: =+EST_ITM!Z87 -> 0 | F45: =+EST_ITM!AE87 -> 0 | G45: =+EST_ITM!AJ87 -> 0 | H45: =+EST_ITM!AO87 -> 0 | I45: =+EST_ITM!BD87 -> 0 | J45: =+EST_ITM!BI87 -> 0 | K45: =+EST_ITM!BN87 -> 0 | L45: =SUM(C45:K45) -> 0 | M45: =+EST_ITM!CR87 -> 159 | N45: =+EST_ITM!CL87 -> 240 | O45: =+EST_ITM!DJ87 -> 902 | P45: =+EST_ITM!DV87 -> 501 | Q45: =+EST_ITM!DD87 -> 388 | R45: =+EST_ITM!EH87 -> 308 | S45: =+EST_ITM!EB87 -> 614 | T45: =+EST_ITM!BZ87 -> 235 | U45: =+EST_ITM!CX87 -> 240 | V45: =+EST_ITM!CF87 -> 238 | W45: =+EST_ITM!BT87 -> 258 | X45: =+EST_ITM!DP87 -> 0 | Y45: =+EST_ITM!EN87 -> 127 | Z45: =+EST_ITM!ET87 -> 2 | AA45: =+EST_ITM!EZ87 -> 0 | AB45: =SUM(M45:AA45) -> 4212 | AC45: =+L45 -> 0 | AD45: =+L45+AB45 -> 4212 | AE45: =+B45 -> Feb-Jun 2021 | AF45: =+A45 -> 40
A46: 41 | B46: Ago-Dic 2021 | C46: =+EST_ITM!AT88 -> 0 | D46: =+EST_ITM!AY88 -> 0 | E46: =+EST_ITM!Z88 -> 0 | F46: =+EST_ITM!AE88 -> 0 | G46: =+EST_ITM!AJ88 -> 0 | H46: =+EST_ITM!AO88 -> 0 | I46: =+EST_ITM!BD88 -> 0 | J46: =+EST_ITM!BI88 -> 0 | K46: =+EST_ITM!BN88 -> 0 | L46: =SUM(C46:K46) -> 0 | M46: =+EST_ITM!CR88 -> 169 | N46: =+EST_ITM!CL88 -> 255 | O46: =+EST_ITM!DJ88 -> 982 | P46: =+EST_ITM!DV88 -> 531 | Q46: =+EST_ITM!DD88 -> 428 | R46: =+EST_ITM!EH88 -> 343 | S46: =+EST_ITM!EB88 -> 704 | T46: =+EST_ITM!BZ88 -> 255 | U46: =+EST_ITM!CX88 -> 265 | V46: =+EST_ITM!CF88 -> 268 | W46: =+EST_ITM!BT88 -> 268 | X46: =+EST_ITM!DP88 -> 0 | Y46: =+EST_ITM!EN88 -> 137 | Z46: =+EST_ITM!ET88 -> 3 | AA46: =+EST_ITM!EZ88 -> 0 | AB46: =SUM(M46:AA46) -> 4608 | AC46: =+L46 -> 0 | AD46: =+L46+AB46 -> 4608 | AE46: =+B46 -> Ago-Dic 2021 | AF46: =+A46 -> 41
A47: 42 | B47: Feb-Jun 2022 | C47: =+EST_ITM!AT89 -> 0 | D47: =+EST_ITM!AY89 -> 0 | E47: =+EST_ITM!Z89 -> 0 | F47: =+EST_ITM!AE89 -> 0 | G47: =+EST_ITM!AJ89 -> 0 | H47: =+EST_ITM!AO89 -> 0 | I47: =+EST_ITM!BD89 -> 0 | J47: =+EST_ITM!BI89 -> 0 | K47: =+EST_ITM!BN89 -> 0 | L47: =SUM(C47:K47) -> 0 | M47: =+EST_ITM!CR89 -> 159 | N47: =+EST_ITM!CL89 -> 235 | O47: =+EST_ITM!DJ89 -> 967 | P47: =+EST_ITM!DV89 -> 501 | Q47: =+EST_ITM!DD89 -> 403 | R47: =+EST_ITM!EH89 -> 328 | S47: =+EST_ITM!EB89 -> 664 | T47: =+EST_ITM!BZ89 -> 245 | U47: =+EST_ITM!CX89 -> 250 | V47: =+EST_ITM!CF89 -> 248 | W47: =+EST_ITM!BT89 -> 258 | X47: =+EST_ITM!DP89 -> 0 | Y47: =+EST_ITM!EN89 -> 152 | Z47: =+EST_ITM!ET89 -> 2 | AA47: =+EST_ITM!EZ89 -> 0 | AB47: =SUM(M47:AA47) -> 4412 | AC47: =+L47 -> 0 | AD47: =+L47+AB47 -> 4412 | AE47: =+B47 -> Feb-Jun 2022 | AF47: =+A47 -> 42
... A53: 48 | B53: Feb-Jun 2025 | C53: =+EST_ITM!AT95 -> 0 | D53: =+EST_ITM!AY95 -> 0 | E53: =+EST_ITM!Z95 -> 0 | F53: =+EST_ITM!AE95 -> 0 | G53: =+EST_ITM!AJ95 -> 0 | H53: =+EST_ITM!AO95 -> 0 | I53: =+EST_ITM!BD95 -> 0 | J53: =+EST_ITM!BI95 -> 0 | K53: =+EST_ITM!BN95 -> 0 | L53: =SUM(C53:K53) -> 0 | M53: =+EST_ITM!CR95 -> 159 | N53: =+EST_ITM!CL95 -> 220 | O53: =+EST_ITM!DJ95 -> 1132 | P53: =+EST_ITM!DV95 -> 501 | Q53: =+EST_ITM!DD95 -> 448 | R53: =+EST_ITM!EH95 -> 388 | S53: =+EST_ITM!EB95 -> 814 | T53: =+EST_ITM!BZ95 -> 275 | U53: =+EST_ITM!CX95 -> 280 | V53: =+EST_ITM!CF95 -> 248 | W53: =+EST_ITM!BT95 -> 258 | X53: =+EST_ITM!DP95 -> 0 | Y53: =+EST_ITM!EN95 -> 227 | Z53: =+EST_ITM!ET95 -> 6 | AA53: =+EST_ITM!EZ95 -> 0 | AB53: =SUM(M53:AA53) -> 4956 | AC53: =+L53 -> 0 | AD53: =+L53+AB53 -> 4956 | AE53: =+B53 -> Feb-Jun 2025 | AF53: =+A53 -> 48
A54: 49 | B54: Ago-Dic 2025 | Y54: =+EST_ITM!EN96 -> 237 | Z54: =+EST_ITM!ET96 -> 10 | AA54: =+EST_ITM!EZ96 -> 0 | AC54: =+L54 -> 0
B55: Feb-Jun 2026 | Y55: =+EST_ITM!EN97 -> 0 | Z55: =+EST_ITM!ET97 -> 0 | AA55: =+EST_ITM!EZ97 -> 0 | AC55: =+L55 -> 0
B56: Ago-Dic 2026 | Y56: =+EST_ITM!EN98 -> 0 | Z56: =+EST_ITM!ET98 -> 0 | AA56: =+EST_ITM!EZ98 -> 0 | AC56: =+L56 -> 0
B57: Feb-Jun 2027 | Y57: =+EST_ITM!EN99 -> 0 | Z57: =+EST_ITM!ET99 -> 0 | AA57: =+EST_ITM!EZ99 -> 0 | AC57: =+L57 -> 0
B58: Ago-Dic 2027 | Y58: =+EST_ITM!EN100 -> 0 | Z58: =+EST_ITM!ET100 -> 0 | AA58: =+EST_ITM!EZ100 -> 0 | AC58: =+L58 -> 0
B59: Feb-Jun 2028 | Y59: =+EST_ITM!EN101 -> 0 | Z59: =+EST_ITM!ET101 -> 0 | AA59: =+EST_ITM!EZ101 -> 0 | AC59: =+L59 -> 0
B60: Ago-Dic 2028 | Y60: =+EST_ITM!EN102 -> 0 | Z60: =+EST_ITM!ET102 -> 0 | AA60: =+EST_ITM!EZ102 -> 0 | AC60: =+L60 -> 0
B61: Feb-Jun 2029 | Y61: =+EST_ITM!EN103 -> 0 | Z61: =+EST_ITM!ET103 -> 0 | AA61: =+EST_ITM!EZ103 -> 0 | AC61: =+L61 -> 0
B62: Ago-Dic 2029 | Y62: =+EST_ITM!EN104 -> 0 | Z62: =+EST_ITM!ET104 -> 0 | AA62: =+EST_ITM!EZ104 -> 0 | AC62: =+L62 -> 0
B63: Feb-Jun 2030 | Y63: =+EST_ITM!EN105 -> 0 | Z63: =+EST_ITM!ET105 -> 0 | AA63: =+EST_ITM!EZ105 -> 0 | AC63: =+L63 -> 0
B64: Ago-Dic 2030 | Y64: =+EST_ITM!EN106 -> 0 | Z64: =+EST_ITM!ET106 -> 0 | AA64: =+EST_ITM!EZ106 -> 0 | AC64: =+L64 -> 0
B65: Feb-Jun 2031 | Y65: =+EST_ITM!EN107 -> 0 | Z65: =+EST_ITM!ET107 -> 0 | AA65: =+EST_ITM!EZ107 -> 0 | AC65: =+L65 -> 0
B66: Ago-Dic 2031 | Y66: =+EST_ITM!EN108 -> 0 | Z66: =+EST_ITM!ET108 -> 0 | AA66: =+EST_ITM!EZ108 -> 0 | AC66: =+L66 -> 0
... B68: Ago-Dic 2032 | Y68: =+EST_ITM!EN110 -> 0 | Z68: =+EST_ITM!ET110 -> 0 | AA68: =+EST_ITM!EZ110 -> 0 | AC68: =+L68 -> 0
B69: Feb-Jun 2033 | Y69: =+EST_ITM!EN111 -> 0 | Z69: =+EST_ITM!ET111 -> 0 | AC69: =+L69 -> 0
B70: Ago-Dic 2033 | Y70: =+EST_ITM!EN112 -> 0 | Z70: =+EST_ITM!ET112 -> 0 | AC70: =+L70 -> 0
B71: Feb-Jun 2034 | Y71: =+EST_ITM!EN113 -> 0 | Z71: =+EST_ITM!ET113 -> 0 | AC71: =+L71 -> 0

Sheet Crec x Carrera
A2: GRAFICAS DE CRECIMIENTO
A3: POR
A4: CARRERA | B4: POBLACIÓN TOTAL
B5: seleccionar para elegir carrera | G5: =+B4 -> POBLACIÓN TOTAL | Z5: ING. ELECTRÓNICA
Z6: ING. ELÉCTRICA
A7: =ESTADISTICAS!B23 -> Feb-Jun 2010 | B7: =+HLOOKUP($B$4,BDEST,ESTADISTICAS!A23,FALSE)+IFERROR(HLOOKUP($B$4,DBESTLIQ,ESTADISTICAS!A23,FALSE),0) -> 2352 | Z7: ING. INDUSTRIAL
A8: =+IF(B8>0,ESTADISTICAS!B24," ") -> Ago-Dic 2010 | B8: =+HLOOKUP($B$4,BDEST,ESTADISTICAS!A24,FALSE)+IFERROR(HLOOKUP($B$4,DBESTLIQ,ESTADISTICAS!A24,FALSE),0) -> 2535 | Z8: ING. MECÁNICA
A9: =+IF(B9>0,ESTADISTICAS!B25," ") -> Feb-Jun 2011 | B9: =+HLOOKUP($B$4,BDEST,ESTADISTICAS!A25,FALSE)+IFERROR(HLOOKUP($B$4,DBESTLIQ,ESTADISTICAS!A25,FALSE),0) -> 2430 | Z9: ING. EN SISTEMAS COMPUTACIONALES
A10: =+IF(B10>0,ESTADISTICAS!B26," ") -> Ago-Dic 2011 | B10: =+HLOOKUP($B$4,BDEST,ESTADISTICAS!A26,FALSE)+IFERROR(HLOOKUP($B$4,DBESTLIQ,ESTADISTICAS!A26,FALSE),0) -> 2962 | Z10: ING. QUÍMICA
A11: =+IF(B11>0,ESTADISTICAS!B27," ") -> Feb-Jun 2012 | B11: =+HLOOKUP($B$4,BDEST,ESTADISTICAS!A27,FALSE)+IFERROR(HLOOKUP($B$4,DBESTLIQ,ESTADISTICAS!A27,FALSE),0) -> 2620 | Z11: ING. MECATRÓNICA
A12: =+IF(B12>0,ESTADISTICAS!B28," ") -> Ago-Dic 2012 | B12: =+HLOOKUP($B$4,BDEST,ESTADISTICAS!A28,FALSE)+IFERROR(HLOOKUP($B$4,DBESTLIQ,ESTADISTICAS!A28,FALSE),0) -> 3100 | Z12: ING. EN LOGÍSTICA
A13: =+IF(B13>0,ESTADISTICAS!B29," ") -> Feb-Jun 2013 | B13: =+HLOOKUP($B$4,BDEST,ESTADISTICAS!A29,FALSE)+IFERROR(HLOOKUP($B$4,DBESTLIQ,ESTADISTICAS!A29,FALSE),0) -> 2873 | Z13: ING EN ENERGÍAS RENOVABLES
A14: =+IF(B14>0,ESTADISTICAS!B30," ") -> Ago-Dic 2013 | B14: =+HLOOKUP($B$4,BDEST,ESTADISTICAS!A30,FALSE)+IFERROR(HLOOKUP($B$4,DBESTLIQ,ESTADISTICAS!A30,FALSE),0) -> 3233 | Z14: CONTADOR PÚBLICO
A15: =+IF(B15>0,ESTADISTICAS!B31," ") -> Feb-Jun 2014 | B15: =+HLOOKUP($B$4,BDEST,ESTADISTICAS!A31,FALSE)+IFERROR(HLOOKUP($B$4,DBESTLIQ,ESTADISTICAS!A31,FALSE),0) -> 2942 | Z15: ING. EN GESTIÓN EMPRESARIAL
A16: =+IF(B16>0,ESTADISTICAS!B32," ") -> Ago-Dic 2014 | B16: =+HLOOKUP($B$4,BDEST,ESTADISTICAS!A32,FALSE)+IFERROR(HLOOKUP($B$4,DBESTLIQ,ESTADISTICAS!A32,FALSE),0) -> 3317 | Z16: ING. EN MATERIALES
A17: =+IF(B17>0,ESTADISTICAS!B33," ") -> Feb-Jun 2015 | B17: =+HLOOKUP($B$4,BDEST,ESTADISTICAS!A33,FALSE)+IFERROR(HLOOKUP($B$4,DBESTLIQ,ESTADISTICAS!A33,FALSE),0) -> 3282 | Z17: ING. EN INFORMÁTICA
A18: =+IF(B18>0,ESTADISTICAS!B34," ") -> Ago-Dic 2015 | B18: =+HLOOKUP($B$4,BDEST,ESTADISTICAS!A34,FALSE)+IFERROR(HLOOKUP($B$4,DBESTLIQ,ESTADISTICAS!A34,FALSE),0) -> 3630 | Z18: POBLACIÓN TOTAL
A19: =+IF(B19>0,ESTADISTICAS!B35," ") -> Feb-Jun 2016 | B19: =+HLOOKUP($B$4,BDEST,ESTADISTICAS!A35,FALSE)+IFERROR(HLOOKUP($B$4,DBESTLIQ,ESTADISTICAS!A35,FALSE),0) -> 3579
A20: =+IF(B20>0,ESTADISTICAS!B36," ") -> Ago-Dic 2016 | B20: =+HLOOKUP($B$4,BDEST,ESTADISTICAS!A36,FALSE)+IFERROR(HLOOKUP($B$4,DBESTLIQ,ESTADISTICAS!A36,FALSE),0) -> 4066
A21: =+IF(B21>0,ESTADISTICAS!B37," ") -> Feb-Jun 2017 | B21: =+HLOOKUP($B$4,BDEST,ESTADISTICAS!A37,FALSE)+IFERROR(HLOOKUP($B$4,DBESTLIQ,ESTADISTICAS!A37,FALSE),0) -> 3842
A22: =+IF(B22>0,ESTADISTICAS!B38," ") -> Ago-Dic 2017 | B22: =+HLOOKUP($B$4,BDEST,ESTADISTICAS!A38,FALSE)+IFERROR(HLOOKUP($B$4,DBESTLIQ,ESTADISTICAS!A38,FALSE),0) -> 4306
A23: =+IF(B23>0,ESTADISTICAS!B39," ") -> Feb-Jun 2018 | B23: =+HLOOKUP($B$4,BDEST,ESTADISTICAS!A39,FALSE)+IFERROR(HLOOKUP($B$4,DBESTLIQ,ESTADISTICAS!A39,FALSE),0) -> 4064
A24: =+IF(B24>0,ESTADISTICAS!B40," ") -> Ago-Dic 2018 | B24: =+HLOOKUP($B$4,BDEST,ESTADISTICAS!A40,FALSE)+IFERROR(HLOOKUP($B$4,DBESTLIQ,ESTADISTICAS!A40,FALSE),0) -> 4212
A25: =+IF(B25>0,ESTADISTICAS!B41," ") -> Feb-Jun 2019 | B25: =+HLOOKUP($B$4,BDEST,ESTADISTICAS!A41,FALSE)+IFERROR(HLOOKUP($B$4,DBESTLIQ,ESTADISTICAS!A41,FALSE),0) -> 4084
A26: =+IF(B26>0,ESTADISTICAS!B42," ") -> Ago-Dic 2019 | B26: =+HLOOKUP($B$4,BDEST,ESTADISTICAS!A42,FALSE)+IFERROR(HLOOKUP($B$4,DBESTLIQ,ESTADISTICAS!A42,FALSE),0) -> 4172
A27: =+IF(B27>0,ESTADISTICAS!B43," ") -> Feb-Jun 2020 | B27: =+HLOOKUP($B$4,BDEST,ESTADISTICAS!A43,FALSE)+IFERROR(HLOOKUP($B$4,DBESTLIQ,ESTADISTICAS!A43,FALSE),0) -> 3998
A28: =+IF(B28>0,ESTADISTICAS!B44," ") -> Ago-Dic 2020 | B28: =+HLOOKUP($B$4,BDEST,ESTADISTICAS!A44,FALSE)+IFERROR(HLOOKUP($B$4,DBESTLIQ,ESTADISTICAS!A44,FALSE),0) -> 4393
A29: =+IF(B29>0,ESTADISTICAS!B45," ") -> Feb-Jun 2021 | B29: =+HLOOKUP($B$4,BDEST,ESTADISTICAS!A45,FALSE)+IFERROR(HLOOKUP($B$4,DBESTLIQ,ESTADISTICAS!A45,FALSE),0) -> 4212
A30: =+IF(B30>0,ESTADISTICAS!B46," ") -> Ago-Dic 2021 | B30: =+HLOOKUP($B$4,BDEST,ESTADISTICAS!A46,FALSE)+IFERROR(HLOOKUP($B$4,DBESTLIQ,ESTADISTICAS!A46,FALSE),0) -> 4608
... A37: =+IF(B37>0,ESTADISTICAS!B53," ") -> Feb-Jun 2025 | B37: =+HLOOKUP($B$4,BDEST,ESTADISTICAS!A53,FALSE)+IFERROR(HLOOKUP($B$4,DBESTLIQ,ESTADISTICAS!A53,FALSE),0) -> 4956

Sheet Crec x Depto
E1: Para elegir departamento
E2: poner cursor nombre de depto.
G3: DEPARTAMENTO | K3: METALMECÁNICA | Z3: DE INDUSTRIAL | AA3: ING. INDUSTRIAL | AB3: ING. EN LOGÍSTICA | AC3: ING. EN GESTIÓN EMPRESARIAL
S4: Período | T4: =+VLOOKUP($K$3,bddeptos,2,FALSE) -> ING. MECÁNICA | U4: =+VLOOKUP($K$3,bddeptos,3,FALSE) -> ING. MECATRÓNICA | V4: =IF(VLOOKUP($K$3,bddeptos,4,FALSE)=0," ",VLOOKUP($K$3,bddeptos,4,FALSE)) -> ING. EN MATERIALES | Z4: DE ELÉCTRICA ELECTRÓNICA | AA4: ING. ELECTRÓNICA | AB4: ING. ELÉCTRICA | AC4: ING EN ENERGÍAS RENOVABLES
S5: =ESTADISTICAS!B23 -> Feb-Jun 2010 | T5: =+HLOOKUP($T$4,BDEST,ESTADISTICAS!A23,FALSE) -> 11 | U5: =+HLOOKUP($U$4,BDEST,ESTADISTICAS!A23,FALSE) -> 25 | V5: =+IF($V$4=" "," ",HLOOKUP($V$4,BDEST,ESTADISTICAS!A23,FALSE)) -> 0 | Z5: METALMECÁNICA | AA5: ING. MECÁNICA | AB5: ING. MECATRÓNICA | AC5: ING. EN MATERIALES
S6: =+IF(T6>0,ESTADISTICAS!B24," ") -> Ago-Dic 2010 | T6: =+HLOOKUP($T$4,BDEST,ESTADISTICAS!A24,FALSE) -> 70 | U6: =+HLOOKUP($U$4,BDEST,ESTADISTICAS!A24,FALSE) -> 136 | V6: =+IF($V$4=" "," ",HLOOKUP($V$4,BDEST,ESTADISTICAS!A24,FALSE)) -> 0 | Z6: DE QUÍMICA | AA6: ING. QUÍMICA
S7: =+IF(T7>0,ESTADISTICAS!B25," ") -> Feb-Jun 2011 | T7: =+HLOOKUP($T$4,BDEST,ESTADISTICAS!A25,FALSE) -> 86 | U7: =+HLOOKUP($U$4,BDEST,ESTADISTICAS!A25,FALSE) -> 168 | V7: =+IF($V$4=" "," ",HLOOKUP($V$4,BDEST,ESTADISTICAS!A25,FALSE)) -> 0 | Z7: DE SISTEMAS COMPUTACIONALES | AA7: ING. EN SISTEMAS COMPUTACIONALES | AB7: ING. EN INFORMÁTICA
S8: =+IF(T8>0,ESTADISTICAS!B26," ") -> Ago-Dic 2011 | T8: =+HLOOKUP($T$4,BDEST,ESTADISTICAS!A26,FALSE) -> 161 | U8: =+HLOOKUP($U$4,BDEST,ESTADISTICAS!A26,FALSE) -> 314 | V8: =+IF($V$4=" "," ",HLOOKUP($V$4,BDEST,ESTADISTICAS!A26,FALSE)) -> 0 | Z8: DE CS.ECONÓMICO ADMINISTRATIVAS | AA8: CONTADOR PÚBLICO
S9: =+IF(T9>0,ESTADISTICAS!B27," ") -> Feb-Jun 2012 | T9: =+HLOOKUP($T$4,BDEST,ESTADISTICAS!A27,FALSE) -> 147 | U9: =+HLOOKUP($U$4,BDEST,ESTADISTICAS!A27,FALSE) -> 319 | V9: =+IF($V$4=" "," ",HLOOKUP($V$4,BDEST,ESTADISTICAS!A27,FALSE)) -> 0
S10: =+IF(T10>0,ESTADISTICAS!B28," ") -> Ago-Dic 2012 | T10: =+HLOOKUP($T$4,BDEST,ESTADISTICAS!A28,FALSE) -> 209 | U10: =+HLOOKUP($U$4,BDEST,ESTADISTICAS!A28,FALSE) -> 421 | V10: =+IF($V$4=" "," ",HLOOKUP($V$4,BDEST,ESTADISTICAS!A28,FALSE)) -> 0
S11: =+IF(T11>0,ESTADISTICAS!B29," ") -> Feb-Jun 2013 | T11: =+HLOOKUP($T$4,BDEST,ESTADISTICAS!A29,FALSE) -> 189 | U11: =+HLOOKUP($U$4,BDEST,ESTADISTICAS!A29,FALSE) -> 415 | V11: =+IF($V$4=" "," ",HLOOKUP($V$4,BDEST,ESTADISTICAS!A29,FALSE)) -> 0
S12: =+IF(T12>0,ESTADISTICAS!B30," ") -> Ago-Dic 2013 | T12: =+HLOOKUP($T$4,BDEST,ESTADISTICAS!A30,FALSE) -> 245 | U12: =+HLOOKUP($U$4,BDEST,ESTADISTICAS!A30,FALSE) -> 462 | V12: =+IF($V$4=" "," ",HLOOKUP($V$4,BDEST,ESTADISTICAS!A30,FALSE)) -> 0
S13: =+IF(T13>0,ESTADISTICAS!B31," ") -> Feb-Jun 2014 | T13: =+HLOOKUP($T$4,BDEST,ESTADISTICAS!A31,FALSE) -> 229 | U13: =+HLOOKUP($U$4,BDEST,ESTADISTICAS!A31,FALSE) -> 478 | V13: =+IF($V$4=" "," ",HLOOKUP($V$4,BDEST,ESTADISTICAS!A31,FALSE)) -> 0
S14: =+IF(T14>0,ESTADISTICAS!B32," ") -> Ago-Dic 2014 | T14: =+HLOOKUP($T$4,BDEST,ESTADISTICAS!A32,FALSE) -> 317 | U14: =+HLOOKUP($U$4,BDEST,ESTADISTICAS!A32,FALSE) -> 547 | V14: =+IF($V$4=" "," ",HLOOKUP($V$4,BDEST,ESTADISTICAS!A32,FALSE)) -> 0
S15: =+IF(T15>0,ESTADISTICAS!B33," ") -> Feb-Jun 2015 | T15: =+HLOOKUP($T$4,BDEST,ESTADISTICAS!A33,FALSE) -> 321 | U15: =+HLOOKUP($U$4,BDEST,ESTADISTICAS!A33,FALSE) -> 555 | V15: =+IF($V$4=" "," ",HLOOKUP($V$4,BDEST,ESTADISTICAS!A33,FALSE)) -> 0
S16: =+IF(T16>0,ESTADISTICAS!B34," ") -> Ago-Dic 2015 | T16: =+HLOOKUP($T$4,BDEST,ESTADISTICAS!A34,FALSE) -> 401 | U16: =+HLOOKUP($U$4,BDEST,ESTADISTICAS!A34,FALSE) -> 623 | V16: =+IF($V$4=" "," ",HLOOKUP($V$4,BDEST,ESTADISTICAS!A34,FALSE)) -> 0
S17: =+IF(T17>0,ESTADISTICAS!B35," ") -> Feb-Jun 2016 | T17: =+HLOOKUP($T$4,BDEST,ESTADISTICAS!A35,FALSE) -> 408 | U17: =+HLOOKUP($U$4,BDEST,ESTADISTICAS!A35,FALSE) -> 590 | V17: =+IF($V$4=" "," ",HLOOKUP($V$4,BDEST,ESTADISTICAS!A35,FALSE)) -> 0
S18: =+IF(T18>0,ESTADISTICAS!B36," ") -> Ago-Dic 2016 | T18: =+HLOOKUP($T$4,BDEST,ESTADISTICAS!A36,FALSE) -> 472 | U18: =+HLOOKUP($U$4,BDEST,ESTADISTICAS!A36,FALSE) -> 678 | V18: =+IF($V$4=" "," ",HLOOKUP($V$4,BDEST,ESTADISTICAS!A36,FALSE)) -> 34
S19: =+IF(T19>0,ESTADISTICAS!B37," ") -> Feb-Jun 2017 | T19: =+HLOOKUP($T$4,BDEST,ESTADISTICAS!A37,FALSE) -> 451 | U19: =+HLOOKUP($U$4,BDEST,ESTADISTICAS!A37,FALSE) -> 631 | V19: =+IF($V$4=" "," ",HLOOKUP($V$4,BDEST,ESTADISTICAS!A37,FALSE)) -> 28
S20: =+IF(T20>0,ESTADISTICAS!B38," ") -> Ago-Dic 2017 | T20: =+HLOOKUP($T$4,BDEST,ESTADISTICAS!A38,FALSE) -> 518 | U20: =+HLOOKUP($U$4,BDEST,ESTADISTICAS!A38,FALSE) -> 684 | V20: =+IF($V$4=" "," ",HLOOKUP($V$4,BDEST,ESTADISTICAS!A38,FALSE)) -> 70
... S34: =+IF(T34>0,ESTADISTICAS!B52," ") -> Ago-Dic 2024 | T34: =+HLOOKUP($T$4,BDEST,ESTADISTICAS!A52,FALSE) -> 531 | U34: =+HLOOKUP($U$4,BDEST,ESTADISTICAS!A52,FALSE) -> 854 | V34: =+IF($V$4=" "," ",HLOOKUP($V$4,BDEST,ESTADISTICAS!A52,FALSE)) -> 212
L35: Histórico a Feb-Jun 2015 Proyectado a Feb-Jun al 2025 | S35: =+IF(T35>0,ESTADISTICAS!B53," ") -> Feb-Jun 2025 | T35: =+HLOOKUP($T$4,BDEST,ESTADISTICAS!A53,FALSE) -> 501 | U35: =+HLOOKUP($U$4,BDEST,ESTADISTICAS!A53,FALSE) -> 814 | V35: =+IF($V$4=" "," ",HLOOKUP($V$4,BDEST,ESTADISTICAS!A53,FALSE)) -> 227
O39: =NOW() -> 43768.754

Sheet Plan en Liq
A2: GRAFICAS DE CRECIMIENTO
A3: POR
A4: CARRERA | B4: ING. INDUSTRIAL
B5: seleccionar para elegir carrera | D5: =+B4 -> ING. INDUSTRIAL | Z5: LIC. EN INFORMÁTICA
Z6: LIC. EN CONTADURÍA
A7: =+ESTADISTICAS!B7 -> Feb-Jun 2002 | B7: =+HLOOKUP($B$4,DBESTLIQ,ESTADISTICAS!A7,FALSE) -> 868 | D7: (Plan en Liquidación) | Z7: ING. ELECTRÓNICA
A8: =+ESTADISTICAS!B8 -> Ago-Dic 2002 | B8: =+HLOOKUP($B$4,DBESTLIQ,ESTADISTICAS!A8,FALSE) -> 953 | Z8: ING. ELÉCTRICA
A9: =+ESTADISTICAS!B9 -> Feb-Jun 2003 | B9: =+HLOOKUP($B$4,DBESTLIQ,ESTADISTICAS!A9,FALSE) -> 757 | Z9: ING. INDUSTRIAL
A10: =+ESTADISTICAS!B10 -> Ago-Dic 2003 | B10: =+HLOOKUP($B$4,DBESTLIQ,ESTADISTICAS!A10,FALSE) -> 823 | Z10: ING. MECÁNICA
A11: =+ESTADISTICAS!B11 -> Feb-Jun 2004 | B11: =+HLOOKUP($B$4,DBESTLIQ,ESTADISTICAS!A11,FALSE) -> 674 | Z11: ING. EN SISTEMAS COMPUTACIONALES
A12: =+ESTADISTICAS!B12 -> Ago-Dic 2004 | B12: =+HLOOKUP($B$4,DBESTLIQ,ESTADISTICAS!A12,FALSE) -> 712 | Z12: ING. QUÍMICA
A13: =+ESTADISTICAS!B13 -> Feb-Jun 2005 | B13: =+HLOOKUP($B$4,DBESTLIQ,ESTADISTICAS!A13,FALSE) -> 583 | Z13: ING. MECATRÓNICA
A14: =+ESTADISTICAS!B14 -> Ago-Dic 2005 | B14: =+HLOOKUP($B$4,DBESTLIQ,ESTADISTICAS!A14,FALSE) -> 651 | Z14: POBLACIÓN TOTAL
A15: =+ESTADISTICAS!B15 -> Feb-Jun 2006 | B15: =+HLOOKUP($B$4,DBESTLIQ,ESTADISTICAS!A15,FALSE) -> 533
A16: =+ESTADISTICAS!B16 -> Ago-Dic 2006 | B16: =+HLOOKUP($B$4,DBESTLIQ,ESTADISTICAS!A16,FALSE) -> 595
A17: =+ESTADISTICAS!B17 -> Feb-Jun 2007 | B17: =+HLOOKUP($B$4,DBESTLIQ,ESTADISTICAS!A17,FALSE) -> 485
A18: =+ESTADISTICAS!B18 -> Ago-Dic 2007 | B18: =+HLOOKUP($B$4,DBESTLIQ,ESTADISTICAS!A18,FALSE) -> 542
A19: =+ESTADISTICAS!B19 -> Feb-Jun 2008 | B19: =+HLOOKUP($B$4,DBESTLIQ,ESTADISTICAS!A19,FALSE) -> 464
A20: =+ESTADISTICAS!B20 -> Ago-Dic 2008 | B20: =+HLOOKUP($B$4,DBESTLIQ,ESTADISTICAS!A20,FALSE) -> 604
A21: =+ESTADISTICAS!B21 -> Feb-Jun 2009 | B21: =+HLOOKUP($B$4,DBESTLIQ,ESTADISTICAS!A21,FALSE) -> 552
A22: =+ESTADISTICAS!B22 -> Ago-Dic 2009 | B22: =+HLOOKUP($B$4,DBESTLIQ,ESTADISTICAS!A22,FALSE) -> 623
A23: =+ESTADISTICAS!B23 -> Feb-Jun 2010 | B23: =+HLOOKUP($B$4,DBESTLIQ,ESTADISTICAS!A23,FALSE) -> 526
A24: =+ESTADISTICAS!B24 -> Ago-Dic 2010 | B24: =+HLOOKUP($B$4,DBESTLIQ,ESTADISTICAS!A24,FALSE) -> 439
A25: =+ESTADISTICAS!B25 -> Feb-Jun 2011 | B25: =+HLOOKUP($B$4,DBESTLIQ,ESTADISTICAS!A25,FALSE) -> 380
A26: =+ESTADISTICAS!B26 -> Ago-Dic 2011 | B26: =+HLOOKUP($B$4,DBESTLIQ,ESTADISTICAS!A26,FALSE) -> 319
... A37: =+ESTADISTICAS!B37 -> Feb-Jun 2017 | B37: =+HLOOKUP($B$4,DBESTLIQ,ESTADISTICAS!A37,FALSE) -> 1
A38: =+ESTADISTICAS!B38 -> Ago-Dic 2017 | B38: =+HLOOKUP($B$4,DBESTLIQ,ESTADISTICAS!A38,FALSE) -> 1 | K38: =NOW() -> 43768.754
A39: =+ESTADISTICAS!B39 -> Feb-Jun 2018 | B39: =+HLOOKUP($B$4,DBESTLIQ,ESTADISTICAS!A39,FALSE) -> 0

Sheet PobActual
B3: No. Período
B4: =+VLOOKUP(C4,periodos2,2,FALSE) -> 37 | C4: Ago-Dic 2019 | E4: POBLACIÓN ACTUAL POR PROGRAMAS EDUCATIVOS
E5: =+C4 -> Ago-Dic 2019 | AA5: ING. ELECTRONICA
AA6: ING. ELECTRICA
A7: ELN | B7: =ESTADISTICAS!M6 -> ING. ELECTRÓNICA | C7: =+HLOOKUP(B7,BDEST,B4,FALSE) -> 174 | AA7: ING. INDUSTRIAL
A8: ELE | B8: =+ESTADISTICAS!N$6 -> ING. ELÉCTRICA | C8: =+HLOOKUP(B8,BDEST,B4,FALSE) -> 265 | AA8: ING. MECANICA
A9: IND | B9: =+ESTADISTICAS!O$6 -> ING. INDUSTRIAL | C9: =+HLOOKUP(B9,BDEST,B4,FALSE) -> 832 | AA9: ING. EN SISTEMAS COMPUTACIONALES
A10: MEC | B10: =+ESTADISTICAS!P$6 -> ING. MECÁNICA | C10: =+HLOOKUP(B10,BDEST,$B$4,FALSE) -> 531 | AA10: ING. QUIMICA
A11: SYC | B11: =+ESTADISTICAS!Q$6 -> ING. EN SISTEMAS COMPUTACIONALES | C11: =+HLOOKUP(B11,BDEST,$B$4,FALSE) -> 398 | AA11: ING. MECATRONICA
A12: QUI | B12: =+ESTADISTICAS!R$6 -> ING. QUÍMICA | C12: =+HLOOKUP(B12,BDEST,$B$4,FALSE) -> 303 | AA12: ING. EN LOGISTICA
A13: MKT | B13: =+ESTADISTICAS!S$6 -> ING. MECATRÓNICA | C13: =+HLOOKUP(B13,BDEST,$B$4,FALSE) -> 604 | K13: =+C22 -> 4165 | L13: Estudiantes | AA13: ING EN ENERGIAS RENOVABLES
A14: LOG | B14: =+ESTADISTICAS!T$6 -> ING. EN LOGÍSTICA | C14: =+HLOOKUP(B14,BDEST,$B$4,FALSE) -> 235 | AA14: CONTADOR PÚBLICO
A15: ENR | B15: =+ESTADISTICAS!U$6 -> ING EN ENERGÍAS RENOVABLES | C15: =+HLOOKUP(B15,BDEST,$B$4,FALSE) -> 245 | AA15: ING. EN GESTION EMPRESARIAL
A16: CP | B16: =+ESTADISTICAS!V$6 -> CONTADOR PÚBLICO | C16: =+HLOOKUP(B16,BDEST,$B$4,FALSE) -> 238 | AA16: ING. EN INFORMATICA
A17: GEM | B17: =+ESTADISTICAS!W$6 -> ING. EN GESTIÓN EMPRESARIAL | C17: =+HLOOKUP(B17,BDEST,$B$4,FALSE) -> 268 | AA17: POBLACIÓN TOTAL
A18: INF | B18: =+ESTADISTICAS!X$6 -> ING. EN INFORMÁTICA | C18: =+HLOOKUP(B18,BDEST,$B$4,FALSE) -> 0
A19: MAT | B19: =+ESTADISTICAS!Y$6 -> ING. EN MATERIALES | C19: =+HLOOKUP(B19,BDEST,$B$4,FALSE) -> 72
B20: POBLACION PLANES VIGENTES | C20: =SUM(C7:C19) -> 4165
B21: POB. TOTAL EN LIQ | C21: =+HLOOKUP(B21,BDEST,$B$4,FALSE) -> 0
B22: POBLACION TOTAL LICENCIATURA | C22: =+C20+C21 -> 4165
B23: MTRIA. ING. ELECTRÓNICA | C23: =+HLOOKUP(B23,BDEST,$B$4,FALSE) -> 4
B24: MTRIA ING.SISTEMAS | C24: =+HLOOKUP(B24,BDEST,$B$4,FALSE) -> 3

Sheet EGR_Carrera
A1: TOTAL | B1: =+SUM(B4:B103) -> 145 | C1: =+SUM(C4:C103) -> 221 | D1: =+SUM(D4:D103) -> 128 | E1: =+SUM(E4:E103) -> 43 | F1: =+SUM(F4:F103) -> 733 | G1: =+SUM(G4:G103) -> 365 | H1: =+SUM(H4:H103) -> 2019 | I1: =+SUM(I4:I103) -> 769 | ... AC1: =+SUM(AC4:AC103) -> 9531
B2: 5 | C2: 10 | D2: 15 | E2: 20 | F2: 25 | G2: =+F2+5 -> 30 | H2: =+G2+5 -> 35 | I2: =+H2+5 -> 40 | J2: =+I2+5 -> 45 | K2: =+J2+5 -> 50 | L2: =+K2+5 -> 55 | M2: =+L2+5 -> 60 | N2: =+M2+5 -> 65 | O2: =+N2+6 -> 71 | P2: =+O2+6 -> 77 | Q2: =+P2+6 -> 83 | R2: =+Q2+6 -> 89 | S2: =+R2+6 -> 95 | T2: =+S2+6 -> 101 | U2: =+T2+6 -> 107 | V2: =+U2+6 -> 113 | ... AB2: =+AA2+6 -> 149
B3: IND.MEC | C3: IND.ELN | D3: ELE.CTL | E3: IND.QUI | F3: ELN | G3: ELE | H3: IND | I3: MEC | J3: LINF | K3: LCON | L3: SYC | M3: QUI | N3: MKT | O3: GEM | P3: LOG | Q3: CP | R3: ELE | S3: ELN | T3: ENR | U3: SYC | V3: IND | W3: IINF | X3: MEC | Y3: MKT | Z3: QUI | AA3: MAT | AB3: MTRIA | AC3: Total | AE3: INSTITUTO TECNOLÓGICO DE MEXICALI
A4: =+EST_ITM!A15 -> Feb-Jun 1985 | B4: =+VLOOKUP(A4,sabana,$B$2,FALSE) -> 4 | C4: =+VLOOKUP(A4,sabana,$C$2,FALSE) -> 3 | D4: =+VLOOKUP(A4,sabana,$D$2,FALSE) -> 0 | E4: =+VLOOKUP(A4,sabana,$E$2,FALSE) -> 0 | AC4: =SUM(B4:AB4) -> 7 | AE4: RESUMEN DE EGRESADOS POR CARRERA
A5: =+EST_ITM!A16 -> Ago-Dic 1985 | B5: =+VLOOKUP(A5,sabana,$B$2,FALSE) -> 4 | C5: =+VLOOKUP(A5,sabana,$C$2,FALSE) -> 5 | D5: =+VLOOKUP(A5,sabana,$D$2,FALSE) -> 12 | E5: =+VLOOKUP(A5,sabana,$E$2,FALSE) -> 0 | AC5: =SUM(B5:AB5) -> 21 | AE5: CARRERAS | AF5: Plan Liq | AG5: Plan 2010 | AH5: EGRESADOS
A6: =+EST_ITM!A17 -> Feb-Jun 1986 | B6: =+VLOOKUP(A6,sabana,$B$2,FALSE) -> 7 | C6: =+VLOOKUP(A6,sabana,$C$2,FALSE) -> 8 | D6: =+VLOOKUP(A6,sabana,$D$2,FALSE) -> 7 | E6: =+VLOOKUP(A6,sabana,$E$2,FALSE) -> 2 | AC6: =SUM(B6:AB6) -> 24 | AE6: ING. IND. MECANICA | AF6: =+B1 -> 145 | AH6: =+AF6+AG6 -> 145
A7: =+EST_ITM!A18 -> Ago-Dic 1986 | B7: =+VLOOKUP(A7,sabana,$B$2,FALSE) -> 11 | C7: =+VLOOKUP(A7,sabana,$C$2,FALSE) -> 20 | D7: =+VLOOKUP(A7,sabana,$D$2,FALSE) -> 31 | E7: =+VLOOKUP(A7,sabana,$E$2,FALSE) -> 10 | F7: =+VLOOKUP(A7,sabana,$F$2,FALSE) -> 0 | G7: =+VLOOKUP(A7,sabana,G$2,FALSE) -> 0 | H7: =+VLOOKUP(A7,sabana,H$2,FALSE) -> 0 | I7: =+VLOOKUP(A7,sabana,I$2,FALSE) -> 0 | J7: =+VLOOKUP(A7,sabana,J$2,FALSE) -> 0 | K7: =+VLOOKUP(A7,sabana,K$2,FALSE) -> 0 | L7: =+VLOOKUP(A7,sabana,L$2,FALSE) -> 0 | M7: =+VLOOKUP(A7,sabana,M$2,FALSE) -> 0 | N7: =+VLOOKUP(A7,sabana,N$2,FALSE) -> 0 | O7: =+VLOOKUP(A7,sabana,O$2,FALSE) -> 0 | P7: =+VLOOKUP(A7,sabana,P$2,FALSE) -> 0 | Q7: =+VLOOKUP(A7,sabana,Q$2,FALSE) -> 0 | R7: =+VLOOKUP(A7,sabana,R$2,FALSE) -> 0 | S7: =+VLOOKUP(A7,sabana,S$2,FALSE) -> 0 | T7: =+VLOOKUP(A7,sabana,T$2,FALSE) -> 0 | U7: =+VLOOKUP(A7,sabana,U$2,FALSE) -> 0 | V7: =+VLOOKUP(A7,sabana,V$2,FALSE) -> 0 | W7: =+VLOOKUP(A7,sabana,W$2,FALSE) -> 0 | X7: =+VLOOKUP(A7,sabana,X$2,FALSE) -> 0 | Y7: =+VLOOKUP(A7,sabana,Y$2,FALSE) -> 0 | Z7: =+VLOOKUP(A7,sabana,Z$2,FALSE) -> 0 | AA7: =+VLOOKUP(A7,sabana,AA$2,FALSE) -> 0 | AB7: =+VLOOKUP(A7,sabana,AB$2,FALSE) -> 0 | AC7: =SUM(B7:AB7) -> 72 | AE7: ING. IND. ELECTRONICA | AF7: =+C1 -> 221 | AH7: =+AF7+AG7 -> 221
A8: =+EST_ITM!A19 -> Feb-Jun 1987 | B8: =+VLOOKUP(A8,sabana,$B$2,FALSE) -> 26 | C8: =+VLOOKUP(A8,sabana,$C$2,FALSE) -> 27 | D8: =+VLOOKUP(A8,sabana,$D$2,FALSE) -> 17 | E8: =+VLOOKUP(A8,sabana,$E$2,FALSE) -> 18 | F8: =+VLOOKUP(A8,sabana,$F$2,FALSE) -> 0 | G8: =+VLOOKUP(A8,sabana,$G$2,FALSE) -> 0 | H8: =+VLOOKUP(A8,sabana,H$2,FALSE) -> 0 | I8: =+VLOOKUP(A8,sabana,I$2,FALSE) -> 0 | J8: =+VLOOKUP(A8,sabana,J$2,FALSE) -> 0 | K8: =+VLOOKUP(A8,sabana,K$2,FALSE) -> 0 | L8: =+VLOOKUP(A8,sabana,L$2,FALSE) -> 0 | M8: =+VLOOKUP(A8,sabana,M$2,FALSE) -> 0 | N8: =+VLOOKUP(A8,sabana,N$2,FALSE) -> 0 | O8: =+VLOOKUP(A8,sabana,O$2,FALSE) -> 0 | P8: =+VLOOKUP(A8,sabana,P$2,FALSE) -> 0 | Q8: =+VLOOKUP(A8,sabana,Q$2,FALSE) -> 0 | R8: =+VLOOKUP(A8,sabana,R$2,FALSE) -> 0 | S8: =+VLOOKUP(A8,sabana,S$2,FALSE) -> 0 | T8: =+VLOOKUP(A8,sabana,T$2,FALSE) -> 0 | U8: =+VLOOKUP(A8,sabana,U$2,FALSE) -> 0 | V8: =+VLOOKUP(A8,sabana,V$2,FALSE) -> 0 | W8: =+VLOOKUP(A8,sabana,W$2,FALSE) -> 0 | X8: =+VLOOKUP(A8,sabana,X$2,FALSE) -> 0 | Y8: =+VLOOKUP(A8,sabana,Y$2,FALSE) -> 0 | Z8: =+VLOOKUP(A8,sabana,Z$2,FALSE) -> 0 | AA8: =+VLOOKUP(A8,sabana,AA$2,FALSE) -> 0 | AB8: =+VLOOKUP(A8,sabana,AB$2,FALSE) -> 0 | AC8: =SUM(B8:AB8) -> 88 | AE8: ING. ELECTRICA EN CONTRL | AF8: =+D1 -> 128 | AH8: =+AF8+AG8 -> 128
A9: =+EST_ITM!A20 -> Ago-Dic 1987 | B9: =+VLOOKUP(A9,sabana,$B$2,FALSE) -> 11 | C9: =+VLOOKUP(A9,sabana,$C$2,FALSE) -> 30 | D9: =+VLOOKUP(A9,sabana,$D$2,FALSE) -> 18 | E9: =+VLOOKUP(A9,sabana,$E$2,FALSE) -> 9 | F9: =+VLOOKUP(A9,sabana,$F$2,FALSE) -> 0 | G9: =+VLOOKUP(A9,sabana,$G$2,FALSE) -> 0 | H9: =+VLOOKUP(A9,sabana,H$2,FALSE) -> 0 | I9: =+VLOOKUP(A9,sabana,I$2,FALSE) -> 0 | J9: =+VLOOKUP(A9,sabana,J$2,FALSE) -> 0 | K9: =+VLOOKUP(A9,sabana,K$2,FALSE) -> 0 | L9: =+VLOOKUP(A9,sabana,L$2,FALSE) -> 0 | M9: =+VLOOKUP(A9,sabana,M$2,FALSE) -> 0 | N9: =+VLOOKUP(A9,sabana,N$2,FALSE) -> 0 | O9: =+VLOOKUP(A9,sabana,O$2,FALSE) -> 0 | P9: =+VLOOKUP(A9,sabana,P$2,FALSE) -> 0 | Q9: =+VLOOKUP(A9,sabana,Q$2,FALSE) -> 0 | R9: =+VLOOKUP(A9,sabana,R$2,FALSE) -> 0 | S9: =+VLOOKUP(A9,sabana,S$2,FALSE) -> 0 | T9: =+VLOOKUP(A9,sabana,T$2,FALSE) -> 0 | U9: =+VLOOKUP(A9,sabana,U$2,FALSE) -> 0 | V9: =+VLOOKUP(A9,sabana,V$2,FALSE) -> 0 | W9: =+VLOOKUP(A9,sabana,W$2,FALSE) -> 0 | X9: =+VLOOKUP(A9,sabana,X$2,FALSE) -> 0 | Y9: =+VLOOKUP(A9,sabana,Y$2,FALSE) -> 0 | Z9: =+VLOOKUP(A9,sabana,Z$2,FALSE) -> 0 | AA9: =+VLOOKUP(A9,sabana,AA$2,FALSE) -> 0 | AB9: =+VLOOKUP(A9,sabana,AB$2,FALSE) -> 0 | AC9: =SUM(B9:AB9) -> 68 | AE9: ING. IND. QUIMICA | AF9: =+E1 -> 43 | AH9: =+AF9+AG9 -> 43
A10: =+EST_ITM!A21 -> Feb-Jun 1988 | B10: =+VLOOKUP(A10,sabana,$B$2,FALSE) -> 17 | C10: =+VLOOKUP(A10,sabana,$C$2,FALSE) -> 20 | D10: =+VLOOKUP(A10,sabana,$D$2,FALSE) -> 5 | E10: =+VLOOKUP(A10,sabana,$E$2,FALSE) -> 3 | F10: =+VLOOKUP(A10,sabana,$F$2,FALSE) -> 0 | G10: =+VLOOKUP(A10,sabana,$G$2,FALSE) -> 0 | H10: =+VLOOKUP(A10,sabana,H$2,FALSE) -> 0 | I10: =+VLOOKUP(A10,sabana,I$2,FALSE) -> 0 | J10: =+VLOOKUP(A10,sabana,J$2,FALSE) -> 0 | K10: =+VLOOKUP(A10,sabana,K$2,FALSE) -> 0 | L10: =+VLOOKUP(A10,sabana,L$2,FALSE) -> 0 | M10: =+VLOOKUP(A10,sabana,M$2,FALSE) -> 0 | N10: =+VLOOKUP(A10,sabana,N$2,FALSE) -> 0 | O10: =+VLOOKUP(A10,sabana,O$2,FALSE) -> 0 | P10: =+VLOOKUP(A10,sabana,P$2,FALSE) -> 0 | Q10: =+VLOOKUP(A10,sabana,Q$2,FALSE) -> 0 | R10: =+VLOOKUP(A10,sabana,R$2,FALSE) -> 0 | S10: =+VLOOKUP(A10,sabana,S$2,FALSE) -> 0 | T10: =+VLOOKUP(A10,sabana,T$2,FALSE) -> 0 | U10: =+VLOOKUP(A10,sabana,U$2,FALSE) -> 0 | V10: =+VLOOKUP(A10,sabana,V$2,FALSE) -> 0 | W10: =+VLOOKUP(A10,sabana,W$2,FALSE) -> 0 | X10: =+VLOOKUP(A10,sabana,X$2,FALSE) -> 0 | Y10: =+VLOOKUP(A10,sabana,Y$2,FALSE) -> 0 | Z10: =+VLOOKUP(A10,sabana,Z$2,FALSE) -> 0 | AA10: =+VLOOKUP(A10,sabana,AA$2,FALSE) -> 0 | AB10: =+VLOOKUP(A10,sabana,AB$2,FALSE) -> 0 | AC10: =SUM(B10:AB10) -> 45 | AE10: ING. ELECTRÓNICA | AF10: =+F1 -> 733 | AG10: =+S1 -> 63 | AH10: =+AF10+AG10 -> 796
A11: =+EST_ITM!A22 -> Ago-Dic 1988 | B11: =+VLOOKUP(A11,sabana,$B$2,FALSE) -> 15 | C11: =+VLOOKUP(A11,sabana,$C$2,FALSE) -> 26 | D11: =+VLOOKUP(A11,sabana,$D$2,FALSE) -> 2 | E11: =+VLOOKUP(A11,sabana,$E$2,FALSE) -> 0 | F11: =+VLOOKUP(A11,sabana,$F$2,FALSE) -> 0 | G11: =+VLOOKUP(A11,sabana,$G$2,FALSE) -> 0 | H11: =+VLOOKUP(A11,sabana,H$2,FALSE) -> 0 | I11: =+VLOOKUP(A11,sabana,I$2,FALSE) -> 0 | J11: =+VLOOKUP(A11,sabana,J$2,FALSE) -> 0 | K11: =+VLOOKUP(A11,sabana,K$2,FALSE) -> 0 | L11: =+VLOOKUP(A11,sabana,L$2,FALSE) -> 0 | M11: =+VLOOKUP(A11,sabana,M$2,FALSE) -> 0 | N11: =+VLOOKUP(A11,sabana,N$2,FALSE) -> 0 | O11: =+VLOOKUP(A11,sabana,O$2,FALSE) -> 0 | P11: =+VLOOKUP(A11,sabana,P$2,FALSE) -> 0 | Q11: =+VLOOKUP(A11,sabana,Q$2,FALSE) -> 0 | R11: =+VLOOKUP(A11,sabana,R$2,FALSE) -> 0 | S11: =+VLOOKUP(A11,sabana,S$2,FALSE) -> 0 | T11: =+VLOOKUP(A11,sabana,T$2,FALSE) -> 0 | U11: =+VLOOKUP(A11,sabana,U$2,FALSE) -> 0 | V11: =+VLOOKUP(A11,sabana,V$2,FALSE) -> 0 | W11: =+VLOOKUP(A11,sabana,W$2,FALSE) -> 0 | X11: =+VLOOKUP(A11,sabana,X$2,FALSE) -> 0 | Y11: =+VLOOKUP(A11,sabana,Y$2,FALSE) -> 0 | Z11: =+VLOOKUP(A11,sabana,Z$2,FALSE) -> 0 | AA11: =+VLOOKUP(A11,sabana,AA$2,FALSE) -> 0 | AB11: =+VLOOKUP(A11,sabana,AB$2,FALSE) -> 0 | AC11: =SUM(B11:AB11) -> 43 | AE11: ING. ELÉCTRICA | AF11: =+G$1 -> 365 | AG11: =+R1 -> 101 | AH11: =+AF11+AG11 -> 466
A12: =+EST_ITM!A23 -> Feb-Jun 1989 | B12: =+VLOOKUP(A12,sabana,$B$2,FALSE) -> 6 | C12: =+VLOOKUP(A12,sabana,$C$2,FALSE) -> 30 | D12: =+VLOOKUP(A12,sabana,$D$2,FALSE) -> 7 | E12: =+VLOOKUP(A12,sabana,$E$2,FALSE) -> 0 | F12: =+VLOOKUP(A12,sabana,$F$2,FALSE) -> 0 | G12: =+VLOOKUP(A12,sabana,$G$2,FALSE) -> 0 | H12: =+VLOOKUP(A12,sabana,H$2,FALSE) -> 0 | I12: =+VLOOKUP(A12,sabana,I$2,FALSE) -> 0 | J12: =+VLOOKUP(A12,sabana,J$2,FALSE) -> 0 | K12: =+VLOOKUP(A12,sabana,K$2,FALSE) -> 0 | L12: =+VLOOKUP(A12,sabana,L$2,FALSE) -> 0 | M12: =+VLOOKUP(A12,sabana,M$2,FALSE) -> 0 | N12: =+VLOOKUP(A12,sabana,N$2,FALSE) -> 0 | O12: =+VLOOKUP(A12,sabana,O$2,FALSE) -> 0 | P12: =+VLOOKUP(A12,sabana,P$2,FALSE) -> 0 | Q12: =+VLOOKUP(A12,sabana,Q$2,FALSE) -> 0 | R12: =+VLOOKUP(A12,sabana,R$2,FALSE) -> 0 | S12: =+VLOOKUP(A12,sabana,S$2,FALSE) -> 0 | T12: =+VLOOKUP(A12,sabana,T$2,FALSE) -> 0 | U12: =+VLOOKUP(A12,sabana,U$2,FALSE) -> 0 | V12: =+VLOOKUP(A12,sabana,V$2,FALSE) -> 0 | W12: =+VLOOKUP(A12,sabana,W$2,FALSE) -> 0 | X12: =+VLOOKUP(A12,sabana,X$2,FALSE) -> 0 | Y12: =+VLOOKUP(A12,sabana,Y$2,FALSE) -> 0 | Z12: =+VLOOKUP(A12,sabana,Z$2,FALSE) -> 0 | AA12: =+VLOOKUP(A12,sabana,AA$2,FALSE) -> 0 | AB12: =+VLOOKUP(A12,sabana,AB$2,FALSE) -> 0 | AC12: =SUM(B12:AB12) -> 43 | AE12: ING. INDUSTRIAL | AF12: =+H$1 -> 2019 | AG12: =+V1 -> 431 | AH12: =+AF12+AG12 -> 2450
A13: =+EST_ITM!A24 -> Ago-Dic 1989 | B13: =+VLOOKUP(A13,sabana,$B$2,FALSE) -> 12 | C13: =+VLOOKUP(A13,sabana,$C$2,FALSE) -> 19 | D13: =+VLOOKUP(A13,sabana,$D$2,FALSE) -> 5 | E13: =+VLOOKUP(A13,sabana,$E$2,FALSE) -> 1 | F13: =+VLOOKUP(A13,sabana,$F$2,FALSE) -> 0 | G13: =+VLOOKUP(A13,sabana,$G$2,FALSE) -> 0 | H13: =+VLOOKUP(A13,sabana,H$2,FALSE) -> 0 | I13: =+VLOOKUP(A13,sabana,I$2,FALSE) -> 0 | J13: =+VLOOKUP(A13,sabana,J$2,FALSE) -> 0 | K13: =+VLOOKUP(A13,sabana,K$2,FALSE) -> 0 | L13: =+VLOOKUP(A13,sabana,L$2,FALSE) -> 0 | M13: =+VLOOKUP(A13,sabana,M$2,FALSE) -> 0 | N13: =+VLOOKUP(A13,sabana,N$2,FALSE) -> 0 | O13: =+VLOOKUP(A13,sabana,O$2,FALSE) -> 0 | P13: =+VLOOKUP(A13,sabana,P$2,FALSE) -> 0 | Q13: =+VLOOKUP(A13,sabana,Q$2,FALSE) -> 0 | R13: =+VLOOKUP(A13,sabana,R$2,FALSE) -> 0 | S13: =+VLOOKUP(A13,sabana,S$2,FALSE) -> 0 | T13: =+VLOOKUP(A13,sabana,T$2,FALSE) -> 0 | U13: =+VLOOKUP(A13,sabana,U$2,FALSE) -> 0 | V13: =+VLOOKUP(A13,sabana,V$2,FALSE) -> 0 | W13: =+VLOOKUP(A13,sabana,W$2,FALSE) -> 0 | X13: =+VLOOKUP(A13,sabana,X$2,FALSE) -> 0 | Y13: =+VLOOKUP(A13,sabana,Y$2,FALSE) -> 0 | Z13: =+VLOOKUP(A13,sabana,Z$2,FALSE) -> 0 | AA13: =+VLOOKUP(A13,sabana,AA$2,FALSE) -> 0 | AB13: =+VLOOKUP(A13,sabana,AB$2,FALSE) -> 0 | AC13: =SUM(B13:AB13) -> 37 | AE13: ING. MECÁNICA | AF13: =+I1 -> 769 | AG13: =+X1 -> 146 | AH13: =+AF13+AG13 -> 915
A14: =+EST_ITM!A25 -> Feb-Jun 1990 | B14: =+VLOOKUP(A14,sabana,$B$2,FALSE) -> 14 | C14: =+VLOOKUP(A14,sabana,$C$2,FALSE) -> 17 | D14: =+VLOOKUP(A14,sabana,$D$2,FALSE) -> 3 | E14: =+VLOOKUP(A14,sabana,$E$2,FALSE) -> 0 | F14: =+VLOOKUP(A14,sabana,$F$2,FALSE) -> 0 | G14: =+VLOOKUP(A14,sabana,$G$2,FALSE) -> 0 | H14: =+VLOOKUP(A14,sabana,H$2,FALSE) -> 0 | I14: =+VLOOKUP(A14,sabana,I$2,FALSE) -> 0 | J14: =+VLOOKUP(A14,sabana,J$2,FALSE) -> 0 | K14: =+VLOOKUP(A14,sabana,K$2,FALSE) -> 0 | L14: =+VLOOKUP(A14,sabana,L$2,FALSE) -> 0 | M14: =+VLOOKUP(A14,sabana,M$2,FALSE) -> 0 | N14: =+VLOOKUP(A14,sabana,N$2,FALSE) -> 0 | O14: =+VLOOKUP(A14,sabana,O$2,FALSE) -> 0 | P14: =+VLOOKUP(A14,sabana,P$2,FALSE) -> 0 | Q14: =+VLOOKUP(A14,sabana,Q$2,FALSE) -> 0 | R14: =+VLOOKUP(A14,sabana,R$2,FALSE) -> 0 | S14: =+VLOOKUP(A14,sabana,S$2,FALSE) -> 0 | T14: =+VLOOKUP(A14,sabana,T$2,FALSE) -> 0 | U14: =+VLOOKUP(A14,sabana,U$2,FALSE) -> 0 | V14: =+VLOOKUP(A14,sabana,V$2,FALSE) -> 0 | W14: =+VLOOKUP(A14,sabana,W$2,FALSE) -> 0 | X14: =+VLOOKUP(A14,sabana,X$2,FALSE) -> 0 | Y14: =+VLOOKUP(A14,sabana,Y$2,FALSE) -> 0 | Z14: =+VLOOKUP(A14,sabana,Z$2,FALSE) -> 0 | AA14: =+VLOOKUP(A14,sabana,AA$2,FALSE) -> 0 | AB14: =+VLOOKUP(A14,sabana,AB$2,FALSE) -> 0 | AC14: =SUM(B14:AB14) -> 34 | AE14: ING.INFORMÁTICA | AF14: =+J1 -> 776 | AG14: =+W1 -> 29 | AH14: =+AF14+AG14 -> 805
A15: =+EST_ITM!A26 -> Ago-Dic 1990 | B15: =+VLOOKUP(A15,sabana,$B$2,FALSE) -> 13 | C15: =+VLOOKUP(A15,sabana,$C$2,FALSE) -> 6 | D15: =+VLOOKUP(A15,sabana,$D$2,FALSE) -> 9 | E15: =+VLOOKUP(A15,sabana,$E$2,FALSE) -> 0 | F15: =+VLOOKUP(A15,sabana,$F$2,FALSE) -> 0 | G15: =+VLOOKUP(A15,sabana,$G$2,FALSE) -> 0 | H15: =+VLOOKUP(A15,sabana,H$2,FALSE) -> 0 | I15: =+VLOOKUP(A15,sabana,I$2,FALSE) -> 0 | J15: =+VLOOKUP(A15,sabana,J$2,FALSE) -> 0 | K15: =+VLOOKUP(A15,sabana,K$2,FALSE) -> 0 | L15: =+VLOOKUP(A15,sabana,L$2,FALSE) -> 0 | M15: =+VLOOKUP(A15,sabana,M$2,FALSE) -> 0 | N15: =+VLOOKUP(A15,sabana,N$2,FALSE) -> 0 | O15: =+VLOOKUP(A15,sabana,O$2,FALSE) -> 0 | P15: =+VLOOKUP(A15,sabana,P$2,FALSE) -> 0 | Q15: =+VLOOKUP(A15,sabana,Q$2,FALSE) -> 0 | R15: =+VLOOKUP(A15,sabana,R$2,FALSE) -> 0 | S15: =+VLOOKUP(A15,sabana,S$2,FALSE) -> 0 | T15: =+VLOOKUP(A15,sabana,T$2,FALSE) -> 0 | U15: =+VLOOKUP(A15,sabana,U$2,FALSE) -> 0 | V15: =+VLOOKUP(A15,sabana,V$2,FALSE) -> 0 | W15: =+VLOOKUP(A15,sabana,W$2,FALSE) -> 0 | X15: =+VLOOKUP(A15,sabana,X$2,FALSE) -> 0 | Y15: =+VLOOKUP(A15,sabana,Y$2,FALSE) -> 0 | Z15: =+VLOOKUP(A15,sabana,Z$2,FALSE) -> 0 | AA15: =+VLOOKUP(A15,sabana,AA$2,FALSE) -> 0 | AB15: =+VLOOKUP(A15,sabana,AB$2,FALSE) -> 0 | AC15: =SUM(B15:AB15) -> 28 | AE15: LIC. CONTADURÍA | AF15: =+K1 -> 985 | AH15: =+AF15+AG15 -> 985
A16: =+EST_ITM!A27 -> Feb-Jun 1991 | B16: =+VLOOKUP(A16,sabana,$B$2,FALSE) -> 3 | C16: =+VLOOKUP(A16,sabana,$C$2,FALSE) -> 4 | D16: =+VLOOKUP(A16,sabana,$D$2,FALSE) -> 11 | E16: =+VLOOKUP(A16,sabana,$E$2,FALSE) -> 0 | F16: =+VLOOKUP(A16,sabana,$F$2,FALSE) -> 12 | G16: =+VLOOKUP(A16,sabana,$G$2,FALSE) -> 0 | H16: =+VLOOKUP(A16,sabana,H$2,FALSE) -> 1 | I16: =+VLOOKUP(A16,sabana,I$2,FALSE) -> 0 | J16: =+VLOOKUP(A16,sabana,J$2,FALSE) -> 1 | K16: =+VLOOKUP(A16,sabana,K$2,FALSE) -> 0 | L16: =+VLOOKUP(A16,sabana,L$2,FALSE) -> 0 | M16: =+VLOOKUP(A16,sabana,M$2,FALSE) -> 0 | N16: =+VLOOKUP(A16,sabana,N$2,FALSE) -> 0 | O16: =+VLOOKUP(A16,sabana,O$2,FALSE) -> 0 | P16: =+VLOOKUP(A16,sabana,P$2,FALSE) -> 0 | Q16: =+VLOOKUP(A16,sabana,Q$2,FALSE) -> 0 | R16: =+VLOOKUP(A16,sabana,R$2,FALSE) -> 0 | S16: =+VLOOKUP(A16,sabana,S$2,FALSE) -> 0 | T16: =+VLOOKUP(A16,sabana,T$2,FALSE) -> 0 | U16: =+VLOOKUP(A16,sabana,U$2,FALSE) -> 0 | V16: =+VLOOKUP(A16,sabana,V$2,FALSE) -> 0 | W16: =+VLOOKUP(A16,sabana,W$2,FALSE) -> 0 | X16: =+VLOOKUP(A16,sabana,X$2,FALSE) -> 0 | Y16: =+VLOOKUP(A16,sabana,Y$2,FALSE) -> 0 | Z16: =+VLOOKUP(A16,sabana,Z$2,FALSE) -> 0 | AA16: =+VLOOKUP(A16,sabana,AA$2,FALSE) -> 0 | AB16: =+VLOOKUP(A16,sabana,AB$2,FALSE) -> 0 | AC16: =SUM(B16:AB16) -> 32 | AE16: ING. EN SISTEMAS COMPUTACIONALES | AF16: =+L1 -> 611 | AG16: =+U1 -> 169 | AH16: =+AF16+AG16 -> 780
A17: =+EST_ITM!A28 -> Ago-Dic 1991 | B17: =+VLOOKUP(A17,sabana,$B$2,FALSE) -> 2 | C17: =+VLOOKUP(A17,sabana,$C$2,FALSE) -> 3 | D17: =+VLOOKUP(A17,sabana,$D$2,FALSE) -> 0 | E17: =+VLOOKUP(A17,sabana,$E$2,FALSE) -> 0 | F17: =+VLOOKUP(A17,sabana,$F$2,FALSE) -> 19 | G17: =+VLOOKUP(A17,sabana,$G$2,FALSE) -> 1 | H17: =+VLOOKUP(A17,sabana,H$2,FALSE) -> 6 | I17: =+VLOOKUP(A17,sabana,I$2,FALSE) -> 13 | J17: =+VLOOKUP(A17,sabana,J$2,FALSE) -> 20 | K17: =+VLOOKUP(A17,sabana,K$2,FALSE) -> 0 | L17: =+VLOOKUP(A17,sabana,L$2,FALSE) -> 0 | M17: =+VLOOKUP(A17,sabana,M$2,FALSE) -> 0 | N17: =+VLOOKUP(A17,sabana,N$2,FALSE) -> 0 | O17: =+VLOOKUP(A17,sabana,O$2,FALSE) -> 0 | P17: =+VLOOKUP(A17,sabana,P$2,FALSE) -> 0 | Q17: =+VLOOKUP(A17,sabana,Q$2,FALSE) -> 0 | R17: =+VLOOKUP(A17,sabana,R$2,FALSE) -> 0 | S17: =+VLOOKUP(A17,sabana,S$2,FALSE) -> 0 | T17: =+VLOOKUP(A17,sabana,T$2,FALSE) -> 0 | U17: =+VLOOKUP(A17,sabana,U$2,FALSE) -> 0 | V17: =+VLOOKUP(A17,sabana,V$2,FALSE) -> 0 | W17: =+VLOOKUP(A17,sabana,W$2,FALSE) -> 0 | X17: =+VLOOKUP(A17,sabana,X$2,FALSE) -> 0 | Y17: =+VLOOKUP(A17,sabana,Y$2,FALSE) -> 0 | Z17: =+VLOOKUP(A17,sabana,Z$2,FALSE) -> 0 | AA17: =+VLOOKUP(A17,sabana,AA$2,FALSE) -> 0 | AB17: =+VLOOKUP(A17,sabana,AB$2,FALSE) -> 0 | AC17: =SUM(B17:AB17) -> 64 | AE17: ING. QUÍMICA | AF17: =+M1 -> 490 | AG17: =+Z1 -> 130 | AH17: =+AF17+AG17 -> 620
A18: =+EST_ITM!A29 -> Feb-Jun 1992 | B18: =+VLOOKUP(A18,sabana,$B$2,FALSE) -> 0 | C18: =+VLOOKUP(A18,sabana,$C$2,FALSE) -> 3 | D18: =+VLOOKUP(A18,sabana,$D$2,FALSE) -> 1 | E18: =+VLOOKUP(A18,sabana,$E$2,FALSE) -> 0 | F18: =+VLOOKUP(A18,sabana,$F$2,FALSE) -> 17 | G18: =+VLOOKUP(A18,sabana,$G$2,FALSE) -> 8 | H18: =+VLOOKUP(A18,sabana,H$2,FALSE) -> 8 | I18: =+VLOOKUP(A18,sabana,I$2,FALSE) -> 6 | J18: =+VLOOKUP(A18,sabana,J$2,FALSE) -> 20 | K18: =+VLOOKUP(A18,sabana,K$2,FALSE) -> 0 | L18: =+VLOOKUP(A18,sabana,L$2,FALSE) -> 0 | M18: =+VLOOKUP(A18,sabana,M$2,FALSE) -> 0 | N18: =+VLOOKUP(A18,sabana,N$2,FALSE) -> 0 | O18: =+VLOOKUP(A18,sabana,O$2,FALSE) -> 0 | P18: =+VLOOKUP(A18,sabana,P$2,FALSE) -> 0 | Q18: =+VLOOKUP(A18,sabana,Q$2,FALSE) -> 0 | R18: =+VLOOKUP(A18,sabana,R$2,FALSE) -> 0 | S18: =+VLOOKUP(A18,sabana,S$2,FALSE) -> 0 | T18: =+VLOOKUP(A18,sabana,T$2,FALSE) -> 0 | U18: =+VLOOKUP(A18,sabana,U$2,FALSE) -> 0 | V18: =+VLOOKUP(A18,sabana,V$2,FALSE) -> 0 | W18: =+VLOOKUP(A18,sabana,W$2,FALSE) -> 0 | X18: =+VLOOKUP(A18,sabana,X$2,FALSE) -> 0 | Y18: =+VLOOKUP(A18,sabana,Y$2,FALSE) -> 0 | Z18: =+VLOOKUP(A18,sabana,Z$2,FALSE) -> 0 | AA18: =+VLOOKUP(A18,sabana,AA$2,FALSE) -> 0 | AB18: =+VLOOKUP(A18,sabana,AB$2,FALSE) -> 0 | AC18: =SUM(B18:AB18) -> 63 | AE18: ING. MECATRÓNICA | AF18: =+N1 -> 415 | AG18: =+Y1 -> 293 | AH18: =+AF18+AG18 -> 708
A19: =+EST_ITM!A30 -> Ago-Dic 1992 | B19: =+VLOOKUP(A19,sabana,$B$2,FALSE) -> 0 | C19: =+VLOOKUP(A19,sabana,$C$2,FALSE) -> 0 | D19: =+VLOOKUP(A19,sabana,$D$2,FALSE) -> 0 | E19: =+VLOOKUP(A19,sabana,$E$2,FALSE) -> 0 | F19: =+VLOOKUP(A19,sabana,$F$2,FALSE) -> 15 | G19: =+VLOOKUP(A19,sabana,$G$2,FALSE) -> 5 | H19: =+VLOOKUP(A19,sabana,H$2,FALSE) -> 1 | I19: =+VLOOKUP(A19,sabana,I$2,FALSE) -> 1 | J19: =+VLOOKUP(A19,sabana,J$2,FALSE) -> 20 | K19: =+VLOOKUP(A19,sabana,K$2,FALSE) -> 0 | L19: =+VLOOKUP(A19,sabana,L$2,FALSE) -> 0 | M19: =+VLOOKUP(A19,sabana,M$2,FALSE) -> 0 | N19: =+VLOOKUP(A19,sabana,N$2,FALSE) -> 0 | O19: =+VLOOKUP(A19,sabana,O$2,FALSE) -> 0 | P19: =+VLOOKUP(A19,sabana,P$2,FALSE) -> 0 | Q19: =+VLOOKUP(A19,sabana,Q$2,FALSE) -> 0 | R19: =+VLOOKUP(A19,sabana,R$2,FALSE) -> 0 | S19: =+VLOOKUP(A19,sabana,S$2,FALSE) -> 0 | T19: =+VLOOKUP(A19,sabana,T$2,FALSE) -> 0 | U19: =+VLOOKUP(A19,sabana,U$2,FALSE) -> 0 | V19: =+VLOOKUP(A19,sabana,V$2,FALSE) -> 0 | W19: =+VLOOKUP(A19,sabana,W$2,FALSE) -> 0 | X19: =+VLOOKUP(A19,sabana,X$2,FALSE) -> 0 | Y19: =+VLOOKUP(A19,sabana,Y$2,FALSE) -> 0 | Z19: =+VLOOKUP(A19,sabana,Z$2,FALSE) -> 0 | AA19: =+VLOOKUP(A19,sabana,AA$2,FALSE) -> 0 | AB19: =+VLOOKUP(A19,sabana,AB$2,FALSE) -> 0 | AC19: =SUM(B19:AB19) -> 42 | AE19: ING. EN GESTIÓN EMPRESARIAL | AG19: =+O1 -> 161 | AH19: =+AF19+AG19 -> 161
